Workbook
Name completo: 'COMP EQUIP LOTE 03, 04, 05, 06'!#REF!
Name completo: 'COMP EQUIP LOTE 01 E 02'!#REF!
Name desonerada: #REF!
Name EQUIPCOMPLETA: 'COMP EQUIP LOTE 03, 04, 05, 06'!$B$1:$P$146
Name EQUIPCOMPLETA: 'COMP EQUIP LOTE 01 E 02'!$B$1:$P$146
Name incompleto: #REF!
Name incompleto: #REF!
Name incompleto: #REF!
Name LOTE01E02: 'COMP EQUIP LOTE 01 E 02'!#REF!
Name LOTE3456: 'COMP EQUIP LOTE 03, 04, 05, 06'!#REF!
Name RESUMO: 'COMP EQUIP LOTE 03, 04, 05, 06'!#REF!
Name RESUMO: 'COMP EQUIP LOTE 01 E 02'!#REF!
Name RESUMOCOM: 'COMP EQUIP LOTE 03, 04, 05, 06'!#REF!
Name RESUMOCOM: 'COMP EQUIP LOTE 01 E 02'!#REF!
Name RESUMOCOMPLETO: 'COMP EQUIP LOTE 03, 04, 05, 06'!#REF!
Name RESUMOCOMPLETO: 'COMP EQUIP LOTE 01 E 02'!#REF!
Name SICROCOM: 'SICRO C DESON'!$A$3:$K$2307
Name SICROSEM: 'SICRO S DESON'!$A$3:$K$2306
Name SINAPICOM: 'SINAPI C DESON'!$G$7:$K$12539
Name SINAPISEM: 'SINAPI S DESON'!$G$7:$K$12469

Sheet SINAPI C DESON
A1: PCI.817.01 - CUSTO DE COMPOSIÇÕES - SINTÉTICO DATA DE EMISSÃO: 15/03/2023 23:23:33 DATA DE RT: 15/03/2023
A2: ENCARGOS SOCIAIS DESONERADOS: 82,01%(HORA) 47,14%(MÊS)
A3: ABRANGÊNCIA : NACIONAL LOCALIDADE : BRASILIA DATA DE PREÇO : 02/2023 REFERÊNCIA COLETA : MEDIANO
A5: DESCRICAO DA CLASSE | B5: SIGLA DA CLASSE | C5: DESCRICAO DO TIPO 1 | D5: SIGLA DO TIPO 1 | E5: CODIGO DO AGRUPADOR | F5: DESCRICAO DO AGRUPADOR | G5: CODIGO DA COMPOSICAO | H5: DESCRICAO DA COMPOSICAO | I5: UNIDADE | J5: ORIGEM DE PREÇO | K5: CUSTO TOTAL | L5: VINCULO
A7: ASSENTAMENTO DE TUBOS E PECAS | B7: ASTU | C7: FORNEC E/OU ASSENT DE TUBO DE FERRO FUNDIDO JUNTA ELASTICA | D7: 45 | G7: 97141 | H7: ASSENTAMENTO DE TUBO DE FERRO FUNDIDO PARA REDE DE ÁGUA, DN 80 MM, JUNTA ELÁSTICA, INSTALADO EM LOCAL COM NÍVEL ALTO DE INTERFERÊNCIAS (NÃO INCLUI FORNECIMENTO). AF_11/2017 | I7: M | J7: ATRIBUÍDO SÃO PAULO | K7: 7.67 | L7: CAIXA REFERENCIAL
A8: ASSENTAMENTO DE TUBOS E PECAS | B8: ASTU | C8: FORNEC E/OU ASSENT DE TUBO DE FERRO FUNDIDO JUNTA ELASTICA | D8: 45 | G8: 97142 | H8: ASSENTAMENTO DE TUBO DE FERRO FUNDIDO PARA REDE DE ÁGUA, DN 100 MM, JUNTA ELÁSTICA, INSTALADO EM LOCAL COM NÍVEL ALTO DE INTERFERÊNCIAS (NÃO INCLUI FORNECIMENTO). AF_11/2017 | I8: M | J8: ATRIBUÍDO SÃO PAULO | K8: 8.53 | L8: CAIXA REFERENCIAL
A9: ASSENTAMENTO DE TUBOS E PECAS | B9: ASTU | C9: FORNEC E/OU ASSENT DE TUBO DE FERRO FUNDIDO JUNTA ELASTICA | D9: 45 | G9: 97143 | H9: ASSENTAMENTO DE TUBO DE FERRO FUNDIDO PARA REDE DE ÁGUA, DN 150 MM, JUNTA ELÁSTICA, INSTALADO EM LOCAL COM NÍVEL ALTO DE INTERFERÊNCIAS (NÃO INCLUI FORNECIMENTO). AF_11/2017 | I9: M | J9: ATRIBUÍDO SÃO PAULO | K9: 10.68 | L9: CAIXA REFERENCIAL
A10: ASSENTAMENTO DE TUBOS E PECAS | B10: ASTU | C10: FORNEC E/OU ASSENT DE TUBO DE FERRO FUNDIDO JUNTA ELASTICA | D10: 45 | G10: 97144 | H10: ASSENTAMENTO DE TUBO DE FERRO FUNDIDO PARA REDE DE ÁGUA, DN 200 MM, JUNTA ELÁSTICA, INSTALADO EM LOCAL COM NÍVEL ALTO DE INTERFERÊNCIAS (NÃO INCLUI FORNECIMENTO). AF_11/2017 | I10: M | J10: ATRIBUÍDO SÃO PAULO | K10: 12.81 | L10: CAIXA REFERENCIAL
A11: ASSENTAMENTO DE TUBOS E PECAS | B11: ASTU | C11: FORNEC E/OU ASSENT DE TUBO DE FERRO FUNDIDO JUNTA ELASTICA | D11: 45 | G11: 97145 | H11: ASSENTAMENTO DE TUBO DE FERRO FUNDIDO PARA REDE DE ÁGUA, DN 250 MM, JUNTA ELÁSTICA, INSTALADO EM LOCAL COM NÍVEL ALTO DE INTERFERÊNCIAS (NÃO INCLUI FORNECIMENTO). AF_11/2017 | I11: M | J11: ATRIBUÍDO SÃO PAULO | K11: 14.98 | L11: CAIXA REFERENCIAL
A12: ASSENTAMENTO DE TUBOS E PECAS | B12: ASTU | C12: FORNEC E/OU ASSENT DE TUBO DE FERRO FUNDIDO JUNTA ELASTICA | D12: 45 | G12: 97146 | H12: ASSENTAMENTO DE TUBO DE FERRO FUNDIDO PARA REDE DE ÁGUA, DN 300 MM, JUNTA ELÁSTICA, INSTALADO EM LOCAL COM NÍVEL ALTO DE INTERFERÊNCIAS (NÃO INCLUI FORNECIMENTO). AF_11/2017 | I12: M | J12: ATRIBUÍDO SÃO PAULO | K12: 17.13 | L12: CAIXA REFERENCIAL
A13: ASSENTAMENTO DE TUBOS E PECAS | B13: ASTU | C13: FORNEC E/OU ASSENT DE TUBO DE FERRO FUNDIDO JUNTA ELASTICA | D13: 45 | G13: 97147 | H13: ASSENTAMENTO DE TUBO DE FERRO FUNDIDO PARA REDE DE ÁGUA, DN 350 MM, JUNTA ELÁSTICA, INSTALADO EM LOCAL COM NÍVEL ALTO DE INTERFERÊNCIAS (NÃO INCLUI FORNECIMENTO). AF_11/2017 | I13: M | J13: ATRIBUÍDO SÃO PAULO | K13: 19.3 | L13: CAIXA REFERENCIAL
A14: ASSENTAMENTO DE TUBOS E PECAS | B14: ASTU | C14: FORNEC E/OU ASSENT DE TUBO DE FERRO FUNDIDO JUNTA ELASTICA | D14: 45 | G14: 97148 | H14: ASSENTAMENTO DE TUBO DE FERRO FUNDIDO PARA REDE DE ÁGUA, DN 400 MM, JUNTA ELÁSTICA, INSTALADO EM LOCAL COM NÍVEL ALTO DE INTERFERÊNCIAS (NÃO INCLUI FORNECIMENTO). AF_11/2017 | I14: M | J14: ATRIBUÍDO SÃO PAULO | K14: 21.46 | L14: CAIXA REFERENCIAL
A15: ASSENTAMENTO DE TUBOS E PECAS | B15: ASTU | C15: FORNEC E/OU ASSENT DE TUBO DE FERRO FUNDIDO JUNTA ELASTICA | D15: 45 | G15: 97149 | H15: ASSENTAMENTO DE TUBO DE FERRO FUNDIDO PARA REDE DE ÁGUA, DN 450 MM, JUNTA ELÁSTICA, INSTALADO EM LOCAL COM NÍVEL ALTO DE INTERFERÊNCIAS (NÃO INCLUI FORNECIMENTO). AF_11/2017 | I15: M | J15: ATRIBUÍDO SÃO PAULO | K15: 23.66 | L15: CAIXA REFERENCIAL
A16: ASSENTAMENTO DE TUBOS E PECAS | B16: ASTU | C16: FORNEC E/OU ASSENT DE TUBO DE FERRO FUNDIDO JUNTA ELASTICA | D16: 45 | G16: 97150 | H16: ASSENTAMENTO DE TUBO DE FERRO FUNDIDO PARA REDE DE ÁGUA, DN 500 MM, JUNTA ELÁSTICA, INSTALADO EM LOCAL COM NÍVEL ALTO DE INTERFERÊNCIAS (NÃO INCLUI FORNECIMENTO). AF_11/2017 | I16: M | J16: ATRIBUÍDO SÃO PAULO | K16: 30.09 | L16: CAIXA REFERENCIAL
A17: ASSENTAMENTO DE TUBOS E PECAS | B17: ASTU | C17: FORNEC E/OU ASSENT DE TUBO DE FERRO FUNDIDO JUNTA ELASTICA | D17: 45 | G17: 97151 | H17: ASSENTAMENTO DE TUBO DE FERRO FUNDIDO PARA REDE DE ÁGUA, DN 600 MM, JUNTA ELÁSTICA, INSTALADO EM LOCAL COM NÍVEL ALTO DE INTERFERÊNCIAS (NÃO INCLUI FORNECIMENTO). AF_11/2017 | I17: M | J17: ATRIBUÍDO SÃO PAULO | K17: 35.08 | L17: CAIXA REFERENCIAL
A18: ASSENTAMENTO DE TUBOS E PECAS | B18: ASTU | C18: FORNEC E/OU ASSENT DE TUBO DE FERRO FUNDIDO JUNTA ELASTICA | D18: 45 | G18: 97152 | H18: ASSENTAMENTO DE TUBO DE FERRO FUNDIDO PARA REDE DE ÁGUA, DN 700 MM, JUNTA ELÁSTICA, INSTALADO EM LOCAL COM NÍVEL ALTO DE INTERFERÊNCIAS (NÃO INCLUI FORNECIMENTO). AF_11/2017 | I18: M | J18: ATRIBUÍDO SÃO PAULO | K18: 39.78 | L18: CAIXA REFERENCIAL
... A7523: SERVICOS DIVERSOS | B7523: SEDI | C7523: OUTROS | D7523: 318 | G7523: 101460 | H7523: VIGIA DIURNO COM ENCARGOS COMPLEMENTARES | I7523: MES | J7523: COEFICIENTE DE REPRESENTATIVIDADE | K7523: 3509.12 | L7523: ENCARGOS COMPLEMENTARES REFERENCIAL
G7526: PRECOS DE INSUMOS
G7528: MES DE COLETA: 02/2023
G7529: LOCALIDADE: 4495 - BRASILIA
G7530: ENCARGOS SOCIAIS (%) HORISTA 82,01 MENSALISTA 47,14
G7532: CODIGO | H7532: DESCRICAO DO INSUMO | I7532: UNIDADE | J7532: ORIGEM DO PRECO | K7532: PRECO MEDIANO R$
G7533: 38605 | H7533: ABERTURA PARA ENCAIXE DE CUBA OU LAVATORIO EM BANCADA DE MARMORE/ GRANITO OU OUTRO TIPO DE PEDRA NATURAL | I7533: UN | J7533: CR | K7533: 119.7
G7534: 11270 | H7534: ABRACADEIRA DE LATAO PARA FIXACAO DE CABO PARA-RAIO, DIMENSOES 32 X 24 X 24 MM | I7534: UN | J7534: AS | K7534: 2.77
G7535: 412 | H7535: ABRACADEIRA DE NYLON PARA AMARRACAO DE CABOS, COMPRIMENTO DE *230* X *7,6* MM | I7535: UN | J7535: CR | K7535: 0.97
G7536: 414 | H7536: ABRACADEIRA DE NYLON PARA AMARRACAO DE CABOS, COMPRIMENTO DE 100 X 2,5 MM | I7536: UN | J7536: CR | K7536: 0.06
G7537: 410 | H7537: ABRACADEIRA DE NYLON PARA AMARRACAO DE CABOS, COMPRIMENTO DE 150 X *3,6* MM | I7537: UN | J7537: CR | K7537: 0.15
G7538: 411 | H7538: ABRACADEIRA DE NYLON PARA AMARRACAO DE CABOS, COMPRIMENTO DE 200 X *4,6* MM | I7538: UN | J7538: C | K7538: 0.19
G7539: 408 | H7539: ABRACADEIRA DE NYLON PARA AMARRACAO DE CABOS, COMPRIMENTO DE 390 X *4,6* MM | I7539: UN | J7539: CR | K7539: 0.94
G7540: 39131 | H7540: ABRACADEIRA EM ACO PARA AMARRACAO DE ELETRODUTOS, TIPO D, COM 1 1/2" E CUNHA DE FIXACAO | I7540: UN | J7540: CR | K7540: 3.09
G7541: 394 | H7541: ABRACADEIRA EM ACO PARA AMARRACAO DE ELETRODUTOS, TIPO D, COM 1 1/2" E PARAFUSO DE FIXACAO | I7541: UN | J7541: CR | K7541: 3.13
G7542: 39130 | H7542: ABRACADEIRA EM ACO PARA AMARRACAO DE ELETRODUTOS, TIPO D, COM 1 1/4" E CUNHA DE FIXACAO | I7542: UN | J7542: CR | K7542: 2.82
G7543: 395 | H7543: ABRACADEIRA EM ACO PARA AMARRACAO DE ELETRODUTOS, TIPO D, COM 1 1/4" E PARAFUSO DE FIXACAO | I7543: UN | J7543: CR | K7543: 3.02
G7544: 39127 | H7544: ABRACADEIRA EM ACO PARA AMARRACAO DE ELETRODUTOS, TIPO D, COM 1/2" E CUNHA DE FIXACAO | I7544: UN | J7544: CR | K7544: 1.49
... G12468: 41776 | H12468: VIGIA NOTURNO, HORA EFETIVAMENTE TRABALHADA DE 22 H AS 5 H (COM ADICIONAL NOTURNO) | I12468: H | J12468: CR | K12468: 15.59

Sheet SICRO C DESON
A1: CGCIT | B1: SISTEMA DE CUSTOS REFERENCIAIS DE OBRAS - SICRO | K1: DNIT
B2: Distrito Federal - Outubro/2022 - Com desoneração
A3: Código | B3: Descrição | C3: Valor de Aquisição (R$) | D3: Depreciação (R$/h) | E3: Oportunidade de Capital (R$/h) | F3: Seguros e Impostos (R$/h) | G3: Manutenção (R$/h) | H3: Operação (R$/h) | I3: Mão de Obra de Operação (R$/h) | J3: Custo Produtivo (R$/h) | K3: Custo Improdutivo (R$/h)
A4: E9001 | B4: Conjunto vibratório para tubos de concreto com encaixe PB e 3 jogos de fôrmas - D = 0,60 m - 2,20 kW | C4: 69886.91 | D4: 9.3183 | E4: 2.156 | F4: 0 | G4: 6.9887 | H4: 0 | I4: 0 | J4: 18.463 | K4: 11.4743
A5: E9002 | B5: Conjunto vibratório para tubos de concreto com encaixe PB e 3 jogos de fôrmas - D = 0,80 m - 2,20 kW | C5: 75817.911 | D5: 10.1091 | E5: 2.339 | F5: 0 | G5: 7.5818 | H5: 0 | I5: 0 | J5: 20.0299 | K5: 12.4481
A6: E9003 | B6: Conjunto vibratório para tubos de concreto com encaixe PB e 3 jogos de fôrmas - D = 1,00 m - 2,20 kW | C6: 83406.07 | D6: 11.1208 | E6: 2.5731 | F6: 0 | G6: 8.3406 | H6: 0 | I6: 0 | J6: 22.0345 | K6: 13.6939
A7: E9004 | B7: Conjunto vibratório para tubos de concreto com encaixe PB e 3 jogos de fôrmas - D = 1,20 m - 2,20 kW | C7: 83853.546 | D7: 11.1805 | E7: 2.5869 | F7: 0 | G7: 8.3854 | H7: 0 | I7: 0 | J7: 22.1528 | K7: 13.7674
A8: E9005 | B8: Conjunto vibratório para tubos de concreto com encaixe PB e 3 jogos de fôrmas - D = 1,50 m - 2,20 kW | C8: 85952.862 | D8: 11.4604 | E8: 2.6516 | F8: 0 | G8: 8.5953 | H8: 0 | I8: 0 | J8: 22.7073 | K8: 14.112
A9: E9006 | B9: Equipamento para sondagem manual | C9: 2419.2245 | D9: 0.4113 | E9: 0.0896 | F9: 0 | G9: 0.2419 | H9: 0 | I9: 0 | J9: 0.7428 | K9: 0.5009
A10: E9007 | B10: Bomba de pistão triplex com capacidade de 7,80 m³/h (130 l/min) - 8,20 kW | C10: 102463.04 | D10: 8.197 | E10: 1.8966 | F10: 0 | G10: 7.1724 | H10: 9.9712 | I10: 0 | J10: 27.2372 | K10: 10.0936
A11: E9008 | B11: Transportador manual de tubos de concreto com capacidade de 1 t | C11: 2024.6378 | D11: 1.8222 | E11: 0.1249 | F11: 0 | G11: 1.0123 | H11: 0 | I11: 0 | J11: 2.9594 | K11: 1.9471
A12: E9009 | B12: Embarcação rebocadora - 268 kW | C12: 635231.27 | D12: 8.2712 | E12: 3.6858 | F12: 0 | G12: 18.3805 | H12: 325.888 | I12: 116.368 | J12: 472.5935 | K12: 128.325
A13: E9010 | B13: Balança plataforma digital com mesa de 75 x 75 cm com capacidade de 500 kg | C13: 5943.8192 | D13: 0.8916 | E13: 0.1222 | F13: 0 | G13: 0.4953 | H13: 0 | I13: 0 | J13: 1.5091 | K13: 1.0138
A14: E9011 | B14: Carro manual modelo plataforma de 200 x 80 cm com capacidade de 800 kg | C14: 2025.6556 | D14: 0.3646 | E14: 0.075 | F14: 0 | G14: 0.2026 | H14: 0 | I14: 0 | J14: 0.6422 | K14: 0.4396
A15: E9014 | B15: Deflectômetro de impacto (FWD) instalado em picape com reboque e faixa de carga de 7 a 120 kN - 147 kW | C15: 2208484.4 | D15: 176.6787 | E15: 40.879 | F15: 0 | G15: 110.4242 | H15: 0 | I15: 24.2035 | J15: 352.1854 | K15: 241.7612
... A375: E9798 | B375: Perfuratriz hidráulica rotopercussiva - 123 kW | C375: 1564206.6 | D375: 104.2804 | E375: 28.1492 | F375: 0 | G375: 104.2804 | H375: 118.08 | I375: 24.3211 | J375: 379.1111 | K375: 156.7507
A376: E9013 | B376: Caminhão tanque de asfalto com capacidade de 31.000 l - 265 kW | J376: 472.3478 | K376: 89.3046
A377: A9335 | B377: Cavalo mecânico estradeiro 6 x 2, PBT 23.000 kg - 265 kW - condição de trabalho severa - motorista de caminhão | C377: 787942.12 | D377: 33.7689 | E377: 13.8903 | F377: 5.6282 | G377: 50.6534 | H377: 322.24 | I377: 22.3448 | J377: 448.5256 | K377: 75.6322
A378: A9364 | B378: Tanque isotérmico de asfalto com capacidade de 31.000 l | C378: 253743.95 | D378: 10.1498 | E378: 3.5226 | F378: 0 | G378: 10.1498 | H378: 0 | I378: 0 | J378: 23.8222 | K378: 13.6724
A379: E9018 | B379: Cavalo mecânico com dolly intermediário e semirreboque de 4 eixos com capacidade de 53 t - 323 kW | J379: 542.7948 | K379: 148.1108
A380: A9324 | B380: Cavalo mecânico estradeiro 6 x 4, PBT 23.000 kg - 323 kW - motorista de veículo especial | C380: 913152.34 | D380: 39.1351 | E380: 16.0976 | F380: 6.5225 | G380: 58.7027 | H380: 289.408 | I380: 24.2035 | J380: 434.0694 | K380: 85.9587
A381: A9355 | B381: Semirreboque com 4 eixos | C381: 516545 | D381: 34.4363 | E381: 17.2634 | F381: 0 | G381: 38.7409 | H381: 0 | I381: 0 | J381: 90.4406 | K381: 51.6997
A382: A9382 | B382: Dolly intermediário com 2 eixos para semirreboque | C382: 104432.36 | D382: 6.9622 | E382: 3.4902 | F382: 0 | G382: 7.8324 | H382: 0 | I382: 0 | J382: 18.2848 | K382: 10.4524
A383: E9027 | B383: Caminhão distribuidor de cimento e cal com capacidade de 17 m³ - 210 kW | J383: 457.9774 | K383: 115.7817
A384: A9333 | B384: Caminhão plataforma 8 x 2, PBTC 36.000 kg e distância entre eixos 4,8 m - 210 kW - motorista de caminhão | C384: 736692.03 | D384: 31.5725 | E384: 12.9868 | F384: 5.2621 | G384: 47.3588 | H384: 255.36 | I384: 22.3448 | J384: 374.885 | K384: 72.1662
A385: A9365 | B385: Distribuidor de cimento montado sobre chassi com capacidade de 17 m³ | C385: 464949.68 | D385: 35.0905 | E385: 8.525 | F385: 0 | G385: 39.4769 | H385: 0 | I385: 0 | J385: 83.0924 | K385: 43.6155
A386: E9037 | B386: Plataforma de inspeção sob pontes montada em caminhão com capacidade de 500 kg e alcance de 15 m - 188 kW | J386: 652.5407 | K386: 245.74
A387: A9334 | B387: Caminhão plataforma 8 x 2, PBT 29.000 kg e distância entre eixos 4,8 m - 188 kW - condição de trabalho severa - motorista de veículo especial | C387: 705022.19 | D387: 30.2152 | E387: 12.4285 | F387: 5.0359 | G387: 45.3229 | H387: 228.608 | I387: 24.2035 | J387: 345.814 | K387: 71.8831
A388: A9378 | B388: Plataforma telescópica para inspeção de pontes montada sobre chassi com capacidade de 500 kg | C388: 2066864 | D388: 118.1065 | E388: 36.4359 | F388: 0 | G388: 132.8698 | H388: 0 | I388: 19.3145 | J388: 306.7267 | K388: 173.8569
A389: E9041 | B389: Caminhão carroceria com guindauto com capacidade de 45 t.m - 188 kW | J389: 416.1049 | K389: 119.9964
A390: A9313 | B390: Caminhão plataforma 6 x 2, PBT 23.000 kg e distância entre eixos 5,4 m - 188 kW - motorista de veículo especial | C390: 645402.34 | D390: 27.6601 | E390: 11.3775 | F390: 4.61 | G390: 41.4902 | H390: 228.608 | I390: 24.2035 | J390: 337.9493 | K390: 67.8511
A391: A9351 | B391: Carroceria de madeira com capacidade de 11 t | C391: 40141.785 | D391: 2.7684 | E391: 0.7259 | F391: 0 | G391: 2.7684 | H391: 0 | I391: 0 | J391: 6.2627 | K391: 3.4943
A392: A9373 | B392: Guindaste articulado montado sobre chassi com capacidade de 45 t.m | C392: 337008 | D392: 23.2419 | E392: 6.0946 | F392: 0 | G392: 23.2419 | H392: 0 | I392: 19.3145 | J392: 71.8929 | K392: 48.651
A393: E9082 | B393: Bate-estaca hidráulico para defensas montado em caminhão guindauto com capacidade de 20 t.m e carroceria de 4 t - 136 kW | J393: 354.4082 | K393: 130.5583
A394: A9323 | B394: Caminhão plataforma 4 x 2, PBT 14.300 kg e distância entre eixos 4,8 m - 136 kW - condição de trabalho severa - motorista de caminhão | C394: 494604.18 | D394: 21.1973 | E394: 8.7192 | F394: 3.5329 | G394: 31.796 | H394: 165.376 | I394: 22.3448 | J394: 252.9662 | K394: 55.7942
A395: A9347 | B395: Carroceria de madeira com capacidade de 4 t | C395: 17692.92 | D395: 1.2202 | E395: 0.32 | F395: 0 | G395: 1.2202 | H395: 0 | I395: 0 | J395: 2.7604 | K395: 1.5402
A396: A9372 | B396: Guindaste articulado montado sobre chassi com capacidade de 20 t.m | C396: 210128.5 | D396: 14.4916 | E396: 3.8001 | F396: 0 | G396: 14.4916 | H396: 0 | I396: 19.3145 | J396: 52.0978 | K396: 37.6062
A397: A9379 | B397: Bate-estaca hidráulico para defensas metálicas montada sobre chassi | C397: 205615 | D397: 11.6515 | E397: 4.6517 | F397: 0 | G397: 10.9661 | H397: 0 | I397: 19.3145 | J397: 46.5838 | K397: 35.6177
A398: E9097 | B398: Caminhão de resgate de veículos leves com plataforma com capacidade de 4 t - 115 kW | J398: 224.8893 | K398: 55.6592
A399: A9326 | B399: Caminhão plataforma 4 x 2 PBT 9.600 kg e distância entre eixos 3,7 m - 115 kW - motorista de veículo especial | C399: 381954.89 | D399: 16.3695 | E399: 6.7333 | F399: 2.7282 | G399: 24.5542 | H399: 139.84 | I399: 24.2035 | J399: 214.4287 | K399: 50.0345
...

Sheet SINAPI S DESON
A1: PCI.817.01 - CUSTO DE COMPOSIÇÕES - SINTÉTICO DATA DE EMISSÃO: 15/03/2023 23:21:51 DATA DE RT: 15/03/2023
A2: ENCARGOS SOCIAIS SOBRE PREÇOS DA MÃO-DE-OBRA: 110,69%(HORA) 70,40%(MÊS)
A3: ABRANGÊNCIA : NACIONAL LOCALIDADE : BRASILIA DATA DE PREÇO : 02/2023 REFERÊNCIA COLETA : MEDIANO
A5: DESCRICAO DA CLASSE | B5: SIGLA DA CLASSE | C5: DESCRICAO DO TIPO 1 | D5: SIGLA DO TIPO 1 | E5: CODIGO DO AGRUPADOR | F5: DESCRICAO DO AGRUPADOR | G5: CODIGO DA COMPOSICAO | H5: DESCRICAO DA COMPOSICAO | I5: UNIDADE | J5: ORIGEM DE PREÇO | K5: CUSTO TOTAL | L5: VINCULO
A7: ASSENTAMENTO DE TUBOS E PECAS | B7: ASTU | C7: FORNEC E/OU ASSENT DE TUBO DE FERRO FUNDIDO JUNTA ELASTICA | D7: 45 | G7: 97141 | H7: ASSENTAMENTO DE TUBO DE FERRO FUNDIDO PARA REDE DE ÁGUA, DN 80 MM, JUNTA ELÁSTICA, INSTALADO EM LOCAL COM NÍVEL ALTO DE INTERFERÊNCIAS (NÃO INCLUI FORNECIMENTO). AF_11/2017 | I7: M | J7: ATRIBUÍDO SÃO PAULO | K7: 8.19 | L7: CAIXA REFERENCIAL
A8: ASSENTAMENTO DE TUBOS E PECAS | B8: ASTU | C8: FORNEC E/OU ASSENT DE TUBO DE FERRO FUNDIDO JUNTA ELASTICA | D8: 45 | G8: 97142 | H8: ASSENTAMENTO DE TUBO DE FERRO FUNDIDO PARA REDE DE ÁGUA, DN 100 MM, JUNTA ELÁSTICA, INSTALADO EM LOCAL COM NÍVEL ALTO DE INTERFERÊNCIAS (NÃO INCLUI FORNECIMENTO). AF_11/2017 | I8: M | J8: ATRIBUÍDO SÃO PAULO | K8: 9.11 | L8: CAIXA REFERENCIAL
A9: ASSENTAMENTO DE TUBOS E PECAS | B9: ASTU | C9: FORNEC E/OU ASSENT DE TUBO DE FERRO FUNDIDO JUNTA ELASTICA | D9: 45 | G9: 97143 | H9: ASSENTAMENTO DE TUBO DE FERRO FUNDIDO PARA REDE DE ÁGUA, DN 150 MM, JUNTA ELÁSTICA, INSTALADO EM LOCAL COM NÍVEL ALTO DE INTERFERÊNCIAS (NÃO INCLUI FORNECIMENTO). AF_11/2017 | I9: M | J9: ATRIBUÍDO SÃO PAULO | K9: 11.42 | L9: CAIXA REFERENCIAL
A10: ASSENTAMENTO DE TUBOS E PECAS | B10: ASTU | C10: FORNEC E/OU ASSENT DE TUBO DE FERRO FUNDIDO JUNTA ELASTICA | D10: 45 | G10: 97144 | H10: ASSENTAMENTO DE TUBO DE FERRO FUNDIDO PARA REDE DE ÁGUA, DN 200 MM, JUNTA ELÁSTICA, INSTALADO EM LOCAL COM NÍVEL ALTO DE INTERFERÊNCIAS (NÃO INCLUI FORNECIMENTO). AF_11/2017 | I10: M | J10: ATRIBUÍDO SÃO PAULO | K10: 13.72 | L10: CAIXA REFERENCIAL
A11: ASSENTAMENTO DE TUBOS E PECAS | B11: ASTU | C11: FORNEC E/OU ASSENT DE TUBO DE FERRO FUNDIDO JUNTA ELASTICA | D11: 45 | G11: 97145 | H11: ASSENTAMENTO DE TUBO DE FERRO FUNDIDO PARA REDE DE ÁGUA, DN 250 MM, JUNTA ELÁSTICA, INSTALADO EM LOCAL COM NÍVEL ALTO DE INTERFERÊNCIAS (NÃO INCLUI FORNECIMENTO). AF_11/2017 | I11: M | J11: ATRIBUÍDO SÃO PAULO | K11: 16.06 | L11: CAIXA REFERENCIAL
A12: ASSENTAMENTO DE TUBOS E PECAS | B12: ASTU | C12: FORNEC E/OU ASSENT DE TUBO DE FERRO FUNDIDO JUNTA ELASTICA | D12: 45 | G12: 97146 | H12: ASSENTAMENTO DE TUBO DE FERRO FUNDIDO PARA REDE DE ÁGUA, DN 300 MM, JUNTA ELÁSTICA, INSTALADO EM LOCAL COM NÍVEL ALTO DE INTERFERÊNCIAS (NÃO INCLUI FORNECIMENTO). AF_11/2017 | I12: M | J12: ATRIBUÍDO SÃO PAULO | K12: 18.38 | L12: CAIXA REFERENCIAL
A13: ASSENTAMENTO DE TUBOS E PECAS | B13: ASTU | C13: FORNEC E/OU ASSENT DE TUBO DE FERRO FUNDIDO JUNTA ELASTICA | D13: 45 | G13: 97147 | H13: ASSENTAMENTO DE TUBO DE FERRO FUNDIDO PARA REDE DE ÁGUA, DN 350 MM, JUNTA ELÁSTICA, INSTALADO EM LOCAL COM NÍVEL ALTO DE INTERFERÊNCIAS (NÃO INCLUI FORNECIMENTO). AF_11/2017 | I13: M | J13: ATRIBUÍDO SÃO PAULO | K13: 20.71 | L13: CAIXA REFERENCIAL
A14: ASSENTAMENTO DE TUBOS E PECAS | B14: ASTU | C14: FORNEC E/OU ASSENT DE TUBO DE FERRO FUNDIDO JUNTA ELASTICA | D14: 45 | G14: 97148 | H14: ASSENTAMENTO DE TUBO DE FERRO FUNDIDO PARA REDE DE ÁGUA, DN 400 MM, JUNTA ELÁSTICA, INSTALADO EM LOCAL COM NÍVEL ALTO DE INTERFERÊNCIAS (NÃO INCLUI FORNECIMENTO). AF_11/2017 | I14: M | J14: ATRIBUÍDO SÃO PAULO | K14: 23.05 | L14: CAIXA REFERENCIAL
A15: ASSENTAMENTO DE TUBOS E PECAS | B15: ASTU | C15: FORNEC E/OU ASSENT DE TUBO DE FERRO FUNDIDO JUNTA ELASTICA | D15: 45 | G15: 97149 | H15: ASSENTAMENTO DE TUBO DE FERRO FUNDIDO PARA REDE DE ÁGUA, DN 450 MM, JUNTA ELÁSTICA, INSTALADO EM LOCAL COM NÍVEL ALTO DE INTERFERÊNCIAS (NÃO INCLUI FORNECIMENTO). AF_11/2017 | I15: M | J15: ATRIBUÍDO SÃO PAULO | K15: 25.41 | L15: CAIXA REFERENCIAL
A16: ASSENTAMENTO DE TUBOS E PECAS | B16: ASTU | C16: FORNEC E/OU ASSENT DE TUBO DE FERRO FUNDIDO JUNTA ELASTICA | D16: 45 | G16: 97150 | H16: ASSENTAMENTO DE TUBO DE FERRO FUNDIDO PARA REDE DE ÁGUA, DN 500 MM, JUNTA ELÁSTICA, INSTALADO EM LOCAL COM NÍVEL ALTO DE INTERFERÊNCIAS (NÃO INCLUI FORNECIMENTO). AF_11/2017 | I16: M | J16: ATRIBUÍDO SÃO PAULO | K16: 32 | L16: CAIXA REFERENCIAL
A17: ASSENTAMENTO DE TUBOS E PECAS | B17: ASTU | C17: FORNEC E/OU ASSENT DE TUBO DE FERRO FUNDIDO JUNTA ELASTICA | D17: 45 | G17: 97151 | H17: ASSENTAMENTO DE TUBO DE FERRO FUNDIDO PARA REDE DE ÁGUA, DN 600 MM, JUNTA ELÁSTICA, INSTALADO EM LOCAL COM NÍVEL ALTO DE INTERFERÊNCIAS (NÃO INCLUI FORNECIMENTO). AF_11/2017 | I17: M | J17: ATRIBUÍDO SÃO PAULO | K17: 37.32 | L17: CAIXA REFERENCIAL
A18: ASSENTAMENTO DE TUBOS E PECAS | B18: ASTU | C18: FORNEC E/OU ASSENT DE TUBO DE FERRO FUNDIDO JUNTA ELASTICA | D18: 45 | G18: 97152 | H18: ASSENTAMENTO DE TUBO DE FERRO FUNDIDO PARA REDE DE ÁGUA, DN 700 MM, JUNTA ELÁSTICA, INSTALADO EM LOCAL COM NÍVEL ALTO DE INTERFERÊNCIAS (NÃO INCLUI FORNECIMENTO). AF_11/2017 | I18: M | J18: ATRIBUÍDO SÃO PAULO | K18: 42.36 | L18: CAIXA REFERENCIAL
... A7523: SERVICOS DIVERSOS | B7523: SEDI | C7523: OUTROS | D7523: 318 | G7523: 101460 | H7523: VIGIA DIURNO COM ENCARGOS COMPLEMENTARES | I7523: MES | J7523: COEFICIENTE DE REPRESENTATIVIDADE | K7523: 3830.23 | L7523: ENCARGOS COMPLEMENTARES REFERENCIAL
G7525: PRECOS DE INSUMOS
G7527: MES DE COLETA: 02/2023
G7528: LOCALIDADE: 4495 - BRASILIA
G7529: ENCARGOS SOCIAIS (%) HORISTA 110,69 MENSALISTA 70,40
G7531: CODIGO | H7531: DESCRICAO DO INSUMO | I7531: UNIDADE | J7531: ORIGEM DO PRECO | K7531: PRECO MEDIANO R$
G7532: 38605 | H7532: ABERTURA PARA ENCAIXE DE CUBA OU LAVATORIO EM BANCADA DE MARMORE/ GRANITO OU OUTRO TIPO DE PEDRA NATURAL | I7532: UN | J7532: CR | K7532: 119.7
G7533: 11270 | H7533: ABRACADEIRA DE LATAO PARA FIXACAO DE CABO PARA-RAIO, DIMENSOES 32 X 24 X 24 MM | I7533: UN | J7533: AS | K7533: 2.77
G7534: 412 | H7534: ABRACADEIRA DE NYLON PARA AMARRACAO DE CABOS, COMPRIMENTO DE *230* X *7,6* MM | I7534: UN | J7534: CR | K7534: 0.97
G7535: 414 | H7535: ABRACADEIRA DE NYLON PARA AMARRACAO DE CABOS, COMPRIMENTO DE 100 X 2,5 MM | I7535: UN | J7535: CR | K7535: 0.06
G7536: 410 | H7536: ABRACADEIRA DE NYLON PARA AMARRACAO DE CABOS, COMPRIMENTO DE 150 X *3,6* MM | I7536: UN | J7536: CR | K7536: 0.15
G7537: 411 | H7537: ABRACADEIRA DE NYLON PARA AMARRACAO DE CABOS, COMPRIMENTO DE 200 X *4,6* MM | I7537: UN | J7537: C | K7537: 0.19
G7538: 408 | H7538: ABRACADEIRA DE NYLON PARA AMARRACAO DE CABOS, COMPRIMENTO DE 390 X *4,6* MM | I7538: UN | J7538: CR | K7538: 0.94
G7539: 39131 | H7539: ABRACADEIRA EM ACO PARA AMARRACAO DE ELETRODUTOS, TIPO D, COM 1 1/2" E CUNHA DE FIXACAO | I7539: UN | J7539: CR | K7539: 3.09
G7540: 394 | H7540: ABRACADEIRA EM ACO PARA AMARRACAO DE ELETRODUTOS, TIPO D, COM 1 1/2" E PARAFUSO DE FIXACAO | I7540: UN | J7540: CR | K7540: 3.13
G7541: 39130 | H7541: ABRACADEIRA EM ACO PARA AMARRACAO DE ELETRODUTOS, TIPO D, COM 1 1/4" E CUNHA DE FIXACAO | I7541: UN | J7541: CR | K7541: 2.82
G7542: 395 | H7542: ABRACADEIRA EM ACO PARA AMARRACAO DE ELETRODUTOS, TIPO D, COM 1 1/4" E PARAFUSO DE FIXACAO | I7542: UN | J7542: CR | K7542: 3.02
G7543: 39127 | H7543: ABRACADEIRA EM ACO PARA AMARRACAO DE ELETRODUTOS, TIPO D, COM 1/2" E CUNHA DE FIXACAO | I7543: UN | J7543: CR | K7543: 1.49
... G12467: 41776 | H12467: VIGIA NOTURNO, HORA EFETIVAMENTE TRABALHADA DE 22 H AS 5 H (COM ADICIONAL NOTURNO) | I12467: H | J12467: CR | K12467: 18.05
G12469: TOTAL DE INSUMOS : 4936

Sheet SICRO S DESON
A1: CGCIT | B1: SISTEMA DE CUSTOS REFERENCIAIS DE OBRAS - SICRO | K1: DNIT
B2: Distrito Federal - Outubro/2022
A3: Código | B3: Descrição | C3: Valor de Aquisição (R$) | D3: Depreciação (R$/h) | E3: Oportunidade de Capital (R$/h) | F3: Seguros e Impostos (R$/h) | G3: Manutenção (R$/h) | H3: Operação (R$/h) | I3: Mão de Obra de Operação (R$/h) | J3: Custo Produtivo (R$/h) | K3: Custo Improdutivo (R$/h)
A4: E9001 | B4: Conjunto vibratório para tubos de concreto com encaixe PB e 3 jogos de fôrmas - D = 0,60 m - 2,20 kW | C4: 69886.91 | D4: 9.3183 | E4: 2.156 | F4: 0 | G4: 6.9887 | H4: 0 | I4: 0 | J4: 18.463 | K4: 11.4743
A5: E9002 | B5: Conjunto vibratório para tubos de concreto com encaixe PB e 3 jogos de fôrmas - D = 0,80 m - 2,20 kW | C5: 75817.911 | D5: 10.1091 | E5: 2.339 | F5: 0 | G5: 7.5818 | H5: 0 | I5: 0 | J5: 20.0299 | K5: 12.4481
A6: E9003 | B6: Conjunto vibratório para tubos de concreto com encaixe PB e 3 jogos de fôrmas - D = 1,00 m - 2,20 kW | C6: 83406.07 | D6: 11.1208 | E6: 2.5731 | F6: 0 | G6: 8.3406 | H6: 0 | I6: 0 | J6: 22.0345 | K6: 13.6939
A7: E9004 | B7: Conjunto vibratório para tubos de concreto com encaixe PB e 3 jogos de fôrmas - D = 1,20 m - 2,20 kW | C7: 83853.546 | D7: 11.1805 | E7: 2.5869 | F7: 0 | G7: 8.3854 | H7: 0 | I7: 0 | J7: 22.1528 | K7: 13.7674
A8: E9005 | B8: Conjunto vibratório para tubos de concreto com encaixe PB e 3 jogos de fôrmas - D = 1,50 m - 2,20 kW | C8: 85952.862 | D8: 11.4604 | E8: 2.6516 | F8: 0 | G8: 8.5953 | H8: 0 | I8: 0 | J8: 22.7073 | K8: 14.112
A9: E9006 | B9: Equipamento para sondagem manual | C9: 2419.2245 | D9: 0.4113 | E9: 0.0896 | F9: 0 | G9: 0.2419 | H9: 0 | I9: 0 | J9: 0.7428 | K9: 0.5009
A10: E9007 | B10: Bomba de pistão triplex com capacidade de 7,80 m³/h (130 l/min) - 8,20 kW | C10: 102463.04 | D10: 8.197 | E10: 1.8966 | F10: 0 | G10: 7.1724 | H10: 9.9712 | I10: 0 | J10: 27.2372 | K10: 10.0936
A11: E9008 | B11: Transportador manual de tubos de concreto com capacidade de 1 t | C11: 2024.6378 | D11: 1.8222 | E11: 0.1249 | F11: 0 | G11: 1.0123 | H11: 0 | I11: 0 | J11: 2.9594 | K11: 1.9471
A12: E9009 | B12: Embarcação rebocadora - 268 kW | C12: 635231.27 | D12: 8.2712 | E12: 3.6858 | F12: 0 | G12: 18.3805 | H12: 325.888 | I12: 131.2246 | J12: 487.4501 | K12: 143.1816
A13: E9010 | B13: Balança plataforma digital com mesa de 75 x 75 cm com capacidade de 500 kg | C13: 5943.8192 | D13: 0.8916 | E13: 0.1222 | F13: 0 | G13: 0.4953 | H13: 0 | I13: 0 | J13: 1.5091 | K13: 1.0138
A14: E9011 | B14: Carro manual modelo plataforma de 200 x 80 cm com capacidade de 800 kg | C14: 2025.6556 | D14: 0.3646 | E14: 0.075 | F14: 0 | G14: 0.2026 | H14: 0 | I14: 0 | J14: 0.6422 | K14: 0.4396
A15: E9014 | B15: Deflectômetro de impacto (FWD) instalado em picape com reboque e faixa de carga de 7 a 120 kN - 147 kW | C15: 2208484.4 | D15: 176.6787 | E15: 40.879 | F15: 0 | G15: 110.4242 | H15: 0 | I15: 27.0509 | J15: 355.0328 | K15: 244.6086
... A375: E9798 | B375: Perfuratriz hidráulica rotopercussiva - 123 kW | C375: 1564206.6 | D375: 104.2804 | E375: 28.1492 | F375: 0 | G375: 104.2804 | H375: 118.08 | I375: 27.1789 | J375: 381.9689 | K375: 159.6085
A376: E9013 | B376: Caminhão tanque de asfalto com capacidade de 31.000 l - 265 kW | J376: 474.9144 | K376: 91.8712
A377: A9335 | B377: Cavalo mecânico estradeiro 6 x 2, PBT 23.000 kg - 265 kW - condição de trabalho severa - motorista de caminhão | C377: 787942.12 | D377: 33.7689 | E377: 13.8903 | F377: 5.6282 | G377: 50.6534 | H377: 322.24 | I377: 24.9114 | J377: 451.0922 | K377: 78.1988
A378: A9364 | B378: Tanque isotérmico de asfalto com capacidade de 31.000 l | C378: 253743.95 | D378: 10.1498 | E378: 3.5226 | F378: 0 | G378: 10.1498 | H378: 0 | I378: 0 | J378: 23.8222 | K378: 13.6724
A379: E9018 | B379: Cavalo mecânico com dolly intermediário e semirreboque de 4 eixos com capacidade de 53 t - 323 kW | J379: 545.6422 | K379: 150.9582
A380: A9324 | B380: Cavalo mecânico estradeiro 6 x 4, PBT 23.000 kg - 323 kW - motorista de veículo especial | C380: 913152.34 | D380: 39.1351 | E380: 16.0976 | F380: 6.5225 | G380: 58.7027 | H380: 289.408 | I380: 27.0509 | J380: 436.9168 | K380: 88.8061
A381: A9355 | B381: Semirreboque com 4 eixos | C381: 516545 | D381: 34.4363 | E381: 17.2634 | F381: 0 | G381: 38.7409 | H381: 0 | I381: 0 | J381: 90.4406 | K381: 51.6997
A382: A9382 | B382: Dolly intermediário com 2 eixos para semirreboque | C382: 104432.36 | D382: 6.9622 | E382: 3.4902 | F382: 0 | G382: 7.8324 | H382: 0 | I382: 0 | J382: 18.2848 | K382: 10.4524
A383: E9027 | B383: Caminhão distribuidor de cimento e cal com capacidade de 17 m³ - 210 kW | J383: 460.544 | K383: 118.3483
A384: A9333 | B384: Caminhão plataforma 8 x 2, PBTC 36.000 kg e distância entre eixos 4,8 m - 210 kW - motorista de caminhão | C384: 736692.03 | D384: 31.5725 | E384: 12.9868 | F384: 5.2621 | G384: 47.3588 | H384: 255.36 | I384: 24.9114 | J384: 377.4516 | K384: 74.7328
A385: A9365 | B385: Distribuidor de cimento montado sobre chassi com capacidade de 17 m³ | C385: 464949.68 | D385: 35.0905 | E385: 8.525 | F385: 0 | G385: 39.4769 | H385: 0 | I385: 0 | J385: 83.0924 | K385: 43.6155
A386: E9037 | B386: Plataforma de inspeção sob pontes montada em caminhão com capacidade de 500 kg e alcance de 15 m - 188 kW | J386: 657.4826 | K386: 250.6819
A387: A9334 | B387: Caminhão plataforma 8 x 2, PBT 29.000 kg e distância entre eixos 4,8 m - 188 kW - condição de trabalho severa - motorista de veículo especial | C387: 705022.19 | D387: 30.2152 | E387: 12.4285 | F387: 5.0359 | G387: 45.3229 | H387: 228.608 | I387: 27.0509 | J387: 348.6614 | K387: 74.7305
A388: A9378 | B388: Plataforma telescópica para inspeção de pontes montada sobre chassi com capacidade de 500 kg | C388: 2066864 | D388: 118.1065 | E388: 36.4359 | F388: 0 | G388: 132.8698 | H388: 0 | I388: 21.409 | J388: 308.8212 | K388: 175.9514
A389: E9041 | B389: Caminhão carroceria com guindauto com capacidade de 45 t.m - 188 kW | J389: 421.0468 | K389: 124.9383
A390: A9313 | B390: Caminhão plataforma 6 x 2, PBT 23.000 kg e distância entre eixos 5,4 m - 188 kW - motorista de veículo especial | C390: 645402.34 | D390: 27.6601 | E390: 11.3775 | F390: 4.61 | G390: 41.4902 | H390: 228.608 | I390: 27.0509 | J390: 340.7967 | K390: 70.6985
A391: A9351 | B391: Carroceria de madeira com capacidade de 11 t | C391: 40141.785 | D391: 2.7684 | E391: 0.7259 | F391: 0 | G391: 2.7684 | H391: 0 | I391: 0 | J391: 6.2627 | K391: 3.4943
A392: A9373 | B392: Guindaste articulado montado sobre chassi com capacidade de 45 t.m | C392: 337008 | D392: 23.2419 | E392: 6.0946 | F392: 0 | G392: 23.2419 | H392: 0 | I392: 21.409 | J392: 73.9874 | K392: 50.7455
A393: E9082 | B393: Bate-estaca hidráulico para defensas montado em caminhão guindauto com capacidade de 20 t.m e carroceria de 4 t - 136 kW | J393: 361.1638 | K393: 137.3139
A394: A9323 | B394: Caminhão plataforma 4 x 2, PBT 14.300 kg e distância entre eixos 4,8 m - 136 kW - condição de trabalho severa - motorista de caminhão | C394: 494604.18 | D394: 21.1973 | E394: 8.7192 | F394: 3.5329 | G394: 31.796 | H394: 165.376 | I394: 24.9114 | J394: 255.5328 | K394: 58.3608
A395: A9347 | B395: Carroceria de madeira com capacidade de 4 t | C395: 17692.92 | D395: 1.2202 | E395: 0.32 | F395: 0 | G395: 1.2202 | H395: 0 | I395: 0 | J395: 2.7604 | K395: 1.5402
A396: A9372 | B396: Guindaste articulado montado sobre chassi com capacidade de 20 t.m | C396: 210128.5 | D396: 14.4916 | E396: 3.8001 | F396: 0 | G396: 14.4916 | H396: 0 | I396: 21.409 | J396: 54.1923 | K396: 39.7007
A397: A9379 | B397: Bate-estaca hidráulico para defensas metálicas montada sobre chassi | C397: 205615 | D397: 11.6515 | E397: 4.6517 | F397: 0 | G397: 10.9661 | H397: 0 | I397: 21.409 | J397: 48.6783 | K397: 37.7122
A398: E9097 | B398: Caminhão de resgate de veículos leves com plataforma com capacidade de 4 t - 115 kW | J398: 227.7367 | K398: 58.5066
A399: A9326 | B399: Caminhão plataforma 4 x 2 PBT 9.600 kg e distância entre eixos 3,7 m - 115 kW - motorista de veículo especial | C399: 381954.89 | D399: 16.3695 | E399: 6.7333 | F399: 2.7282 | G399: 24.5542 | H399: 139.84 | I399: 27.0509 | J399: 217.2761 | K399: 52.8819
...

Sheet COMP EQUIP LOTE 01 E 02
J1: COM DESONERAÇÃO | O1: SEM DESONERAÇÃO
B2: CGCIT | J2: DNIT | O2: DNIT
B3: SISTEMA DE CUSTOS REFERENCIAIS DE OBRAS - SICRO | E3: Distrito Federal
B4: Custo Unitário de Referência | E4: Outubro/2022 | H4: Produção da equipe | I4: 0.86625 | J4: T
B5: 4915769M | C5: Trituração de galhos e troncos com diâmetro de até 350 mm (Trituradora 96,94 kW (129,99hp) e Caminhões basculante de 188 kW (252,11 hp) com capacidade de 14 m³, kit pesagem embarcada e Guindauto com capacidade de 10 t.m) | I5: Valores em reais (R$) | N5: Valores em reais (R$) | P5: t
B6: A - EQUIPAMENTOS | D6: Quantidade | E6: Utilização | G6: Custo Horário | J6: Custo | L6: Custo Horário | O6: Custo
E7: Operativa | F7: Improdutiva | G7: Produtivo | H7: Improdutivo | J7: Horário Total | L7: Produtivo | M7: Improdutivo | O7: Horário Total
B8: E9699M | C8: Trituradora de galhos e troncos rebocável com capacidade de até 350 mm de diâmetro com guincho - 96,94 kW (129,99hp) (Substituição do Operador de equipamento leve da SICRO (P9843) pelo Operador de máquinas e equipamentos com encargos complementares da SINAPI (88297)) | D8: 1 | E8: 1 | F8: 0 | G8: 194.4485 | H8: 64.1138 | J8: 194.4485 | L8: 196.5485 | M8: 66.2138 | O8: 196.5485
H9: Custo horário total de equipamentos | J9: 194.4485 | M9: Custo horário total de equipamentos | O9: 196.5485
B10: B - MÃO DE OBRA | D10: Quantidade | E10: Unidade | G10: Custo Horário | H10: Custo Horário Total | L10: Custo Horário | M10: Custo Horário Total
B11: 88316 | C11: SERVENTE COM ENCARGOS COMPLEMENTARES | D11: 1 | E11: H | G11: 19.46 | J11: 19.46 | L11: 21.29 | O11: 21.29
D12: Custo horário total de mão de obra | J12: 19.46 | L12: Custo horário total de mão de obra | O12: 21.29
D13: Custo horário total de execução | J13: 213.9085 | L13: Custo horário total de execução | O13: 217.8385
D14: Custo unitário de execução | J14: 246.93622 | L14: Custo unitário de execução | O14: 251.47302
H15: Custo do FIC | J15: 0 | M15: Custo do FIC | O15: 0
H16: Custo do FIT | J16: 0 | M16: Custo do FIT | O16: 0
B17: C - MATERIAL | D17: Quantidade | E17: Unidade | G17: Preço Unitário | H17: Custo Unitário | L17: Preço Unitário | M17: Custo Unitário
B18: M1754 | C18: Conjunto de lâminas de corte para trituradora de galhos e troncos | D18: 0.00015 | E18: un | G18: 3802.6853 | J18: 0.5704028 | L18: 3802.6853 | O18: 0.5704028
D19: Custo unitário total de material | J19: 0.5704028 | L19: Custo unitário total de material | O19: 0.5704028
B20: D - ATIVIDADES AUXILIARES | D20: Quantidade | E20: Unidade | G20: Custo Unitário | J20: Custo Unitário | M20: Custo Unitário | O20: Custo Unitário
B21: 5915459M | C21: Carga, manobra e descarga de agregados ou solos em caminhão basculante de 6 m³ - carga com minicarregadeira de 0,45 m³, 45,50 kW (61,01 hp) e descarga livre (EXCLUSIVE: caminhão basculante de 6 m³ ) | D21: 0 | E21: T | H21: 2.3501768 | J21: 0 | M21: 2.3898397 | O21: 0
D22: Custo total de atividades auxiliares | J22: 0 | L22: Custo total de atividades auxiliares | O22: 0
H23: Subtotal | J23: 247.50662 | M23: Subtotal | O23: 252.04342
B24: E - TEMPO FIXO | D24: Código | E24: Quantidade | F24: Unidade | H24: Custo Unitário | I24: Custo Unitário | M24: Custo Unitário | N24: Custo Unitário
B25: M3730M | C25: Material triturado - galhos e troncos - Caminhão basculante 14 m³ | D25: 5915441M | E25: 0.175 | F25: t | H25: 187.65582 | J25: 32.839769 | M25: 191.13585 | O25: 33.448774
D26: Custo unitário total de tempo fixo | J26: 32.839769 | L26: Custo unitário total de tempo fixo | O26: 33.448774
B27: F - MOMENTO DE TRANSPORTE | D27: Quantidade | E27: Unidade | F27: DMT | J27: Custo Unitário | M27: DMT | O27: Custo Unitário
F28: LN | G28: RP | H28: P | L28: LN | M28: RP | N28: P
B29: M3730 | C29: Material triturado - galhos e troncos - Caminhão basculante 14 m³ | D29: 0.175 | E29: tkm | F29: 5914314 | G29: 5914329 | H29: 5914344 | J29: 0 | L29: 5914314 | M29: 5914329 | N29: 5914344 | O29: 0
D30: Custo unitário total de transporte | L30: Custo unitário total de transporte
F31: Custo unitário direto total | J31: 280.34639 | L31: Custo unitário direto total | O31: 285.49219
B32: Obs. | C32: (t*) EMBORA NO SERVIÇO ORIGINAL SICRO/DNIT 4915769 A UNIDADE DE MEDIDA SEJA EM M3, CONVERTEMO-LO PARA TONELADA (t), OBEDECENDO O PRECONIZADO NA TABELA 09 - MASSAS ESPECÍFICAS REFERENCIAIS DOS MATERIAIS MAIS REPRESENTATIVOS, VOLUME 10, CONTEÚDO 11, PAG. 21, DO MANUAL DE CUSTOS DE INFRAESTRUTURA DE TRANSPORTE DO DNIT, QUE ESTIPULA A UTILIZAÇÃO DA MASSA ESPECÍFICA IGUAL A 1,000 PARA MATERIAL ORIUNDO DE DESMATAMENTO E DESTOCAMENTO, MADEIRA.
K36: COM DESONERAÇÃO | P36: SEM DESONERAÇÃO
B37: Custo Unitário de Referência | D37: Outubro/2022 (SICRO) - Fevereiro/2023 (SINAPI) | H37: Produção da equipe | I37: 1
B38: E9699M | C38: Trituradora de galhos e troncos rebocável com capacidade de até 350 mm de diâmetro com guincho - 96,94 kW (129,99hp) (Substituição do Operador de equipamento leve da SICRO (P9843) pelo Operador de máquinas e equipamentos com encargos complementares da SINAPI (88297)) | I38: Valores em reais (R$) | N38: Valores em reais (R$)
B39: A - EQUIPAMENTOS | D39: Quantidade | E39: Utilização | G39: Custo Horário | J39: Custo Horário | K39: Custo Horário | L39: Custo Horário | O39: Custo Horário | P39: Custo Horário
E40: Operativa | F40: Improdutiva | G40: Produtivo | H40: Improdutivo | J40: Total Produtivo | K40: Total Improdutivo | L40: Produtivo | M40: Improdutivo | O40: Total Produtivo | P40: Total Improdutivo
B41: E9699 | C41: Trituradora de galhos e troncos rebocável com capacidade de até 350 mm de diâmetro com guincho - 96,94 kW | D41: 1 | E41: 1 | F41: 0 | G41: 193.543 | H41: 0 | J41: 193.543 | K41: 0 | L41: 195.6375 | M41: 0 | O41: 195.6375 | P41: 0
H42: Custo horário total de equipamentos | J42: 193.543 | K42: 0 | L42: Custo horário total de equipamentos | O42: 195.6375 | P42: 0
B43: E9699 | C43: Trituradora de galhos e troncos rebocável com capacidade de até 350 mm de diâmetro com guincho - 96,94 kW | D43: 1 | E43: 0 | F43: 1 | G43: 0 | H43: 63.2083 | J43: 0 | K43: 63.2083 | L43: 0 | M43: 65.3028 | O43: 0 | P43: 65.3028
...

Sheet COMP EQUIP LOTE 03, 04, 05, 06
J1: COM DESONERAÇÃO | O1: SEM DESONERAÇÃO
B2: CGCIT | J2: DNIT | O2: DNIT
B3: SISTEMA DE CUSTOS REFERENCIAIS DE OBRAS - SICRO | E3: Distrito Federal
B4: Custo Unitário de Referência | E4: Outubro/2022 | H4: Produção da equipe | I4: 1.44375 | J4: T
B5: 4915769M | C5: Trituração de galhos e troncos com diâmetro de até 350 mm (Trituradora 96,94 kW (129,99hp) e Caminhões basculante de 188 kW (252,11 hp) com capacidade de 14 m³, kit pesagem embarcada e Guindauto com capacidade de 10 t.m) | I5: Valores em reais (R$) | N5: Valores em reais (R$)
B6: A - EQUIPAMENTOS | D6: Quantidade | E6: Utilização | G6: Custo Horário | J6: Custo | L6: Custo Horário | O6: Custo
E7: Operativa | F7: Improdutiva | G7: Produtivo | H7: Improdutivo | J7: Horário Total | L7: Produtivo | M7: Improdutivo | O7: Horário Total
B8: E9699M | C8: Trituradora de galhos e troncos rebocável com capacidade de até 350 mm de diâmetro com guincho - 96,94 kW (129,99hp) (Substituição do Operador de equipamento leve da SICRO (P9843) pelo Operador de máquinas e equipamentos com encargos complementares da SINAPI (88297)) | D8: 1 | E8: 1 | F8: 0 | G8: 194.4485 | H8: 64.1138 | J8: 194.4485 | L8: 196.5485 | M8: 66.2138 | O8: 196.5485
H9: Custo horário total de equipamentos | J9: 194.4485 | M9: Custo horário total de equipamentos | O9: 196.5485
B10: B - MÃO DE OBRA | D10: Quantidade | E10: Unidade | G10: Custo Horário | H10: Custo Horário Total | L10: Custo Horário | M10: Custo Horário Total
B11: 88316 | C11: SERVENTE COM ENCARGOS COMPLEMENTARES | D11: 1 | E11: H | G11: 19.46 | J11: 19.46 | L11: 21.29 | O11: 21.29
D12: Custo horário total de mão de obra | J12: 19.46 | L12: Custo horário total de mão de obra | O12: 21.29
D13: Custo horário total de execução | J13: 213.9085 | L13: Custo horário total de execução | O13: 217.8385
D14: Custo unitário de execução | J14: 148.16173 | L14: Custo unitário de execução | O14: 150.88381
H15: Custo do FIC | J15: 0 | M15: Custo do FIC | O15: 0
H16: Custo do FIT | J16: 0 | M16: Custo do FIT | O16: 0
B17: C - MATERIAL | D17: Quantidade | E17: Unidade | G17: Preço Unitário | H17: Custo Unitário | L17: Preço Unitário | M17: Custo Unitário
B18: M1754 | C18: Conjunto de lâminas de corte para trituradora de galhos e troncos | D18: 0.00015 | E18: un | G18: 3802.6853 | J18: 0.5704028 | L18: 3802.6853 | O18: 0.5704028
D19: Custo unitário total de material | J19: 0.5704028 | L19: Custo unitário total de material | O19: 0.5704028
B20: D - ATIVIDADES AUXILIARES | D20: Quantidade | E20: Unidade | G20: Custo Unitário | J20: Custo Unitário | M20: Custo Unitário | O20: Custo Unitário
B21: 5915459M | C21: Carga, manobra e descarga de agregados ou solos em caminhão basculante de 6 m³ - carga com minicarregadeira de 0,45 m³, 45,50 kW (61,01 hp) e descarga livre (EXCLUSIVE: caminhão basculante de 6 m³ ) | D21: 0 | E21: T | H21: 2.3501768 | J21: 0 | M21: 2.3898397 | O21: 0
D22: Custo total de atividades auxiliares | J22: 0 | L22: Custo total de atividades auxiliares | O22: 0
H23: Subtotal | J23: 148.73213 | M23: Subtotal | O23: 151.45421
B24: E - TEMPO FIXO | D24: Código | E24: Quantidade | F24: Unidade | H24: Custo Unitário | I24: Custo Unitário | M24: Custo Unitário | N24: Custo Unitário
B25: M3730M | C25: Material triturado - galhos e troncos - Caminhão basculante 14 m³ | D25: 5915441M | E25: 0.175 | F25: t | H25: 187.65582 | J25: 32.839769 | M25: 191.13585 | O25: 33.448774
D26: Custo unitário total de tempo fixo | J26: 32.839769 | L26: Custo unitário total de tempo fixo | O26: 33.448774
B27: F - MOMENTO DE TRANSPORTE | D27: Quantidade | E27: Unidade | F27: DMT | J27: Custo Unitário | M27: DMT | O27: Custo Unitário
F28: LN | G28: RP | H28: P | L28: LN | M28: RP | N28: P
B29: M3730 | C29: Material triturado - galhos e troncos - Caminhão basculante 6 m³ | D29: 0.175 | E29: tkm | F29: 5914314 | G29: 5914329 | H29: 5914344 | J29: 0 | L29: 5914314 | M29: 5914329 | N29: 5914344 | O29: 0
D30: Custo unitário total de transporte | L30: Custo unitário total de transporte
F31: Custo unitário direto total | J31: 181.5719 | L31: Custo unitário direto total | O31: 184.90299
B32: Obs. | C32: (t*) EMBORA NO SERVIÇO ORIGINAL SICRO/DNIT 4915769 A UNIDADE DE MEDIDA SEJA EM M3, CONVERTEMO-LO PARA TONELADA (t), OBEDECENDO O PRECONIZADO NA TABELA 09 - MASSAS ESPECÍFICAS REFERENCIAIS DOS MATERIAIS MAIS REPRESENTATIVOS, VOLUME 10, CONTEÚDO 11, PAG. 21, DO MANUAL DE CUSTOS DE INFRAESTRUTURA DE TRANSPORTE DO DNIT, QUE ESTIPULA A UTILIZAÇÃO DA MASSA ESPECÍFICA IGUAL A 1,000 PARA MATERIAL ORIUNDO DE DESMATAMENTO E DESTOCAMENTO, MADEIRA.
K36: COM DESONERAÇÃO | P36: SEM DESONERAÇÃO
B37: Custo Unitário de Referência | D37: Outubro/2022 (SICRO) - Fevereiro/2023 (SINAPI) | H37: Produção da equipe | I37: 1
B38: E9699M | C38: Trituradora de galhos e troncos rebocável com capacidade de até 350 mm de diâmetro com guincho - 96,94 kW (129,99hp) (Substituição do Operador de equipamento leve da SICRO (P9843) pelo Operador de máquinas e equipamentos com encargos complementares da SINAPI (88297)) | I38: Valores em reais (R$) | N38: Valores em reais (R$)
B39: A - EQUIPAMENTOS | D39: Quantidade | E39: Utilização | G39: Custo Horário | J39: Custo Horário | K39: Custo Horário | L39: Custo Horário | O39: Custo Horário | P39: Custo Horário
E40: Operativa | F40: Improdutiva | G40: Produtivo | H40: Improdutivo | J40: Total Produtivo | K40: Total Improdutivo | L40: Produtivo | M40: Improdutivo | O40: Total Produtivo | P40: Total Improdutivo
B41: E9699 | C41: Trituradora de galhos e troncos rebocável com capacidade de até 350 mm de diâmetro com guincho - 96,94 kW | D41: 1 | E41: 1 | F41: 0 | G41: 193.543 | H41: 0 | J41: 193.543 | K41: 0 | L41: 195.6375 | M41: 0 | O41: 195.6375 | P41: 0
H42: Custo horário total de equipamentos | J42: 193.543 | K42: 0 | L42: Custo horário total de equipamentos | O42: 195.6375 | P42: 0
B43: E9699 | C43: Trituradora de galhos e troncos rebocável com capacidade de até 350 mm de diâmetro com guincho - 96,94 kW | D43: 1 | E43: 0 | F43: 1 | G43: 0 | H43: 63.2083 | J43: 0 | K43: 63.2083 | L43: 0 | M43: 65.3028 | O43: 0 | P43: 65.3028
...

Sheet COM DESONERAÇÃO
A4: Nº da estimativa: | D4: DPJ 005/2023 Com desoneração | I4: Data: | J4: 45142
A5: Interessado: | D5: Companhia Urbanizadora da Nova Capital do Brasil - NOVACAP - CNPJ/MF 00.037.457/0001-70, Processo SEI: 00112-00025752/2022-67 | I5: B.D.I.: | J5: 0.2882
A6: Objeto: | D6: Contratação de empresa(s) especializada(s) na realização dos serviços de coleta, trituração e transporte de resíduos de origem vegetal gerados em ambiente urbano nos âmbito do Distrito Federal, por meio do sistema de registro de preço. | J6: COM DESONERAÇÃO
A7: Locais: | D7: Regiões Administrativas do Distrito Federal | I7: Data Base: | J7: SINAPI-Fevereiro/2023 SICRO-Outubro/2022
A9: QUANTITATIVOS E DESCRIÇÕES DOS SERVIÇOS PARA OS 06 (SEIS) LOTES, SENDO 03 (TRÊS) PARA AMPLA CONCORRÊNCIA E 03 (TRÊS) RESERVADO PARA PEQUENAS EMPRESAS), ver Estudo Técnico Preliminar NOVACAP/PRES/DU/DPJ (109041926) e Elementos Técnicos para Licitação 2 (110765023).
A11: 1 | B11: LOTE 01 | C11: Coleta, trituração e transporte de resíduos de origem vegetal gerados em ambiente urbano das Regiões Administrativas: Plano Piloto (RA I), Cruzeiro (RA XI), Octogonal / Sudoeste (RA XXII), Setor de Armazenamento e Abastecimento Norte - SAAN, Setor de Indústria e Abastecimento – SIA (RA XXIX), Vila Planalto, Lago Norte (RA XVIII), Varjão (RA XXIII), Granja do Torto e Taquari.
A12: 1.1 - | B12: AMPLA CONCORRÊNCIA
E13: Quantidade (T), conforme documento SEI nº 109041926 | J13: 690
E14: DMT (Km),conforme documento SEI nº 109077546 | J14: 9.9
A15: 1.1.1 | B15: Coleta e trituração
A16: Item | B16: Código | C16: Origem | D16: Descrição | E16: Unid. | F16: Quant. | G16: Custo unitário | H16: Custo unitário com BDI | I16: Custo Total Item | J16: Custo Total Item com BDI
A17: 01 | B17: 4915769M | C17: Composição DIOC/DPJ | D17: Trituração de galhos e troncos com diâmetro de até 350 mm (Trituradora 96,94 kW (129,99hp) e Caminhões basculante de 188 kW (252,11 hp) com capacidade de 14 m³, kit pesagem embarcada e Guindauto com capacidade de 10 t.m) | E17: T | F17: 690 | G17: 280.34639 | H17: 361.14222 | I17: 193439.01 | J17: 249188.13
A18: 02 | B18: 5915441M | C18: Composição DIOC/DPJ | D18: Carga, manobra e descarga de trituração de galhos e troncos em caminhão basculante de 14 m³ - carga com trituradora e descarga livre | E18: T | F18: 690 | G18: 187.65582 | H18: 241.73823 | I18: 129482.52 | J18: 166799.38
H19: Sub-total | I19: 322921.53 | J19: 415987.51
A21: OBS: | B21: A EMPRESA VENCEDORA DEVERÁ APRESENTAR DADOS RELATIVOS DA CONTRATADA QUE FORNECEU O SISTEMA DE PESAGEM EMBARCADA
A23: 1.1.2 | B23: Bota-fora de material
A24: Item | B24: Código | C24: Origem | D24: Descrição | E24: Unid. | F24: Quant. | G24: Custo unitário | H24: Custo unitário com BDI | I24: Custo Total Item | J24: Custo Total Item com BDI
A25: 01 | B25: 95879 | C25: SINAPI | D25: TRANSPORTE COM CAMINHÃO BASCULANTE DE 14 M³, EM VIA URBANA PAVIMENTADA, DMT ATÉ 30 KM (UNIDADE: TXKM). AF_07/2020 | E25: TXKM | F25: 6831 | G25: 1.35 | H25: 1.73907 | I25: 9221.85 | J25: 11879.587
H26: Sub-total | I26: 9221.85 | J26: 11879.587
A28: OBS: | B28: QUANTIDADE = TXKM > TXDMT > 690 X 9,9 = 6.831,00
A30: 1.1.3 | B30: Gerenciamento
A31: Item | B31: Código | C31: Origem | D31: Descrição | E31: Unid. | F31: Quant. | G31: Custo unitário | H31: Custo unitário com BDI | I31: Custo Total Item | J31: Custo Total Item com BDI
A32: 01 | B32: 7119788M | C32: Composição DIOC/DPJ | D32: Veículo leve - 53 kW (71,07 hp/72,06 cv) - Administração local do Estaleiro Padrão (EXCLUSIVE: Veículo leve picape 4 x 4 com capacidade de 1,10 t - 147 kW e mãos de obra: Almoxarife, Auxiliar administrativo, Auxiliar técnico, Chefe setor de finanças, Comprador, Copeiro, Desenhista, Encarregado de turma, Encarregado geral, Engenheiro, Engenheiro chefe, Faxineiro, Médico do trabalho, Operacional, Recepcionista, Secretária, Técnico da qualidade, Técnico de meio ambiente, Técnico de segurança do trabalho e Vigia ) | E32: MÊS | F32: 1 | G32: 2250 | H32: 2898.45 | I32: 2250 | J32: 2898.45
H33: Sub-total | I33: 2250 | J33: 2898.45
A35: 1.1.4 | B35: Telemetria
A36: Item | B36: Código | C36: Origem | D36: Descrição | E36: Unid. | F36: Quant. | G36: Custo unitário | H36: Custo unitário com BDI | I36: Custo Total Item | J36: Custo Total Item com BDI
A37: 01 | B37: Sistema | C37: Cotação | D37: Sistema de monitoramento de veículo - TELEMETRIA | E37: MES | F37: 8 | G37: 75.725 | H37: 97.548945 | I37: 605.8 | J37: 780.39156
H38: Sub-total | I38: 605.8 | J38: 780.39156
A40: OBS: | B40: A EMPRESA VENCEDORA DEVERÁ APRESENTAR DADOS RELATIVOS À CONTRATADA PARA PRESTAÇÃO DO SERVIÇO DE TELEMETRIA
A42: 1.1.5 | B42: Equipamentos Portáteis
A43: Item | B43: Código | C43: Origem | D43: Descrição | E43: Unid. | F43: Quant. | G43: Custo unitário | H43: Custo unitário com BDI | I43: Custo Total Item | J43: Custo Total Item com BDI
A44: 01 | B44: Aparelho | C44: Cotação | D44: Aparelho Celular - 256GB ROM | E44: UN | F44: 1 | G44: 166.58333 | H44: 214.59265 | I44: 166.58333 | J44: 214.59265
A45: 02 | B45: Plano | C45: Cotação | D45: Plano de dados para telefone celular com no mínimo 20GB | E45: MES | F45: 1 | G45: 51.99 | H45: 66.973518 | I45: 51.99 | J45: 66.973518
H46: Sub-total | I46: 218.57333 | J46: 281.56617
A48: OBS: | B48: O CUSTO DO APARELHO CELULAR CONSIDEROU O MENOR PREÇO APURADO NO MERCADO DIVIDIDO PELO INTERSTÍCIO CONTRATUAL , ISTO É : R$ 1.999,00 /12 = R$ 166,5833/MÊS, VIDE DOC SEI (114239413)
A50: 1.1.6 | B50: Administração Local
A51: Item | B51: Código | C51: Origem | D51: Descrição | E51: Unid. | F51: Quant. | G51: Custo unitário | H51: Custo unitário com BDI | I51: Custo Total Item | J51: Custo Total Item com BDI
A52: 01 | B52: 101452 | C52: SINAPI | D52: SERVENTE DE OBRAS COM ENCARGOS COMPLEMENTARES | E52: MES | F52: 8 | G52: 3534.87 | H52: 4553.6195 | I52: 28278.96 | J52: 36428.956
A53: 02 | B53: 93572 | C53: SINAPI | D53: ENCARREGADO GERAL DE OBRAS COM ENCARGOS COMPLEMENTARES | E53: MES | F53: 1 | G53: 3617.92 | H53: 4660.6045 | I53: 3617.92 | J53: 4660.6045
H54: Sub-total | I54: 31896.88 | J54: 41089.561
...

Sheet SEM DESONERAÇÃO
A4: Nº da estimativa: | D4: DPJ 006/2023 Sem desoneração | I4: Data: | J4: 45142
A5: Interessado: | D5: Companhia Urbanizadora da Nova Capital do Brasil - NOVACAP - CNPJ/MF 00.037.457/0001-70, Processo SEI: 00112-00025752/2022-67 | I5: B.D.I.: | J5: 0.2247
A6: Objeto: | D6: Contratação de empresa(s) especializada(s) na realização dos serviços de coleta, trituração e transporte de resíduos de origem vegetal gerados em ambiente urbano nos âmbito do Distrito Federal, por meio do sistema de registro de preço. | J6: SEM DESONERAÇÃO
A7: Locais: | D7: Regiões Administrativas do Distrito Federal | I7: Data Base: | J7: SINAPI-Fevereiro/2023 SICRO-Outubro/2022
A9: QUANTITATIVOS E DESCRIÇÕES DOS SERVIÇOS PARA OS 06 (SEIS) LOTES, SENDO 03 (TRÊS) PARA AMPLA CONCORRÊNCIA E 03 (TRÊS) RESERVADO PARA PEQUENAS EMPRESAS), ver Estudo Técnico Preliminar NOVACAP/PRES/DU/DPJ (109041926) e Elementos Técnicos para Licitação 2 (110765023).
A11: 1 | B11: LOTE 01 | C11: Coleta, trituração e transporte de resíduos de origem vegetal gerados em ambiente urbano das Regiões Administrativas: Plano Piloto (RA I), Cruzeiro (RA XI), Octogonal / Sudoeste (RA XXII), Setor de Armazenamento e Abastecimento Norte - SAAN, Setor de Indústria e Abastecimento – SIA (RA XXIX), Vila Planalto, Lago Norte (RA XVIII), Varjão (RA XXIII), Granja do Torto e Taquari.
A12: 1.1 - | B12: AMPLA CONCORRÊNCIA
E13: Quantidade (T), conforme documento SEI nº 109041926 | J13: 690
E14: DMT (Km),conforme documento SEI nº 109077546 | J14: 9.9
A15: 1.1.1 | B15: Coleta e trituração
A16: Item | B16: Código | C16: Origem | D16: Descrição | E16: Unid. | F16: Quant. | G16: Custo unitário | H16: Custo unitário com BDI | I16: Custo Total Item | J16: Custo Total Item com BDI
A17: 01 | B17: 4915769M | C17: Composição DIOC/DPJ | D17: Trituração de galhos e troncos com diâmetro de até 350 mm (Trituradora 96,94 kW (129,99hp) e Caminhões basculante de 188 kW (252,11 hp) com capacidade de 14 m³, kit pesagem embarcada e Guindauto com capacidade de 10 t.m) | E17: T | F17: 690 | G17: 285.49219 | H17: 349.64229 | I17: 196989.61 | J17: 241253.18
A18: 02 | B18: 5915441M | C18: Composição DIOC/DPJ | D18: Carga, manobra e descarga de trituração de galhos e troncos em caminhão basculante de 14 m³ - carga com trituradora e descarga livre | E18: T | F18: 690 | G18: 191.13585 | H18: 234.08408 | I18: 131883.74 | J18: 161518.01
H19: Sub-total | I19: 328873.35 | J19: 402771.19
A21: OBS: | B21: A EMPRESA VENCEDORA DEVERÁ APRESENTAR DADOS RELATIVOS DA CONTRATADA QUE FORNECEU O SISTEMA DE PESAGEM EMBARCADA
A23: 1.1.2 | B23: Bota-fora de material
A24: Item | B24: Código | C24: Origem | D24: Descrição | E24: Unid. | F24: Quant. | G24: Custo unitário | H24: Custo unitário com BDI | I24: Custo Total Item | J24: Custo Total Item com BDI
A25: 01 | B25: 95879 | C25: SINAPI | D25: TRANSPORTE COM CAMINHÃO BASCULANTE DE 14 M³, EM VIA URBANA PAVIMENTADA, DMT ATÉ 30 KM (UNIDADE: TXKM). AF_07/2020 | E25: TXKM | F25: 6831 | G25: 1.37 | H25: 1.677839 | I25: 9358.47 | J25: 11461.318
H26: Sub-total | I26: 9358.47 | J26: 11461.318
A28: OBS: | B28: QUANTIDADE = TXKM > TXDMT > 690 X 9,9 = 6.831,00
A30: 1.1.3 | B30: Gerenciamento
A31: Item | B31: Código | C31: Origem | D31: Descrição | E31: Unid. | F31: Quant. | G31: Custo unitário | H31: Custo unitário com BDI | I31: Custo Total Item | J31: Custo Total Item com BDI
A32: 01 | B32: 7119788M | C32: Composição DIOC/DPJ | D32: Veículo leve - 53 kW (71,07 hp/72,06 cv) - Administração local do Estaleiro Padrão (EXCLUSIVE: Veículo leve picape 4 x 4 com capacidade de 1,10 t - 147 kW e mãos de obra: Almoxarife, Auxiliar administrativo, Auxiliar técnico, Chefe setor de finanças, Comprador, Copeiro, Desenhista, Encarregado de turma, Encarregado geral, Engenheiro, Engenheiro chefe, Faxineiro, Médico do trabalho, Operacional, Recepcionista, Secretária, Técnico da qualidade, Técnico de meio ambiente, Técnico de segurança do trabalho e Vigia ) | E32: MÊS | F32: 1 | G32: 2250 | H32: 2755.575 | I32: 2250 | J32: 2755.575
H33: Sub-total | I33: 2250 | J33: 2755.575
A35: 1.1.4 | B35: Telemetria
A36: Item | B36: Código | C36: Origem | D36: Descrição | E36: Unid. | F36: Quant. | G36: Custo unitário | H36: Custo unitário com BDI | I36: Custo Total Item | J36: Custo Total Item com BDI
A37: 01 | B37: Sistema | C37: Cotação | D37: Sistema de monitoramento de veículo - TELEMETRIA | E37: MES | F37: 8 | G37: 75.725 | H37: 92.740407 | I37: 605.8 | J37: 741.92326
H38: Sub-total | I38: 605.8 | J38: 741.92326
A40: OBS: | B40: A EMPRESA VENCEDORA DEVERÁ APRESENTAR DADOS RELATIVOS À CONTRATADA PARA PRESTAÇÃO DO SERVIÇO DE TELEMETRIA
A42: 1.1.5 | B42: Equipamentos Portáteis
A43: Item | B43: Código | C43: Origem | D43: Descrição | E43: Unid. | F43: Quant. | G43: Custo unitário | H43: Custo unitário com BDI | I43: Custo Total Item | J43: Custo Total Item com BDI
A44: 01 | B44: Aparelho | C44: Cotação | D44: Aparelho Celular - 256GB ROM | E44: UN | F44: 1 | G44: 166.58333 | H44: 204.01461 | I44: 166.58333 | J44: 204.01461
A45: 02 | B45: Plano | C45: Cotação | D45: Plano de dados para telefone celular com no mínimo 20GB | E45: MES | F45: 1 | G45: 51.99 | H45: 63.672153 | I45: 51.99 | J45: 63.672153
H46: Sub-total | I46: 218.57333 | J46: 267.68676
A48: OBS: | B48: O CUSTO DO APARELHO CELULAR CONSIDEROU O MENOR PREÇO APURADO NO MERCADO DIVIDIDO PELO INTERSTÍCIO CONTRATUAL , ISTO É : R$ 1.999,00 /12 = R$ 166,5833/MÊS, VIDE DOC SEI (114239413)
A50: 1.1.6 | B50: Administração Local
A51: Item | B51: Código | C51: Origem | D51: Descrição | E51: Unid. | F51: Quant. | G51: Custo unitário | H51: Custo unitário com BDI | I51: Custo Total Item | J51: Custo Total Item com BDI
A52: 01 | B52: 101452 | C52: SINAPI | D52: SERVENTE DE OBRAS COM ENCARGOS COMPLEMENTARES | E52: MES | F52: 8 | G52: 3860.06 | H52: 4727.4155 | I52: 30880.48 | J52: 37819.324
A53: 02 | B53: 93572 | C53: SINAPI | D53: ENCARREGADO GERAL DE OBRAS COM ENCARGOS COMPLEMENTARES | E53: MES | F53: 1 | G53: 4115.32 | H53: 5040.0324 | I53: 4115.32 | J53: 5040.0324
H54: Sub-total | I54: 34995.8 | J54: 42859.356
...

Sheet CAPA COM DESONERAÇÃO
B6: CAPA DA PLANILHA ESTIMATIVA
B8: INTERESSADO: | C8: Departamento de Parques e Jardins - DPJ/DU/NOVACAP | D8: L. S. Horista:
B9: OBJETO: | C9: ='COM DESONERAÇÃO'!D6 -> Contratação de empresa(s) especializada(s) na realização dos serviços de coleta, trituração e transporte de resíduos de origem vegetal gerados em ambiente urbano nos âmbito do Distrito Federal, por meio do sistema de registro de preço.
B11: LOCAL: | C11: Distrito Federal
B12: PRAZO (Dias Corridos): | C12: 360 (trezentos e sessenta) dias corridos
B13: Processo SEI-GDF Nº: | C13: 00112-00025752/2022-67
B14: DATA: | C14: =TODAY() -> 45142
B15: ORÇAMENTISTA(S): | C15: Téc. Edif. Alexsander de Oliveira Barbosa
B16: TABELAS REFERÊNCIA: | C16: SICRO - Out/2022
C17: SINAPI - Fev/2023
B18: ENCARGOS SOCIAIS: | C18: ='COM DESONERAÇÃO'!J6 -> COM DESONERAÇÃO
B19: BDI de Paisagismo: | C19: ='COM DESONERAÇÃO'!J5 -> 0.2882
B21: Lotes | C21: Valor Sem BDI | D21: BDI | E21: Valor Com BDI
B22: Lote 01 ............................................................................................................................................................................................................................. | C22: ='COM DESONERAÇÃO'!F75 -> 372572.36 | D22: ='COM DESONERAÇÃO'!F76 -> 107375.35 | E22: =C22+D22 -> 479947.71
B23: Lote 02 .............................................................................................................................................................................. | C23: ='COM DESONERAÇÃO'!F143 -> 90730.865 | D23: ='COM DESONERAÇÃO'!F144 -> 26148.635 | E23: =C23+D23 -> 116879.5
B24: Lote 03 .................................................................................................................................................................................... | C24: ='COM DESONERAÇÃO'!F211 -> 230740.58 | D24: ='COM DESONERAÇÃO'!F212 -> 66499.435 | E24: =C24+D24 -> 297240.01
B25: Lote 04 .............................................................................................................................................................................. | C25: ='COM DESONERAÇÃO'!F279 -> 54565.966 | D25: ='COM DESONERAÇÃO'!F280 -> 15725.911 | E25: =C25+D25 -> 70291.877
B26: Lote 05 .................................................................................................................................................................................... | C26: ='COM DESONERAÇÃO'!F349 -> 237145.58 | D26: ='COM DESONERAÇÃO'!F350 -> 68345.356 | E26: =C26+D26 -> 305490.94
B27: Lote 06 .............................................................................................................................................................................. | C27: ='COM DESONERAÇÃO'!F419 -> 55846.966 | D27: ='COM DESONERAÇÃO'!F420 -> 16095.096 | E27: =C27+D27 -> 71942.061
