Workbook
Name BDI_SD_O_AC: 'BDI obras SD'!$H$9
Name BDI_SD_O_COF: 'BDI obras SD'!$H$15
Name BDI_SD_O_CPRB: 'BDI obras SD'!$H$18
Name BDI_SD_O_DF: 'BDI obras SD'!$H$12
Name BDI_SD_O_ISS: 'BDI obras SD'!$H$17
Name BDI_SD_O_L: 'BDI obras SD'!$H$21
Name BDI_SD_O_PIS: 'BDI obras SD'!$H$16
Name BDI_SD_O_R: 'BDI obras SD'!$H$11
Name BDI_SD_O_SG: 'BDI obras SD'!$H$10

Sheet TRECHO(S) A IMPRIMIR
A1: SELECIONAR TRECHO PARA VISUALIZAÇÃO E/OU IMPRESSÃO | B1: 1 | D1: Escolha TODOS para visualizar e imprimir o custo total dos dois trechos Escolha TRECHO 1 para visualizar e imprimir apenas o Trecho 1 Escolha TRECHO 3 para visualizar e imprimir apenas o Trecho 3
B3: TODOS
B4: TRECHO 1
B5: TRECHO 3

Sheet RESUMO COMPARATIVO
A1: RESUMO COMPARATIVO DOS TRECHOS
A2: OBRA : | B2: URBANIZAÇÃO DO SETOR SOL NASCENTE - TRECHOS 1 e 3
A3: ENDEREÇO: | B3: ='PSP-RESUMO'!B3 -> SETOR SOL NASCENTE, CEILÂNDIA/DF | C3: ='PSP-RESUMO'!C3 -> ENCARGOS SOCIAIS SEM DESONERAÇÃO
A4: CLIENTE: | B4: ='PSP-RESUMO'!B4 -> ARIA | C4: DATA DO ORÇAMENTO: | F4: ='PSP-RESUMO'!D4 -> 28/JAN/2022
A5: OBRA | B5: DESCRIÇÃO | C5: PREÇO TOTAL (C/BDI) | D5: TRECHO 1 | E5: TRECHO 3 | F5: DIFERENÇA PARA O ORÇAMENTO AGRUPADO
A6: ='PSP-RESUMO'!A6 -> 01. | B6: ='PSP-RESUMO'!B6 -> CANTEIRO DE OBRAS (CONSTRUÇÕES PROVISÓRIAS) - TRECHOS 1 e 3 | C6: 1739810.3 | D6: 1030625.6 | E6: 903545.89 | F6: -194361.16 | G6: Diferença pelo cálculo dos itens das NR-18 e NR-24.
A7: ='PSP-RESUMO'!A7 -> 02. | B7: ='PSP-RESUMO'!B7 -> ADMINISTRAÇÃO LOCAL - TRECHOS 1 e 3 | C7: 3571835.8 | D7: 2551319.6 | E7: 2223642.5 | F7: -1203126.3
A8: ='PSP-RESUMO'!A8 -> 03. | B8: ='PSP-RESUMO'!B8 -> SERVIÇOS PRELIMINARES DE OBRAS - TRECHOS 1 e 3 | C8: 703821.76 | D8: 341446.75 | E8: 58913.791 | F8: 303461.21
A9: ='PSP-RESUMO'!A9 -> 04. | B9: ='PSP-RESUMO'!B9 -> DRENAGEM URBANA DE ÁGUAS PLUVIAIS E CONSTRUÇÃO DE BACIAS DE DETENÇÃO - TRECHOS 1 e 3 | C9: 20385875 | D9: 12049745 | E9: 8267261.2 | F9: 68868.289
A10: ='PSP-RESUMO'!A10 -> 05. | B10: ='PSP-RESUMO'!B10 -> TERRAPLENAGEM - TRECHOS 1 e 3 | C10: 2325856.9 | D10: 1388742.3 | E10: 964670.41 | F10: -27555.753
A11: ='PSP-RESUMO'!A11 -> 06. | B11: ='PSP-RESUMO'!B11 -> PAVIMENTAÇÕES - TRECHOS 1 e 3 | C11: 14898899 | D11: 9392719.1 | E11: 4347029.1 | F11: 1159151
A12: ='PSP-RESUMO'!A12 -> 07. | B12: ='PSP-RESUMO'!B12 -> OBRA DE ARTE ESPECIAL (PONTE) E OBRA DE ARTE CORRENTE (CANAL) - TRECHOS 1 e 3 | C12: 6599348.7 | D12: 6674760 | E12: 0 | F12: -75411.222
A13: ='PSP-RESUMO'!A13 -> 08. | B13: ='PSP-RESUMO'!B13 -> SINALIZAÇÃO VIÁRIA - TRECHOS 1 e 3 | C13: 405272.53 | D13: 180868 | E13: 149810.62 | F13: 74593.908
A14: ='PSP-RESUMO'!A14 -> 09. | B14: ='PSP-RESUMO'!B14 -> URBANIZAÇÃO E PAISAGISMO - TRECHOS 1 e 3 | C14: 887312.01 | D14: 254140.2 | E14: 633171.81 | F14: 0
B15: PREÇO TOTAL DA OBRA: | C15: 51518032 | D15: 33864367 | E15: 17548045 | F15: 105619.98
C17: 51573442 | D17: 33864367 | E17: 17548045

Sheet PSP-RESUMO
A1: RESUMO DAS PLANILHAS DE SERVIÇOS E PREÇOS DE ORÇAMENTO DE PROJETO BÁSICO
A2: OBRA : | B2: =IF('TRECHO(S) A IMPRIMIR'!$B$1= 1, "URBANIZAÇÃO DO SETOR SOL NASCENTE - TRECHOS 1 e 3", IF('TRECHO(S) A IMPRIMIR'!$B$1= 2, "URBANIZAÇÃO DO SETOR SOL NASCENTE - TRECHO 1", "URBANIZAÇÃO DO SETOR SOL NASCENTE - TRECHO 3")) -> URBANIZAÇÃO DO SETOR SOL NASCENTE - TRECHOS 1 e 3
A3: ENDEREÇO: | B3: SETOR SOL NASCENTE, CEILÂNDIA/DF | C3: ENCARGOS SOCIAIS SEM DESONERAÇÃO
A4: CLIENTE: | B4: ARIA | C4: DATA DO ORÇAMENTO: | D4: =UPPER(TEXT("28/01/2022","DD/MMM/AAAA")) -> 28/JAN/2022
A5: OBRA | B5: DESCRIÇÃO | C5: PREÇO TOTAL (C/BDI) | D5: INCIDÊNCIA | E5: M.O. | F5: MAT. | G5: EQUIP. | H5: SET | I5: DIV.
A6: 01. | B6: =VLOOKUP($A6, '01-CO'!$D:$M, 4, FALSE) -> CANTEIRO DE OBRAS (CONSTRUÇÕES PROVISÓRIAS) - TRECHOS 1 e 3 | C6: 1739810.3 | D6: 0.0337709 | E6: 125381.52 | F6: 1205861.4 | G6: 305508.59 | H6: 92172.754 | I6: 18658.377 | J6: -7772.3022
A7: 02. | B7: =VLOOKUP($A7, '02-AL'!$D:$M, 4, FALSE) -> ADMINISTRAÇÃO LOCAL - TRECHOS 1 e 3 | C7: 3571835.8 | D7: 0.069331759 | E7: 3312799.7 | F7: 259036.04 | G7: 0 | H7: 0 | I7: -1.5267462e-10 | J7: 0
A8: 03. | B8: =VLOOKUP($A8, '03-SP'!$D:$M, 4, FALSE) -> SERVIÇOS PRELIMINARES DE OBRAS - TRECHOS 1 e 3 | C8: 703821.76 | D8: 0.013661658 | E8: 109167.66 | F8: 322815.36 | G8: 135853.18 | H8: 135985.56 | I8: -1.8895743e-12 | J8: 0
A9: 04. | B9: =VLOOKUP($A9, '04-DR'!$D:$M, 4, FALSE) -> DRENAGEM URBANA DE ÁGUAS PLUVIAIS E CONSTRUÇÃO DE BACIAS DE DETENÇÃO - TRECHOS 1 e 3 | C9: 20385875 | D9: 0.39570368 | E9: 3770965 | F9: 14011296 | G9: 2380124.7 | H9: 221486.82 | I9: 2002.3556 | J9: 0
A10: 05. | B10: =VLOOKUP($A10, '05-TR'!$D:$M, 4, FALSE) -> TERRAPLENAGEM - TRECHOS 1 e 3 | C10: 2325856.9 | D10: 0.045146463 | E10: 217460.18 | F10: 1059147.3 | G10: 787681.62 | H10: 261567.85 | I10: 0 | J10: 0
A11: 06. | B11: =VLOOKUP($A11, '06-PAV'!$D:$M, 4, FALSE) -> PAVIMENTAÇÕES - TRECHOS 1 e 3 | C11: 14898899 | D11: 0.28919775 | E11: 1762715 | F11: 12434539 | G11: 691045.63 | H11: 0 | I11: 10599.766 | J11: 0
A12: 07. | B12: =VLOOKUP($A12, '07-OAEeOAC'!$D:$M, 4, FALSE) -> OBRA DE ARTE ESPECIAL (PONTE) E OBRA DE ARTE CORRENTE (CANAL) - TRECHOS 1 e 3 | C12: 6599348.7 | D12: 0.12809784 | E12: 396835.51 | F12: 5889493.6 | G12: 293935.12 | H12: 17475.172 | I12: 1609.2965 | J12: 0
A13: 08. | B13: =VLOOKUP($A13, '08-SIN'!$D:$M, 4, FALSE) -> SINALIZAÇÃO VIÁRIA - TRECHOS 1 e 3 | C13: 405272.53 | D13: 0.0078666151 | E13: 19804.928 | F13: 377052.59 | G13: 8403.1863 | H13: 0 | I13: 11.817873 | J13: 0
A14: 09. | B14: =VLOOKUP($A14, '09-URB'!$D:$M, 4, FALSE) -> URBANIZAÇÃO E PAISAGISMO - TRECHOS 1 e 3 | C14: 887312.01 | D14: 0.017223329 | E14: 281278.89 | F14: 604160.1 | G14: 927.17685 | H14: 0 | I14: 945.84724 | J14: 0
B15: PREÇO TOTAL DA OBRA: | C15: 51518032 | D15: 1 | E15: 9996408.5 | F15: 36163401 | G15: 4603479.2 | H15: 728688.16 | I15: 33827.46
A16: RRT DO ORÇAMENTO: 0
C17: DATAS BASES DE PREÇOS
C18: SINAPI-DF | D18: JUNHO/2021
B19: ANDRÉ LUIZ ZANI | C19: OUTRAS BASES | D19: =D18 -> JUNHO/2021
B20: Arquiteto & Urbanista - CAU A74536-7 | C20: ORÇAMENTO | D20: =D4 -> 28/JAN/2022

Sheet 01-CO
D1: PLANILHA DE SERVIÇOS, QUANTIDADES, CUSTOS E PREÇOS | M1: ='PSP-RESUMO'!$C$3 -> ENCARGOS SOCIAIS SEM DESONERAÇÃO
D2: OBRA: | E2: =IF('TRECHO(S) A IMPRIMIR'!$B$1= 1, 'PSP-RESUMO'!$B$2, IF('TRECHO(S) A IMPRIMIR'!$B$1= 2,#REF!,#REF!)) -> URBANIZAÇÃO DO SETOR SOL NASCENTE - TRECHOS 1 e 3 | L2: Data do orçamento: | M2: ='PSP-RESUMO'!$D$4 -> 28/JAN/2022
D3: ENDEREÇO: | E3: ='PSP-RESUMO'!B3 -> SETOR SOL NASCENTE, CEILÂNDIA/DF | L3: Data base dos preços: | M3: ='PSP-RESUMO'!$D$18 -> JUNHO/2021
D4: CLIENTE: | E4: ='PSP-RESUMO'!B4 -> ARIA | L4: B.D.I. para Serviços: | M4: =IF('PSP-RESUMO'!$C$3 = "ENCARGOS SOCIAIS SEM DESONERAÇÃO", 'BDI obras SD'!$H$23, 'BDI obras CD'!$H$23) -> 0.20335138
D5: TRECHO: | E5: =$G$9 -> CANTEIRO DE OBRAS (CONSTRUÇÕES PROVISÓRIAS) - TRECHOS 1 e 3 | L5: B.D.I. para Simples Fornecimento: | M5: =IF('PSP-RESUMO'!$C$3 = "ENCARGOS SOCIAIS SEM DESONERAÇÃO", 'BDI-Difer SD'!$H$23, 'BDI-Difer CD'!$H$23) -> 0.11096636
L6: DURAÇÃO DA OBRA: | M6: =IF('TRECHO(S) A IMPRIMIR'!$B$1= 1, LARGE('01-CO'!V6:'01-CO'!Y6, 1), IF('TRECHO(S) A IMPRIMIR'!$B$1= 2, '01-CO'!V6, '01-CO'!Y6)) -> 18 | U6: DURAÇÃO DA OBRA: | V6: ='CFF-18M'!$V$3 -> 18 | X6: DURAÇÃO DA OBRA: | Y6: ='CFF-18M'!$V$3 -> 18
A7: DESCRIÇÃO DO SERVIÇO NO PROJETO | B7: UNID PROJ | D7: ITEM | E7: FONTE | F7: CPU CÓDIGO | G7: DESCRIÇÃO NA FONTE | H7: UNID | I7: QTDE | J7: CUSTO UNITÁRIO (R$) | K7: B.D.I | L7: PREÇO UNITÁRIO C/B.D.I. (R$) | M7: PREÇO TOTAL C/B.D.I. (R$) | O7: OBSERVAÇÕES | Q7: GERAIS | T7: TRECHO 1 | W7: TRECHO 3
I8: SERVIÇO | Q8: QTD | R8: DENSID | S8: DMT | T8: QTD | U8: DENSID | V8: DMT | W8: QTD | X8: DENSID | Y8: DMT | Z8: QTD | AA8: DENSID | AB8: DMT | AD8: M.O. | AE8: MAT. | AF8: EQUIP | AG8: SERV TERC | AH8: OUTROS | AI8: CONFER
A9: =IF('TRECHO(S) A IMPRIMIR'!$B$1= 1, "CANTEIRO DE OBRAS (CONSTRUÇÕES PROVISÓRIAS) - TRECHOS 1 e 3", IF('TRECHO(S) A IMPRIMIR'!$B$1= 2, "CANTEIRO DE OBRAS (CONSTRUÇÕES PROVISÓRIAS) - TRECHO 1", "CANTEIRO DE OBRAS (CONSTRUÇÕES PROVISÓRIAS) - TRECHO 3")) -> CANTEIRO DE OBRAS (CONSTRUÇÕES PROVISÓRIAS) - TRECHOS 1 e 3 | D9: 01. | G9: CANTEIRO DE OBRAS (CONSTRUÇÕES PROVISÓRIAS) - TRECHOS 1 e 3 | M9: 1739810.3 | AI9: =IF(SUM(AD9:AH9)=0,"",M9 - SUM(AD9:AH9))
A10: =IF('TRECHO(S) A IMPRIMIR'!$B$1= 1, "IMPLANTAÇÃO DOS CANTEIROS DE OBRAS - TRECHOS 1 e 3", IF('TRECHO(S) A IMPRIMIR'!$B$1= 2, "IMPLANTAÇÃO DO CANTEIRO DE OBRAS PRINCIPAL - TRECHO 1", "IMPLANTAÇÃO DO CANTEIRO DE OBRAS - TRECHO 3")) -> IMPLANTAÇÃO DOS CANTEIROS DE OBRAS - TRECHOS 1 e 3 | D10: 01.01 | G10: IMPLANTAÇÃO DOS CANTEIROS DE OBRAS - TRECHOS 1 e 3 | M10: 964192.55 | AI10: =IF(SUM(AD10:AH10)=0,"",M10 - SUM(AD10:AH10))
A11: PÁTIOS E ACESSOS | D11: 01.01.01 | G11: PÁTIOS E ACESSOS | M11: 674146.99 | AI11: =IF(SUM(AD11:AH11)=0,"",M11 - SUM(AD11:AH11))
A12: PREPARO E LIMPEZA DA ÁREA DO CANTEIRO | D12: 01.01.01.01 | G12: PREPARO E LIMPEZA DA ÁREA DO CANTEIRO | M12: 261790.08 | AI12: =IF(SUM(AD12:AH12)=0,"",M12 - SUM(AD12:AH12))
A13: Raspagem de camada vegetal na área do canteiro com offset de 1,0 m além dos limites. | B13: m² | D13: 01.01.01.01.01 | E13: SINAPI | F13: 98525 | G13: LIMPEZA MECANIZADA DE CAMADA VEGETAL, VEGETAÇÃO E PEQUENAS ÁRVORES (DIÂMETRO DE TRONCO MENOR QUE 0,20 M), COM TRATOR DE ESTEIRAS.AF_05/2018 | H13: M2 | I13: 36920 | J13: 0.3 | K13: 0.20335138 | L13: 0.36100542 | M13: 13328.32 | O13: 0.1 | T13: 18460 | W13: 18460 | AD13: 7108.4373 | AE13: 888.55466 | AF13: 5331.328 | AG13: 0 | AH13: 0 | AI13: 1.8189894e-12
A14: Carga de material para bota-fora | B14: t | D14: 01.01.01.01.02 | E14: SINAPI | F14: 100999 | G14: CARGA, MANOBRA E DESCARGA DE ENTULHO EM CAMINHÃO BASCULANTE 14 M³ - CARGA COM ESCAVADEIRA HIDRÁULICA (CAÇAMBA DE 0,80 M³ / 111 HP) E DESCARGA LIVRE (UNIDADE: T). AF_07/2020 | H14: T | I14: 5538 | J14: 4.24 | K14: 0.20335138 | L14: 5.1022099 | M14: 28256.038 | T14: 2769 | U14: 1.5 | W14: 2769 | X14: 1.5 | AD14: 2998.872 | AE14: 12928.47 | AF14: 12328.696 | AG14: 0 | AH14: 0 | AI14: 3.6379788e-12
A15: Transporte para bota-fora | B15: txkm | D15: 01.01.01.01.03 | E15: SINAPI | F15: 95879 | G15: TRANSPORTE COM CAMINHÃO BASCULANTE DE 14 M³, EM VIA URBANA PAVIMENTADA, DMT ATÉ 30 KM (UNIDADE: TXKM). AF_07/2020 | H15: TXKM | I15: 121836 | J15: 1.04 | K15: 0.20335138 | L15: 1.2514854 | M15: 152475.98 | T15: 60918 | V15: 22 | W15: 60918 | Y15: 22 | AD15: 10262.806 | AE15: 87966.912 | AF15: 54246.262 | AG15: 0 | AH15: 0 | AI15: 0
D16: 01.01.01.01.04 | E16: SINAPI | F16: 93599 | G16: TRANSPORTE COM CAMINHÃO BASCULANTE DE 14 M³, EM VIA URBANA PAVIMENTADA, ADICIONAL PARA DMT EXCEDENTE A 30 KM (UNIDADE: TXKM). AF_07/2020 | H16: TXKM | I16: =IF($F16="","",IF('TRECHO(S) A IMPRIMIR'!$B$1= 1, SUM(Q16, T16, W16, Z16), IF('TRECHO(S) A IMPRIMIR'!$B$1= 2, T16, IF('TRECHO(S) A IMPRIMIR'!$B$1= 3, W16, 0)))) -> 0 | J16: 0.41 | K16: =IF(AND(F16<>"",J16<>""), IF(OR(F16= "CP9001", F16= "CP9091", F16= "CP9092"), 0, IF($M$1 = "ENCARGOS SOCIAIS SEM DESONERAÇÃO",'BDI obras SD'!$H$23,'BDI obras CD'!$H$23)), "") -> 0.20335138 | L16: =IF(J16="","", IF(AND(J16<>"",K16=""),J16,J16 * (1 + K16))) -> 0.49337407 | M16: =IF(F16="", "", IF(AND(F16<> "", OR(I16= "", J16= "")), 0, I16*L16)) -> 0 | T16: =T14 * V16 -> 0 | V16: =IF('MLQ-DMT-TR1'!$E$7 > 30, 'MLQ-DMT-TR1'!$E$7 - 30, 0) -> 0 | W16: =W14 * Y16 -> 0 | Y16: =IF('MLQ-DMT-TR1'!$E$7 > 30, 'MLQ-DMT-TR1'!$E$7 - 30, 0) -> 0 | AI16: =IF(SUM(AD16:AH16)=0,"",M16 - SUM(AD16:AH16))
A17: Taxa de descarte de resíduo de construção civil no Aterro Sanitário | B17: t | D17: 01.01.01.01.05 | E17: PROJETO | F17: CP9001 | G17: TAXA DE DESCARTE DE RESÍDUOS DA CONSTRUÇÃO CIVIL SEGREGADOS - RCCS | H17: T | I17: 5538 | J17: 12.23 | K17: 0 | L17: 12.23 | M17: 67729.74 | T17: 2769 | W17: 2769 | AD17: 0 | AE17: 0 | AF17: 0 | AG17: 67729.74 | AH17: 0 | AI17: 0
A18: ÁREAS DE CIRCULAÇÃO | D18: 01.01.01.02 | G18: ÁREAS DE CIRCULAÇÃO | M18: 51394.521
A19: Compactação de solo para passagem de veículos | B19: m² | D19: 01.01.01.02.01 | E19: SINAPI | F19: 100577 | G19: REGULARIZAÇÃO E COMPACTAÇÃO DE SUBLEITO DE SOLO PREDOMINANTEMENTE ARENOSO. AF_11/2019 | H19: M2 | I19: 3400 | J19: 0.77 | K19: 0.20335138 | L19: 0.92658057 | M19: 3150.3739 | T19: 1700 | W19: 1700 | AD19: 736.45105 | AE19: 941.02078 | AF19: 1472.9021 | AG19: 0 | AH19: 0 | AI19: 4.5474735e-13
A20: Carga de brita na jazida | B20: t | D20: 01.01.01.02.02 | E20: SINAPI | F20: 100991 | G20: CARGA, MANOBRA E DESCARGA DE SOLOS E MATERIAIS GRANULARES EM CAMINHÃO BASCULANTE 14 M³ - CARGA COM PÁ CARREGADEIRA (CAÇAMBA DE 1,7 A 2,8 M³ / 128 HP) E DESCARGA LIVRE (UNIDADE: T). AF_07/2020 | H20: T | I20: 285.13332 | J20: 4.15 | K20: 0.20335138 | L20: 4.9939082 | M20: 1423.9297 | T20: 142.56666 | W20: 142.56666 | AD20: 147.5397 | AE20: 693.09347 | AF20: 583.29649 | AG20: 0 | AH20: 0 | AI20: 0
A21: Transporte de fornecimento de brita em leito natural | B21: t.km | D21: 01.01.01.02.03 | E21: SINAPI | F21: 93597 | G21: TRANSPORTE COM CAMINHÃO BASCULANTE DE 14 M³, EM VIA URBANA EM LEITO NATURAL (UNIDADE: TXKM). AF_07/2020 | H21: TXKM | I21: =IF($F21="","",IF('TRECHO(S) A IMPRIMIR'!$B$1= 1, SUM(Q21, T21, W21, Z21), IF('TRECHO(S) A IMPRIMIR'!$B$1= 2, T21, IF('TRECHO(S) A IMPRIMIR'!$B$1= 3, W21, 0)))) -> 0 | J21: 1.3 | K21: =IF(AND(F21<>"",J21<>""), IF(OR(F21= "CP9001", F21= "CP9091", F21= "CP9092"), 0, IF($M$1 = "ENCARGOS SOCIAIS SEM DESONERAÇÃO",'BDI obras SD'!$H$23,'BDI obras CD'!$H$23)), "") -> 0.20335138 | L21: =IF(J21="","", IF(AND(J21<>"",K21=""),J21,J21 * (1 + K21))) -> 1.5643568 | M21: =IF(F21="", "", IF(AND(F21<> "", OR(I21= "", J21= "")), 0, I21*L21)) -> 0 | T21: =T20 * V21 -> 0 | V21: ='MLQ-DMT-TR1'!$N$9 -> 0 | W21: =W20 * Y21 -> 0 | Y21: ='MLQ-DMT-TR1'!$N$9 -> 0 | AI21: =IF(SUM(AD21:AH21)=0,"",M21 - SUM(AD21:AH21))
A22: Transporte de fornecimento de brita até 30 km | B22: t.km | D22: 01.01.01.02.04 | E22: SINAPI | F22: 95879 | G22: TRANSPORTE COM CAMINHÃO BASCULANTE DE 14 M³, EM VIA URBANA PAVIMENTADA, DMT ATÉ 30 KM (UNIDADE: TXKM). AF_07/2020 | H22: TXKM | I22: 8553.9997 | J22: 1.04 | K22: 0.20335138 | L22: 1.2514854 | M22: 10705.206 | T22: 4276.9999 | V22: 30 | W22: 4276.9999 | Y22: 30 | AD22: 720.54272 | AE22: 6176.0804 | AF22: 3808.5829 | AG22: 0 | AH22: 0 | AI22: 0
A23: DMT excedente acima de 30 km para fornecimento de brita | B23: t.km | D23: 01.01.01.02.05 | E23: SINAPI | F23: 93599 | G23: TRANSPORTE COM CAMINHÃO BASCULANTE DE 14 M³, EM VIA URBANA PAVIMENTADA, ADICIONAL PARA DMT EXCEDENTE A 30 KM (UNIDADE: TXKM). AF_07/2020 | H23: TXKM | I23: 7698.5997 | J23: 0.41 | K23: 0.20335138 | L23: 0.49337407 | M23: 3798.2895 | T23: 3849.2999 | V23: 27 | W23: 3849.2999 | Y23: 27 | AD23: 185.28241 | AE23: 2316.0302 | AF23: 1296.9769 | AG23: 0 | AH23: 0 | AI23: 0
A24: Lastro de brita com preparo de fundo | B24: m³ | D24: 01.01.01.02.06 | E24: SINAPI | F24: 100324 | G24: LASTRO COM MATERIAL GRANULAR (PEDRA BRITADA N.1 E PEDRA BRITADA N.2), APLICADO EM PISOS OU LAJES SOBRE SOLO, ESPESSURA DE *10 CM*. AF_07/2019 | H24: M3 | I24: 152.9275 | J24: 175.61 | K24: 0.20335138 | L24: 211.32054 | M24: 32316.721 | O24: 5 | T24: 76.46375 | U24: 1.8645 | W24: 76.46375 | X24: 1.8645 | AD24: 4100.0886 | AE24: 28211.112 | AF24: 5.5207656 | AG24: 0 | AH24: 0 | AI24: 3.6379788e-12
A25: PROTEÇÕES DO CANTEIRO | D25: 01.01.01.03 | G25: PROTEÇÕES DO CANTEIRO | M25: 360962.39
A26: Fechamento do perímetro com tapume. | B26: m² | D26: 01.01.01.03.01 | E26: SINAPI | F26: 98459 | G26: TAPUME COM TELHA METÁLICA. AF_05/2018 | H26: M2 | I26: 2560.8 | J26: 112.08 | K26: 0.20335138 | L26: 134.87162 | M26: 345379.25 | T26: 1280.4 | W26: 1280.4 | AD26: 40244.941 | AE26: 305134.31 | AF26: 0 | AG26: 0 | AH26: 0 | AI26: 0
A27: Portões para acesso a canteiro de obras | B27: m² | D27: 01.01.01.03.02 | E27: PROJETO | F27: CP9021 | G27: PORTOES EM COMPENSADO (3,00x2,50m) PARA TAPUME CANTEIRO OBRAS | H27: M2 | I27: 17.6 | J27: 735.78321 | K27: 0.20335138 | L27: 885.40574 | M27: 15583.141 | T27: 8.8 | W27: 8.8 | AD27: 11582.566 | AE27: 2453.8473 | AF27: 1546.7277 | AG27: 0 | AH27: 0 | AI27: -1.8189894e-12
A28: CONSTRUÇÕES PROVISÓRIAS | D28: 01.01.02 | G28: CONSTRUÇÕES PROVISÓRIAS | M28: 171672.05 | AI28: =IF(SUM(AD28:AH28)=0,"",M28 - SUM(AD28:AH28))
A29: ESCRITÓRIO (2 UN - ADMINISTRAÇÃO LOCAL E FISCALIZAÇÃO) | D29: 01.01.02.01 | G29: ESCRITÓRIO (2 UN - ADMINISTRAÇÃO LOCAL E FISCALIZAÇÃO) | M29: 45141.417 | AI29: =IF(SUM(AD29:AH29)=0,"",M29 - SUM(AD29:AH29))
A30: Locação de contêiner completo para escritório, com banheiro | B30: mês | D30: 01.01.02.01.01 | E30: PROJETO | F30: CP9011 | G30: LOCACAO DE CONTAINER 2,30 X 6,00 M, ALT. 2,50 M, COM 1 SANITARIO, PARA ESCRITORIO, COMPLETO, SEM DIVISORIAS INTERNAS | H30: MÊS | I30: 36 | J30: 585 | K30: 0.20335138 | L30: 703.96056 | M30: 25342.58 | T30: 18 | W30: 18 | AD30: 0 | AE30: 25342.58 | AF30: 0 | AG30: 0 | AH30: 0 | AI30: 0
A31: Locação de contêiner completo para escritório, sem banheiro | B31: mês | D31: 01.01.02.01.02 | E31: PROJETO | F31: CP9013 | G31: LOCACAO DE CONTAINER 2,30 X 6,00 M, ALT. 2,50 M, PARA ESCRITORIO, SEM DIVISORIAS INTERNAS E SEM SANITARIO | H31: MÊS | I31: 36 | J31: 457.03 | K31: 0.20335138 | L31: 549.96768 | M31: 19798.837 | T31: 18 | W31: 18 | AD31: 0 | AE31: 19798.837 | AF31: 0 | AG31: 0 | AH31: 0 | AI31: 3.6379788e-12
A32: DEPÓSITO / ALMOXARIFADO (2 UN) | D32: 01.01.02.02 | G32: DEPÓSITO / ALMOXARIFADO (2 UN) | M32: 39597.673
A33: Locação de contêiner simples para depósito / almoxarifado, sem banheiro | B33: mês | D33: 01.01.02.02.01 | E33: PROJETO | F33: CP9014 | G33: LOCACAO DE CONTAINER 2,30 X 6,00 M, ALT. 2,50 M, PARA DEPÓSITO/ALMOXARIFADO, SEM DIVISORIAS INTERNAS E SEM SANITARIO | H33: MÊS | I33: 72 | J33: 457.03 | K33: 0.20335138 | L33: 549.96768 | M33: 39597.673 | T33: 36 | W33: 36 | AD33: 0 | AE33: 39597.673 | AF33: 0 | AG33: 0 | AH33: 0 | AI33: 7.2759576e-12
A34: REFEITÓRIO | D34: 01.01.02.03 | G34: REFEITÓRIO | M34: 0 | AI34: =IF(SUM(AD34:AH34)=0,"",M34 - SUM(AD34:AH34))
A35: Locação de contêiner para refeitório | B35: mês | D35: 01.01.02.03.01 | E35: PROJETO | F35: CP9010 | G35: LOCACAO DE CONTAINER 2,30 X 6,00 M, ALT. 2,50 M, PARA REFEITÓRIO, SEM DIVISORIAS INTERNAS E SEM SANITARIO | H35: MÊS | I35: =IF($F35="","",IF('TRECHO(S) A IMPRIMIR'!$B$1= 1, SUM(Q35, T35, W35, Z35), IF('TRECHO(S) A IMPRIMIR'!$B$1= 2, T35, IF('TRECHO(S) A IMPRIMIR'!$B$1= 3, W35, 0)))) -> 0 | J35: 457.03 | K35: =IF(AND(F35<>"",J35<>""), IF(OR(F35= "CP9001", F35= "CP9091", F35= "CP9092"), 0, IF($M$1 = "ENCARGOS SOCIAIS SEM DESONERAÇÃO",'BDI obras SD'!$H$23,'BDI obras CD'!$H$23)), "") -> 0.20335138 | L35: =IF(J35="","", IF(AND(J35<>"",K35=""),J35,J35 * (1 + K35))) -> 549.96768 | M35: =IF(F35="", "", IF(AND(F35<> "", OR(I35= "", J35= "")), 0, I35*L35)) -> 0 | T35: =0 * V$6 -> 0 | W35: =0 * Y$6 -> 0 | AI35: =IF(SUM(AD35:AH35)=0,"",M35 - SUM(AD35:AH35))
A36: VESTIÁRIOS E SANITÁRIOS | D36: 01.01.02.04 | G36: VESTIÁRIOS E SANITÁRIOS | M36: 0 | AI36: =IF(SUM(AD36:AH36)=0,"",M36 - SUM(AD36:AH36))
A37: Locação de contêiner para sanitário | B37: mês | D37: 01.01.02.04.01 | E37: PROJETO | F37: CP9016 | G37: LOCACAO DE CONTAINER 2,30 X 6,00 M, ALT. 2,50 M, PARA SANITARIO, COM 4 BACIAS, 8 CHUVEIROS,1 LAVATORIO E 1 MICTORIO | H37: MÊS | I37: =IF($F37="","",IF('TRECHO(S) A IMPRIMIR'!$B$1= 1, SUM(Q37, T37, W37, Z37), IF('TRECHO(S) A IMPRIMIR'!$B$1= 2, T37, IF('TRECHO(S) A IMPRIMIR'!$B$1= 3, W37, 0)))) -> 0 | J37: 731.25 | K37: =IF(AND(F37<>"",J37<>""), IF(OR(F37= "CP9001", F37= "CP9091", F37= "CP9092"), 0, IF($M$1 = "ENCARGOS SOCIAIS SEM DESONERAÇÃO",'BDI obras SD'!$H$23,'BDI obras CD'!$H$23)), "") -> 0.20335138 | L37: =IF(J37="","", IF(AND(J37<>"",K37=""),J37,J37 * (1 + K37))) -> 879.9507 | M37: =IF(F37="", "", IF(AND(F37<> "", OR(I37= "", J37= "")), 0, I37*L37)) -> 0 | T37: =0 * V$6 -> 0 | W37: =0 * Y$6 -> 0 | AI37: =IF(SUM(AD37:AH37)=0,"",M37 - SUM(AD37:AH37))
A38: Locação de contêiner para vestiário | B38: mês | D38: 01.01.02.04.02 | E38: PROJETO | F38: CP9009 | G38: LOCACAO DE CONTAINER 2,30 X 6,00 M, ALT. 2,50 M, PARA VESTIÁRIO, SEM DIVISORIAS INTERNAS E SEM SANITARIO | H38: MÊS | I38: =IF($F38="","",IF('TRECHO(S) A IMPRIMIR'!$B$1= 1, SUM(Q38, T38, W38, Z38), IF('TRECHO(S) A IMPRIMIR'!$B$1= 2, T38, IF('TRECHO(S) A IMPRIMIR'!$B$1= 3, W38, 0)))) -> 0 | J38: 457.03 | K38: =IF(AND(F38<>"",J38<>""), IF(OR(F38= "CP9001", F38= "CP9091", F38= "CP9092"), 0, IF($M$1 = "ENCARGOS SOCIAIS SEM DESONERAÇÃO",'BDI obras SD'!$H$23,'BDI obras CD'!$H$23)), "") -> 0.20335138 | L38: =IF(J38="","", IF(AND(J38<>"",K38=""),J38,J38 * (1 + K38))) -> 549.96768 | M38: =IF(F38="", "", IF(AND(F38<> "", OR(I38= "", J38= "")), 0, I38*L38)) -> 0 | T38: =0 * V$6 -> 0 | W38: =0 * Y$6 -> 0 | AI38: =IF(SUM(AD38:AH38)=0,"",M38 - SUM(AD38:AH38))
A39: Guarita | D39: 01.01.02.05 | G39: Guarita | M39: 16559.432 | AI39: =IF(SUM(AD39:AH39)=0,"",M39 - SUM(AD39:AH39))
A40: Guarita em chapas de madeira | B40: m² | D40: 01.01.02.05.01 | E40: PROJETO | F40: 93585 | G40: EXECUÇÃO DE GUARITA EM CANTEIRO DE OBRA EM CHAPA DE MADEIRA COMPENSADA, NÃO INCLUSO MOBILIÁRIO. AF_04/2016 | H40: M2 | I40: 13.05 | J40: 1054.49 | K40: 0.20335138 | L40: 1268.922 | M40: 16559.432 | T40: 6.525 | W40: 6.525 | AD40: 2590.0171 | AE40: 13966.588 | AF40: 1.4133362 | AG40: 0 | AH40: 1.4133362 | AI40: -3.6379788e-12
...

Sheet 02-AL
D1: PLANILHA DE SERVIÇOS, QUANTIDADES, CUSTOS E PREÇOS | M1: ='PSP-RESUMO'!$C$3 -> ENCARGOS SOCIAIS SEM DESONERAÇÃO
D2: OBRA: | E2: =IF('TRECHO(S) A IMPRIMIR'!$B$1= 1, 'PSP-RESUMO'!$B$2, IF('TRECHO(S) A IMPRIMIR'!$B$1= 2,#REF!,#REF!)) -> URBANIZAÇÃO DO SETOR SOL NASCENTE - TRECHOS 1 e 3 | L2: Data do orçamento: | M2: ='PSP-RESUMO'!$D$4 -> 28/JAN/2022
D3: ENDEREÇO: | E3: ='PSP-RESUMO'!B3 -> SETOR SOL NASCENTE, CEILÂNDIA/DF | L3: Data base dos preços: | M3: ='PSP-RESUMO'!$D$18 -> JUNHO/2021
D4: CLIENTE: | E4: ='PSP-RESUMO'!B4 -> ARIA | L4: B.D.I. para Serviços: | M4: =IF('PSP-RESUMO'!$C$3 = "ENCARGOS SOCIAIS SEM DESONERAÇÃO", 'BDI obras SD'!$H$23, 'BDI obras CD'!$H$23) -> 0.20335138
D5: TRECHO: | E5: =$G$9 -> ADMINISTRAÇÃO LOCAL - TRECHOS 1 e 3 | L5: B.D.I. para Simples Fornecimento: | M5: =IF('PSP-RESUMO'!$C$3 = "ENCARGOS SOCIAIS SEM DESONERAÇÃO", 'BDI-Difer SD'!$H$23, 'BDI-Difer CD'!$H$23) -> 0.11096636
L6: DURAÇÃO DA OBRA: | M6: ='01-CO'!M6 -> 18 | U6: DURAÇÃO DA OBRA: | V6: ='01-CO'!V6 -> 18 | X6: DURAÇÃO DA OBRA: | Y6: ='01-CO'!Y6 -> 18
A7: DESCRIÇÃO DO SERVIÇO NO PROJETO | B7: UNID PROJ | D7: ITEM | E7: FONTE | F7: CPU CÓDIGO | G7: DESCRIÇÃO NA FONTE | H7: UNID | I7: QTDE | J7: CUSTO UNITÁRIO (R$) | K7: B.D.I | L7: PREÇO UNITÁRIO C/B.D.I. (R$) | M7: PREÇO TOTAL C/B.D.I. (R$) | O7: OBSERVAÇÕES | Q7: GERAIS | T7: TRECHO 1 | W7: TRECHO 3
I8: SERVIÇO | Q8: QTD | R8: DENSID | S8: DMT | T8: QTD | U8: DENSID | V8: DMT | W8: QTD | X8: DENSID | Y8: DMT | Z8: QTD | AA8: DENSID | AB8: DMT | AD8: M.O. | AE8: MAT. | AF8: EQUIP | AG8: SERV TERC | AH8: OUTROS | AI8: CONFER
A9: =IF('TRECHO(S) A IMPRIMIR'!$B$1= 1, "ADMINISTRAÇÃO LOCAL - TRECHOS 1 e 3", IF('TRECHO(S) A IMPRIMIR'!$B$1= 2, "ADMINISTRAÇÃO LOCAL - TRECHO 1", "ADMINISTRAÇÃO LOCAL - TRECHO 3")) -> ADMINISTRAÇÃO LOCAL - TRECHOS 1 e 3 | D9: 02. | G9: ADMINISTRAÇÃO LOCAL - TRECHOS 1 e 3 | M9: 3571835.8 | AI9: =IF(SUM(AD9:AH9)=0,"",M9 - SUM(AD9:AH9))
A10: SERVIÇOS TÉCNICOS PROFISSIONAIS | D10: 02.01 | G10: SERVIÇOS TÉCNICOS PROFISSIONAIS | M10: 62630.108 | AI10: =IF(SUM(AD10:AH10)=0,"",M10 - SUM(AD10:AH10))
A11: ESTUDOS E PROJETO | D11: 02.01.01 | G11: ESTUDOS E PROJETO | M11: 62630.108 | AI11: =IF(SUM(AD11:AH11)=0,"",M11 - SUM(AD11:AH11))
A12: Estudo de capacidade de suporte de solo - Trecho 1 | B12: un | D12: 02.01.01.01 | E12: PROJETO | F12: CP9101 | G12: ESTUDO DE CAPACIDADE DE SUPORTE DE SOLO - TRECHO 1 | H12: UN | I12: 1 | J12: 34649.93 | K12: 0.20335138 | L12: 41696.041 | M12: 41696.041 | T12: 1 | AD12: 40867.149 | AE12: 828.8925 | AF12: 0 | AG12: 0 | AH12: 6.5666503e-12 | AI12: 0
A13: Estudo de capacidade de suporte de solo - Trecho 3 | B13: un | D13: 02.01.01.02 | E13: PROJETO | F13: CP9102 | G13: ESTUDO DE CAPACIDADE DE SUPORTE DE SOLO - TRECHO 3 | H13: UN | I13: 1 | J13: 17396.47 | K13: 0.20335138 | L13: 20934.066 | M13: 20934.066 | W13: 1 | AD13: 20518.212 | AE13: 415.85417 | AF13: 0 | AG13: 0 | AH13: -1.6416626e-12 | AI13: 3.6379788e-12
A14: DESPESAS LEGAIS | D14: 02.02 | G14: DESPESAS LEGAIS | M14: 0 | AI14: =IF(SUM(AD14:AH14)=0,"",M14 - SUM(AD14:AH14))
D15: 02.02.01 | I15: =IF($F15="","",IF('TRECHO(S) A IMPRIMIR'!$B$1= 1, SUM(Q15, T15, W15, Z15), IF('TRECHO(S) A IMPRIMIR'!$B$1= 2, T15, IF('TRECHO(S) A IMPRIMIR'!$B$1= 3, W15, 0)))) -> 0 | K15: =IF(AND(F15<>"",J15<>""), IF(OR(F15= "CP9001", F15= "CP9091", F15= "CP9092"), 0, IF($M$1 = "ENCARGOS SOCIAIS SEM DESONERAÇÃO",'BDI obras SD'!$H$23,'BDI obras CD'!$H$23)),"") | L15: =IF(J15="","", IF(AND(J15<>"",K15=""),J15,J15 * (1 + K15))) | M15: =IF(F15="", "", IF(AND(F15<> "", OR(I15= "", J15= "")), 0, I15*L15)) -> 0 | AI15: =IF(SUM(AD15:AH15)=0,"",M15 - SUM(AD15:AH15))
A16: SERVIÇOS COMPLEMENTARES | D16: 02.03 | G16: SERVIÇOS COMPLEMENTARES | I16: =IF($F16="","",IF('TRECHO(S) A IMPRIMIR'!$B$1= 1, SUM(Q16, T16, W16, Z16), IF('TRECHO(S) A IMPRIMIR'!$B$1= 2, T16, IF('TRECHO(S) A IMPRIMIR'!$B$1= 3, W16, 0)))) | K16: =IF(AND(F16<>"",J16<>""), IF(OR(F16= "CP9001", F16= "CP9091", F16= "CP9092"), 0, IF($M$1 = "ENCARGOS SOCIAIS SEM DESONERAÇÃO",'BDI obras SD'!$H$23,'BDI obras CD'!$H$23)),"") | L16: =IF(J16="","", IF(AND(J16<>"",K16=""),J16,J16 * (1 + K16))) | M16: 0 | AI16: =IF(SUM(AD16:AH16)=0,"",M16 - SUM(AD16:AH16))
A17: ENSAIOS E TESTES | D17: 02.03.01 | G17: ENSAIOS E TESTES | I17: =IF($F17="","",IF('TRECHO(S) A IMPRIMIR'!$B$1= 1, SUM(Q17, T17, W17, Z17), IF('TRECHO(S) A IMPRIMIR'!$B$1= 2, T17, IF('TRECHO(S) A IMPRIMIR'!$B$1= 3, W17, 0)))) | K17: =IF(AND(F17<>"",J17<>""), IF(OR(F17= "CP9001", F17= "CP9091", F17= "CP9092"), 0, IF($M$1 = "ENCARGOS SOCIAIS SEM DESONERAÇÃO",'BDI obras SD'!$H$23,'BDI obras CD'!$H$23)),"") | L17: =IF(J17="","", IF(AND(J17<>"",K17=""),J17,J17 * (1 + K17))) | M17: 0 | AI17: =IF(SUM(AD17:AH17)=0,"",M17 - SUM(AD17:AH17))
I18: =IF($F18="","",IF('TRECHO(S) A IMPRIMIR'!$B$1= 1, SUM(Q18, T18, W18, Z18), IF('TRECHO(S) A IMPRIMIR'!$B$1= 2, T18, IF('TRECHO(S) A IMPRIMIR'!$B$1= 3, W18, 0)))) -> 0 | K18: =IF(AND(F18<>"",J18<>""), IF(OR(F18= "CP9001", F18= "CP9091", F18= "CP9092"), 0, IF($M$1 = "ENCARGOS SOCIAIS SEM DESONERAÇÃO",'BDI obras SD'!$H$23,'BDI obras CD'!$H$23)),"") | L18: =IF(J18="","", IF(AND(J18<>"",K18=""),J18,J18 * (1 + K18))) | M18: =IF(F18="", "", IF(AND(F18<> "", OR(I18= "", J18= "")), 0, I18*L18)) -> 0 | AI18: =IF(SUM(AD18:AH18)=0,"",M18 - SUM(AD18:AH18))
A19: LIMPEZAS DE OBRAS | D19: 02.03.02 | G19: LIMPEZAS DE OBRAS | I19: =IF($F19="","",IF('TRECHO(S) A IMPRIMIR'!$B$1= 1, SUM(Q19, T19, W19, Z19), IF('TRECHO(S) A IMPRIMIR'!$B$1= 2, T19, IF('TRECHO(S) A IMPRIMIR'!$B$1= 3, W19, 0)))) | K19: =IF(AND(F19<>"",J19<>""), IF(OR(F19= "CP9001", F19= "CP9091", F19= "CP9092"), 0, IF($M$1 = "ENCARGOS SOCIAIS SEM DESONERAÇÃO",'BDI obras SD'!$H$23,'BDI obras CD'!$H$23)),"") | L19: =IF(J19="","", IF(AND(J19<>"",K19=""),J19,J19 * (1 + K19))) | M19: 0 | AI19: =IF(SUM(AD19:AH19)=0,"",M19 - SUM(AD19:AH19))
A20: LIMPEZA PERMANENTE | D20: 02.03.02.01 | G20: LIMPEZA PERMANENTE | I20: =IF($F20="","",IF('TRECHO(S) A IMPRIMIR'!$B$1= 1, SUM(Q20, T20, W20, Z20), IF('TRECHO(S) A IMPRIMIR'!$B$1= 2, T20, IF('TRECHO(S) A IMPRIMIR'!$B$1= 3, W20, 0)))) | K20: =IF(AND(F20<>"",J20<>""), IF(OR(F20= "CP9001", F20= "CP9091", F20= "CP9092"), 0, IF($M$1 = "ENCARGOS SOCIAIS SEM DESONERAÇÃO",'BDI obras SD'!$H$23,'BDI obras CD'!$H$23)),"") | L20: =IF(J20="","", IF(AND(J20<>"",K20=""),J20,J20 * (1 + K20))) | M20: 0 | AI20: =IF(SUM(AD20:AH20)=0,"",M20 - SUM(AD20:AH20))
I21: =IF($F21="","",IF('TRECHO(S) A IMPRIMIR'!$B$1= 1, SUM(Q21, T21, W21, Z21), IF('TRECHO(S) A IMPRIMIR'!$B$1= 2, T21, IF('TRECHO(S) A IMPRIMIR'!$B$1= 3, W21, 0)))) -> 0 | K21: =IF(AND(F21<>"",J21<>""), IF(OR(F21= "CP9001", F21= "CP9091", F21= "CP9092"), 0, IF($M$1 = "ENCARGOS SOCIAIS SEM DESONERAÇÃO",'BDI obras SD'!$H$23,'BDI obras CD'!$H$23)),"") | L21: =IF(J21="","", IF(AND(J21<>"",K21=""),J21,J21 * (1 + K21))) | M21: =IF(F21="", "", IF(AND(F21<> "", OR(I21= "", J21= "")), 0, I21*L21)) -> 0 | AI21: =IF(SUM(AD21:AH21)=0,"",M21 - SUM(AD21:AH21))
A22: LIMPEZA FINAL | D22: 02.03.02.02 | G22: LIMPEZA FINAL | I22: =IF($F22="","",IF('TRECHO(S) A IMPRIMIR'!$B$1= 1, SUM(Q22, T22, W22, Z22), IF('TRECHO(S) A IMPRIMIR'!$B$1= 2, T22, IF('TRECHO(S) A IMPRIMIR'!$B$1= 3, W22, 0)))) | K22: =IF(AND(F22<>"",J22<>""), IF(OR(F22= "CP9001", F22= "CP9091", F22= "CP9092"), 0, IF($M$1 = "ENCARGOS SOCIAIS SEM DESONERAÇÃO",'BDI obras SD'!$H$23,'BDI obras CD'!$H$23)),"") | L22: =IF(J22="","", IF(AND(J22<>"",K22=""),J22,J22 * (1 + K22))) | M22: 0 | AI22: =IF(SUM(AD22:AH22)=0,"",M22 - SUM(AD22:AH22))
I23: =IF($F23="","",IF('TRECHO(S) A IMPRIMIR'!$B$1= 1, SUM(Q23, T23, W23, Z23), IF('TRECHO(S) A IMPRIMIR'!$B$1= 2, T23, IF('TRECHO(S) A IMPRIMIR'!$B$1= 3, W23, 0)))) -> 0 | K23: =IF(AND(F23<>"",J23<>""), IF(OR(F23= "CP9001", F23= "CP9091", F23= "CP9092"), 0, IF($M$1 = "ENCARGOS SOCIAIS SEM DESONERAÇÃO",'BDI obras SD'!$H$23,'BDI obras CD'!$H$23)),"") | L23: =IF(J23="","", IF(AND(J23<>"",K23=""),J23,J23 * (1 + K23))) | M23: =IF(F23="", "", IF(AND(F23<> "", OR(I23= "", J23= "")), 0, I23*L23)) -> 0 | AI23: =IF(SUM(AD23:AH23)=0,"",M23 - SUM(AD23:AH23))
A24: PROJETOS "AS BUILT" (COMO CONSTRUÍDO) | D24: 02.04 | G24: PROJETOS "AS BUILT" (COMO CONSTRUÍDO) | I24: =IF($F24="","",IF('TRECHO(S) A IMPRIMIR'!$B$1= 1, SUM(Q24, T24, W24, Z24), IF('TRECHO(S) A IMPRIMIR'!$B$1= 2, T24, IF('TRECHO(S) A IMPRIMIR'!$B$1= 3, W24, 0)))) | K24: =IF(AND(F24<>"",J24<>""), IF(OR(F24= "CP9001", F24= "CP9091", F24= "CP9092"), 0, IF($M$1 = "ENCARGOS SOCIAIS SEM DESONERAÇÃO",'BDI obras SD'!$H$23,'BDI obras CD'!$H$23)),"") | L24: =IF(J24="","", IF(AND(J24<>"",K24=""),J24,J24 * (1 + K24))) | M24: 0 | AI24: =IF(SUM(AD24:AH24)=0,"",M24 - SUM(AD24:AH24))
I25: =IF($F25="","",IF('TRECHO(S) A IMPRIMIR'!$B$1= 1, SUM(Q25, T25, W25, Z25), IF('TRECHO(S) A IMPRIMIR'!$B$1= 2, T25, IF('TRECHO(S) A IMPRIMIR'!$B$1= 3, W25, 0)))) -> 0 | K25: =IF(AND(F25<>"",J25<>""), IF(OR(F25= "CP9001", F25= "CP9091", F25= "CP9092"), 0, IF($M$1 = "ENCARGOS SOCIAIS SEM DESONERAÇÃO",'BDI obras SD'!$H$23,'BDI obras CD'!$H$23)),"") | L25: =IF(J25="","", IF(AND(J25<>"",K25=""),J25,J25 * (1 + K25))) | M25: =IF(F25="", "", IF(AND(F25<> "", OR(I25= "", J25= "")), 0, I25*L25)) -> 0 | AI25: =IF(SUM(AD25:AH25)=0,"",M25 - SUM(AD25:AH25))
A26: REPROGRAFIA | D26: 02.05 | G26: REPROGRAFIA | I26: =IF($F26="","",IF('TRECHO(S) A IMPRIMIR'!$B$1= 1, SUM(Q26, T26, W26, Z26), IF('TRECHO(S) A IMPRIMIR'!$B$1= 2, T26, IF('TRECHO(S) A IMPRIMIR'!$B$1= 3, W26, 0)))) | K26: =IF(AND(F26<>"",J26<>""), IF(OR(F26= "CP9001", F26= "CP9091", F26= "CP9092"), 0, IF($M$1 = "ENCARGOS SOCIAIS SEM DESONERAÇÃO",'BDI obras SD'!$H$23,'BDI obras CD'!$H$23)),"") | L26: =IF(J26="","", IF(AND(J26<>"",K26=""),J26,J26 * (1 + K26))) | M26: 0 | AI26: =IF(SUM(AD26:AH26)=0,"",M26 - SUM(AD26:AH26))
I27: =IF($F27="","",IF('TRECHO(S) A IMPRIMIR'!$B$1= 1, SUM(Q27, T27, W27, Z27), IF('TRECHO(S) A IMPRIMIR'!$B$1= 2, T27, IF('TRECHO(S) A IMPRIMIR'!$B$1= 3, W27, 0)))) -> 0 | K27: =IF(AND(F27<>"",J27<>""), IF(OR(F27= "CP9001", F27= "CP9091", F27= "CP9092"), 0, IF($M$1 = "ENCARGOS SOCIAIS SEM DESONERAÇÃO",'BDI obras SD'!$H$23,'BDI obras CD'!$H$23)),"") | L27: =IF(J27="","", IF(AND(J27<>"",K27=""),J27,J27 * (1 + K27))) | M27: =IF(F27="", "", IF(AND(F27<> "", OR(I27= "", J27= "")), 0, I27*L27)) -> 0 | AI27: =IF(SUM(AD27:AH27)=0,"",M27 - SUM(AD27:AH27))
A28: SERVIÇOS AUXILIARES E ADMINISTRATIVOS | D28: 02.06 | G28: SERVIÇOS AUXILIARES E ADMINISTRATIVOS | I28: =IF($F28="","",IF('TRECHO(S) A IMPRIMIR'!$B$1= 1, SUM(Q28, T28, W28, Z28), IF('TRECHO(S) A IMPRIMIR'!$B$1= 2, T28, IF('TRECHO(S) A IMPRIMIR'!$B$1= 3, W28, 0)))) | K28: =IF(AND(F28<>"",J28<>""), IF(OR(F28= "CP9001", F28= "CP9091", F28= "CP9092"), 0, IF($M$1 = "ENCARGOS SOCIAIS SEM DESONERAÇÃO",'BDI obras SD'!$H$23,'BDI obras CD'!$H$23)),"") | L28: =IF(J28="","", IF(AND(J28<>"",K28=""),J28,J28 * (1 + K28))) | M28: 3509205.7 | AI28: =IF(SUM(AD28:AH28)=0,"",M28 - SUM(AD28:AH28))
A29: ADMINISTRAÇÃO LOCAL | D29: 02.06.01 | G29: ADMINISTRAÇÃO LOCAL | I29: =IF($F29="","",IF('TRECHO(S) A IMPRIMIR'!$B$1= 1, SUM(Q29, T29, W29, Z29), IF('TRECHO(S) A IMPRIMIR'!$B$1= 2, T29, IF('TRECHO(S) A IMPRIMIR'!$B$1= 3, W29, 0)))) | K29: =IF(AND(F29<>"",J29<>""), IF(OR(F29= "CP9001", F29= "CP9091", F29= "CP9092"), 0, IF($M$1 = "ENCARGOS SOCIAIS SEM DESONERAÇÃO",'BDI obras SD'!$H$23,'BDI obras CD'!$H$23)),"") | L29: =IF(J29="","", IF(AND(J29<>"",K29=""),J29,J29 * (1 + K29))) | M29: 3509205.7 | AI29: =IF(SUM(AD29:AH29)=0,"",M29 - SUM(AD29:AH29))
A30: Engenheiro Civil Sênior | B30: mês | D30: 02.06.01.01 | E30: PROJETO | F30: CP9028 | G30: ENGENHEIRO SÊNIOR | H30: MÊS | I30: 9 | J30: 25761.91 | K30: 0.20335138 | L30: 31000.63 | M30: 279005.67 | T30: 4.5 | W30: 4.5 | AD30: 276626.83 | AE30: 2378.8452 | AF30: 0 | AG30: 0 | AH30: 0 | AI30: 0
A31: Engenheiro Civil Pleno | B31: mês | D31: 02.06.01.02 | E31: PROJETO | F31: CP9029 | G31: ENGENHEIRO RESIDENTE | H31: MÊS | I31: 36 | J31: 18858.12 | K31: 0.20335138 | L31: 22692.945 | M31: 816946.01 | T31: 18 | W31: 18 | AD31: 807430.63 | AE31: 9515.3807 | AF31: 0 | AG31: 0 | AH31: -1.5759961e-10 | AI31: 1.1641532e-10
A32: Engenheiro de Projetos Pleno | B32: mês | D32: 02.06.01.03 | E32: PROJETO | F32: CP9030 | G32: ENGENHEIRO DE PROJETOS PLENO | H32: MÊS | I32: 36 | J32: 19331.11 | K32: 0.20335138 | L32: 23262.118 | M32: 837436.25 | T32: 18 | W32: 18 | AD32: 837436.25 | AE32: 0 | AF32: 0 | AG32: 0 | AH32: 0 | AI32: 0
A33: Encarregado Geral | B33: mês | D33: 02.06.01.04 | E33: PROJETO | F33: CP9034 | G33: ENCARREGADO GERAL | H33: MÊS | I33: 36 | J33: 3465.25 | K33: 0.20335138 | L33: 4169.9134 | M33: 150116.88 | T33: 18 | W33: 18 | AD33: 136815.71 | AE33: 13301.172 | AF33: 0 | AG33: 0 | AH33: 0 | AI33: 0
A34: Apontador | B34: mês | D34: 02.06.01.05 | E34: PROJETO | F34: CP9035 | G34: APONTADOR | H34: MÊS | I34: 36 | J34: 5886.22 | K34: 0.20335138 | L34: 7083.191 | M34: 254994.88 | T34: 18 | W34: 18 | AD34: 244964.85 | AE34: 10030.03 | AF34: 0 | AG34: 0 | AH34: 3.9399902e-11 | AI34: 0
A35: Técnico de Engenharia | B35: mês | D35: 02.06.01.06 | E35: PROJETO | F35: CP9025 | G35: AUXILIAR TÉCNICO DE ENGENHARIA | H35: MÊS | I35: 36 | J35: 3238.81 | K35: 0.20335138 | L35: 3897.4265 | M35: 140307.35 | T35: 18 | W35: 18 | AD35: 130277.32 | AE35: 10030.03 | AF35: 0 | AG35: 0 | AH35: -1.9699951e-11 | AI35: 2.910383e-11
A36: Vigia Noturno | B36: mês | D36: 02.06.01.07 | E36: PROJETO | F36: CP9026 | G36: VIGIA | H36: MÊS | I36: 108 | J36: 3264.4 | K36: 0.20335138 | L36: 3928.2203 | M36: 424247.79 | T36: 54 | W36: 54 | AD36: 276756.57 | AE36: 147491.22 | AF36: 0 | AG36: 0 | AH36: 0 | AI36: 0
A37: Auxiliar de Serviços Gerais | B37: mês | D37: 02.06.01.08 | E37: PROJETO | F37: CP9027 | G37: AUXILIAR DE SERVIÇOS GERAIS | H37: MÊS | I37: 36 | J37: 3195.41 | K37: 0.20335138 | L37: 3845.201 | M37: 138427.24 | T37: 18 | W37: 18 | AD37: 89263.499 | AE37: 49163.739 | AF37: 0 | AG37: 0 | AH37: -1.9699951e-11 | AI37: 2.910383e-11
A38: Técnico em Segurança do Trabalho | B38: mês | D38: 02.06.01.09 | E38: PROJETO | F38: CP9019 | G38: TÉCNICO EM SEGURANÇA DO TRABALHO | H38: MÊS | I38: 36 | J38: 7084.73 | K38: 0.20335138 | L38: 8525.4197 | M38: 306915.11 | T38: 36 | W38: 0 | AD38: 296885.08 | AE38: 10030.03 | AF38: 0 | AG38: 0 | AH38: 0 | AI38: 0
A39: Equipe para laboratório de solos para terraplenagem | B39: mês | D39: 02.06.01.10 | E39: PROJETO | F39: CP9036 | G39: EQUIPE PARA LABORATÓRIO DE SOLOS PARA TERRAPLENAGEM | H39: MÊS | I39: 3 | J39: 19090.55 | K39: 0.20335138 | L39: 22972.64 | M39: 68917.919 | T39: 2 | W39: 1 | AD39: 66410.412 | AE39: 2507.5075 | AF39: 0 | AG39: 0 | AH39: 0 | AI39: 0
A40: Equipe para laboratório de asfalto | B40: mês | D40: 02.06.01.11 | E40: PROJETO | F40: CP9037 | G40: EQUIPE PARA LABORATÓRIO DE ASFALTO | H40: MÊS | I40: 2 | J40: 19090.55 | K40: 0.20335138 | L40: 22972.64 | M40: 45945.28 | T40: 1 | W40: 1 | AD40: 44273.608 | AE40: 1671.6717 | AF40: 0 | AG40: 0 | AH40: 0 | AI40: -7.2759576e-12
...

Sheet 03-SP
D1: PLANILHA DE SERVIÇOS, QUANTIDADES, CUSTOS E PREÇOS | M1: ='PSP-RESUMO'!$C$3 -> ENCARGOS SOCIAIS SEM DESONERAÇÃO
D2: OBRA: | E2: =IF('TRECHO(S) A IMPRIMIR'!$B$1= 1, 'PSP-RESUMO'!$B$2, IF('TRECHO(S) A IMPRIMIR'!$B$1= 2,#REF!,#REF!)) -> URBANIZAÇÃO DO SETOR SOL NASCENTE - TRECHOS 1 e 3 | L2: Data do orçamento: | M2: ='PSP-RESUMO'!$D$4 -> 28/JAN/2022
D3: ENDEREÇO: | E3: ='PSP-RESUMO'!B3 -> SETOR SOL NASCENTE, CEILÂNDIA/DF | L3: Data base dos preços: | M3: ='PSP-RESUMO'!$D$18 -> JUNHO/2021
D4: CLIENTE: | E4: ='PSP-RESUMO'!B4 -> ARIA | L4: B.D.I. para Serviços: | M4: =IF('PSP-RESUMO'!$C$3 = "ENCARGOS SOCIAIS SEM DESONERAÇÃO", 'BDI obras SD'!$H$23, 'BDI obras CD'!$H$23) -> 0.20335138
D5: TRECHO: | E5: =$G$9 -> SERVIÇOS PRELIMINARES DE OBRAS - TRECHOS 1 e 3 | L5: B.D.I. para Simples Fornecimento: | M5: =IF('PSP-RESUMO'!$C$3 = "ENCARGOS SOCIAIS SEM DESONERAÇÃO", 'BDI-Difer SD'!$H$23, 'BDI-Difer CD'!$H$23) -> 0.11096636
L6: DURAÇÃO DA OBRA: | M6: ='01-CO'!M6 -> 18
A7: DESCRIÇÃO DO SERVIÇO NO PROJETO | B7: UNID PROJ | D7: ITEM | E7: FONTE | F7: CPU CÓDIGO | G7: DESCRIÇÃO NA FONTE | H7: UNID | I7: QTDE | J7: CUSTO UNITÁRIO (R$) | K7: B.D.I | L7: PREÇO UNITÁRIO C/B.D.I. (R$) | M7: PREÇO TOTAL C/B.D.I. (R$) | O7: OBSERVAÇÕES | Q7: GERAIS | T7: TRECHO 1 | W7: TRECHO 3
I8: SERVIÇO | Q8: QTD | R8: DENSID | S8: DMT | T8: QTD | U8: DENSID | V8: DMT | W8: QTD | X8: DENSID | Y8: DMT | Z8: QTD | AA8: DENSID | AB8: DMT | AD8: M.O. | AE8: MAT. | AF8: EQUIP | AG8: SERV TERC | AH8: OUTROS | AI8: CONFER
A9: =IF('TRECHO(S) A IMPRIMIR'!$B$1= 1, "SERVIÇOS PRELIMINARES DE OBRAS - TRECHOS 1 e 3", IF('TRECHO(S) A IMPRIMIR'!$B$1= 2, "SERVIÇOS PRELIMINARES DE OBRAS - TRECHO 1", "SERVIÇOS PRELIMINARES DE OBRAS - TRECHO 3")) -> SERVIÇOS PRELIMINARES DE OBRAS - TRECHOS 1 e 3 | D9: 03. | G9: SERVIÇOS PRELIMINARES DE OBRAS - TRECHOS 1 e 3 | M9: 703821.76 | AI9: =IF(SUM(AD9:AH9)=0,"",M9 - SUM(AD9:AH9))
A10: REMOÇÃO DE ENTULHO EM RUAS E COMPLEMENTAÇÃO COM RACHÃO (AGULHAMENTO) | D10: 03.01 | G10: REMOÇÃO DE ENTULHO EM RUAS E COMPLEMENTAÇÃO COM RACHÃO (AGULHAMENTO) | M10: 545698.35 | AI10: =IF(SUM(AD10:AH10)=0,"",M10 - SUM(AD10:AH10))
A11: Remoção de entulho | B11: m³ | D11: 03.01.01 | E11: SINAPI | F11: 102306 | G11: ESCAVAÇÃO MECANIZADA DE VALA COM PROF. ATÉ 1,5 M (MÉDIA ENTRE MONTANTE E JUSANTE/UMA COMPOSIÇÃO POR TRECHO), COM ESCAVADEIRA HIDRÁULICA (0,8 M3/111 HP),LARG. ATÉ 1,5 M, EM SOLO DE 2A CATEGORIA, EM LOCAIS COM ALTO NÍVEL DE INTERFERÊNCIA. AF_02/2021 | H11: M3 | I11: 3842.76 | J11: 11.32 | K11: 0.20335138 | L11: 13.621938 | M11: 52345.837 | O11: 0.6 | R11: 1.5 | T11: 2557.96 | U11: 1.5 | W11: 1284.8 | X11: 1.5 | AA11: 1.5 | AD11: 12809.008 | AE11: 14889.894 | AF11: 24646.936 | AG11: 0 | AH11: 0 | AI11: 0
A12: Carga de entulho | B12: t | D12: 03.01.02 | E12: SINAPI | F12: 100999 | G12: CARGA, MANOBRA E DESCARGA DE ENTULHO EM CAMINHÃO BASCULANTE 14 M³ - CARGA COM ESCAVADEIRA HIDRÁULICA (CAÇAMBA DE 0,80 M³ / 111 HP) E DESCARGA LIVRE (UNIDADE: T). AF_07/2020 | H12: T | I12: 5764.14 | J12: 4.24 | K12: 0.20335138 | L12: 5.1022099 | M12: 29409.852 | Q12: 0 | T12: 3836.94 | W12: 1927.2 | Z12: 0 | AD12: 3121.3286 | AE12: 13456.395 | AF12: 12832.129 | AG12: 0 | AH12: 0 | AI12: 3.6379788e-12
A13: Transporte comercial até 30 km | B13: t.km | D13: 03.01.03 | E13: SINAPI | F13: 95879 | G13: TRANSPORTE COM CAMINHÃO BASCULANTE DE 14 M³, EM VIA URBANA PAVIMENTADA, DMT ATÉ 30 KM (UNIDADE: TXKM). AF_07/2020 | H13: TXKM | I13: 126811.08 | J13: 1.04 | K13: 0.20335138 | L13: 1.2514854 | M13: 158702.22 | Q13: 0 | S13: 22 | T13: 84412.68 | V13: 22 | W13: 42398.4 | Y13: 22 | Z13: 0 | AB13: 22 | AD13: 10681.88 | AE13: 91558.973 | AF13: 56461.367 | AG13: 0 | AH13: 0 | AI13: 2.910383e-11
A14: Transporte comercial acima de 30 km | B14: t.km | D14: 03.01.04 | E14: SINAPI | F14: 93599 | G14: TRANSPORTE COM CAMINHÃO BASCULANTE DE 14 M³, EM VIA URBANA PAVIMENTADA, ADICIONAL PARA DMT EXCEDENTE A 30 KM (UNIDADE: TXKM). AF_07/2020 | H14: TXKM | I14: =IF($F14="","",IF('TRECHO(S) A IMPRIMIR'!$B$1= 1, SUM(Q14, T14, W14, Z14), IF('TRECHO(S) A IMPRIMIR'!$B$1= 2, T14, IF('TRECHO(S) A IMPRIMIR'!$B$1= 3, W14, 0)))) -> 0 | J14: 0.41 | K14: =IF(AND(F14<>"",J14<>""), IF(OR(F14= "CP9001", F14= "CP9091", F14= "CP9092"), 0, IF($M$1 = "ENCARGOS SOCIAIS SEM DESONERAÇÃO",'BDI obras SD'!$H$23,'BDI obras CD'!$H$23)),"") -> 0.20335138 | L14: =IF(J14="","", IF(AND(J14<>"",K14=""),J14,J14 * (1 + K14))) -> 0.49337407 | M14: =IF(OR(I14="",L14=""),"",I14*L14) -> 0 | Q14: =Q12 * S14 -> 0 | S14: =IF('MLQ-DMT-TR1'!$E$7 > 30, 'MLQ-DMT-TR1'!$E$7 - 30, 0) -> 0 | T14: =T12 * V14 -> 0 | V14: =IF('MLQ-DMT-TR1'!$E$7 > 30, 'MLQ-DMT-TR1'!$E$7 - 30, 0) -> 0 | W14: =W12 * Y14 -> 0 | Y14: =IF('MLQ-DMT-TR1'!$E$7 > 30, 'MLQ-DMT-TR1'!$E$7 - 30, 0) -> 0 | Z14: =Z12 * AB14 -> 0 | AB14: =IF('MLQ-DMT-TR1'!$E$7 > 30, 'MLQ-DMT-TR1'!$E$7 - 30, 0) -> 0 | AI14: =IF(SUM(AD14:AH14)=0,"",M14 - SUM(AD14:AH14))
A15: Taxa de descarte de RCC | B15: t | D15: 03.01.05 | E15: PROJETO | F15: CP9091 | G15: TAXA DE DESCARTE DE RESÍDUOS DA CONSTRUÇÃO CIVIL NÃO SEGREGADOS - RCCNS | H15: T | I15: 5764.14 | J15: 21.44 | K15: 0 | L15: 21.44 | M15: 123583.16 | Q15: 0 | T15: 3836.94 | W15: 1927.2 | Z15: 0 | AD15: 0 | AE15: 0 | AF15: 0 | AG15: 123583.16 | AH15: 0 | AI15: 0
A16: Camada de rachão | B16: m³ | D16: 03.01.06 | E16: SINAPI | F16: 96399 | G16: EXECUÇÃO E COMPACTAÇÃO DE BASE E OU SUB BASE PARA PAVIMENTAÇÃO DE PEDRA RACHÃO - EXCLUSIVE CARGA E TRANSPORTE. AF_11/2019 | H16: M3 | I16: 695.6 | J16: 142.16 | K16: 0.20335138 | L16: 171.06843 | M16: 118995.2 | T16: 695.6 | U16: 1.65 | AD16: 2452.5601 | AE16: 112415.98 | AF16: 4126.6625 | AG16: 0 | AH16: 0 | AI16: -1.4551915e-11
A17: Transporte até 30 km | B17: t.km | D17: 03.01.07 | E17: SINAPI | F17: 95879 | G17: TRANSPORTE COM CAMINHÃO BASCULANTE DE 14 M³, EM VIA URBANA PAVIMENTADA, DMT ATÉ 30 KM (UNIDADE: TXKM). AF_07/2020 | H17: TXKM | I17: 34432.2 | J17: 1.04 | K17: 0.20335138 | L17: 1.2514854 | M17: 43091.397 | T17: 34432.2 | V17: 30 | AD17: 2900.3825 | AE17: 24860.421 | AF17: 15330.593 | AG17: 0 | AH17: 0 | AI17: 7.2759576e-12
A18: Transporte além de 30 km | B18: t.km | D18: 03.01.08 | E18: SINAPI | F18: 93599 | G18: TRANSPORTE COM CAMINHÃO BASCULANTE DE 14 M³, EM VIA URBANA PAVIMENTADA, ADICIONAL PARA DMT EXCEDENTE A 30 KM (UNIDADE: TXKM). AF_07/2020 | H18: TXKM | I18: 30988.98 | J18: 0.41 | K18: 0.20335138 | L18: 0.49337407 | M18: 15289.159 | T18: 30988.98 | V18: 27 | AD18: 745.81264 | AE18: 9322.658 | AF18: 5220.6885 | AG18: 0 | AH18: 0 | AI18: 1.8189894e-12
A19: Transporte interno | B19: t.km | D19: 03.01.09 | E19: SINAPI | F19: 100943 | G19: TRANSPORTE COM CAMINHÃO BASCULANTE DE 14 M³, EM VIA INTERNA (DENTRO DO CANTEIRO - UNIDADE: TXKM). AF_07/2020 | H19: TXKM | I19: 1147.74 | J19: 3.1 | K19: 0.20335138 | L19: 3.7303893 | M19: 4281.517 | T19: 1147.74 | V19: 1 | AD19: 303.84959 | AE19: 2389.3627 | AF19: 1588.3047 | AG19: 0 | AH19: 0 | AI19: 0
AI20: =IF(SUM(AD20:AH20)=0,"",M20 - SUM(AD20:AH20))
A21: DEMOLIÇÕES | D21: 03.02 | G21: DEMOLIÇÕES | M21: 158123.41 | AI21: =IF(SUM(AD21:AH21)=0,"",M21 - SUM(AD21:AH21))
A22: DEMOLIÇÕES DE PAVIMENTO ASFÁLTICO | D22: 03.02.02 | G22: DEMOLIÇÕES DE PAVIMENTO ASFÁLTICO | M22: 0 | AI22: =IF(SUM(AD22:AH22)=0,"",M22 - SUM(AD22:AH22))
A23: Demolição de asfalto no estacionamento. | B23: m² | D23: 03.02.02.01 | E23: SINAPI | F23: 97636 | G23: DEMOLIÇÃO PARCIAL DE PAVIMENTO ASFÁLTICO, DE FORMA MECANIZADA, SEM REAPROVEITAMENTO. AF_12/2017 | H23: M2 | I23: =IF($F23="","",IF('TRECHO(S) A IMPRIMIR'!$B$1= 1, SUM(Q23, T23, W23, Z23), IF('TRECHO(S) A IMPRIMIR'!$B$1= 2, T23, IF('TRECHO(S) A IMPRIMIR'!$B$1= 3, W23, 0)))) -> 0 | J23: 13.86 | K23: =IF(AND(F23<>"",J23<>""), IF(OR(F23= "CP9001", F23= "CP9091", F23= "CP9092"), 0, IF($M$1 = "ENCARGOS SOCIAIS SEM DESONERAÇÃO",'BDI obras SD'!$H$23,'BDI obras CD'!$H$23)),"") -> 0.20335138 | L23: =IF(J23="","", IF(AND(J23<>"",K23=""),J23,J23 * (1 + K23))) -> 16.67845 | M23: =IF(OR(I23="",L23=""),"",I23*L23) -> 0 | O23: 0.05 | R23: ='MLQ-PESP'!$C$12 -> 2.4 | U23: ='MLQ-PESP'!$C$12 -> 2.4 | X23: ='MLQ-PESP'!$C$12 -> 2.4 | AA23: ='MLQ-PESP'!$C$12 -> 2.4 | AI23: =IF(SUM(AD23:AH23)=0,"",M23 - SUM(AD23:AH23))
A24: Carga de entulho | B24: t | D24: 03.02.02.02 | E24: SINAPI | F24: 100999 | G24: CARGA, MANOBRA E DESCARGA DE ENTULHO EM CAMINHÃO BASCULANTE 14 M³ - CARGA COM ESCAVADEIRA HIDRÁULICA (CAÇAMBA DE 0,80 M³ / 111 HP) E DESCARGA LIVRE (UNIDADE: T). AF_07/2020 | H24: T | I24: =IF($F24="","",IF('TRECHO(S) A IMPRIMIR'!$B$1= 1, SUM(Q24, T24, W24, Z24), IF('TRECHO(S) A IMPRIMIR'!$B$1= 2, T24, IF('TRECHO(S) A IMPRIMIR'!$B$1= 3, W24, 0)))) -> 0 | J24: 4.24 | K24: =IF(AND(F24<>"",J24<>""), IF(OR(F24= "CP9001", F24= "CP9091", F24= "CP9092"), 0, IF($M$1 = "ENCARGOS SOCIAIS SEM DESONERAÇÃO",'BDI obras SD'!$H$23,'BDI obras CD'!$H$23)),"") -> 0.20335138 | L24: =IF(J24="","", IF(AND(J24<>"",K24=""),J24,J24 * (1 + K24))) -> 5.1022099 | M24: =IF(OR(I24="",L24=""),"",I24*L24) -> 0 | Q24: =Q23 * R23 * $O23 -> 0 | T24: =T23 * U23 * $O23 -> 0 | W24: =W23 * X23 * $O23 -> 0 | Z24: =Z23 * AA23 * $O23 -> 0 | AI24: =IF(SUM(AD24:AH24)=0,"",M24 - SUM(AD24:AH24))
A25: Transporte comercial até 30 km | B25: t.km | D25: 03.02.02.03 | E25: SINAPI | F25: 95879 | G25: TRANSPORTE COM CAMINHÃO BASCULANTE DE 14 M³, EM VIA URBANA PAVIMENTADA, DMT ATÉ 30 KM (UNIDADE: TXKM). AF_07/2020 | H25: TXKM | I25: =IF($F25="","",IF('TRECHO(S) A IMPRIMIR'!$B$1= 1, SUM(Q25, T25, W25, Z25), IF('TRECHO(S) A IMPRIMIR'!$B$1= 2, T25, IF('TRECHO(S) A IMPRIMIR'!$B$1= 3, W25, 0)))) -> 0 | J25: 1.04 | K25: =IF(AND(F25<>"",J25<>""), IF(OR(F25= "CP9001", F25= "CP9091", F25= "CP9092"), 0, IF($M$1 = "ENCARGOS SOCIAIS SEM DESONERAÇÃO",'BDI obras SD'!$H$23,'BDI obras CD'!$H$23)),"") -> 0.20335138 | L25: =IF(J25="","", IF(AND(J25<>"",K25=""),J25,J25 * (1 + K25))) -> 1.2514854 | M25: =IF(OR(I25="",L25=""),"",I25*L25) -> 0 | Q25: =Q24 *S25 -> 0 | S25: =IF('MLQ-DMT-TR1'!$E$7 > 30, 30, 'MLQ-DMT-TR1'!$E$7) -> 22 | T25: =T24 *V25 -> 0 | V25: =IF('MLQ-DMT-TR1'!$E$7 > 30, 30, 'MLQ-DMT-TR1'!$E$7) -> 22 | W25: =W24 *Y25 -> 0 | Y25: =IF('MLQ-DMT-TR1'!$E$7 > 30, 30, 'MLQ-DMT-TR1'!$E$7) -> 22 | Z25: =Z24 *AB25 -> 0 | AB25: =IF('MLQ-DMT-TR1'!$E$7 > 30, 30, 'MLQ-DMT-TR1'!$E$7) -> 22 | AI25: =IF(SUM(AD25:AH25)=0,"",M25 - SUM(AD25:AH25))
A26: Transporte comercial acima de 30 km | B26: t.km | D26: 03.02.02.04 | E26: SINAPI | F26: 93599 | G26: TRANSPORTE COM CAMINHÃO BASCULANTE DE 14 M³, EM VIA URBANA PAVIMENTADA, ADICIONAL PARA DMT EXCEDENTE A 30 KM (UNIDADE: TXKM). AF_07/2020 | H26: TXKM | I26: =IF($F26="","",IF('TRECHO(S) A IMPRIMIR'!$B$1= 1, SUM(Q26, T26, W26, Z26), IF('TRECHO(S) A IMPRIMIR'!$B$1= 2, T26, IF('TRECHO(S) A IMPRIMIR'!$B$1= 3, W26, 0)))) -> 0 | J26: 0.41 | K26: =IF(AND(F26<>"",J26<>""), IF(OR(F26= "CP9001", F26= "CP9091", F26= "CP9092"), 0, IF($M$1 = "ENCARGOS SOCIAIS SEM DESONERAÇÃO",'BDI obras SD'!$H$23,'BDI obras CD'!$H$23)),"") -> 0.20335138 | L26: =IF(J26="","", IF(AND(J26<>"",K26=""),J26,J26 * (1 + K26))) -> 0.49337407 | M26: =IF(OR(I26="",L26=""),"",I26*L26) -> 0 | Q26: =Q24 *S26 -> 0 | S26: =IF('MLQ-DMT-TR1'!$E$7 > 30, 'MLQ-DMT-TR1'!$E$7 - S25, 0) -> 0 | T26: =T24 *V26 -> 0 | V26: =IF('MLQ-DMT-TR1'!$E$7 > 30, 'MLQ-DMT-TR1'!$E$7 - V25, 0) -> 0 | W26: =W24 *Y26 -> 0 | Y26: =IF('MLQ-DMT-TR1'!$E$7 > 30, 'MLQ-DMT-TR1'!$E$7 - Y25, 0) -> 0 | Z26: =Z24 *AB26 -> 0 | AB26: =IF('MLQ-DMT-TR1'!$E$7 > 30, 'MLQ-DMT-TR1'!$E$7 - AB25, 0) -> 0 | AI26: =IF(SUM(AD26:AH26)=0,"",M26 - SUM(AD26:AH26))
A27: Taxa de descarte de RCC | B27: t | D27: 03.02.02.05 | E27: PROJETO | F27: CP9001 | G27: TAXA DE DESCARTE DE RESÍDUOS DA CONSTRUÇÃO CIVIL SEGREGADOS - RCCS | H27: T | I27: =IF($F27="","",IF('TRECHO(S) A IMPRIMIR'!$B$1= 1, SUM(Q27, T27, W27, Z27), IF('TRECHO(S) A IMPRIMIR'!$B$1= 2, T27, IF('TRECHO(S) A IMPRIMIR'!$B$1= 3, W27, 0)))) -> 0 | J27: 12.23 | K27: =IF(AND(F27<>"",J27<>""), IF(OR(F27= "CP9001", F27= "CP9091", F27= "CP9092"), 0, IF($M$1 = "ENCARGOS SOCIAIS SEM DESONERAÇÃO",'BDI obras SD'!$H$23,'BDI obras CD'!$H$23)),"") -> 0 | L27: =IF(J27="","", IF(AND(J27<>"",K27=""),J27,J27 * (1 + K27))) -> 12.23 | M27: =IF(OR(I27="",L27=""),"",I27*L27) -> 0 | Q27: =Q24 -> 0 | T27: =T24 -> 0 | W27: =W24 -> 0 | Z27: =Z24 -> 0 | AI27: =IF(SUM(AD27:AH27)=0,"",M27 - SUM(AD27:AH27))
I28: =IF($F28="","",IF('TRECHO(S) A IMPRIMIR'!$B$1= 1, SUM(Q28, T28, W28, Z28), IF('TRECHO(S) A IMPRIMIR'!$B$1= 2, T28, IF('TRECHO(S) A IMPRIMIR'!$B$1= 3, W28, 0)))) | K28: =IF(AND(F28<>"",J28<>""), IF(OR(F28= "CP9001", F28= "CP9091", F28= "CP9092"), 0, IF($M$1 = "ENCARGOS SOCIAIS SEM DESONERAÇÃO",'BDI obras SD'!$H$23,'BDI obras CD'!$H$23)),"") | L28: =IF(J28="","", IF(AND(J28<>"",K28=""),J28,J28 * (1 + K28))) | M28: =IF(OR(I28="",L28=""),"",I28*L28) | AI28: =IF(SUM(AD28:AH28)=0,"",M28 - SUM(AD28:AH28))
A29: REMOÇÃO DE BASE E SUBBASE, COM DEPOSIÇÃO LATERAL DE PARTE DO VOLUME REMOVIDO PARA POSTERIOR REUTILIZAÇÃO NA SUBBASE DA RECUPERAÇÃO DO PAVIMENTO E BOTA-FORA DO EXCEDENTE. | D29: 03.02.03 | G29: REMOÇÃO DE BASE E SUBBASE, COM DEPOSIÇÃO LATERAL DE PARTE DO VOLUME REMOVIDO PARA POSTERIOR REUTILIZAÇÃO NA SUBBASE DA RECUPERAÇÃO DO PAVIMENTO E BOTA-FORA DO EXCEDENTE. | M29: 0 | AI29: =IF(SUM(AD29:AH29)=0,"",M29 - SUM(AD29:AH29))
A30: Escavação mecanizada | B30: m³ | D30: 03.02.03.01 | E30: SINAPI | F30: 101125 | G30: ESCAVAÇÃO HORIZONTAL, INCLUINDO CARGA E DESCARGA EM SOLO DE 1A CATEGORIA COM TRATOR DE ESTEIRAS (150HP/LÂMINA: 3,18M3). AF_07/2020 | H30: M3 | I30: =IF($F30="","",IF('TRECHO(S) A IMPRIMIR'!$B$1= 1, SUM(Q30, T30, W30, Z30), IF('TRECHO(S) A IMPRIMIR'!$B$1= 2, T30, IF('TRECHO(S) A IMPRIMIR'!$B$1= 3, W30, 0)))) -> 0 | J30: 9.99 | K30: =IF(AND(F30<>"",J30<>""), IF(OR(F30= "CP9001", F30= "CP9091", F30= "CP9092"), 0, IF($M$1 = "ENCARGOS SOCIAIS SEM DESONERAÇÃO",'BDI obras SD'!$H$23,'BDI obras CD'!$H$23)),"") -> 0.20335138 | L30: =IF(J30="","", IF(AND(J30<>"",K30=""),J30,J30 * (1 + K30))) -> 12.02148 | M30: =IF(OR(I30="",L30=""),"",I30*L30) -> 0 | O30: 0.3 | R30: ='MLQ-PESP'!$C$4 -> 1.0923072 | U30: ='MLQ-PESP'!$C$4 -> 1.0923072 | X30: ='MLQ-PESP'!$C$4 -> 1.0923072 | AA30: ='MLQ-PESP'!$C$4 -> 1.0923072 | AI30: =IF(SUM(AD30:AH30)=0,"",M30 - SUM(AD30:AH30))
A31: Transporte comercial até 30 km | B31: t.km | D31: 03.02.03.02 | E31: SINAPI | F31: 95879 | G31: TRANSPORTE COM CAMINHÃO BASCULANTE DE 14 M³, EM VIA URBANA PAVIMENTADA, DMT ATÉ 30 KM (UNIDADE: TXKM). AF_07/2020 | H31: TXKM | I31: =IF($F31="","",IF('TRECHO(S) A IMPRIMIR'!$B$1= 1, SUM(Q31, T31, W31, Z31), IF('TRECHO(S) A IMPRIMIR'!$B$1= 2, T31, IF('TRECHO(S) A IMPRIMIR'!$B$1= 3, W31, 0)))) -> 0 | J31: 1.04 | K31: =IF(AND(F31<>"",J31<>""), IF(OR(F31= "CP9001", F31= "CP9091", F31= "CP9092"), 0, IF($M$1 = "ENCARGOS SOCIAIS SEM DESONERAÇÃO",'BDI obras SD'!$H$23,'BDI obras CD'!$H$23)),"") -> 0.20335138 | L31: =IF(J31="","", IF(AND(J31<>"",K31=""),J31,J31 * (1 + K31))) -> 1.2514854 | M31: =IF(OR(I31="",L31=""),"",I31*L31) -> 0 | Q31: =Q33 * S31 -> 0 | S31: =IF('MLQ-DMT-TR1'!$E$7 > 30, 30, 'MLQ-DMT-TR1'!$E$7) -> 22 | T31: =T33 * V31 -> 0 | V31: =IF('MLQ-DMT-TR1'!$E$7 > 30, 30, 'MLQ-DMT-TR1'!$E$7) -> 22 | W31: =W33 * Y31 -> 0 | Y31: =IF('MLQ-DMT-TR1'!$E$7 > 30, 30, 'MLQ-DMT-TR1'!$E$7) -> 22 | Z31: =Z33 * AB31 -> 0 | AB31: =IF('MLQ-DMT-TR1'!$E$7 > 30, 30, 'MLQ-DMT-TR1'!$E$7) -> 22 | AI31: =IF(SUM(AD31:AH31)=0,"",M31 - SUM(AD31:AH31))
A32: Transporte comercial acima de 30 km | B32: t.km | D32: 03.02.03.03 | E32: SINAPI | F32: 93599 | G32: TRANSPORTE COM CAMINHÃO BASCULANTE DE 14 M³, EM VIA URBANA PAVIMENTADA, ADICIONAL PARA DMT EXCEDENTE A 30 KM (UNIDADE: TXKM). AF_07/2020 | H32: TXKM | I32: =IF($F32="","",IF('TRECHO(S) A IMPRIMIR'!$B$1= 1, SUM(Q32, T32, W32, Z32), IF('TRECHO(S) A IMPRIMIR'!$B$1= 2, T32, IF('TRECHO(S) A IMPRIMIR'!$B$1= 3, W32, 0)))) -> 0 | J32: 0.41 | K32: =IF(AND(F32<>"",J32<>""), IF(OR(F32= "CP9001", F32= "CP9091", F32= "CP9092"), 0, IF($M$1 = "ENCARGOS SOCIAIS SEM DESONERAÇÃO",'BDI obras SD'!$H$23,'BDI obras CD'!$H$23)),"") -> 0.20335138 | L32: =IF(J32="","", IF(AND(J32<>"",K32=""),J32,J32 * (1 + K32))) -> 0.49337407 | M32: =IF(OR(I32="",L32=""),"",I32*L32) -> 0 | Q32: =Q33 * S32 -> 0 | S32: =IF('MLQ-DMT-TR1'!$E$7 > 30, 'MLQ-DMT-TR1'!$E$7 - S31, 0) -> 0 | T32: =T33 * V32 -> 0 | V32: =IF('MLQ-DMT-TR1'!$E$7 > 30, 'MLQ-DMT-TR1'!$E$7 - V31, 0) -> 0 | W32: =W33 * Y32 -> 0 | Y32: =IF('MLQ-DMT-TR1'!$E$7 > 30, 'MLQ-DMT-TR1'!$E$7 - Y31, 0) -> 0 | Z32: =Z33 * AB32 -> 0 | AB32: =IF('MLQ-DMT-TR1'!$E$7 > 30, 'MLQ-DMT-TR1'!$E$7 - AB31, 0) -> 0 | AI32: =IF(SUM(AD32:AH32)=0,"",M32 - SUM(AD32:AH32))
A33: Taxa de descarte de RCC | B33: t | D33: 03.02.03.04 | E33: PROJETO | F33: CP9001 | G33: TAXA DE DESCARTE DE RESÍDUOS DA CONSTRUÇÃO CIVIL SEGREGADOS - RCCS | H33: T | I33: =IF($F33="","",IF('TRECHO(S) A IMPRIMIR'!$B$1= 1, SUM(Q33, T33, W33, Z33), IF('TRECHO(S) A IMPRIMIR'!$B$1= 2, T33, IF('TRECHO(S) A IMPRIMIR'!$B$1= 3, W33, 0)))) -> 0 | J33: 12.23 | K33: =IF(AND(F33<>"",J33<>""), IF(OR(F33= "CP9001", F33= "CP9091", F33= "CP9092"), 0, IF($M$1 = "ENCARGOS SOCIAIS SEM DESONERAÇÃO",'BDI obras SD'!$H$23,'BDI obras CD'!$H$23)),"") -> 0 | L33: =IF(J33="","", IF(AND(J33<>"",K33=""),J33,J33 * (1 + K33))) -> 12.23 | M33: =IF(OR(I33="",L33=""),"",I33*L33) -> 0 | Q33: =Q30 * R30 -> 0 | T33: =T30 * U30 -> 0 | W33: =W30 * X30 -> 0 | Z33: =Z30 * AA30 -> 0 | AI33: =IF(SUM(AD33:AH33)=0,"",M33 - SUM(AD33:AH33))
AI34: =IF(SUM(AD34:AH34)=0,"",M34 - SUM(AD34:AH34))
A35: DEMOLIÇÃO DE CALÇADAS E CICLOVIAS | D35: 03.02.04 | G35: DEMOLIÇÃO DE CALÇADAS E CICLOVIAS | M35: 97251.732 | AI35: =IF(SUM(AD35:AH35)=0,"",M35 - SUM(AD35:AH35))
A36: Demolição de calçadas de concreto | B36: m³ | D36: 03.02.04.01 | E36: SINAPI | F36: 97629 | G36: DEMOLIÇÃO DE LAJES, DE FORMA MECANIZADA COM MARTELETE, SEM REAPROVEITAMENTO. AF_12/2017 | H36: M3 | I36: 413.09268 | J36: 106.16 | K36: 0.20335138 | L36: 127.74778 | M36: 52771.674 | O36: 0.07 | Q36: 0 | R36: 2.4 | T36: 259.7658 | U36: 2.4 | W36: 153.32688 | X36: 2.4 | AA36: 2.4 | AD36: 34573.002 | AE36: 15499.442 | AF36: 2699.2294 | AG36: 0 | AH36: 0 | AI36: 0
A37: Carga de entulho | B37: t | D37: 03.02.04.02 | E37: SINAPI | F37: 100999 | G37: CARGA, MANOBRA E DESCARGA DE ENTULHO EM CAMINHÃO BASCULANTE 14 M³ - CARGA COM ESCAVADEIRA HIDRÁULICA (CAÇAMBA DE 0,80 M³ / 111 HP) E DESCARGA LIVRE (UNIDADE: T). AF_07/2020 | H37: T | I37: 991.42243 | J37: 4.24 | K37: 0.20335138 | L37: 5.1022099 | M37: 5058.4453 | Q37: 0 | T37: 623.43792 | W37: 367.98451 | Z37: 0 | AD37: 536.8633 | AE37: 2314.4773 | AF37: 2207.1047 | AG37: 0 | AH37: 0 | AI37: 9.094947e-13
A38: Transporte comercial até 30 km | B38: t.km | D38: 03.02.04.03 | E38: SINAPI | F38: 95879 | G38: TRANSPORTE COM CAMINHÃO BASCULANTE DE 14 M³, EM VIA URBANA PAVIMENTADA, DMT ATÉ 30 KM (UNIDADE: TXKM). AF_07/2020 | H38: TXKM | I38: 21811.294 | J38: 1.04 | K38: 0.20335138 | L38: 1.2514854 | M38: 27296.516 | Q38: 0 | S38: 22 | T38: 13715.634 | V38: 22 | W38: 8095.6593 | Y38: 22 | Z38: 0 | AB38: 22 | AD38: 1837.2655 | AE38: 15747.99 | AF38: 9711.2606 | AG38: 0 | AH38: 0 | AI38: 3.6379788e-12
A39: Transporte comercial acima de 30 km | B39: t.km | D39: 03.02.04.04 | E39: SINAPI | F39: 93599 | G39: TRANSPORTE COM CAMINHÃO BASCULANTE DE 14 M³, EM VIA URBANA PAVIMENTADA, ADICIONAL PARA DMT EXCEDENTE A 30 KM (UNIDADE: TXKM). AF_07/2020 | H39: TXKM | I39: =IF($F39="","",IF('TRECHO(S) A IMPRIMIR'!$B$1= 1, SUM(Q39, T39, W39, Z39), IF('TRECHO(S) A IMPRIMIR'!$B$1= 2, T39, IF('TRECHO(S) A IMPRIMIR'!$B$1= 3, W39, 0)))) -> 0 | J39: 0.41 | K39: =IF(AND(F39<>"",J39<>""), IF(OR(F39= "CP9001", F39= "CP9091", F39= "CP9092"), 0, IF($M$1 = "ENCARGOS SOCIAIS SEM DESONERAÇÃO",'BDI obras SD'!$H$23,'BDI obras CD'!$H$23)),"") -> 0.20335138 | L39: =IF(J39="","", IF(AND(J39<>"",K39=""),J39,J39 * (1 + K39))) -> 0.49337407 | M39: =IF(OR(I39="",L39=""),"",I39*L39) -> 0 | Q39: =Q37 *S39 -> 0 | S39: =IF('MLQ-DMT-TR1'!$E$7 > 30, 'MLQ-DMT-TR1'!$E$7 - S38, 0) -> 0 | T39: =T37 *V39 -> 0 | V39: =IF('MLQ-DMT-TR1'!$E$7 > 30, 'MLQ-DMT-TR1'!$E$7 - V38, 0) -> 0 | W39: =W37 *Y39 -> 0 | Y39: =IF('MLQ-DMT-TR1'!$E$7 > 30, 'MLQ-DMT-TR1'!$E$7 - Y38, 0) -> 0 | Z39: =Z37 *AB39 -> 0 | AB39: =IF('MLQ-DMT-TR1'!$E$7 > 30, 'MLQ-DMT-TR1'!$E$7 - AB38, 0) -> 0 | AI39: =IF(SUM(AD39:AH39)=0,"",M39 - SUM(AD39:AH39))
A40: Taxa de descarte de RCC | B40: t | D40: 03.02.04.05 | E40: PROJETO | F40: CP9001 | G40: TAXA DE DESCARTE DE RESÍDUOS DA CONSTRUÇÃO CIVIL SEGREGADOS - RCCS | H40: T | I40: 991.42243 | J40: 12.23 | K40: 0 | L40: 12.23 | M40: 12125.096 | Q40: 0 | T40: 623.43792 | W40: 367.98451 | Z40: 0 | AD40: 0 | AE40: 0 | AF40: 0 | AG40: 12125.096 | AH40: 0 | AI40: 0
...

Sheet 04-DR
D1: PLANILHA DE SERVIÇOS, QUANTIDADES, CUSTOS E PREÇOS | M1: ='PSP-RESUMO'!$C$3 -> ENCARGOS SOCIAIS SEM DESONERAÇÃO
D2: OBRA: | E2: =IF('TRECHO(S) A IMPRIMIR'!$B$1= 1, 'PSP-RESUMO'!$B$2, IF('TRECHO(S) A IMPRIMIR'!$B$1= 2,#REF!,#REF!)) -> URBANIZAÇÃO DO SETOR SOL NASCENTE - TRECHOS 1 e 3 | L2: Data do orçamento: | M2: ='PSP-RESUMO'!$D$4 -> 28/JAN/2022 | Q2: Extensão de ruas: | T2: Extensão de ruas: | V2: =#REF! -> #REF! | W2: Extensão de ruas: | Y2: =#REF! -> #REF! | Z2: Extensão de ruas:
D3: ENDEREÇO: | E3: ='PSP-RESUMO'!B3 -> SETOR SOL NASCENTE, CEILÂNDIA/DF | L3: Data base dos preços: | M3: ='PSP-RESUMO'!$D$18 -> JUNHO/2021
D4: CLIENTE: | E4: ='PSP-RESUMO'!B4 -> ARIA | L4: B.D.I. para Serviços: | M4: =IF('PSP-RESUMO'!$C$3 = "ENCARGOS SOCIAIS SEM DESONERAÇÃO", 'BDI obras SD'!$H$23, 'BDI obras CD'!$H$23) -> 0.20335138
D5: TRECHO: | E5: =$G$9 -> DRENAGEM URBANA DE ÁGUAS PLUVIAIS E CONSTRUÇÃO DE BACIAS DE DETENÇÃO - TRECHOS 1 e 3 | L5: B.D.I. para Simples Fornecimento: | M5: =IF('PSP-RESUMO'!$C$3 = "ENCARGOS SOCIAIS SEM DESONERAÇÃO", 'BDI-Difer SD'!$H$23, 'BDI-Difer CD'!$H$23) -> 0.11096636
L6: DURAÇÃO DA OBRA: | M6: ='01-CO'!M6 -> 18
A7: DESCRIÇÃO DO SERVIÇO NO PROJETO | B7: UNID PROJ | D7: ITEM | E7: FONTE | F7: CPU CÓDIGO | G7: DESCRIÇÃO NA FONTE | H7: UNID | I7: QTDE | J7: CUSTO UNITÁRIO (R$) | K7: B.D.I | L7: PREÇO UNITÁRIO C/B.D.I. (R$) | M7: PREÇO TOTAL C/B.D.I. (R$) | O7: OBSERVAÇÕES | Q7: GERAIS | T7: TRECHO 1 | W7: TRECHO 3
I8: SERVIÇO | Q8: QTD | R8: DENSID | S8: DMT | T8: QTD | U8: DENSID | V8: DMT | W8: QTD | X8: DENSID | Y8: DMT | Z8: QTD | AA8: DENSID | AB8: DMT | AD8: M.O. | AE8: MAT. | AF8: EQUIP | AG8: SERV TERC | AH8: OUTROS | AI8: CONFER
A9: =IF('TRECHO(S) A IMPRIMIR'!$B$1= 1, "DRENAGEM URBANA DE ÁGUAS PLUVIAIS E CONSTRUÇÃO DE BACIAS DE DETENÇÃO - TRECHOS 1 e 3", IF('TRECHO(S) A IMPRIMIR'!$B$1= 2, "DRENAGEM URBANA DE ÁGUAS PLUVIAIS E CONSTRUÇÃO DE BACIAS DE DETENÇÃO - TRECHO 1", "DRENAGEM URBANA DE ÁGUAS PLUVIAIS E CONSTRUÇÃO DE BACIAS DE DETENÇÃO - TRECHO 3")) -> DRENAGEM URBANA DE ÁGUAS PLUVIAIS E CONSTRUÇÃO DE BACIAS DE DETENÇÃO - TRECHOS 1 e 3 | D9: 04. | G9: DRENAGEM URBANA DE ÁGUAS PLUVIAIS E CONSTRUÇÃO DE BACIAS DE DETENÇÃO - TRECHOS 1 e 3 | M9: 20385875 | AI9: =IF(SUM(AD9:AH9)=0,"",M9 - SUM(AD9:AH9)) | AK9: =IF(F9="", " ", VLOOKUP(F9,#REF!, 1, FALSE))
A10: LAGOAS DE DENTENÇÃO | D10: 04.01 | G10: LAGOAS DE DENTENÇÃO | M10: 5039276.8 | AI10: =IF(SUM(AD10:AH10)=0,"",M10 - SUM(AD10:AH10)) | AK10: =IF(F10="", " ", VLOOKUP(F10,#REF!, 1, FALSE))
A11: LIMPEZA SUPERFICIAL E BOTA-FORA | D11: 04.01.01 | G11: LIMPEZA SUPERFICIAL E BOTA-FORA | M11: 141654.83 | AI11: =IF(SUM(AD11:AH11)=0,"",M11 - SUM(AD11:AH11)) | AK11: =IF(F11="", " ", VLOOKUP(F11,#REF!, 1, FALSE))
A12: Raspagem mecanizada de terreno | B12: m² | D12: 04.01.01.01 | E12: SINAPI | F12: 98525 | G12: LIMPEZA MECANIZADA DE CAMADA VEGETAL, VEGETAÇÃO E PEQUENAS ÁRVORES (DIÂMETRO DE TRONCO MENOR QUE 0,20 M), COM TRATOR DE ESTEIRAS.AF_05/2018 | H12: M2 | I12: 15843 | J12: 0.3 | K12: 0.20335138 | L12: 0.36100542 | M12: 5719.4088 | O12: 0.1 | R12: 1.5 | T12: 9674 | U12: 1.5 | W12: 6169 | X12: 1.5 | AA12: 1.5 | AD12: 3050.3514 | AE12: 381.29392 | AF12: 2287.7635 | AG12: 0 | AH12: 0 | AI12: 0 | AK12: =IF(F12="", " ", VLOOKUP(F12,#REF!, 1, FALSE)) -> #REF!
