Workbook
Name _______a70000: #REF!
Name ______a100000: #REF!
Name ______a70000: #REF!
Name _____a100000: #REF!
Name _____a70000: #REF!
Name ____a100000: #REF!
Name ____a70000: #REF!
Name ___a100000: #REF!
Name ___a70000: #REF!
Name ___SM10: #REF!
Name __a100000: #REF!
Name __a70000: #REF!
Name __SM1: #REF!
Name __SM1: #REF!
Name __SM1: #REF!
Name __SM1: #REF!
Name __SM1: #REF!
Name __SM10: #REF!
Name __SM10: #REF!
Name __SM10: #REF!
Name __SM11: #REF!
Name __SM11: #REF!
Name __SM11: #REF!
Name __SM12: #REF!
Name __SM12: #REF!
Name __sm13: #REF!
Name __sm13: #REF!
Name __SM2: #REF!
Name __SM2: #REF!
Name __SM3: #REF!
Name __SM3: #REF!
Name __SM4: #REF!
Name __SM4: #REF!
Name __SM5: #REF!
Name __SM5: #REF!
Name __SM6: #REF!
Name __SM6: #REF!
Name __SM7: #REF!
Name __SM7: #REF!
Name __SM8: #REF!
Name __SM8: #REF!
Name __SM9: #REF!
Name __SM9: #REF!
Name _1Excel_BuiltIn_Print_Area_1_1: #REF!
Name _SM1: #REF!
Name _SM1: #REF!
Name _SM1: #REF!
Name _SM1: #REF!
Name _SM1: #REF!
Name _SM1: #REF!
Name _SM10: #REF!
Name _SM10: #REF!
Name _SM10: #REF!
Name _SM10: #REF!
Name _SM11: #REF!
Name _SM11: #REF!
Name _SM11: #REF!
Name _SM12: #REF!
Name _SM12: #REF!
Name _SM12: #REF!

Sheet 027-21-CAPA
A1: VER COMENTÁRIOS NAS CÉLULAS ANTES DE PREENCHER. FAVOR MANTER TODOS OS COMENTÁRIOS DAS CÉLULAS PARA FACILITAR A CONFERÊNCIA DO ARQUIVO Sempre consultar a Cooordenação de arquivos da DITEC para quaisquer dúvidas.
B8: GOVERNO DO DISTRITO FEDERAL
B9: SECRETARIA DE ESTADO DE INFRAESTRUTURA E SERVIÇOS PÚBLICOS
B10: COMPANHIA URBANIZADORA DA NOVA CAPITAL DO BRASIL
B11: CAPA DA PLANILHA ESTIMATIVA
B12: (Conforme Lei 8.666/93, artigo 40, parágrafo 2º, inciso II)
B14: Nº ESTIMATIVA: | C14: 027/2021-SEORÇA-CDS-R.01
B15: TÍTULO: | C15: Contratação para execução de levantamentos topográficos planialtimétricos cadastral georreferenciado, em diversos locais do Distrito Federal.
B16: Nº PROJETO: | C16: PROJ-DE-017-21
B17: NOME PROJETO: | C17: Contratação para execução de levantamentos topográficos planialtimétricos cadastral georreferenciado, em diversos locais do Distrito Federal.
B18: ENDEREÇO: | C18: Diversos locais do DISTRITO FEDERAL
B19: PRAZO: | C19: 365 dias (12 meses)
B20: DATA: | C20: =TODAY() -> 44643
B21: ORÇAMENTISTA(S): | C21: ENGº. ISLAN DOS SANTOS - CREA 30901-D/DF
B22: DOCUMENTO E SISPROT:
B23: PROCESSO: | C23: 00112-00003238/2021-90
B24: TABELA REFERÊNCIA: | C24: SINAPI JANEIRO/2022 COM DESONERAÇÃO
B25: SISOBRAS:
B26: OBSERVAÇÕES: | C26: 01-Ressaltamos que esta Anotação de Responsabilidade Técnica (ART) está exclusivamente vinculada aos preços/custos desta estimativa. 03-Os quantitativos são retirados do SEI/GDF 65094016, do processo 00112-00016661/2021-50
B27: RESP. CAPA: | C27: ENGº. ISLAN DOS SANTOS MEDEIROS
B30: 027.01/2021-SEORÇA: Orçamento ......................................................................................................... | D30: 290187.17
B31: VALOR ESTIMADO ......................................................................................................................... | D31: 290187.17
B33: NOTAS: | C33: *Esta planilha é orientativa. Desta forma, é de inteira responsabilidade do contratado as quantidades e valores necessários a completa execução da obra. *Havendo irregularidades neste instrumento, entre em contato com a Ouvidoria de Combate a Corrupção, no telefone 0800-6449060
A173: ENG. TIAGO DE SOUZA OLIVEIRA CREA 249352/D-DF ART: 0720190011830

Sheet 027.01-21-ORÇ.
B1: GOVERNO DO DISTRITO FEDERAL
B2: SECRETARIA DE ESTADO DE INFRAESTRUTURA E SERVIÇOS PÚBLICOS
B3: COMPANHIA URBANIZADORA DA NOVA CAPITAL DO BRASIL
B4: PLANILHA ESTIMATIVA PRINCIPAL
B5: Nº ESTIMATIVA PARCIAL: | D5: ORÇ-DT-027-21-R01-SEORÇA | H5: DATA: | I5: =TODAY() -> 44643
B6: NOME ESTIMATIVA PARCIAL: | D6: Execução de levantamentos topográficos planialtimétricos cadastral georreferenciado, em diversos locais do Distrito Federal. | H6: Nº PROJETO: | I6: PROJ-DE-017-21
B7: ENDEREÇO: | C7: EQNP 16/20 AE, Lotes E,F e G - CEILÂNDIA - DF | D7: Diversos locais do DISTRITO FEDERAL | H7: ÁREA:
B8: ENCARGOS TRABALHISTAS: | D8: horista=81,53% / mensalista=46,82% | E8: BDI: | F8: 26,93% | H8: TAB. REF.: | I8: SINAPI JANEIRO 2022
B10: ITEM | C10: CÓDIGO | D10: DESCRIÇÃO | E10: UNID. | F10: QUANT. | G10: PREÇO(R$) | H10: BDI | I10: PREÇO TOTAL (R$)
B11: 01.00.000 | D11: SERVIÇOS TÉCNICO-PROFISSIONAIS
B12: 01.01.000 | D12: TOPOGRAFIA
A13: COTAÇÃO | B13: 01.01.001 | C13: CCU-001 | D13: Levantamento planialtimétrico cadastral georreferenciado de área urbana ou suburbana, destinado a projetos de edificações, urbanização e assemelhados, utilizando poligonal II PAC, compreendendo o detalhamento de divisas de gleba principal, sistema viário, quadras, áreas livres e institucionais, lotes, edificações, postes, tampões com as respectivas identificações, guias, sarjetas, muros de arrimo, taludes - Desenho na escala variando de 1:500 a 1:100.Áreas até 2.000 m² | E13: UNID. | F13: 20 | G13: ='027-21-CCU''s'!H23 -> 892.66378 | H13: 0.2693 | I13: =F13*(G13*(1+H13)) -> 22661.163
A14: COTAÇÃO | B14: 01.01.002 | C14: CCU-002 | D14: Levantamento planialtimétrico cadastral georreferenciado de área urbana ou suburbana, destinado a projetos de edificações, urbanização e assemelhados, utilizando poligonal II PAC, compreendendo o detalhamento de divisas de gleba principal, sistema viário, quadras, áreas livres e institucionais, lotes, edificações, postes, tampões com as respectivas identificações, guias, sarjetas, muros de arrimo, taludes - Desenho na escala variando de 1:500 a 1:100.Áreas de 2.001 m² até 5000 m² | E14: UNID. | F14: 15 | G14: ='027-21-CCU''s'!H27 -> 1785.3276 | H14: 0.2693 | I14: =F14*(G14*(1+H14)) -> 33991.744
A15: COTAÇÃO | B15: 01.01.003 | C15: CCU-003 | D15: Levantamento planialtimétrico cadastral georreferenciado de área urbana ou suburbana, destinado a projetos de edificações, urbanização e assemelhados, utilizando poligonal II PAC, compreendendo o detalhamento de divisas de gleba principal, sistema viário, quadras, áreas livres e institucionais, lotes, edificações, postes, tampões com as respectivas identificações, guias, sarjetas, muros de arrimo, taludes - Desenho na escala variando de 1:500 a 1:100.Áreas de 5.001 m² até 10.000 m² | E15: M2 | F15: 75000 | G15: ='027-21-CCU''s'!H31 -> 0.44633189 | H15: 0.2693 | I15: =F15*(G15*(1+H15)) -> 42489.68
A16: COTAÇÃO | B16: 01.01.004 | C16: CCU-004 | D16: Levantamento planialtimétrico cadastral georreferenciado de área urbana ou suburbana, destinado a projetos de edificações, urbanização e assemelhados, utilizando poligonal II PAC, compreendendo o detalhamento de divisas de gleba principal, sistema viário, quadras, áreas livres e institucionais, lotes, edificações, postes, tampões com as respectivas identificações, guias, sarjetas, muros de arrimo, taludes - Desenho na escala variando de 1:500 a 1:100.Áreas de 10.001 m² até 50.000 m² | E16: M2 | F16: 85000 | G16: ='027-21-CCU''s'!H35 -> 0.29755459 | H16: 0.2693 | I16: =F16*(G16*(1+H16)) -> 32103.314
A17: COTAÇÃO | B17: 01.01.005 | C17: CCU-005 | D17: Levantamento planialtimétrico cadastral georreferenciado de área urbana ou suburbana, destinado a projetos de edificações, urbanização e assemelhados, utilizando poligonal II PAC, compreendendo o detalhamento de divisas de gleba principal, sistema viário, quadras, áreas livres e institucionais, lotes, edificações, postes, tampões com as respectivas identificações, guias, sarjetas, muros de arrimo, taludes - Desenho na escala variando de 1:500 a 1:100.Áreas de 50.000 m² até 100.000 m² | E17: M2 | F17: 80000 | G17: ='027-21-CCU''s'!H39 -> 0.22316594 | H17: 0.2693 | I17: =F17*(G17*(1+H17)) -> 22661.163 | O17: =1/0.4 -> 2.5 | P17: 2126.99 | Q17: =O17*P17 -> 5317.475
A18: COTAÇÃO | B18: 01.01.006 | C18: CCU-006 | D18: Levantamento topográfico planialtimétrico cadastral, com requisitos equivalentes a CLASSE II PAC | E18: HÁ | F18: 8 | G18: ='027-21-CCU''s'!H58 -> 2862.535 | H18: 0.2693 | I18: =F18*(G18*(1+H18)) -> 29067.325
A19: COTAÇÃO | B19: 01.01.007 | C19: CCU-007 | D19: Levantamento topográfico planialtimétrico, com requisitos equivalentes a CLASSE VI PA | E19: HÁ | F19: 8 | G19: ='027-21-CCU''s'!H62 -> 743.88648 | H19: 0.2693 | I19: =F19*(G19*(1+H19)) -> 7553.7209
A20: COTAÇÃO | B20: 01.01.008 | C20: CCU-008 | D20: Levantamento planimétrico de Poligonal, com requisitos equivalentes a CLASSE III P | E20: KM | F20: 12 | G20: ='027-21-CCU''s'!H80 -> 572.507 | H20: 0.2693 | I20: =F20*(G20*(1+H20)) -> 8720.1976
A21: COTAÇÃO | B21: 01.01.009 | C21: CCU-009 | D21: Nivelamento Geométrico, com requisitos equivalentes a CLASSE II N | E21: KM | F21: 12 | G21: ='027-21-CCU''s'!H98 -> 223.85561 | H21: 0.2693 | I21: =F21*(G21*(1+H21)) -> 3409.6791
A22: COTAÇÃO | B22: 01.01.010 | C22: CCU-010 | D22: Implantação de par de marcos com utilização de receptores GPS de dupla frequência L1/L2 | E22: UNID. | F22: 10 | G22: ='027-21-CCU''s'!H118 -> 552.45794 | H22: 0.2693 | I22: =F22*(G22*(1+H22)) -> 7012.3487
A23: COTAÇÃO | B23: 01.01.011 | C23: CCU-011 | D23: PRC – Rede de Referencia Cadastral - Poligonal | E23: KM | F23: 5 | G23: ='027-21-CCU''s'!H136 -> 2008.1636 | H23: 0.2693 | I23: =F23*(G23*(1+H23)) -> 12744.81
A24: COTAÇÃO | B24: 01.01.012 | C24: CCU-012 | D24: Fornecimento de equipe de topografia composta de 1(um) técnico, 2 (dois) auxiliares, 1 (uma) estação total classe 2 (dois), 1 (um) nível classe 2 (dois), trena, demais acessórios, inclusive cálculo e desenho executados pelas equipes na obra | E24: DIA | F24: 10 | G24: ='027-21-CCU''s'!H140 -> 349.0744 | H24: 0.2693 | I24: =F24*(G24*(1+H24)) -> 4430.8014
A25: COTAÇÃO | B25: 01.01.013 | C25: CCU-013 | D25: Mobilização e desmobilização de equipes/equipamentos para realização de serviços de topografia a qualquer distancia, dentro do âmbito do Distrito Federal. | E25: UNID. | F25: 32 | G25: ='027-21-CCU''s'!H147 -> 235.28077 | H25: 0.2693 | I25: =F25*(G25*(1+H25)) -> 9556.5402
A26: COTAÇÃO | B26: 01.01.014 | C26: CCU-014 | D26: Projetos/Relatórios fotográficos/Memoriais descritivos/Cadernetas de campo/Arquivos digitais | E26: UNID. | F26: 32 | G26: ='027-21-CCU''s'!H153 -> 1090.2318 | H26: 0.2693 | I26: =F26*(G26*(1+H26)) -> 44282.599
B28: 01.08.000 | D28: DESPESAS LEGAIS
B29: 01.08.100 | D29: TAXAS
B30: 01.08.100.1 | C30: CREA-DF | D30: ART de serviços topográficos | E30: UN | F30: 32 | G30: 233.94 | H30: 0.2693 | I30: =F30*(G30*(1+H30)) -> 9502.0813
H32: SUBTOTAL (Divisão): | I32: =SUM(I13:I30) -> 290187.17
H33: TOTAL GERAL: | I33: =I32 -> 290187.17
B35: ENG. ISLAN DOS SANTOS CREA 30901/D-DF ART:0720220013150
B36: ENG. TIAGO DE SOUZA OLIVEIRA CREA 24315-9 ART: 0720210047005
A160: ENG. TIAGO DE SOUZA OLIVEIRA CREA 249352/D-DF ART: 0720190011830

Sheet 027-21-CCU's
B1: GOVERNO DO DISTRITO FEDERAL
B2: SECRETARIA DE ESTADO DE INFRAESTRUTURA E SERVIÇOS PÚBLICOS
B3: COMPANHIA URBANIZADORA DA NOVA CAPITAL DO BRASIL
B4: PLANILHA DE COMPOSIÇÕES
B5: Nº ESTIMATIVA PRINCIPAL: | C5: ='027.01-21-ORÇ.'!D5 -> ORÇ-DT-027-21-R01-SEORÇA | G5: DATA: | H5: ='027.01-21-ORÇ.'!I5 -> 44643
B6: TÍTULO: | C6: CONTRATAÇÃO DE SERVIÇOS COMUNS DE ENGENHARIA PARA EXECUÇÃO DE SONDAGEM (À PERCUSSÃO E MISTA) E SERVIÇOS AUXILIARES DE TOPOGRAFIA EM DIVERSOS LOCAIS DO DISTRITO FEDERAL. | G6: Nº PROJETO: | H6: PROJ-DE-017-21
B7: ENCARGOS TRABALHISTAS: | C7: ='027.01-21-ORÇ.'!D8 -> horista=81,53% / mensalista=46,82% | D7: B.D.I. : | E7: 26,93% | G7: TAB. REF.: | H7: SINAPI JAN 2022
B9: EQUIPE F
B10: Campo
A11: SERVIÇO | B11: 100317 | C11: COORDENADOR / GERENTE DE OBRA COM ENCARGOS COMPLEMENTARES | D11: M.O | E11: MES | F11: 0.15 | G11: 20.475,48 | H11: 3071.322
A12: SERVIÇO | B12: 94296 | C12: TOPOGRAFO COM ENCARGOS COMPLEMENTARES | D12: M.O | E12: MES | F12: 1 | G12: 3.054,01 | H12: 3054.01
A13: SERVIÇO | B13: 101389 | C13: AUXILIAR DE TOPÓGRAFO COM ENCARGOS COMPLEMENTARES | D13: M.O | E13: MES | F13: 2 | G13: 1.421,70 | H13: 2843.4
B14: Gabinete
A15: SERVIÇO | B15: 100317 | C15: COORDENADOR / GERENTE DE OBRA COM ENCARGOS COMPLEMENTARES | D15: M.O | E15: MES | F15: 0.2 | G15: 20.475,48 | H15: 4095.096
A16: SERVIÇO | B16: 93561 | C16: DESENHISTA PROJETISTA COM ENCARGOS COMPLEMENTARES | D16: M.O | E16: MES | F16: 0.4 | G16: 4.210,90 | H16: 1684.36
B17: equipamento
B18: 2290009005003 | C18: Estação total memória para 12000 registros (alcance: 2000 m /precisão angular: 2/precisão linear: 2 mm) | D18: loc/un/dia | E18: loc/un/dia | F18: 18 | G18: 73.32 | H18: 1319.76
B19: Observação: | C19: Equipe F AETESP
F20: Preço mensal | H20: 16067.948
F21: Preço unit 18 dias mês | H21: 892.66378
B23: CCU - 001 | C23: Levantamento planialtimétrico cadastral georreferenciado de área urbana ou suburbana, destinado a projetos de edificações, urbanização e assemelhados, utilizando poligonal II PAC, compreendendo o detalhamento de divisas de gleba principal, sistema viário, quadras, áreas livres e institucionais, lotes, edificações, postes, tampões com as respectivas identificações, guias, sarjetas, muros de arrimo, taludes - Desenho na escala variando de 1:500 a 1:100. Áreas até 2.000 m² | D23: SER.CG | E23: und | H23: 892.66378
A24: SERVIÇO | B24: EQUIPE F | C24: EQUIPE F | D24: DIA | E24: DIA | F24: 1 | G24: 892.66378 | H24: 892.66378
B25: Observação: | C25: AETESP 4.5.17.1.1
B27: CCU - 002 | C27: Levantamento planialtimétrico cadastral georreferenciado de área urbana ou suburbana, destinado a projetos de edificações, urbanização e assemelhados, utilizando poligonal II PAC, compreendendo o detalhamento de divisas de gleba principal, sistema viário, quadras, áreas livres e institucionais, lotes, edificações, postes, tampões com as respectivas identificações, guias, sarjetas, muros de arrimo, taludes - Desenho na escala variando de 1:500 a 1:100. Áreas de 2.001 m² até 5000 m² | D27: SER.CG | E27: und | H27: 1785.3276
A28: SERVIÇO | B28: EQUIPE F | C28: EQUIPE F | D28: DIA | E28: DIA | F28: 2 | G28: 892.66378 | H28: 1785.3276
B29: Observação: | C29: AETESP4.5.17.2.1 | P29: =1954/3000 -> 0.65133333
B31: CCU - 003 | C31: Levantamento planialtimétrico cadastral georreferenciado de área urbana ou suburbana, destinado a projetos de edificações, urbanização e assemelhados, utilizando poligonal II PAC, compreendendo o detalhamento de divisas de gleba principal, sistema viário, quadras, áreas livres e institucionais, lotes, edificações, postes, tampões com as respectivas identificações, guias, sarjetas, muros de arrimo, taludes - Desenho na escala variando de 1:500 a 1:100. Áreas de 5.001 m² até 10.000 m² | D31: SER.CG | E31: M2 | H31: 0.44633189
A32: SERVIÇO | B32: EQUIPE F | C32: EQUIPE F | D32: DIA | E32: DIA | F32: 1 | G32: 0.44633189 | H32: 0.44633189
B33: Observação: | C33: AETESP4.5.17.2.1-2.000 M2/DIA
B35: CCU - 004 | C35: Levantamento planialtimétrico cadastral georreferenciado de área urbana ou suburbana, destinado a projetos de edificações, urbanização e assemelhados, utilizando poligonal II PAC, compreendendo o detalhamento de divisas de gleba principal, sistema viário, quadras, áreas livres e institucionais, lotes, edificações, postes, tampões com as respectivas identificações, guias, sarjetas, muros de arrimo, taludes - Desenho na escala variando de 1:500 a 1:100. Áreas de Áreas de 10.001 m² até 50.000 m² | D35: SER.CG | E35: M2 | H35: 0.29755459
A36: SERVIÇO | B36: EQUIPE F | C36: EQUIPE F | D36: DIA | E36: DIA | F36: 1 | G36: 0.29755459 | H36: 0.29755459
B37: Observação: | C37: AETESP4.5.17.1.2-3.000 M2/DIA
B39: CCU - 005 | C39: Levantamento planialtimétrico cadastral georreferenciado de área urbana ou suburbana, destinado a projetos de edificações, urbanização e assemelhados, utilizando poligonal II PAC, compreendendo o detalhamento de divisas de gleba principal, sistema viário, quadras, áreas livres e institucionais, lotes, edificações, postes, tampões com as respectivas identificações, guias, sarjetas, muros de arrimo, taludes - Desenho na escala variando de 1:500 a 1:100. Áreas de 50.001 m² até 100.000 m² | D39: SER.CG | E39: M2 | H39: 0.22316594
A40: SERVIÇO | B40: EQUIPE F | C40: Observação: | D40: DIA | E40: DIA | F40: 1 | G40: 0.22316594 | H40: 0.22316594
B41: Observação: | C41: AETESP4.5.17.1.3 4000 M2/DIA
B43: EQUIPE G
B44: Campo
A45: SERVIÇO | B45: 100317 | C45: COORDENADOR / GERENTE DE OBRA COM ENCARGOS COMPLEMENTARES | D45: M.O | E45: MES | F45: 0.15 | G45: 20.475,48 | H45: 3071.322
A46: SERVIÇO | B46: 94296 | C46: TOPOGRAFO COM ENCARGOS COMPLEMENTARES | D46: M.O | E46: MES | F46: 1 | G46: 3.054,01 | H46: 3054.01
A47: SERVIÇO | B47: 101389 | C47: AUXILIAR DE TOPÓGRAFO COM ENCARGOS COMPLEMENTARES | D47: M.O | E47: MES | F47: 2 | G47: 1.421,70 | H47: 2843.4
...

Sheet CCA
B1: CÓDIGO | C1: DESCRIÇÃO | D1: CLASS | E1: UND | F1: COEF. | G1: PREÇO UNIT (R$) | H1: PREÇO TOTAL (R$)
B3: 100317 | C3: COORDENADOR / GERENTE DE OBRA COM ENCARGOS COMPLEMENTARES | D3: SER.CG | E3: MES | H3: 20475.48 | J3: ='[11]078-20-CAPA'!D$34 -> #REF!
A4: INSUMO | B4: 40863 | C4: EXAMES - MENSALISTA (COLETADO CAIXA) | D4: M.O | E4: MES | F4: 1 | G4: 152,35 | H4: 152.35
A5: INSUMO | B5: 40864 | C5: SEGURO - MENSALISTA (COLETADO CAIXA) | D5: M.O | E5: MES | F5: 1 | G5: 11,80 | H5: 11.8
A6: INSUMO | B6: 40934 | C6: COORDENADOR / GERENTE DE OBRA (MENSALISTA) | D6: M.O | E6: MES | F6: 1 | G6: 20.123,51 | H6: 20123.51
A7: INSUMO | B7: 43474 | C7: FERRAMENTAS - FAMILIA ENGENHEIRO CIVIL - MENSALISTA (ENCARGOS COMPLEMENTARES - COLETADO CAIXA) | D7: FERR. | E7: MES | F7: 1 | G7: 1,90 | H7: 1.9
A8: INSUMO | B8: 43498 | C8: EPI - FAMILIA ENGENHEIRO CIVIL - MENSALISTA (ENCARGOS COMPLEMENTARES - COLETADO CAIXA) | D8: E.P.I | E8: MES | F8: 1 | G8: 123,54 | H8: 123.54
A9: serviço | B9: 100311 | C9: CURSO DE CAPACITAÇÃO PARA COORDENADOR/GERENTE DE OBRA (ENCARGOS COMPLEMENTARES) - MENSALISTA | D9: CAPACIT. | E9: MES | F9: 1 | G9: 62,38 | H9: 62.38
B10: Observação: | C10: REF:100317 SINAPI
B12: 94296 | C12: TOPOGRAFO COM ENCARGOS COMPLEMENTARES | D12: SER.CG | E12: MES | H12: 3054.01 | J12: ='[11]078-20-CAPA'!D$34 -> #REF!
A13: INSUMO | B13: 40820 | C13: TOPOGRAFO (MENSALISTA) | D13: M.O | E13: MES | F13: 1 | G13: 2.745,53 | H13: 2745.53
A14: INSUMO | B14: 40863 | C14: EXAMES - MENSALISTA (COLETADO CAIXA) | D14: M.O | E14: MES | F14: 1 | G14: 152,35 | H14: 152.35
A15: INSUMO | B15: 40864 | C15: SEGURO - MENSALISTA (COLETADO CAIXA) | D15: M.O | E15: MES | F15: 1 | G15: 11,80 | H15: 11.8
A16: INSUMO | B16: 43481 | C16: FERRAMENTAS - FAMILIA TOPOGRAFO - MENSALISTA (ENCARGOS COMPLEMENTARES - COLETADO CAIXA) | D16: FERR. | E16: MES | F16: 1 | G16: 13,21 | H16: 13.21
A17: INSUMO | B17: 43505 | C17: EPI - FAMILIA TOPOGRAFO - MENSALISTA (ENCARGOS COMPLEMENTARES - COLETADO CAIXA) | D17: E.P.I | E17: MES | F17: 1 | G17: 117,12 | H17: 117.12
A18: serviço | B18: 95424 | C18: CURSO DE CAPACITAÇÃO PARA TOPÓGRAFO (ENCARGOS COMPLEMENTARES) - MENSALISTA | D18: CAPACIT. | E18: MES | F18: 1 | G18: 14,00 | H18: 14
B19: Observação: | C19: REF:94296 SINAPI
B21: 101389 | C21: AUXILIAR DE TOPÓGRAFO COM ENCARGOS COMPLEMENTARES | D21: SER.CG | E21: MES | H21: 1421.7 | J21: ='[11]078-20-CAPA'!D$34 -> #REF!
A22: INSUMO | B22: 40863 | C22: EXAMES - MENSALISTA (COLETADO CAIXA) | D22: M.O | E22: MES | F22: 1 | G22: 152,35 | H22: 152.35
A23: INSUMO | B23: 40864 | C23: SEGURO - MENSALISTA (COLETADO CAIXA) | D23: M.O | E23: MES | F23: 1 | G23: 11,80 | H23: 11.8
A24: INSUMO | B24: 41093 | C24: AUXILIAR DE TOPOGRAFO (MENSALISTA) | D24: M.O | E24: MES | F24: 1 | G24: 1.121,51 | H24: 1121.51
A25: INSUMO | B25: 43481 | C25: FERRAMENTAS - FAMILIA TOPOGRAFO - MENSALISTA (ENCARGOS COMPLEMENTARES - COLETADO CAIXA) | D25: FERR. | E25: MES | F25: 1 | G25: 13,21 | H25: 13.21
A26: INSUMO | B26: 43505 | C26: EPI - FAMILIA TOPOGRAFO - MENSALISTA (ENCARGOS COMPLEMENTARES - COLETADO CAIXA) | D26: E.P.I | E26: MES | F26: 1 | G26: 117,12 | H26: 117.12
A27: serviço | B27: 101301 | C27: CURSO DE CAPACITAÇÃO PARA AUXILIAR DE TOPÓGRAFO (ENCARGOS COMPLEMENTARES) - MENSALISTA | D27: CAPACIT. | E27: MES | F27: 1 | G27: 5,71 | H27: 5.71
B28: Observação: | C28: REF:101389 SINAPI
B30: 93561 | C30: DESENHISTA PROJETISTA COM ENCARGOS COMPLEMENTARES | D30: SER.CG | E30: MES | H30: 4210.9 | J30: ='[11]078-20-CAPA'!D$34 -> #REF!
A31: INSUMO | B31: 40807 | C31: DESENHISTA PROJETISTA (MENSALISTA) | D31: M.O | E31: MES | F31: 1 | G31: 3.904,32 | H31: 3904.32
A32: INSUMO | B32: 40863 | C32: EXAMES - MENSALISTA (COLETADO CAIXA) | D32: M.O | E32: MES | F32: 1 | G32: 152,35 | H32: 152.35
A33: INSUMO | B33: 40864 | C33: SEGURO - MENSALISTA (COLETADO CAIXA) | D33: M.O | E33: MES | F33: 1 | G33: 11,80 | H33: 11.8
A34: INSUMO | B34: 43481 | C34: FERRAMENTAS - FAMILIA TOPOGRAFO - MENSALISTA (ENCARGOS COMPLEMENTARES - COLETADO CAIXA) | D34: FERR. | E34: MES | F34: 1 | G34: 13,21 | H34: 13.21
A35: INSUMO | B35: 43505 | C35: EPI - FAMILIA TOPOGRAFO - MENSALISTA (ENCARGOS COMPLEMENTARES - COLETADO CAIXA) | D35: E.P.I | E35: MES | F35: 1 | G35: 117,12 | H35: 117.12
A36: serviço | B36: 95411 | C36: CURSO DE CAPACITAÇÃO PARA DESENHISTA PROJETISTA (ENCARGOS COMPLEMENTARES) - MENSALISTA | D36: CAPACIT. | E36: MES | F36: 1 | G36: 12,10 | H36: 12.1
B37: Observação: | C37: REF:93561 SINAPI
B39: 101452 | C39: SERVENTE DE OBRAS COM ENCARGOS COMPLEMENTARES | D39: SER.CG | E39: MES | H39: 3097.44 | J39: ='[11]078-20-CAPA'!D$34 -> #REF!
A40: INSUMO | B40: 40861 | C40: TRANSPORTE - MENSALISTA (COLETADO CAIXA) | D40: M.O | E40: MES | F40: 1 | G40: 257,26 | H40: 257.26
A41: INSUMO | B41: 40862 | C41: ALIMENTACAO - MENSALISTA (COLETADO CAIXA) | D41: ALIMENT. | E41: MES | F41: 1 | G41: 536,95 | H41: 536.95
A42: INSUMO | B42: 40863 | C42: EXAMES - MENSALISTA (COLETADO CAIXA) | D42: M.O | E42: MES | F42: 1 | G42: 152,35 | H42: 152.35
A43: INSUMO | B43: 40864 | C43: SEGURO - MENSALISTA (COLETADO CAIXA) | D43: M.O | E43: MES | F43: 1 | G43: 11,80 | H43: 11.8
A44: INSUMO | B44: 41084 | C44: SERVENTE DE OBRAS (MENSALISTA) | D44: M.O | E44: MES | F44: 1 | G44: 1.792,67 | H44: 1792.67
A45: INSUMO | B45: 43479 | C45: FERRAMENTAS - FAMILIA SERVENTE - MENSALISTA (ENCARGOS COMPLEMENTARES - COLETADO CAIXA) | D45: FERR. | E45: MES | F45: 1 | G45: 106,33 | H45: 106.33
...

Sheet VERIFICAÇÃO 
A1: GOVERNO DO DISTRITO FEDERAL
A2: SECRETARIA DE ESTADO DE INFRAESTRUTURA E SERVIÇOS PÚBLICOS
A3: COMPANHIA URBANIZADORA DA NOVA CAPITAL DO BRASIL
A4: COTAÇÕES
A5: Nº ESTIMATIVA PRINCIPAL: | B5: ='027.01-21-ORÇ.'!D5 -> ORÇ-DT-027-21-R01-SEORÇA
A6: TÍTULO: | B6: CONTRATAÇÃO DE SERVIÇOS COMUNS DE ENGENHARIA PARA EXECUÇÃO DE LEVANTAMETOS PLANIALTIMETRICOS CADASTRAL GEORREFENCIADO, EM DIVERSOS LOCAIS DO DISTRITO FEDERAL.
A8: COTAÇÃO | B8: MATERIAL | C8: VALOR ADOTADO | D8: UN | E8: EMPRESA | F8: EMPRESA | G8: EMPRESA | H8: EMPRESA | I8: EMPRESA
A10: COTAÇÃO-0001 | B10: JANELA EM VENEZIANA METÁLICA FIXA PARA VENTILAÇÃO PERMANENTE | C10: =MIN(E12:I12) -> 225 | D10: M2 | E10: SERRALHERIA RAUL | F10: JW METAL | I10: VITRALY PORTÕES
C11: CONTATO | E11: serralheriaraul@bol.com.br | F11: jwmetalserralheria@gmail.com | I11: contato@vitralyportoes.com.br
C12: PREÇO | E12: 225 | I12: 236
C13: CNPJ
C14: TELEFONE | E14: (61) 3434-2792 | F14: (61) 9 9250-9097 | I14: (61) 3333-7083
C15: DATA | E15: 43256 | F15: 43256 | I15: 43256
A17: COTAÇÃO-0002 | B17: PERFIL QUADRADO 50X50#2,00MM | C17: =MIN(E19:I19) -> 4.07 | D17: KG | E17: P I N H E I R O | F17: Gravia | I17: MAQUINAS TERRA
C18: CONTATO | E18: FAUSTO | F18: RUSSEL | I18: VINICIUS
C19: PREÇO | E19: 4.07 | F19: 4.77 | I19: 4.18
C20: CNPJ | E20: 00.002.329/0001-91 | F20: 26.487.744/0003-38 | I20: 26.429.167/0001/66
C21: TELEFONE | E21: 3012-8181 | F21: 3403-0444 | I21: 3585-2595
C22: DATA | E22: 43256 | F22: 43256 | I22: 43256
A24: COTAÇÃO-0003 | B24: PERFIL "Z" 50X25MM#2,00MM | C24: =MIN(E26:I26) -> 4.1333333 | D24: KG | E24: P I N H E I R O | F24: Gravia | I24: MAQUINAS TERRA
C25: CONTATO | E25: FAUSTO | F25: RUSSEL | I25: VINICIUS
C26: PREÇO | E26: =17.4/3 -> 5.8 | F26: =12.4/3 -> 4.1333333 | I26: =13/3 -> 4.3333333
C27: CNPJ | E27: 00.002.329/0001-91 | F27: 26.487.744/0003-38 | I27: 26.429.167/0001/66
A28: ENG. TIAGO DE SOUZA OLIVEIRA CREA 249352/D-DF ART: 07201900118303 | C28: TELEFONE | E28: 3012-8181 | F28: 3403-0444 | I28: 3585-2595
C29: DATA | E29: 43256 | F29: 43256 | I29: 43256
A31: COTAÇÃO-0004 | B31: QUADRO DE DISTRIBUIÇÃO METÁLICO DENOMINADO (QDFL-1), TIPO MODULAR, CONFORME NORMA NBR 60439-1/2003 (TIPO TTA) | C31: =MIN(E33:I33) -> 10314.75 | D31: UN | E31: MP PROJETOS | F31: M&M TECNOLOGIA | I31: ARS ENGENHARIA
C32: CONTATO | E32: FERNANDO BALBINO | F32: MARCELO TADEU | I32: PAULO HENRIQUE
C33: PREÇO | E33: 11105.95 | F33: 10314.75 | I33: 11802
C34: CNPJ | E34: - | F34: 20.042.234/001-09 | I34: -
A35: COTAÇÃO-0005 | B35: QUADRO DE DISTRIBUIÇÃO METÁLICO DENOMINADO (QDFL-2), TIPO MODULAR, CONFORME NORMA NBR 60439-1/2003 (TIPO TTA) | C35: =MIN(E37:I37) -> 10314.75 | D35: UN | E35: MP PROJETOS | F35: M&M TECNOLOGIA | I35: ARS ENGENHARIA
C36: CONTATO | E36: FERNANDO BALBINO | F36: MARCELO TADEU | I36: PAULO HENRIQUE
C37: PREÇO | E37: 11105.95 | F37: 10314.75 | I37: 11802
C38: CNPJ | E38: - | F38: 20.042.234/001-09 | I38: -
C39: TELEFONE | E39: 3427-3309 | F39: 3427-3309 | I39: 3037-8952
C40: DATA | E40: 43290 | F40: 43290 | I40: 43286
A42: COTAÇÃO-0006 | B42: QUADRO DE DISTRIBUIÇÃO METÁLICO DENOMINADO (QPDEN-1), TIPO MODULAR, CONFORME NORMA NBR 60439-1/2003 (TIPO TTA) | C42: =MIN(E44:I44) -> 225675 | D42: UN | E42: MP PROJETOS | F42: M&M TECNOLOGIA | I42: ARS ENGENHARIA
C43: CONTATO | E43: FERNANDO BALBINO | F43: MARCELO TADEU | I43: PAULO HENRIQUE
C44: PREÇO | E44: 242985.6 | F44: 225675 | I44: 258268
C45: CNPJ | E45: - | F45: 20.042.234/001-09 | I45: -
C46: TELEFONE | E46: 3427-3309 | F46: 3427-3309 | I46: 3037-8952
...

Sheet ENCARGOS

Sheet BDI OBRA
B2: BENEFÍCIOS E DESPESAS INDIRETAS
B3: Edificações
B4: SEM Desoneração da Folha de Pagamento
H5: Médio
B6: Grupo | C6: Componentes | H6: Incidências
B7: Despesas Indiretas
B8: A | C8: Administração Central | H8: =INDEX('[12]Quadro Comparativo'!C7:E7,MATCH($H$5,'[12]Quadro Comparativo'!C6:E6,0)) -> 0.04
C9: Seguros + Garantias | H9: =INDEX('[12]Quadro Comparativo'!F$7:H$7,MATCH($H$5,'[12]Quadro Comparativo'!F$6:H$6,0)) -> 0.008
C10: Riscos | H10: =INDEX('[12]Quadro Comparativo'!I$7:K$7,MATCH($H$5,'[12]Quadro Comparativo'!I$6:K$6,0)) -> 0.0127
C11: Despesas Financeiras | H11: =INDEX('[12]Quadro Comparativo'!L$7:N$7,MATCH($H$5,'[12]Quadro Comparativo'!L$6:N$6,0)) -> 0.0123
B12: Subtotal A | H12: =SUM(H8:H11) -> 0.073
B13: Tributos
B14: B | C14: COFINS - Contribuição Para o Financiamento Seguridade Social | H14: 0.03
C15: PIS - Programa de Integração Social | H15: 0.0065
C16: ISS - Imposto Sobre Serviços de Qualquer Natureza | H16: =INDEX('[12]Quadro Geral'!$B$5:$G$11,MATCH($B$3,'[12]Quadro Geral'!$A$5:$A$11,0),MATCH(C16,'[12]Quadro Geral'!$B$4:$G$4,0)) -> 0.01
C17: CPRB - Contribuição Previdenciária Sobre Receita Bruta | H17: =IF(B4="COM Desoneração da Folha de Pagamento",0.045,0) -> 0
B18: Subtotal B | H18: =SUM(H14:H17) -> 0.0465
B19: Bonificação
B20: C | C20: Lucro | H20: =INDEX('[12]Quadro Comparativo'!O$7:Q$7,MATCH($H$5,'[12]Quadro Comparativo'!O$6:Q$6,0)) -> 0.074
B21: Subtotal C | H21: =SUM(H20:H20) -> 0.074
B22: BDI | H22: =((((((1+(H8+H9+H10))*((1+H11)*(1+H21)))/(1-H18))-1)*100))/100 -> 0.20944296
B24: FÓRMULA PARA CÁLCULO DO BDI
B25: BDI = | C25: [( | D25: (1 + (AC + S + R + G)) x ((1 + DF) X (1 + L)) | E25: ) | F25: -1 | G25: ] | H25: X 100
D26: (1 - I)
B28: AC | C28: Taxa representativa das despesas de rateio da Administração Central
B29: S | C29: Taxa Representativa de Seguros
B30: R | C30: Taxa Representativa de Riscos
B31: G | C31: Taxa Representativa de Garantias
B32: DF | C32: Taxa Representativa de Despesas Financeiras
B33: L | C33: Taxa Representativa de Lucro
B34: I | C34: Taxa Representativa de Incidência de Impostos
C35: Taxa Representativa da Incidênca de Impostos é aplicada sobre o preço de venda da prestação do serviço, enquanto que as demais taxas são aplicadas sobre o custo
B37: Referência:
B38: Relatório do Acordão n° 2.622/2013 - TCU/Plenário
B43: Edificações
B44: Vias Urbanas e Rodovias (incluindo obras de arte especiais)
B45: ='[12]Quadro Comparativo'!A9 -> Drenagem Pluvial, Redes de Abastecimento de Água, Coleta de Esgoto e Construções Correlatas
B46: ='[12]Quadro Comparativo'!A10 -> Drenagem Pluvial com Pavimentação
B47: ='[12]Quadro Comparativo'!A11 -> Paisagismo, Parques e Jardins
B48: ='[12]Quadro Comparativo'!A12 -> Obras de Menor Complexidade (Praças, Calçadas, Ciclovias, Meios Fios, Quiosques e Obras Correlatas)
...

Sheet INSUMOS
A1: PRECOS DE INSUMOS
A3: MES DE COLETA: 01/2022
A4: LOCALIDADE: 4495 - BRASILIA
A5: ENCARGOS SOCIAIS (%) HORISTA 81,53 MENSALISTA 46,82
A7: CODIGO | B7: DESCRICAO DO INSUMO | C7: UNIDADE | D7: PRECO MEDIANO R$ | E7: TIPO
A8: 2418 | B8: !EM PROCESSO DE DESATIVACAO! DOBRADICA EM ACO/FERRO, 3" X 2 1/2", E= 1,2 A 1,8 MM, SEM ANEL, CROMADO OU ZINCADO, TAMPA BOLA, COM PARAFUSOS | C8: UN | D8: 9,84 | E8: MAT.
A9: 3378 | B9: !EM PROCESSO DE DESATIVACAO! HASTE DE ATERRAMENTO EM ACO COM 3,00 M DE COMPRIMENTO E DN = 3/4", REVESTIDA COM BAIXA CAMADA DE COBRE, SEM CONECTOR | C9: UN | D9: 113,08 | E9: MAT.
A10: 3380 | B10: !EM PROCESSO DE DESATIVACAO! HASTE DE ATERRAMENTO EM ACO COM 3,00 M DE COMPRIMENTO E DN = 5/8", REVESTIDA COM BAIXA CAMADA DE COBRE, COM CONECTOR TIPO GRAMPO | C10: UN | D10: 79,16 | E10: MAT.
A11: 3379 | B11: !EM PROCESSO DE DESATIVACAO! HASTE DE ATERRAMENTO EM ACO COM 3,00 M DE COMPRIMENTO E DN = 5/8", REVESTIDA COM BAIXA CAMADA DE COBRE, SEM CONECTOR | C11: UN | D11: 76,43 | E11: MAT.
A12: 615 | B12: !EM PROCESSO DE DESATIVACAO! JANELA BASCULANTE, ACO, COM BATENTE/REQUADRO, 60 X 80 CM (SEM VIDROS) | C12: M2 | D12: 501,05 | E12: MAT.
A13: 606 | B13: !EM PROCESSO DE DESATIVACAO! JANELA DE CORRER, ACO, BATENTE/REQUADRO DE 6 A 14 CM, QUADRICULADA, PINTURA ANTICORROSIVA, SEM VIDRO, BANDEIRA COM BASCULA, 4 FLS, 120 X 150 CM (A X L) | C13: M2 | D13: 787,10 | E13: MAT.
A14: 13382 | B14: !EM PROCESSO DE DESATIVACAO! LUMINARIA FECHADA P/ ILUMINACAO PUBLICA, TIPO ABL 50/F OU EQUIV, P/ LAMPADA A VAPOR DE MERCURIO 400W | C14: UN | D14: 227,02 | E14: MAT.
A15: 11199 | B15: !EM PROCESSO DE DESATIVACAO!JANELA DE CORRER, ACO, BATENTE/REQUADRO DE 6 A 14 CM, COM DIVISAO HORIZ , PINT ANTICORROSIVA, SEM VIDRO, BANDEIRA COM BASCULA, 4 FLS, 120 X 150 CM (A X L) | C15: UN | D15: 1.129,41 | E15: MAT.
A16: 21136 | B16: !EM PROCESSO DESATIVACAO! ELETRODUTO EM ACO GALVANIZADO ELETROLITICO, LEVE, DIAMETRO 1", PAREDE DE 0,90 MM | C16: M | D16: 16,27 | E16: MAT.
A17: 21128 | B17: !EM PROCESSO DESATIVACAO! ELETRODUTO EM ACO GALVANIZADO ELETROLITICO, LEVE, DIAMETRO 3/4", PAREDE DE 0,90 MM | C17: M | D17: 12,59 | E17: MAT.
A18: 21130 | B18: !EM PROCESSO DESATIVACAO! ELETRODUTO EM ACO GALVANIZADO ELETROLITICO, SEMI-PESADO, DIAMETRO 1 1/2", PAREDE DE 1,20 MM | C18: M | D18: 31,80 | E18: MAT.
A19: 21135 | B19: !EM PROCESSO DESATIVACAO! ELETRODUTO EM ACO GALVANIZADO ELETROLITICO, SEMI-PESADO, DIAMETRO 1 1/4", PAREDE DE 1,20 MM | C19: M | D19: 31,30 | E19: MAT.
... A5222: 41776 | B5222: VIGIA NOTURNO, HORA EFETIVAMENTE TRABALHADA DE 22 H AS 5 H (COM ADICIONAL NOTURNO) | C5222: H | D5222: 13,81 | E5222: M.O
A5224: TOTAL DE INSUMOS : 5215
A5225: 34345 | B5225: VIGIA DIURNO | C5225: H | D5225: 12.14 | E5225: M.O
A5226: 41096 | B5226: VIGIA DIURNO (MENSALISTA) | C5226: MES | D5226: 2164.39 | E5226: M.O
A5227: 41776 | B5227: VIGIA NOTURNO, HORA EFETIVAMENTE TRABALHADA DE 22 H AS 5 H (COM ADICIONAL NOTURNO) | C5227: H | D5227: 16.64 | E5227: M.O
A5229: TOTAL DE INSUMOS : 5220
A5230: 11786 | B5230: VASO SANITARIO SIFONADO INFANTIL LOUCA BRANCA | C5230: UN | D5230: 253.8 | E5230: MAT.
A5231: 13726 | B5231: VASSOURA MECANICA REBOCAVEL COM ESCOVA CILINDRICA LARGURA UTIL DE VARRIMENTO = 2,44M | C5231: UN | D5231: 32618.97 | E5231: MAT.
A5232: 38400 | B5232: VASSOURA 40 CM COM CABO | C5232: UN | D5232: 12.73 | E5232: MAT.
A5233: 12627 | B5233: VEDACAO DE CALHA, EM BORRACHA COR PRETA, MEDIDA ENTRE 119 E 170 MM, PARA DRENAGEM PLUVIAL PREDIAL | C5233: UN | D5233: 0.43 | E5233: MAT.
A5234: 6138 | B5234: VEDACAO PVC, 100 MM, PARA SAIDA VASO SANITARIO | C5234: UN | D5234: 2.03 | E5234: MAT.
A5235: 39996 | B5235: VERGALHAO ZINCADO ROSCA TOTAL, 1/4 " (6,3 MM) | C5235: M | D5235: 2 | E5235: MAT.
A5236: 10478 | B5236: VERNIZ POLIURETANO BRILHANTE PARA MADEIRA, COM FILTRO SOLAR, USO INTERNO E EXTERNO | C5236: L | D5236: 26.46 | E5236: MAT.
A5237: 40514 | B5237: VERNIZ POLIURETANO BRILHANTE PARA MADEIRA, SEM FILTRO SOLAR, USO INTERNO E EXTERNO | C5237: L | D5237: 23.44 | E5237: MAT.
A5238: 10475 | B5238: VERNIZ SINTETICO BRILHANTE PARA MADEIRA TIPO COPAL, USO INTERNO | C5238: L | D5238: 23.28 | E5238: MAT.
A5239: 10481 | B5239: VERNIZ SINTETICO BRILHANTE PARA MADEIRA, COM FILTRO SOLAR, USO INTERNO E EXTERNO (BASE SOLVENTE) | C5239: L | D5239: 25.39 | E5239: MAT.
A5240: 4031 | B5240: VEU DE VIDRO/VEU DE SUPERFICIE 30 A 35 G/M2 | C5240: M2 | D5240: 22.67 | E5240: MAT.
A5241: 4030 | B5241: VEU POLIESTER | C5241: M2 | D5241: 4.82 | E5241: MAT.
... A5294: 11157 | B5294: WASH PRIMER PARA TINTA AUTOMOTIVA | C5294: GL | D5294: 121.45 | E5294: MAT.

Sheet SERVIÇOS
A1: PCI.817.01 - CUSTO DE COMPOSIÇÕES - SINTÉTICO DATA DE EMISSÃO: 11/02/2022 23:21:50 DATA DE RT: 11/02/2022
A2: ENCARGOS SOCIAIS DESONERADOS: 81,53%(HORA) 46,82%(MÊS)
A3: ABRANGÊNCIA : NACIONAL LOCALIDADE : BRASILIA DATA DE PREÇO : 01/2022 REFERÊNCIA COLETA : MEDIANO
A5: CODIGO DA COMPOSICAO | B5: DESCRICAO DA COMPOSICAO | C5: UNIDADE | D5: CUSTO TOTAL | E5: CLASSE
A6: CODIGO DA COMPOSICAO | B6: DESCRICAO DA COMPOSICAO | C6: UNIDADE | D6: CUSTO TOTAL | E6: TIPO
A8: 97141 | B8: ASSENTAMENTO DE TUBO DE FERRO FUNDIDO PARA REDE DE ÁGUA, DN 80 MM, JUNTA ELÁSTICA, INSTALADO EM LOCAL COM NÍVEL ALTO DE INTERFERÊNCIAS (NÃO INCLUI FORNECIMENTO). AF_11/2017 | C8: M | D8: 6,50 | E8: SER.CG
A9: 97142 | B9: ASSENTAMENTO DE TUBO DE FERRO FUNDIDO PARA REDE DE ÁGUA, DN 100 MM, JUNTA ELÁSTICA, INSTALADO EM LOCAL COM NÍVEL ALTO DE INTERFERÊNCIAS (NÃO INCLUI FORNECIMENTO). AF_11/2017 | C9: M | D9: 7,21 | E9: SER.CG
A10: 97143 | B10: ASSENTAMENTO DE TUBO DE FERRO FUNDIDO PARA REDE DE ÁGUA, DN 150 MM, JUNTA ELÁSTICA, INSTALADO EM LOCAL COM NÍVEL ALTO DE INTERFERÊNCIAS (NÃO INCLUI FORNECIMENTO). AF_11/2017 | C10: M | D10: 9,06 | E10: SER.CG
A11: 97144 | B11: ASSENTAMENTO DE TUBO DE FERRO FUNDIDO PARA REDE DE ÁGUA, DN 200 MM, JUNTA ELÁSTICA, INSTALADO EM LOCAL COM NÍVEL ALTO DE INTERFERÊNCIAS (NÃO INCLUI FORNECIMENTO). AF_11/2017 | C11: M | D11: 10,90 | E11: SER.CG
A12: 97145 | B12: ASSENTAMENTO DE TUBO DE FERRO FUNDIDO PARA REDE DE ÁGUA, DN 250 MM, JUNTA ELÁSTICA, INSTALADO EM LOCAL COM NÍVEL ALTO DE INTERFERÊNCIAS (NÃO INCLUI FORNECIMENTO). AF_11/2017 | C12: M | D12: 12,76 | E12: SER.CG
A13: 97146 | B13: ASSENTAMENTO DE TUBO DE FERRO FUNDIDO PARA REDE DE ÁGUA, DN 300 MM, JUNTA ELÁSTICA, INSTALADO EM LOCAL COM NÍVEL ALTO DE INTERFERÊNCIAS (NÃO INCLUI FORNECIMENTO). AF_11/2017 | C13: M | D13: 14,63 | E13: SER.CG
A14: 97147 | B14: ASSENTAMENTO DE TUBO DE FERRO FUNDIDO PARA REDE DE ÁGUA, DN 350 MM, JUNTA ELÁSTICA, INSTALADO EM LOCAL COM NÍVEL ALTO DE INTERFERÊNCIAS (NÃO INCLUI FORNECIMENTO). AF_11/2017 | C14: M | D14: 16,50 | E14: SER.CG
A15: 97148 | B15: ASSENTAMENTO DE TUBO DE FERRO FUNDIDO PARA REDE DE ÁGUA, DN 400 MM, JUNTA ELÁSTICA, INSTALADO EM LOCAL COM NÍVEL ALTO DE INTERFERÊNCIAS (NÃO INCLUI FORNECIMENTO). AF_11/2017 | C15: M | D15: 18,34 | E15: SER.CG
A16: 97149 | B16: ASSENTAMENTO DE TUBO DE FERRO FUNDIDO PARA REDE DE ÁGUA, DN 450 MM, JUNTA ELÁSTICA, INSTALADO EM LOCAL COM NÍVEL ALTO DE INTERFERÊNCIAS (NÃO INCLUI FORNECIMENTO). AF_11/2017 | C16: M | D16: 20,24 | E16: SER.CG
A17: 97150 | B17: ASSENTAMENTO DE TUBO DE FERRO FUNDIDO PARA REDE DE ÁGUA, DN 500 MM, JUNTA ELÁSTICA, INSTALADO EM LOCAL COM NÍVEL ALTO DE INTERFERÊNCIAS (NÃO INCLUI FORNECIMENTO). AF_11/2017 | C17: M | D17: 27,23 | E17: SER.CG
A18: 97151 | B18: ASSENTAMENTO DE TUBO DE FERRO FUNDIDO PARA REDE DE ÁGUA, DN 600 MM, JUNTA ELÁSTICA, INSTALADO EM LOCAL COM NÍVEL ALTO DE INTERFERÊNCIAS (NÃO INCLUI FORNECIMENTO). AF_11/2017 | C18: M | D18: 31,73 | E18: SER.CG
A19: 97152 | B19: ASSENTAMENTO DE TUBO DE FERRO FUNDIDO PARA REDE DE ÁGUA, DN 700 MM, JUNTA ELÁSTICA, INSTALADO EM LOCAL COM NÍVEL ALTO DE INTERFERÊNCIAS (NÃO INCLUI FORNECIMENTO). AF_11/2017 | C19: M | D19: 35,94 | E19: SER.CG
... A7208: 101460 | B7208: VIGIA DIURNO COM ENCARGOS COMPLEMENTARES | C7208: MES | D7208: 3.079,51 | E7208: M.O

Sheet Reajustamento INCC
A1: Cálculo do reajustamento para adequação de preços
B3: ICC COLUNA-18=160981 TOTAL BRASÍLIA
B4: MÃO-DE-OBRA | C4: MAT EQUIP SERV | F4: TOTAL | H4: TOTAL EDIFICAÇÃO
B5: COL-20 161007 | C5: COL-19 160991 | D5: var.%acumul.material | E5: var.%acumul.total | F5: COL-18 160981 | G5: var.%acumul.total | H5: COL-35 159428
A6: MAI-19 | B6: 882.296 | C6: 549.532 | D6: 1.0035483 | E6: 1.0016373 | F6: 694.354 | G6: 1.0003336 | H6: 755.625
A7: JUN-19 | B7: 882.296 | C7: 551.762 | D7: 1.004058 | E7: 1.0018766 | F7: 695.657 | G7: 1.008839 | H7: 762.304
A8: JUL-19 | B8: 882.296 | C8: 553.242 | D8: 1.0026823 | E8: 1.0012434 | F8: 696.522 | G8: 1.0057654 | H8: 766.699
A9: AGO-19 | B9: 907.975 | C9: 554.213 | D9: 1.0017551 | E9: 1.0164144 | F9: 707.955 | G9: 1.0042416 | H9: 769.951
A10: SET-19 | B10: 926.038 | C10: 555.73 | D10: 1.0027372 | E10: 1.0120474 | F10: 716.484 | G10: 1.0046354 | H10: 773.52
A11: OUT-19 | B11: 926.038 | C11: 557.179 | D11: 1.0026074 | E11: 1.0011808 | F11: 717.33 | G11: 1.0018345 | H11: 774.939
A12: NOV-19 | B12: 926.038 | C12: 557.509 | D12: 1.0005923 | E12: 1.0002691 | F12: 717.523 | G12: 1.0003691 | H12: 775.225
A13: DEZ-19 | B13: 926.038 | C13: 558.904 | D13: 1.0025022 | E13: 1.0011359 | F13: 718.338 | G13: 1.002082 | H13: 776.839
A14: JAN-20 | B14: 926.038 | C14: 563.112 | D14: 1.007529 | E14: 1.0034218 | F14: 720.796 | G14: 1.0037678 | H14: 779.766
A15: FEV-20 | B15: 926.038 | C15: 566.813 | D15: 1.0065724 | E15: 1.0029995 | F15: 722.958 | G15: 1.0032959 | H15: 782.336
A16: MAR-20 | B16: 926.038 | C16: 568.767 | D16: 1.0034473 | E16: 1.0015782 | F16: 724.099 | G16: 1.002559 | H16: 784.338
A17: ABR-20 | B17: 926.038 | C17: 570.086 | D17: 1.0023191 | E17: 1.0010648 | F17: 724.87 | G17: 1.0022082 | H17: 786.07
... A29: ABR-21 | B29: 949.49 | C29: 669.482 | D29: 1.0122762 | E29: 1.0060181 | F29: 792.864 | G29: 1.0090041 | H29: 888.191
A30: MAI-21 | B30: 975.991 | C30: 680.392 | D30: =C30/C29 -> 1.0162962 | E30: =F30/F29 -> 1.0221816 | F30: 810.451 | G30: =H30/H29 -> 1.0221889 | H30: 907.899
E32: SERVIÇO
E33: multiplicador | F33: Variação acumulada
E34: =PRODUCT(E7:E30) -> 1.1672015
E36: i 0 / i 1 | F36: Número do índice
E37: =F30/F6 -> 1.1672015 | F37: NAI19 A MAI21
E38: COL. 18 160981
B40: unidade | C40: Descrição do ítem | F40: valor atual | G40: valor reajustado
B41: 1 | C41: Projetos/Relatórios fotográficos/Memoriais descritivos/Cadernetas de campo/Arquivos digitais | F41: 850 | G41: =F41*E37 -> 992.12124
B42: 2
B43: 3 | I43: =220*E37 -> 256.78432
B44: 4

Sheet Reajustamento INCC-DI
A1: INCC-DI - CÁLCULO DO REAJUSTAMENTO
A2: Mês | B2: Índice | C2: Variação (%)
C3: No mês | D3: No ano | E3: 12 meses
A4: 34547 | B4: 100 | C4: ... | D4: ... | E4: ...
A5: 34578 | B5: 100.381 | C5: 0.38 | D5: ... | E5: ...
A6: 34608 | B6: 101.71 | C6: 1.32 | D6: ... | E6: ...
A7: 34639 | B7: 104.11 | C7: 2.36 | D7: ... | E7: ...
A8: 34669 | B8: 105.487 | C8: 1.32 | D8: ... | E8: ...
A9: 34700 | B9: 109.176 | C9: 3.5 | D9: 3.5 | E9: ...
A10: 34731 | B10: 111.453 | C10: 2.09 | D10: 5.66 | E10: ...
A11: 34759 | B11: 115.129 | C11: 3.3 | D11: 9.14 | E11: ...
A12: 34790 | B12: 117.774 | C12: 2.3 | D12: 11.65 | E12: ...
A13: 34820 | B13: 128.098 | C13: 8.77 | D13: 21.43 | E13: ...
A14: 34851 | B14: 132.09 | C14: 3.12 | D14: 25.22 | E14: ...
A15: 34881 | B15: 133.524 | C15: 1.09 | D15: 26.58 | E15: ...
A16: 34912 | B16: 134.353 | C16: 0.62 | D16: 27.36 | E16: 34.35
A17: 34943 | B17: 135.318 | C17: 0.72 | D17: 28.28 | E17: 34.8
A18: 34973 | B18: 136.484 | C18: 0.86 | D18: 29.38 | E18: 34.19
A19: 35004 | B19: 137.478 | C19: 0.73 | D19: 30.33 | E19: 32.05
A20: 35034 | B20: 138.664 | C20: 0.86 | D20: 31.45 | E20: 31.45
A21: 35065 | B21: 140.766 | C21: 1.52 | D21: 1.52 | E21: 28.93
A22: 35096 | B22: 140.929 | C22: 0.12 | D22: 1.63 | E22: 26.45
A23: 35125 | B23: 142.313 | C23: 0.98 | D23: 2.63 | E23: 23.61
A24: 35156 | B24: 142.663 | C24: 0.25 | D24: 2.88 | E24: 21.13
A25: 35186 | B25: 145.742 | C25: 2.16 | D25: 5.1 | E25: 13.77
A26: 35217 | B26: 147.984 | C26: 1.54 | D26: 6.72 | E26: 12.03
A27: 35247 | B27: 149.095 | C27: 0.75 | D27: 7.52 | E27: 11.66
... A320: 44166 | B320: 845.268 | C320: 0.7 | D320: 8.81 | E320: 8.81
A321: 44197 | B321: 852.809 | C321: 0.89 | D321: 0.89 | E321: 9.37 | F321: =ROUND((B321/B320-1)*100,2) -> 0.89 | G321: =ROUND((B321/$B$320-1)*100,2) -> 0.89 | H321: =ROUND((B321/B309-1)*100,2) -> 9.37
A322: 44228 | B322: 868.929 | C322: 1.89 | D322: 2.8 | E322: 11.07 | F322: =ROUND((B322/B321-1)*100,2) -> 1.89 | G322: =ROUND((B322/$B$320-1)*100,2) -> 2.8 | H322: =ROUND((B322/B310-1)*100,2) -> 11.07
A323: 44256 | B323: 880.265 | C323: 1.3 | D323: 4.14 | E323: 12.23 | F323: =ROUND((B323/B322-1)*100,2) -> 1.3 | G323: =ROUND((B323/$B$320-1)*100,2) -> 4.14 | H323: =ROUND((B323/B311-1)*100,2) -> 12.23
A324: 44287 | B324: 888.191 | C324: 0.9 | D324: 5.08 | E324: 12.99 | F324: =ROUND((B324/B323-1)*100,2) -> 0.9 | G324: =ROUND((B324/$B$320-1)*100,2) -> 5.08 | H324: =ROUND((B324/B312-1)*100,2) -> 12.99
A325: 44317 | B325: 907.899 | C325: 2.22 | D325: 7.41 | E325: 15.26 | F325: =ROUND((B325/B324-1)*100,2) -> 2.22 | G325: =ROUND((B325/$B$320-1)*100,2) -> 7.41 | H325: =ROUND((B325/B313-1)*100,2) -> 15.26
A326: 44348 | B326: 927.512 | C326: 2.16 | D326: 9.73 | E326: 17.36 | F326: =ROUND((B326/B325-1)*100,2) -> 2.16 | G326: =ROUND((B326/$B$320-1)*100,2) -> 9.73 | H326: =ROUND((B326/B314-1)*100,2) -> 17.36
A327: 44378 | B327: 935.359 | C327: 0.85 | D327: 10.66 | E327: 16.98 | F327: =ROUND((B327/B326-1)*100,2) -> 0.85 | G327: =ROUND((B327/$B$320-1)*100,2) -> 10.66 | H327: =ROUND((B327/B315-1)*100,2) -> 16.98
A328: 44409 | B328: 939.699 | C328: 0.46 | D328: 11.17 | E328: 16.68 | F328: =ROUND((B328/B327-1)*100,2) -> 0.46 | G328: =ROUND((B328/$B$320-1)*100,2) -> 11.17 | H328: =ROUND((B328/B316-1)*100,2) -> 16.68
A329: 44440 | B329: 944.52 | C329: 0.51 | D329: 11.74 | E329: 15.93 | F329: =ROUND((B329/B328-1)*100,2) -> 0.51 | G329: =ROUND((B329/$B$320-1)*100,2) -> 11.74 | H329: =ROUND((B329/B317-1)*100,2) -> 15.93
A330: 44470 | B330: 952.596 | C330: 0.86 | D330: 12.7 | E330: 14.94 | F330: =ROUND((B330/B329-1)*100,2) -> 0.86 | G330: =ROUND((B330/$B$320-1)*100,2) -> 12.7 | H330: =ROUND((B330/B318-1)*100,2) -> 14.94
A331: 44501 | B331: 959.001 | C331: 0.67 | D331: 13.46 | E331: 14.25 | F331: =ROUND((B331/B330-1)*100,2) -> 0.67 | G331: =ROUND((B331/$B$320-1)*100,2) -> 13.46 | H331: =ROUND((B331/B319-1)*100,2) -> 14.25
A332: 44531 | B332: 962.321 | C332: 0.35 | D332: 13.85 | E332: 13.85 | F332: =ROUND((B332/B331-1)*100,2) -> 0.35 | G332: =ROUND((B332/$B$320-1)*100,2) -> 13.85 | H332: =ROUND((B332/B320-1)*100,2) -> 13.85
...
