Workbook
Name __SM1: #REF!
Name __SM1: #REF!
Name __SM1: #REF!
Name __SM1: #REF!
Name __SM1: #REF!
Name __SM1: #REF!
Name __SM1: #REF!
Name __SM1: #REF!
Name __SM1: #REF!
Name __SM1: #REF!
Name __SM10: #REF!
Name __SM10: #REF!
Name __SM10: #REF!
Name __SM10: #REF!
Name __SM10: #REF!
Name __SM10: #REF!
Name __SM10: #REF!
Name __SM10: #REF!
Name __SM10: #REF!
Name __SM11: #REF!
Name __SM11: #REF!
Name __SM11: #REF!
Name __SM11: #REF!
Name __SM11: #REF!
Name __SM11: #REF!
Name __SM11: #REF!
Name __SM11: #REF!
Name __SM11: #REF!
Name __SM12: #REF!
Name __SM12: #REF!
Name __SM12: #REF!
Name __SM12: #REF!
Name __SM12: #REF!
Name __SM12: #REF!
Name __sm13: #REF!
Name __sm13: #REF!
Name __sm13: #REF!
Name __sm13: #REF!
Name __sm13: #REF!
Name __sm13: #REF!
Name __SM2: #REF!
Name __SM2: #REF!
Name __SM2: #REF!
Name __SM2: #REF!
Name __SM2: #REF!
Name __SM2: #REF!
Name __SM3: #REF!
Name __SM3: #REF!
Name __SM3: #REF!
Name __SM3: #REF!
Name __SM3: #REF!
Name __SM3: #REF!
Name __SM4: #REF!
Name __SM4: #REF!
Name __SM4: #REF!
Name __SM4: #REF!
Name __SM4: #REF!
Name __SM4: #REF!
Name __SM5: #REF!
Name __SM5: #REF!

Sheet 036-20-CAPA
A1: VER COMENTÁRIOS NAS CÉLULAS ANTES DE PREENCHER. FAVOR MANTER TODOS OS COMENTÁRIOS DAS CÉLULAS PARA FACILITAR A CONFERÊNCIA DO ARQUIVO Sempre consultar a Cooordenação de arquivos da DITEC para quaisquer dúvidas.
B8: GOVERNO DO DISTRITO FEDERAL
B9: SECRETARIA DE ESTADO DE INFRAESTRUTURA E SERVIÇOS PÚBLICOS
B10: COMPANHIA URBANIZADORA DA NOVA CAPITAL DO BRASIL
B11: CAPA DA PLANILHA ESTIMATIVA
B13: Nº ESTIMATIVA: | C13: 036/2020-SEORÇA-SDS-R02
B14: TÍTULO: | C14: CONTRATAÇÃO DE EMPRESA DE ENGENHARIA PARA EXECUÇÃO DE OBRA DE REVITALIZAÇÃO DA PONTE JK, INCLUINDO ELABORAÇÃO DE PROJETOS EXECUTIVOS
B15: Nº PROJETO: | C15: PROJ-DE-018-20
B16: NOME PROJETO: | C16: REVITALIZAÇÃO DA PONTE JK, INCLUINDO ELABORAÇÃO DE PROJETOS EXECUTIVOS
B17: ENDEREÇO: | C17: LAGO PARANOÁ, LIGAÇÃO DA SHIS QL 26 DO LAGO SUL AO SCES TRECHO 02 DO PLANO PILOTO
B18: PRAZO: | C18: 600 dias corridos
B19: DATA: | C19: 44370
B20: ORÇAMENTISTA(S): | C20: ENGº. GILMAR DA MOTA FERNANDES - CREA 23785/D-DF - DIRETORIA DE EDIFICAÇÕES ENGº. FLÁVIO NASSIM BITTAR - Matr.0972873-2 - DIRETORIA DE URBANIZAÇÃO
B21: DOCUMENTO E SISPROT:
B22: PROCESSO: | C22: 00112-00007799/2020-87
B23: TABELA REFERÊNCIA: | C23: SICRO JANEIRO 2020 / SINAPI JANEIRO 2020 - SEM DESONERAÇÃO
B24: SISOBRAS: | C24: ÁREA DE CONSTRUÇÃO/RECUPERAÇÃO - 28.800,00 m²
B25: OBSERVAÇÕES: | C25: 01 - A estimativa teve como referência cotações de mercado de empresas especializadas e o Preço praticado pelo SICRO e SINAPI (Canteiro de obra); 02 - O valor estimado informado já inclui todos os impostos, tributos, benefícios e custos administrativos; 03 - O BDI praticado na planilha é de 18,20% para os serviços no geral e de 10,89% para os serviços de Pavimentação em DERMASFALT, fornecimento de matérias para os estais/tirantes, aparelhos de apoio e Juntas de Dilatação, conforme demostrado na estimativa de Preços: 04 - Os custos apresentados na planilha do canteiro de obra tem como referência a tabela SINAPI de janeiro de 2020 para os itens de construções provisórias e ligações provisórias, e custo SICRO para os demais itens, conforme solicitado pelo Departamento Técnico da Diretoria de Edificações; 05 - Os encargos sociais, são os praticados pela tabela SICRO de janeiro de 2020 NÃO DESONERADA e SINAPI janeiro de 2020 NÃO DESONERADA. 06 - Os Custos de projetos tiveram como referência as práticas do Instituto de Engenharia de São Paulo - IESP e os índices de M.O elencados no Caderno de especificações de estrutura. 07 - Nas composições que apresentarem custo de insumos referente a transporte zerados deverão ser desprezados, uma vez que a obra será realizada no centro da Capital, dessa forma, esses custos não deverão fazer parte da planilha; 08 - Foi realizado cotação para os materiais mais representativos na classificação ABC, mesmo aqueles que constam nas tabelas de referências; 9 - Foi considerado adicional noturno para mão de obra na substituição das juntas de dilatação. 10 - Todas as cotações com data superior a Janeiro de 2020 foram retroagidas para a data base do orçamento. 11 - A estimativa Nº 25/20 sem desoneração referente a Execução de Contenção da ponte JK, foi desenvolvida e fornecida pela Diretoria de Urbanização e incluída nesta Capa de acordo com o solicitado no despacho 43651122 processo SEI nº 00112-00014823/2018-10.
B26: RESP. CAPA: | C26: ENGº. GILMAR DA MOTA FERNANDES - CREA 23785/D-DF
B28: ESTIMATIVAS DIRETORIA DE EDIFICAÇÕES:
B29: 036.01/2020-SEORÇA: Serviços gerais (ponte) ......................................................................................................... | D29: ='036.01-20-SERV. GERAIS'!I378 -> 42385898
B30: 036.02/2020-SEORÇA: Canteiro de obras ......................................................................................................... | D30: ='036.02-20-CANTEIRO.'!I199 -> 2197793.4
B31: VALOR ESTIMADO 1 ......................................................................................................................... | D31: =SUM(D28:D30) -> 44583691
B32: ESTIMATIVAS DIRETORIA DE URBANIZAÇÃO:
B33: SSN 25/20 SEM DESONERAÇÃO ......................................................................................................... | D33: 177348.91
B34: VALOR ESTIMADO 2 ......................................................................................................................... | D34: =D33 -> 177348.91
B35: VALOR TOTAL ESTIMADO ......................................................................................................................... | D35: =D34+D31 -> 44761040
B37: NOTAS: | C37: *Esta planilha é orientativa. Desta forma, é de inteira responsabilidade do contratado as quantidades e valores necessários a completa execução da obra. *Havendo irregularidades neste instrumento, entre em contato com a Ouvidoria de Combate a Corrupção, no telefone 0800-6449060
B40: ENG. GILMAR DA MOTA FERNANDES CREA 23785/D-DF ART: 0720200027743
B42: OBRA C/BDI | C42: =D35 -> 44761040
B43: ADM LOCAL C/BDI | C43: ='036.01-20-SERV. GERAIS'!I376 -> 3220210.9
B44: % ADM local | C44: =C43/C42 -> 0.071942271
B45: R$ / M2 | C45: =D35/28800 -> 1554.2028
B49: DESPESAS DIVERSAS 5% | C49: =(C43/(1+BDI_O.A.E!H22))*0.05 -> 136217.47
C50: =C49/20 -> 6810.8733

Sheet 036.01-20-SERV. GERAIS
B2: GOVERNO DO DISTRITO FEDERAL
B3: SECRETARIA DE ESTADO DE INFRAESTRUTURA E SERVIÇOS PÚBLICOS
B4: COMPANHIA URBANIZADORA DA NOVA CAPITAL DO BRASIL
B5: PLANILHA ESTIMATIVA DOS SERVIÇOS DE RECUPERAÇÃO E MANUTENÇÃO
B6: Nº ESTIMATIVA PARCIAL: | D6: 036.01/2020-SEORÇA-SDS | H6: DATA: | I6: ='036-20-CAPA'!C19 -> 44370
B7: NOME ESTIMATIVA PARCIAL: | D7: CONTRATAÇÃO DE EMPRESA DE ENGENHARIA PARA EXECUÇÃO DE OBRA DE REVITALIZAÇÃO DA PONTE JK, INCLUINDO ELABORAÇÃO DE PROJETOS EXECUTIVOS | H7: Nº PROJETO: | I7: PROJ-DE-018-20
B8: ENDEREÇO: | C8: EQNP 16/20 AE, Lotes E,F e G - CEILÂNDIA - DF | D8: LAGO PARANOÁ, LIGAÇÃO DA SHIS QL 26 DO LAGO SUL AO SCES TRECHO 02 DO PLANO PILOTO | H8: ÁREA: | I8: 28.800,00 m²
B9: ENCARGOS TRABALHISTAS: | D9: Conforme - DF 01-2020 Relatório de Mão de Obra SICRO/SINAPI | E9: B.D.I. : | F9: 18,20% e 10,89% | H9: TAB. REF.: | I9: SICRO Jan 2020-SINAPI Jan 2020
B11: ITEM | C11: CÓDIGO | D11: DESCRIÇÃO | E11: UNID. | F11: QUANT. | G11: CUSTO UNIT. (R$) | H11: BDI APLICADO | I11: PREÇO TOTAL COM BDI (R$)
B12: 01.00.000 | D12: SERVIÇOS TÉCNICO-PROFISSIONAIS
B13: 01.03.000 | D13: ESTUDOS E PROJETOS
B14: 01.03.500 | D14: PROJETO EXECUTIVO
B15: 01.03.501 | D15: DO CANTEIRO DE OBRAS
A16: CCU | B16: 01.03.501.1 | C16: CCU - 01.001 | D16: =IF(A16="SERVIÇO",VLOOKUP(C16,SERVIÇOS!$A$6:$D$7645,2,0),IF(A16="INSUMO",VLOOKUP(C16,INSUMOS!$A$6:$D$6961,2,0),IF('036.01-20-SERV. GERAIS'!A16="COTAÇÃO",VLOOKUP('036.01-20-SERV. GERAIS'!C16,'036-20-Cotação'!$A$9:$G$529,2,0),IF('036.01-20-SERV. GERAIS'!A16="CCU",VLOOKUP('036.01-20-SERV. GERAIS'!C16,'036-20-CCU''s'!$B$9:$H$1962,2,0))))) -> PROJETO EXECUTIVO DO CANTEIRO DE OBRA, COMPLETO, INCLUSIVE PISTAS DE ACESSOS, CONTENÇÃO E ATRACADOURO. INCLUSO TODAS AS TAXAS E DESPESAS PARA APROVAÇÕES E LICENCIAMENTOS | E16: =IF(A16="SERVIÇO",VLOOKUP(C16,SERVIÇOS!$A$6:$D$7645,3,0),IF(A16="INSUMO",VLOOKUP(C16,INSUMOS!$A$6:$D$6961,3,0),IF('036.01-20-SERV. GERAIS'!A16="COTAÇÃO",VLOOKUP('036.01-20-SERV. GERAIS'!C16,'036-20-Cotação'!$A$9:$G$529,4,0),IF('036.01-20-SERV. GERAIS'!A16="CCU",VLOOKUP('036.01-20-SERV. GERAIS'!C16,'036-20-CCU''s'!$B$9:$H$1962,4,0))))) -> UN | F16: 1 | G16: =IF(A16="SERVIÇO",VLOOKUP(C16,SERVIÇOS!$A$6:$D$7645,4,0),IF(A16="INSUMO",VLOOKUP(C16,INSUMOS!$A$6:$D$6961,4,0),IF('036.01-20-SERV. GERAIS'!A16="COTAÇÃO",VLOOKUP('036.01-20-SERV. GERAIS'!C16,'036-20-Cotação'!$A$9:$G$529,3,0),IF('036.01-20-SERV. GERAIS'!A16="CCU",VLOOKUP('036.01-20-SERV. GERAIS'!C16,'036-20-CCU''s'!$B$9:$H$1962,7,0))))) -> 24844.912 | H16: =BDI_O.A.E!$H$22 -> 0.182011 | I16: =F16*(G16*(1+H16)) -> 29366.959 | K16: =F16*(G16*(1+H16)) -> 29366.959
B17: 01.03.502 | D17: DAS ENSECADEIRAS | K17: =F17*(G17*(1+H17)) -> 0
A18: CCU | B18: 01.03.502.1 | C18: CCU - 01.002 | D18: =IF(A18="SERVIÇO",VLOOKUP(C18,SERVIÇOS!$A$6:$D$7645,2,0),IF(A18="INSUMO",VLOOKUP(C18,INSUMOS!$A$6:$D$6961,2,0),IF('036.01-20-SERV. GERAIS'!A18="COTAÇÃO",VLOOKUP('036.01-20-SERV. GERAIS'!C18,'036-20-Cotação'!$A$9:$G$529,2,0),IF('036.01-20-SERV. GERAIS'!A18="CCU",VLOOKUP('036.01-20-SERV. GERAIS'!C18,'036-20-CCU''s'!$B$9:$H$1962,2,0))))) -> PROJETO EXECUTIVO DE ENSECADEIRA METÁLICA COM DETALHAMENTO DE PEÇA COM DETALHAMENTO DO FASEAMENTO (ETAPAS) DE MONTAGEM. INCLUINDO MEMÓRIA DE CÁLCULO, QUANTITATIVOS, ESPECIFICAÇÕES TÉCNICAS PROCEDIMENTOS DA MONTAGEM E DESMONTAGEM. INCLUSO TODAS AS TAXAS E DESPESAS NECESSARIAS PARA ELABORAÇÃO E APROVAÇÕES. | E18: =IF(A18="SERVIÇO",VLOOKUP(C18,SERVIÇOS!$A$6:$D$7645,3,0),IF(A18="INSUMO",VLOOKUP(C18,INSUMOS!$A$6:$D$6961,3,0),IF('036.01-20-SERV. GERAIS'!A18="COTAÇÃO",VLOOKUP('036.01-20-SERV. GERAIS'!C18,'036-20-Cotação'!$A$9:$G$529,4,0),IF('036.01-20-SERV. GERAIS'!A18="CCU",VLOOKUP('036.01-20-SERV. GERAIS'!C18,'036-20-CCU''s'!$B$9:$H$1962,4,0))))) -> UN | F18: 1 | G18: =IF(A18="SERVIÇO",VLOOKUP(C18,SERVIÇOS!$A$6:$D$7645,4,0),IF(A18="INSUMO",VLOOKUP(C18,INSUMOS!$A$6:$D$6961,4,0),IF('036.01-20-SERV. GERAIS'!A18="COTAÇÃO",VLOOKUP('036.01-20-SERV. GERAIS'!C18,'036-20-Cotação'!$A$9:$G$529,3,0),IF('036.01-20-SERV. GERAIS'!A18="CCU",VLOOKUP('036.01-20-SERV. GERAIS'!C18,'036-20-CCU''s'!$B$9:$H$1962,7,0))))) -> 69662.226 | H18: =BDI_O.A.E!$H$22 -> 0.182011 | I18: =F18*(G18*(1+H18)) -> 82341.518 | K18: =F18*(G18*(1+H18)) -> 82341.518
B19: 01.03.503 | D19: DE PAVIMENTAÇÃO | K19: =F19*(G19*(1+H19)) -> 0
A20: CCU | B20: 01.03.503.1 | C20: CCU - 01.003 | D20: =IF(A20="SERVIÇO",VLOOKUP(C20,SERVIÇOS!$A$6:$D$7645,2,0),IF(A20="INSUMO",VLOOKUP(C20,INSUMOS!$A$6:$D$6961,2,0),IF('036.01-20-SERV. GERAIS'!A20="COTAÇÃO",VLOOKUP('036.01-20-SERV. GERAIS'!C20,'036-20-Cotação'!$A$9:$G$529,2,0),IF('036.01-20-SERV. GERAIS'!A20="CCU",VLOOKUP('036.01-20-SERV. GERAIS'!C20,'036-20-CCU''s'!$B$9:$H$1962,2,0))))) -> PROJETO EXECUTIVO DE PAVIMENTAÇÃO, INCLUSO CADASTRAMENTO E AVALIAÇÃO DO PAVIMENTO EXISTENTE, LEVANTAMENO DE DANOS, SOLUÇÕES, QUANTITATIVOS, MEMORIA DE CÁLCULO, AVALIAÇÃO DO DIMENSIONAMENTO DA CAPA, RELATÓRIOS, ESPECIFICAÇÕES TÉCNICAS E PROCEDIMENTOS EXECUTIVOS. INCLUSO TODAS AS TAXAS E DESPESAS PARA APROVAÇÕES E LICENCIAMENTOS | E20: =IF(A20="SERVIÇO",VLOOKUP(C20,SERVIÇOS!$A$6:$D$7645,3,0),IF(A20="INSUMO",VLOOKUP(C20,INSUMOS!$A$6:$D$6961,3,0),IF('036.01-20-SERV. GERAIS'!A20="COTAÇÃO",VLOOKUP('036.01-20-SERV. GERAIS'!C20,'036-20-Cotação'!$A$9:$G$529,4,0),IF('036.01-20-SERV. GERAIS'!A20="CCU",VLOOKUP('036.01-20-SERV. GERAIS'!C20,'036-20-CCU''s'!$B$9:$H$1962,4,0))))) -> UN | F20: 1 | G20: =IF(A20="SERVIÇO",VLOOKUP(C20,SERVIÇOS!$A$6:$D$7645,4,0),IF(A20="INSUMO",VLOOKUP(C20,INSUMOS!$A$6:$D$6961,4,0),IF('036.01-20-SERV. GERAIS'!A20="COTAÇÃO",VLOOKUP('036.01-20-SERV. GERAIS'!C20,'036-20-Cotação'!$A$9:$G$529,3,0),IF('036.01-20-SERV. GERAIS'!A20="CCU",VLOOKUP('036.01-20-SERV. GERAIS'!C20,'036-20-CCU''s'!$B$9:$H$1962,7,0))))) -> 22514.759 | H20: =BDI_O.A.E!$H$22 -> 0.182011 | I20: =F20*(G20*(1+H20)) -> 26612.692 | K20: =F20*(G20*(1+H20)) -> 26612.692
B21: 01.03.504 | D21: DE SINALIZAÇÃO E ESTUDO DE IMPACTO DE TRANSITO | K21: =F21*(G21*(1+H21)) -> 0
A22: CCU | B22: 01.03.504.1 | C22: CCU - 01.004 | D22: =IF(A22="SERVIÇO",VLOOKUP(C22,SERVIÇOS!$A$6:$D$7645,2,0),IF(A22="INSUMO",VLOOKUP(C22,INSUMOS!$A$6:$D$6961,2,0),IF('036.01-20-SERV. GERAIS'!A22="COTAÇÃO",VLOOKUP('036.01-20-SERV. GERAIS'!C22,'036-20-Cotação'!$A$9:$G$529,2,0),IF('036.01-20-SERV. GERAIS'!A22="CCU",VLOOKUP('036.01-20-SERV. GERAIS'!C22,'036-20-CCU''s'!$B$9:$H$1962,2,0))))) -> PROJETO EXECUTIVO DA SINALIZAÇÃO VIÁRIA E NÁUTICA PROVISÓRIOA, INCLUSIVE RELATÓRIOS JUSTIFICATIVO DA SOLUÇÃO, ESPECIFICAÇÕES TÉCNICAS, QUANTITATIVOS, MEMORIAIS E PROCEDIMENTOS EXECUTIVOS. INCLUSO TODAS AS TAXAS E DESPESAS PARA APROVAÇÕES E LICENCIAMENTOS | E22: =IF(A22="SERVIÇO",VLOOKUP(C22,SERVIÇOS!$A$6:$D$7645,3,0),IF(A22="INSUMO",VLOOKUP(C22,INSUMOS!$A$6:$D$6961,3,0),IF('036.01-20-SERV. GERAIS'!A22="COTAÇÃO",VLOOKUP('036.01-20-SERV. GERAIS'!C22,'036-20-Cotação'!$A$9:$G$529,4,0),IF('036.01-20-SERV. GERAIS'!A22="CCU",VLOOKUP('036.01-20-SERV. GERAIS'!C22,'036-20-CCU''s'!$B$9:$H$1962,4,0))))) -> UN | F22: 1 | G22: =IF(A22="SERVIÇO",VLOOKUP(C22,SERVIÇOS!$A$6:$D$7645,4,0),IF(A22="INSUMO",VLOOKUP(C22,INSUMOS!$A$6:$D$6961,4,0),IF('036.01-20-SERV. GERAIS'!A22="COTAÇÃO",VLOOKUP('036.01-20-SERV. GERAIS'!C22,'036-20-Cotação'!$A$9:$G$529,3,0),IF('036.01-20-SERV. GERAIS'!A22="CCU",VLOOKUP('036.01-20-SERV. GERAIS'!C22,'036-20-CCU''s'!$B$9:$H$1962,7,0))))) -> 8624.2829 | H22: =BDI_O.A.E!$H$22 -> 0.182011 | I22: =F22*(G22*(1+H22)) -> 10193.997 | K22: =F22*(G22*(1+H22)) -> 10193.997
A23: CCU | B23: 01.03.504.2 | C23: CCU - 01.017 | D23: =IF(A23="SERVIÇO",VLOOKUP(C23,SERVIÇOS!$A$6:$D$7645,2,0),IF(A23="INSUMO",VLOOKUP(C23,INSUMOS!$A$6:$D$6961,2,0),IF('036.01-20-SERV. GERAIS'!A23="COTAÇÃO",VLOOKUP('036.01-20-SERV. GERAIS'!C23,'036-20-Cotação'!$A$9:$G$529,2,0),IF('036.01-20-SERV. GERAIS'!A23="CCU",VLOOKUP('036.01-20-SERV. GERAIS'!C23,'036-20-CCU''s'!$B$9:$H$1962,2,0))))) -> PROJETO EXECUTIVO DA SINALIZAÇÃO VIÁRIA E NÁUTICA PERMANENTE, INCLUSIVE RELATÓRIOS JUSTIFICATIVO DA SOLUÇÃO, ESPECIFICAÇÕES TÉCNICAS, QUANTITATIVOS, MEMORIAIS E PROCEDIMENTOS EXECUTIVOS. INCLUSO TODAS AS TAXAS E DESPESAS PARA APROVAÇÕES E LICENCIAMENTOS | E23: =IF(A23="SERVIÇO",VLOOKUP(C23,SERVIÇOS!$A$6:$D$7645,3,0),IF(A23="INSUMO",VLOOKUP(C23,INSUMOS!$A$6:$D$6961,3,0),IF('036.01-20-SERV. GERAIS'!A23="COTAÇÃO",VLOOKUP('036.01-20-SERV. GERAIS'!C23,'036-20-Cotação'!$A$9:$G$529,4,0),IF('036.01-20-SERV. GERAIS'!A23="CCU",VLOOKUP('036.01-20-SERV. GERAIS'!C23,'036-20-CCU''s'!$B$9:$H$1962,4,0))))) -> UN | F23: 1 | G23: =IF(A23="SERVIÇO",VLOOKUP(C23,SERVIÇOS!$A$6:$D$7645,4,0),IF(A23="INSUMO",VLOOKUP(C23,INSUMOS!$A$6:$D$6961,4,0),IF('036.01-20-SERV. GERAIS'!A23="COTAÇÃO",VLOOKUP('036.01-20-SERV. GERAIS'!C23,'036-20-Cotação'!$A$9:$G$529,3,0),IF('036.01-20-SERV. GERAIS'!A23="CCU",VLOOKUP('036.01-20-SERV. GERAIS'!C23,'036-20-CCU''s'!$B$9:$H$1962,7,0))))) -> 9285.7133 | H23: =BDI_O.A.E!$H$22 -> 0.182011 | I23: =F23*(G23*(1+H23)) -> 10975.815 | K23: =F23*(G23*(1+H23)) -> 10975.815
A24: CCU | B24: 01.03.504.3 | C24: CCU - 01.005 | D24: =IF(A24="SERVIÇO",VLOOKUP(C24,SERVIÇOS!$A$6:$D$7645,2,0),IF(A24="INSUMO",VLOOKUP(C24,INSUMOS!$A$6:$D$6961,2,0),IF('036.01-20-SERV. GERAIS'!A24="COTAÇÃO",VLOOKUP('036.01-20-SERV. GERAIS'!C24,'036-20-Cotação'!$A$9:$G$529,2,0),IF('036.01-20-SERV. GERAIS'!A24="CCU",VLOOKUP('036.01-20-SERV. GERAIS'!C24,'036-20-CCU''s'!$B$9:$H$1962,2,0))))) -> ESTUDO DE IMPACTO DE TRANSITO DURANTE A INTERDIÇÃO DA PONTE | E24: =IF(A24="SERVIÇO",VLOOKUP(C24,SERVIÇOS!$A$6:$D$7645,3,0),IF(A24="INSUMO",VLOOKUP(C24,INSUMOS!$A$6:$D$6961,3,0),IF('036.01-20-SERV. GERAIS'!A24="COTAÇÃO",VLOOKUP('036.01-20-SERV. GERAIS'!C24,'036-20-Cotação'!$A$9:$G$529,4,0),IF('036.01-20-SERV. GERAIS'!A24="CCU",VLOOKUP('036.01-20-SERV. GERAIS'!C24,'036-20-CCU''s'!$B$9:$H$1962,4,0))))) -> UN | F24: 1 | G24: =IF(A24="SERVIÇO",VLOOKUP(C24,SERVIÇOS!$A$6:$D$7645,4,0),IF(A24="INSUMO",VLOOKUP(C24,INSUMOS!$A$6:$D$6961,4,0),IF('036.01-20-SERV. GERAIS'!A24="COTAÇÃO",VLOOKUP('036.01-20-SERV. GERAIS'!C24,'036-20-Cotação'!$A$9:$G$529,3,0),IF('036.01-20-SERV. GERAIS'!A24="CCU",VLOOKUP('036.01-20-SERV. GERAIS'!C24,'036-20-CCU''s'!$B$9:$H$1962,7,0))))) -> 37676.366 | H24: =BDI_O.A.E!$H$22 -> 0.182011 | I24: =F24*(G24*(1+H24)) -> 44533.88 | K24: =F24*(G24*(1+H24)) -> 44533.88
B25: 01.03.505 | D25: PROJETO EXECUTIVO TIRANTES/ESTAIS | K25: =F25*(G25*(1+H25)) -> 0
A26: CCU | B26: 01.03.505.1 | C26: CCU - 01.006 | D26: =IF(A26="SERVIÇO",VLOOKUP(C26,SERVIÇOS!$A$6:$D$7645,2,0),IF(A26="INSUMO",VLOOKUP(C26,INSUMOS!$A$6:$D$6961,2,0),IF('036.01-20-SERV. GERAIS'!A26="COTAÇÃO",VLOOKUP('036.01-20-SERV. GERAIS'!C26,'036-20-Cotação'!$A$9:$G$529,2,0),IF('036.01-20-SERV. GERAIS'!A26="CCU",VLOOKUP('036.01-20-SERV. GERAIS'!C26,'036-20-CCU''s'!$B$9:$H$1962,2,0))))) -> PROJETO EXECUTIVO PARA SUBSTITUIÇÃO DO SISTEMA DE TIRANTES/ESTAIS, ALTERNATIVAS ÁS ORIGINAIS, CERTIFICADAS QUANTO A ESTANQUEIDADE, INCLUSIVE RELATÓRIO DAS FORÇAS ATUAIS E PÓS SERVIÇO EXECUTADO. INCLUINDO MEMÓRIA DE CÁLCULO, QUANTITATIVOS, ESPECIFICAÇÕES TÉCNICAS PROCEDIMENTOS DA MONTAGEM E DESMONTAGEM INCLUSO TODAS AS TAXAS E DESPESAS NECESSARIAS PARA ELABORAÇÃO E APROVAÇÕES. | E26: =IF(A26="SERVIÇO",VLOOKUP(C26,SERVIÇOS!$A$6:$D$7645,3,0),IF(A26="INSUMO",VLOOKUP(C26,INSUMOS!$A$6:$D$6961,3,0),IF('036.01-20-SERV. GERAIS'!A26="COTAÇÃO",VLOOKUP('036.01-20-SERV. GERAIS'!C26,'036-20-Cotação'!$A$9:$G$529,4,0),IF('036.01-20-SERV. GERAIS'!A26="CCU",VLOOKUP('036.01-20-SERV. GERAIS'!C26,'036-20-CCU''s'!$B$9:$H$1962,4,0))))) -> UN | F26: 1 | G26: =IF(A26="SERVIÇO",VLOOKUP(C26,SERVIÇOS!$A$6:$D$7645,4,0),IF(A26="INSUMO",VLOOKUP(C26,INSUMOS!$A$6:$D$6961,4,0),IF('036.01-20-SERV. GERAIS'!A26="COTAÇÃO",VLOOKUP('036.01-20-SERV. GERAIS'!C26,'036-20-Cotação'!$A$9:$G$529,3,0),IF('036.01-20-SERV. GERAIS'!A26="CCU",VLOOKUP('036.01-20-SERV. GERAIS'!C26,'036-20-CCU''s'!$B$9:$H$1962,7,0))))) -> 144112.53 | H26: =BDI_O.A.E!$H$22 -> 0.182011 | I26: =F26*(G26*(1+H26)) -> 170342.59 | K26: =F26*(G26*(1+H26)) -> 170342.59
A27: CCU | B27: 01.03.505.2 | C27: CCU - 01.023 | D27: =IF(A27="SERVIÇO",VLOOKUP(C27,SERVIÇOS!$A$6:$D$7645,2,0),IF(A27="INSUMO",VLOOKUP(C27,INSUMOS!$A$6:$D$6961,2,0),IF('036.01-20-SERV. GERAIS'!A27="COTAÇÃO",VLOOKUP('036.01-20-SERV. GERAIS'!C27,'036-20-Cotação'!$A$9:$G$529,2,0),IF('036.01-20-SERV. GERAIS'!A27="CCU",VLOOKUP('036.01-20-SERV. GERAIS'!C27,'036-20-CCU''s'!$B$9:$H$1962,2,0))))) -> ELABORAÇÃO DE MODELO NUMÉRICO ESPACIAL, COM MÉTODO DOS ELEMENTOS FINITOS (MEF), PARA AVALIAÇÃO DO COMPORTAMENTO ESTRUTURAL NA ETAPA DE PROJETO EXECUTIVO, COM ATUALIZAÇÃO DURANTE E APÓS A REALIZAÇÃO DOS SERVIÇOS DE SUBSTITUIÇÃO DOS TIRANTES, DE ACORDO COM AS PREMISSAS DO CADERNO DE ESPECIFICAÇÕES DE ESTRUTURA. | E27: =IF(A27="SERVIÇO",VLOOKUP(C27,SERVIÇOS!$A$6:$D$7645,3,0),IF(A27="INSUMO",VLOOKUP(C27,INSUMOS!$A$6:$D$6961,3,0),IF('036.01-20-SERV. GERAIS'!A27="COTAÇÃO",VLOOKUP('036.01-20-SERV. GERAIS'!C27,'036-20-Cotação'!$A$9:$G$529,4,0),IF('036.01-20-SERV. GERAIS'!A27="CCU",VLOOKUP('036.01-20-SERV. GERAIS'!C27,'036-20-CCU''s'!$B$9:$H$1962,4,0))))) -> UN | F27: 1 | G27: =IF(A27="SERVIÇO",VLOOKUP(C27,SERVIÇOS!$A$6:$D$7645,4,0),IF(A27="INSUMO",VLOOKUP(C27,INSUMOS!$A$6:$D$6961,4,0),IF('036.01-20-SERV. GERAIS'!A27="COTAÇÃO",VLOOKUP('036.01-20-SERV. GERAIS'!C27,'036-20-Cotação'!$A$9:$G$529,3,0),IF('036.01-20-SERV. GERAIS'!A27="CCU",VLOOKUP('036.01-20-SERV. GERAIS'!C27,'036-20-CCU''s'!$B$9:$H$1962,7,0))))) -> 215708.43 | H27: =BDI_O.A.E!$H$22 -> 0.182011 | I27: =F27*(G27*(1+H27)) -> 254969.73 | K27: =F27*(G27*(1+H27)) -> 254969.73
B28: 01.03.506 | D28: PROJETO EXECUTIVO DOS PILARES | K28: =F28*(G28*(1+H28)) -> 0
A29: CCU | B29: 01.03.506.1 | C29: CCU - 01.007 | D29: =IF(A29="SERVIÇO",VLOOKUP(C29,SERVIÇOS!$A$6:$D$7645,2,0),IF(A29="INSUMO",VLOOKUP(C29,INSUMOS!$A$6:$D$6961,2,0),IF('036.01-20-SERV. GERAIS'!A29="COTAÇÃO",VLOOKUP('036.01-20-SERV. GERAIS'!C29,'036-20-Cotação'!$A$9:$G$529,2,0),IF('036.01-20-SERV. GERAIS'!A29="CCU",VLOOKUP('036.01-20-SERV. GERAIS'!C29,'036-20-CCU''s'!$B$9:$H$1962,2,0))))) -> PROJETO EXECUTIVO DE RECUPERAÇÃO DOS PILARES RETOS E INCLINADOS, INCLUINDO MEMÓRIA DE CÁLCULO, ESPECIFICAÇÕES TÉCNICAS, PROCEDIMENTOS DA EXECUÇÃO DO SERVIÇOS, QUANTITATIVOS E FASEAMENTO DE INSPEÇÃO INCLUSO TODAS AS TAXAS E DESPESAS NECESSARIAS PARA ELABORAÇÃO E APROVAÇÕES. | E29: =IF(A29="SERVIÇO",VLOOKUP(C29,SERVIÇOS!$A$6:$D$7645,3,0),IF(A29="INSUMO",VLOOKUP(C29,INSUMOS!$A$6:$D$6961,3,0),IF('036.01-20-SERV. GERAIS'!A29="COTAÇÃO",VLOOKUP('036.01-20-SERV. GERAIS'!C29,'036-20-Cotação'!$A$9:$G$529,4,0),IF('036.01-20-SERV. GERAIS'!A29="CCU",VLOOKUP('036.01-20-SERV. GERAIS'!C29,'036-20-CCU''s'!$B$9:$H$1962,4,0))))) -> UN | F29: 1 | G29: =IF(A29="SERVIÇO",VLOOKUP(C29,SERVIÇOS!$A$6:$D$7645,4,0),IF(A29="INSUMO",VLOOKUP(C29,INSUMOS!$A$6:$D$6961,4,0),IF('036.01-20-SERV. GERAIS'!A29="COTAÇÃO",VLOOKUP('036.01-20-SERV. GERAIS'!C29,'036-20-Cotação'!$A$9:$G$529,3,0),IF('036.01-20-SERV. GERAIS'!A29="CCU",VLOOKUP('036.01-20-SERV. GERAIS'!C29,'036-20-CCU''s'!$B$9:$H$1962,7,0))))) -> 44415.564 | H29: =BDI_O.A.E!$H$22 -> 0.182011 | I29: =F29*(G29*(1+H29)) -> 52499.685 | K29: =F29*(G29*(1+H29)) -> 52499.685
B30: 01.03.507 | D30: PROJETO EXECUTIVO DE PINTURA DA PONTE JK | K30: =F30*(G30*(1+H30)) -> 0
A31: CCU | B31: 01.03.507.1 | C31: CCU - 01.008 | D31: =IF(A31="SERVIÇO",VLOOKUP(C31,SERVIÇOS!$A$6:$D$7645,2,0),IF(A31="INSUMO",VLOOKUP(C31,INSUMOS!$A$6:$D$6961,2,0),IF('036.01-20-SERV. GERAIS'!A31="COTAÇÃO",VLOOKUP('036.01-20-SERV. GERAIS'!C31,'036-20-Cotação'!$A$9:$G$529,2,0),IF('036.01-20-SERV. GERAIS'!A31="CCU",VLOOKUP('036.01-20-SERV. GERAIS'!C31,'036-20-CCU''s'!$B$9:$H$1962,2,0))))) -> PROJETO EXECUTIVO DE PINTURA DE TODA A EXTRUTURA DA PONTE JK. INCLUSO, ESPECIFICAÇÕES TÉCNICAS, TODAS AS TAXAS E DESPESAS PARA APROVAÇÕES E LICENCIAMENTOS. | E31: =IF(A31="SERVIÇO",VLOOKUP(C31,SERVIÇOS!$A$6:$D$7645,3,0),IF(A31="INSUMO",VLOOKUP(C31,INSUMOS!$A$6:$D$6961,3,0),IF('036.01-20-SERV. GERAIS'!A31="COTAÇÃO",VLOOKUP('036.01-20-SERV. GERAIS'!C31,'036-20-Cotação'!$A$9:$G$529,4,0),IF('036.01-20-SERV. GERAIS'!A31="CCU",VLOOKUP('036.01-20-SERV. GERAIS'!C31,'036-20-CCU''s'!$B$9:$H$1962,4,0))))) -> UN | F31: 1 | G31: =IF(A31="SERVIÇO",VLOOKUP(C31,SERVIÇOS!$A$6:$D$7645,4,0),IF(A31="INSUMO",VLOOKUP(C31,INSUMOS!$A$6:$D$6961,4,0),IF('036.01-20-SERV. GERAIS'!A31="COTAÇÃO",VLOOKUP('036.01-20-SERV. GERAIS'!C31,'036-20-Cotação'!$A$9:$G$529,3,0),IF('036.01-20-SERV. GERAIS'!A31="CCU",VLOOKUP('036.01-20-SERV. GERAIS'!C31,'036-20-CCU''s'!$B$9:$H$1962,7,0))))) -> 20342.314 | H31: =BDI_O.A.E!$H$22 -> 0.182011 | I31: =F31*(G31*(1+H31)) -> 24044.839 | K31: =F31*(G31*(1+H31)) -> 24044.839
B32: 01.03.508 | D32: PROJETO EXECUTIVO DE RECUPERAÇÃO DAS ÁRES DEGRADADAS | K32: =F32*(G32*(1+H32)) -> 0
A33: CCU | B33: 01.03.508.1 | C33: CCU - 01.009 | D33: =IF(A33="SERVIÇO",VLOOKUP(C33,SERVIÇOS!$A$6:$D$7645,2,0),IF(A33="INSUMO",VLOOKUP(C33,INSUMOS!$A$6:$D$6961,2,0),IF('036.01-20-SERV. GERAIS'!A33="COTAÇÃO",VLOOKUP('036.01-20-SERV. GERAIS'!C33,'036-20-Cotação'!$A$9:$G$529,2,0),IF('036.01-20-SERV. GERAIS'!A33="CCU",VLOOKUP('036.01-20-SERV. GERAIS'!C33,'036-20-CCU''s'!$B$9:$H$1962,2,0))))) -> PROJETO EXECUTIVO DE RECUPERAÇÃO DE ÁRES DEGRADADAS - PRAD, DE ACORDO COM AS EXIGENCIAS DA AUTORIZAÇÃO AMBIENTAL DO IBRAM. INCLUSO TODAS AS TAXAS E DESPESAS NECESSARIAS PARA ELABORAÇÃO E APROVAÇÕES. | E33: =IF(A33="SERVIÇO",VLOOKUP(C33,SERVIÇOS!$A$6:$D$7645,3,0),IF(A33="INSUMO",VLOOKUP(C33,INSUMOS!$A$6:$D$6961,3,0),IF('036.01-20-SERV. GERAIS'!A33="COTAÇÃO",VLOOKUP('036.01-20-SERV. GERAIS'!C33,'036-20-Cotação'!$A$9:$G$529,4,0),IF('036.01-20-SERV. GERAIS'!A33="CCU",VLOOKUP('036.01-20-SERV. GERAIS'!C33,'036-20-CCU''s'!$B$9:$H$1962,4,0))))) -> UN | F33: 1 | G33: =IF(A33="SERVIÇO",VLOOKUP(C33,SERVIÇOS!$A$6:$D$7645,4,0),IF(A33="INSUMO",VLOOKUP(C33,INSUMOS!$A$6:$D$6961,4,0),IF('036.01-20-SERV. GERAIS'!A33="COTAÇÃO",VLOOKUP('036.01-20-SERV. GERAIS'!C33,'036-20-Cotação'!$A$9:$G$529,3,0),IF('036.01-20-SERV. GERAIS'!A33="CCU",VLOOKUP('036.01-20-SERV. GERAIS'!C33,'036-20-CCU''s'!$B$9:$H$1962,7,0))))) -> 35233.336 | H33: =BDI_O.A.E!$H$22 -> 0.182011 | I33: =F33*(G33*(1+H33)) -> 41646.19 | K33: =F33*(G33*(1+H33)) -> 41646.19
B34: 01.03.509 | D34: PROJETO EXECUTIVO PLATAFORMA DE ACESSO PARA EXECUÇÃO DA PINTURA E PASSARELA FLUTUANTE | K34: =F34*(G34*(1+H34)) -> 0
A35: CCU | B35: 01.03.509.1 | C35: CCU - 01.010 | D35: =IF(A35="SERVIÇO",VLOOKUP(C35,SERVIÇOS!$A$6:$D$7645,2,0),IF(A35="INSUMO",VLOOKUP(C35,INSUMOS!$A$6:$D$6961,2,0),IF('036.01-20-SERV. GERAIS'!A35="COTAÇÃO",VLOOKUP('036.01-20-SERV. GERAIS'!C35,'036-20-Cotação'!$A$9:$G$529,2,0),IF('036.01-20-SERV. GERAIS'!A35="CCU",VLOOKUP('036.01-20-SERV. GERAIS'!C35,'036-20-CCU''s'!$B$9:$H$1962,2,0))))) -> PROJETO EXECUTIVO DAS PLATAFORMAS DE TRABALHO PARA EXECUÇÃO DOS SERVIÇOS DE PINTURA, ANCORAGENS DOS TIRANTES E DA PASSARELA FLUTUANTE, INCLUINDO MEMÓRIA DE CÁLCULO, QUANTITATIVOS, ESPECIFICAÇÕES TÉCNICAS PROCEDIMENTOS DA MONTAGEM E DESMONTAGEM INCLUSO TODAS AS TAXAS E DESPESAS NECESSARIAS PARA ELABORAÇÃO E APROVAÇÕES. | E35: =IF(A35="SERVIÇO",VLOOKUP(C35,SERVIÇOS!$A$6:$D$7645,3,0),IF(A35="INSUMO",VLOOKUP(C35,INSUMOS!$A$6:$D$6961,3,0),IF('036.01-20-SERV. GERAIS'!A35="COTAÇÃO",VLOOKUP('036.01-20-SERV. GERAIS'!C35,'036-20-Cotação'!$A$9:$G$529,4,0),IF('036.01-20-SERV. GERAIS'!A35="CCU",VLOOKUP('036.01-20-SERV. GERAIS'!C35,'036-20-CCU''s'!$B$9:$H$1962,4,0))))) -> UN | F35: 1 | G35: =IF(A35="SERVIÇO",VLOOKUP(C35,SERVIÇOS!$A$6:$D$7645,4,0),IF(A35="INSUMO",VLOOKUP(C35,INSUMOS!$A$6:$D$6961,4,0),IF('036.01-20-SERV. GERAIS'!A35="COTAÇÃO",VLOOKUP('036.01-20-SERV. GERAIS'!C35,'036-20-Cotação'!$A$9:$G$529,3,0),IF('036.01-20-SERV. GERAIS'!A35="CCU",VLOOKUP('036.01-20-SERV. GERAIS'!C35,'036-20-CCU''s'!$B$9:$H$1962,7,0))))) -> 33727.438 | H35: =BDI_O.A.E!$H$22 -> 0.182011 | I35: =F35*(G35*(1+H35)) -> 39866.203 | K35: =F35*(G35*(1+H35)) -> 39866.203
B36: 01.03.510 | D36: PROJETO EXECUTIVO DE REFORÇO DOS BLOCOS B9, B10, B11 E B12 | K36: =F36*(G36*(1+H36)) -> 0
A37: CCU | B37: 01.03.510.1 | C37: CCU - 01.011 | D37: =IF(A37="SERVIÇO",VLOOKUP(C37,SERVIÇOS!$A$6:$D$7645,2,0),IF(A37="INSUMO",VLOOKUP(C37,INSUMOS!$A$6:$D$6961,2,0),IF('036.01-20-SERV. GERAIS'!A37="COTAÇÃO",VLOOKUP('036.01-20-SERV. GERAIS'!C37,'036-20-Cotação'!$A$9:$G$529,2,0),IF('036.01-20-SERV. GERAIS'!A37="CCU",VLOOKUP('036.01-20-SERV. GERAIS'!C37,'036-20-CCU''s'!$B$9:$H$1962,2,0))))) -> PROJETO EXECUTIVO DE REFORÇO DOS BLOCOS B9, B10, B11 E B12, INCLUINDO MEMÓRIA DE CÁLCULO, QUANTITATIVOS, PROCEDIMENTO DA EXECUÇÃO, MODELAGEM NUMERICA E ESPECIFICAÇÕES TÉCNICAS | E37: =IF(A37="SERVIÇO",VLOOKUP(C37,SERVIÇOS!$A$6:$D$7645,3,0),IF(A37="INSUMO",VLOOKUP(C37,INSUMOS!$A$6:$D$6961,3,0),IF('036.01-20-SERV. GERAIS'!A37="COTAÇÃO",VLOOKUP('036.01-20-SERV. GERAIS'!C37,'036-20-Cotação'!$A$9:$G$529,4,0),IF('036.01-20-SERV. GERAIS'!A37="CCU",VLOOKUP('036.01-20-SERV. GERAIS'!C37,'036-20-CCU''s'!$B$9:$H$1962,4,0))))) -> UN | F37: 1 | G37: =IF(A37="SERVIÇO",VLOOKUP(C37,SERVIÇOS!$A$6:$D$7645,4,0),IF(A37="INSUMO",VLOOKUP(C37,INSUMOS!$A$6:$D$6961,4,0),IF('036.01-20-SERV. GERAIS'!A37="COTAÇÃO",VLOOKUP('036.01-20-SERV. GERAIS'!C37,'036-20-Cotação'!$A$9:$G$529,3,0),IF('036.01-20-SERV. GERAIS'!A37="CCU",VLOOKUP('036.01-20-SERV. GERAIS'!C37,'036-20-CCU''s'!$B$9:$H$1962,7,0))))) -> 88174.393 | H37: =BDI_O.A.E!$H$22 -> 0.182011 | I37: =F37*(G37*(1+H37)) -> 104223.1 | K37: =F37*(G37*(1+H37)) -> 104223.1
B38: 01.03.511 | D38: PROJETO EXECUTIVO ADEQUAÇÃO DO SISTEMA DE APARELHOS DE APOIO | K38: =F38*(G38*(1+H38)) -> 0
A39: CCU | B39: 01.03.511.1 | C39: CCU - 01.012 | D39: =IF(A39="SERVIÇO",VLOOKUP(C39,SERVIÇOS!$A$6:$D$7645,2,0),IF(A39="INSUMO",VLOOKUP(C39,INSUMOS!$A$6:$D$6961,2,0),IF('036.01-20-SERV. GERAIS'!A39="COTAÇÃO",VLOOKUP('036.01-20-SERV. GERAIS'!C39,'036-20-Cotação'!$A$9:$G$529,2,0),IF('036.01-20-SERV. GERAIS'!A39="CCU",VLOOKUP('036.01-20-SERV. GERAIS'!C39,'036-20-CCU''s'!$B$9:$H$1962,2,0))))) -> PROJETO EXECUTIVO DOS BERÇOS METÁLICOS DO SISTEMA DE APARELHOS DE APOIO, INCLUINDO MEMÓRIA DE CÁLCULO, QUANTITATIVOS, PROCEDIMENTO DA EXECUÇÃO, MODELAGEM NUMERICA E ESPECIFICAÇÕES TÉCNICAS. | E39: =IF(A39="SERVIÇO",VLOOKUP(C39,SERVIÇOS!$A$6:$D$7645,3,0),IF(A39="INSUMO",VLOOKUP(C39,INSUMOS!$A$6:$D$6961,3,0),IF('036.01-20-SERV. GERAIS'!A39="COTAÇÃO",VLOOKUP('036.01-20-SERV. GERAIS'!C39,'036-20-Cotação'!$A$9:$G$529,4,0),IF('036.01-20-SERV. GERAIS'!A39="CCU",VLOOKUP('036.01-20-SERV. GERAIS'!C39,'036-20-CCU''s'!$B$9:$H$1962,4,0))))) -> UN | F39: 1 | G39: =IF(A39="SERVIÇO",VLOOKUP(C39,SERVIÇOS!$A$6:$D$7645,4,0),IF(A39="INSUMO",VLOOKUP(C39,INSUMOS!$A$6:$D$6961,4,0),IF('036.01-20-SERV. GERAIS'!A39="COTAÇÃO",VLOOKUP('036.01-20-SERV. GERAIS'!C39,'036-20-Cotação'!$A$9:$G$529,3,0),IF('036.01-20-SERV. GERAIS'!A39="CCU",VLOOKUP('036.01-20-SERV. GERAIS'!C39,'036-20-CCU''s'!$B$9:$H$1962,7,0))))) -> 24197.972 | H39: =BDI_O.A.E!$H$22 -> 0.182011 | I39: =F39*(G39*(1+H39)) -> 28602.269 | K39: =F39*(G39*(1+H39)) -> 28602.269
A40: CCU | B40: 01.03.511.2 | C40: CCU - 01.019 | D40: =IF(A40="SERVIÇO",VLOOKUP(C40,SERVIÇOS!$A$6:$D$7645,2,0),IF(A40="INSUMO",VLOOKUP(C40,INSUMOS!$A$6:$D$6961,2,0),IF('036.01-20-SERV. GERAIS'!A40="COTAÇÃO",VLOOKUP('036.01-20-SERV. GERAIS'!C40,'036-20-Cotação'!$A$9:$G$529,2,0),IF('036.01-20-SERV. GERAIS'!A40="CCU",VLOOKUP('036.01-20-SERV. GERAIS'!C40,'036-20-CCU''s'!$B$9:$H$1962,2,0))))) -> PROJETO EXECUTIVO DE SUBSTITUIÇÃO DOS APARELHOS DE APOIO, INCLUINDO RELATÓRIO TÉCNICO, MEMORIAL DESCRITIVO, MONTAGEM, QUANTITATIVOS E ESPECIFICAÇÕES TÉCNICAS | E40: =IF(A40="SERVIÇO",VLOOKUP(C40,SERVIÇOS!$A$6:$D$7645,3,0),IF(A40="INSUMO",VLOOKUP(C40,INSUMOS!$A$6:$D$6961,3,0),IF('036.01-20-SERV. GERAIS'!A40="COTAÇÃO",VLOOKUP('036.01-20-SERV. GERAIS'!C40,'036-20-Cotação'!$A$9:$G$529,4,0),IF('036.01-20-SERV. GERAIS'!A40="CCU",VLOOKUP('036.01-20-SERV. GERAIS'!C40,'036-20-CCU''s'!$B$9:$H$1962,4,0))))) -> UN | F40: 1 | G40: =IF(A40="SERVIÇO",VLOOKUP(C40,SERVIÇOS!$A$6:$D$7645,4,0),IF(A40="INSUMO",VLOOKUP(C40,INSUMOS!$A$6:$D$6961,4,0),IF('036.01-20-SERV. GERAIS'!A40="COTAÇÃO",VLOOKUP('036.01-20-SERV. GERAIS'!C40,'036-20-Cotação'!$A$9:$G$529,3,0),IF('036.01-20-SERV. GERAIS'!A40="CCU",VLOOKUP('036.01-20-SERV. GERAIS'!C40,'036-20-CCU''s'!$B$9:$H$1962,7,0))))) -> 17622.958 | H40: =BDI_O.A.E!$H$22 -> 0.182011 | I40: =F40*(G40*(1+H40)) -> 20830.53 | K40: =F40*(G40*(1+H40)) -> 20830.53
A41: CCU | B41: 01.03.511.3 | C41: CCU - 01.016 | D41: =IF(A41="SERVIÇO",VLOOKUP(C41,SERVIÇOS!$A$6:$D$7645,2,0),IF(A41="INSUMO",VLOOKUP(C41,INSUMOS!$A$6:$D$6961,2,0),IF('036.01-20-SERV. GERAIS'!A41="COTAÇÃO",VLOOKUP('036.01-20-SERV. GERAIS'!C41,'036-20-Cotação'!$A$9:$G$529,2,0),IF('036.01-20-SERV. GERAIS'!A41="CCU",VLOOKUP('036.01-20-SERV. GERAIS'!C41,'036-20-CCU''s'!$B$9:$H$1962,2,0))))) -> INSPEÇÃO DOS 28 APARELHOS DE APOIO PARA DETECTAR A NECESSIDADE DE SUBSTITUIÇÃO, INCLUINDO EMISSÃO DE LAUDO TÉCNICO. | E41: =IF(A41="SERVIÇO",VLOOKUP(C41,SERVIÇOS!$A$6:$D$7645,3,0),IF(A41="INSUMO",VLOOKUP(C41,INSUMOS!$A$6:$D$6961,3,0),IF('036.01-20-SERV. GERAIS'!A41="COTAÇÃO",VLOOKUP('036.01-20-SERV. GERAIS'!C41,'036-20-Cotação'!$A$9:$G$529,4,0),IF('036.01-20-SERV. GERAIS'!A41="CCU",VLOOKUP('036.01-20-SERV. GERAIS'!C41,'036-20-CCU''s'!$B$9:$H$1962,4,0))))) -> UN | F41: 1 | G41: =IF(A41="SERVIÇO",VLOOKUP(C41,SERVIÇOS!$A$6:$D$7645,4,0),IF(A41="INSUMO",VLOOKUP(C41,INSUMOS!$A$6:$D$6961,4,0),IF('036.01-20-SERV. GERAIS'!A41="COTAÇÃO",VLOOKUP('036.01-20-SERV. GERAIS'!C41,'036-20-Cotação'!$A$9:$G$529,3,0),IF('036.01-20-SERV. GERAIS'!A41="CCU",VLOOKUP('036.01-20-SERV. GERAIS'!C41,'036-20-CCU''s'!$B$9:$H$1962,7,0))))) -> 5688.156 | H41: =BDI_O.A.E!$H$22 -> 0.182011 | I41: =F41*(G41*(1+H41)) -> 6723.4629 | K41: =F41*(G41*(1+H41)) -> 6723.4629
B42: 01.03.512 | D42: PROJETO EXECUTIVO SUBSTITUIÇÃO DAS JUNTAS | K42: =F42*(G42*(1+H42)) -> 0
...

Sheet 036.02-20-CANTEIRO.
B2: GOVERNO DO DISTRITO FEDERAL
B3: SECRETARIA DE ESTADO DE INFRAESTRUTURA E SERVIÇOS PÚBLICOS
B4: COMPANHIA URBANIZADORA DA NOVA CAPITAL DO BRASIL
B5: PLANILHA ESTIMATIVA DOS SERVIÇOS DE IMPLANTAÇÃO DO CANTEIRO DE OBRAS
B6: Nº ESTIMATIVA PARCIAL: | D6: 036.02/2020-SEORÇA-SDS | H6: DATA: | I6: ='036-20-CAPA'!C19 -> 44370
B7: NOME ESTIMATIVA PARCIAL: | D7: CONTRATAÇÃO DE EMPRESA DE ENGENHARIA PARA EXECUÇÃO DE OBRA DE REVITALIZAÇÃO DA PONTE JK, INCLUINDO ELABORAÇÃO DE PROJETOS EXECUTIVOS | H7: Nº PROJETO: | I7: PROJ-DE-018-20
B8: ENDEREÇO: | C8: EQNP 16/20 AE, Lotes E,F e G - CEILÂNDIA - DF | D8: LAGO PARANOÁ, LIGAÇÃO DA SHIS QL 26 DO LAGO SUL AO SCES TRECHO 02 DO PLANO PILOTO | H8: ÁREA: | I8: 28.800,00 m²
B9: ENCARGOS TRABALHISTAS: | D9: Conforme - DF 01-2020 Relatório de Mão de Obra SICRO/SINAPI | E9: B.D.I. : | F9: 18,20% e 10,89% | H9: TAB. REF.: | I9: SICRO Jan 2020-SINAPI Jan 2020
B11: ITEM | C11: CÓDIGO | D11: DESCRIÇÃO | E11: UNID. | F11: QUANT. | G11: CUSTO UNIT. (R$) | H11: BDI APLICADO | I11: PREÇO TOTAL COM BDI (R$)
B12: 02.00.000 | D12: SERVIÇOS PRELIMINARES | K12: =G12*F12 -> 0
B13: 02.01.000 | D13: CANTEIRO DE OBRAS | K13: =G13*F13 -> 0
B14: 02.01.100 | D14: CONSTRUÇÕES PROVISÓRIAS | K14: =G14*F14 -> 0
B15: 02.01.101 | D15: ESCRITÓRIOS | K15: =G15*F15 -> 0
A16: SERVIÇO | B16: 02.01.101.1 | C16: 93207 | D16: =IF(A16="SERVIÇO",VLOOKUP(C16,SERVIÇOS!$A$6:$D$7645,2,0),IF(A16="INSUMO",VLOOKUP(C16,INSUMOS!$A$6:$D$6961,2,0),IF('036.02-20-CANTEIRO.'!A16="COTAÇÃO",VLOOKUP('036.02-20-CANTEIRO.'!C16,'036-20-Cotação'!$A$9:$G$529,2,0),IF('036.02-20-CANTEIRO.'!A16="CCU",VLOOKUP('036.02-20-CANTEIRO.'!C16,'036-20-CCU''s'!$B$9:$H$1962,2,0)))))&" - ESCRITÓRIO CONSTRUTOR" -> EXECUÇÃO DE ESCRITÓRIO EM CANTEIRO DE OBRA EM CHAPA DE MADEIRA COMPENSADA, NÃO INCLUSO MOBILIÁRIO E EQUIPAMENTOS. AF_02/2016 - ESCRITÓRIO CONSTRUTOR | E16: =IF(A16="SERVIÇO",VLOOKUP(C16,SERVIÇOS!$A$6:$D$7645,3,0),IF(A16="INSUMO",VLOOKUP(C16,INSUMOS!$A$6:$D$6961,3,0),IF('036.02-20-CANTEIRO.'!A16="COTAÇÃO",VLOOKUP('036.02-20-CANTEIRO.'!C16,'036-20-Cotação'!$A$9:$G$529,4,0),IF('036.02-20-CANTEIRO.'!A16="CCU",VLOOKUP('036.02-20-CANTEIRO.'!C16,'036-20-CCU''s'!$B$9:$H$1962,4,0))))) -> M2 | F16: 45 | G16: =IF(A16="SERVIÇO",VLOOKUP(C16,SERVIÇOS!$A$6:$D$7645,4,0),IF(A16="INSUMO",VLOOKUP(C16,INSUMOS!$A$6:$D$6961,4,0),IF('036.02-20-CANTEIRO.'!A16="COTAÇÃO",VLOOKUP('036.02-20-CANTEIRO.'!C16,'036-20-Cotação'!$A$9:$G$529,3,0),IF('036.02-20-CANTEIRO.'!A16="CCU",VLOOKUP('036.02-20-CANTEIRO.'!C16,'036-20-CCU''s'!$B$9:$H$1962,7,0))))) -> 772,07 | H16: =BDI_O.A.E!$H$22 -> 0.182011 | I16: =F16*(G16*(1+H16)) -> 41066.786 | K16: =F16*(G16*(1+H16)) -> 41066.786
A17: SERVIÇO | B17: 02.01.101.2 | C17: 93207 | D17: =IF(A17="SERVIÇO",VLOOKUP(C17,SERVIÇOS!$A$6:$D$7645,2,0),IF(A17="INSUMO",VLOOKUP(C17,INSUMOS!$A$6:$D$6961,2,0),IF('036.02-20-CANTEIRO.'!A17="COTAÇÃO",VLOOKUP('036.02-20-CANTEIRO.'!C17,'036-20-Cotação'!$A$9:$G$529,2,0),IF('036.02-20-CANTEIRO.'!A17="CCU",VLOOKUP('036.02-20-CANTEIRO.'!C17,'036-20-CCU''s'!$B$9:$H$1962,2,0)))))&" - ESCRITÓRIO CONSULTOR" -> EXECUÇÃO DE ESCRITÓRIO EM CANTEIRO DE OBRA EM CHAPA DE MADEIRA COMPENSADA, NÃO INCLUSO MOBILIÁRIO E EQUIPAMENTOS. AF_02/2016 - ESCRITÓRIO CONSULTOR | E17: =IF(A17="SERVIÇO",VLOOKUP(C17,SERVIÇOS!$A$6:$D$7645,3,0),IF(A17="INSUMO",VLOOKUP(C17,INSUMOS!$A$6:$D$6961,3,0),IF('036.02-20-CANTEIRO.'!A17="COTAÇÃO",VLOOKUP('036.02-20-CANTEIRO.'!C17,'036-20-Cotação'!$A$9:$G$529,4,0),IF('036.02-20-CANTEIRO.'!A17="CCU",VLOOKUP('036.02-20-CANTEIRO.'!C17,'036-20-CCU''s'!$B$9:$H$1962,4,0))))) -> M2 | F17: 15 | G17: =IF(A17="SERVIÇO",VLOOKUP(C17,SERVIÇOS!$A$6:$D$7645,4,0),IF(A17="INSUMO",VLOOKUP(C17,INSUMOS!$A$6:$D$6961,4,0),IF('036.02-20-CANTEIRO.'!A17="COTAÇÃO",VLOOKUP('036.02-20-CANTEIRO.'!C17,'036-20-Cotação'!$A$9:$G$529,3,0),IF('036.02-20-CANTEIRO.'!A17="CCU",VLOOKUP('036.02-20-CANTEIRO.'!C17,'036-20-CCU''s'!$B$9:$H$1962,7,0))))) -> 772,07 | H17: =BDI_O.A.E!$H$22 -> 0.182011 | I17: =F17*(G17*(1+H17)) -> 13688.929 | K17: =F17*(G17*(1+H17)) -> 13688.929
A18: SERVIÇO | B18: 02.01.101.3 | C18: 93207 | D18: =IF(A18="SERVIÇO",VLOOKUP(C18,SERVIÇOS!$A$6:$D$7645,2,0),IF(A18="INSUMO",VLOOKUP(C18,INSUMOS!$A$6:$D$6961,2,0),IF('036.02-20-CANTEIRO.'!A18="COTAÇÃO",VLOOKUP('036.02-20-CANTEIRO.'!C18,'036-20-Cotação'!$A$9:$G$529,2,0),IF('036.02-20-CANTEIRO.'!A18="CCU",VLOOKUP('036.02-20-CANTEIRO.'!C18,'036-20-CCU''s'!$B$9:$H$1962,2,0)))))&" - ESCRITÓRIO FISCALIZAÇÃO" -> EXECUÇÃO DE ESCRITÓRIO EM CANTEIRO DE OBRA EM CHAPA DE MADEIRA COMPENSADA, NÃO INCLUSO MOBILIÁRIO E EQUIPAMENTOS. AF_02/2016 - ESCRITÓRIO FISCALIZAÇÃO | E18: =IF(A18="SERVIÇO",VLOOKUP(C18,SERVIÇOS!$A$6:$D$7645,3,0),IF(A18="INSUMO",VLOOKUP(C18,INSUMOS!$A$6:$D$6961,3,0),IF('036.02-20-CANTEIRO.'!A18="COTAÇÃO",VLOOKUP('036.02-20-CANTEIRO.'!C18,'036-20-Cotação'!$A$9:$G$529,4,0),IF('036.02-20-CANTEIRO.'!A18="CCU",VLOOKUP('036.02-20-CANTEIRO.'!C18,'036-20-CCU''s'!$B$9:$H$1962,4,0))))) -> M2 | F18: 20 | G18: =IF(A18="SERVIÇO",VLOOKUP(C18,SERVIÇOS!$A$6:$D$7645,4,0),IF(A18="INSUMO",VLOOKUP(C18,INSUMOS!$A$6:$D$6961,4,0),IF('036.02-20-CANTEIRO.'!A18="COTAÇÃO",VLOOKUP('036.02-20-CANTEIRO.'!C18,'036-20-Cotação'!$A$9:$G$529,3,0),IF('036.02-20-CANTEIRO.'!A18="CCU",VLOOKUP('036.02-20-CANTEIRO.'!C18,'036-20-CCU''s'!$B$9:$H$1962,7,0))))) -> 772,07 | H18: =BDI_O.A.E!$H$22 -> 0.182011 | I18: =F18*(G18*(1+H18)) -> 18251.905 | K18: =F18*(G18*(1+H18)) -> 18251.905
B19: 02.01.102 | D19: DEPÓSITOS | K19: =F19*(G19*(1+H19)) -> 0
A20: SERVIÇO | B20: 02.01.102.1 | C20: 93208 | D20: =IF(A20="SERVIÇO",VLOOKUP(C20,SERVIÇOS!$A$6:$D$7645,2,0),IF(A20="INSUMO",VLOOKUP(C20,INSUMOS!$A$6:$D$6961,2,0),IF('036.02-20-CANTEIRO.'!A20="COTAÇÃO",VLOOKUP('036.02-20-CANTEIRO.'!C20,'036-20-Cotação'!$A$9:$G$529,2,0),IF('036.02-20-CANTEIRO.'!A20="CCU",VLOOKUP('036.02-20-CANTEIRO.'!C20,'036-20-CCU''s'!$B$9:$H$1962,2,0)))))&" - ALMOXARIFADO E DEPÓSITO DE CIMENTO" -> EXECUÇÃO DE ALMOXARIFADO EM CANTEIRO DE OBRA EM CHAPA DE MADEIRA COMPENSADA, INCLUSO PRATELEIRAS. AF_02/2016 - ALMOXARIFADO E DEPÓSITO DE CIMENTO | E20: =IF(A20="SERVIÇO",VLOOKUP(C20,SERVIÇOS!$A$6:$D$7645,3,0),IF(A20="INSUMO",VLOOKUP(C20,INSUMOS!$A$6:$D$6961,3,0),IF('036.02-20-CANTEIRO.'!A20="COTAÇÃO",VLOOKUP('036.02-20-CANTEIRO.'!C20,'036-20-Cotação'!$A$9:$G$529,4,0),IF('036.02-20-CANTEIRO.'!A20="CCU",VLOOKUP('036.02-20-CANTEIRO.'!C20,'036-20-CCU''s'!$B$9:$H$1962,4,0))))) -> M2 | F20: 50 | G20: =IF(A20="SERVIÇO",VLOOKUP(C20,SERVIÇOS!$A$6:$D$7645,4,0),IF(A20="INSUMO",VLOOKUP(C20,INSUMOS!$A$6:$D$6961,4,0),IF('036.02-20-CANTEIRO.'!A20="COTAÇÃO",VLOOKUP('036.02-20-CANTEIRO.'!C20,'036-20-Cotação'!$A$9:$G$529,3,0),IF('036.02-20-CANTEIRO.'!A20="CCU",VLOOKUP('036.02-20-CANTEIRO.'!C20,'036-20-CCU''s'!$B$9:$H$1962,7,0))))) -> 595,28 | H20: =BDI_O.A.E!$H$22 -> 0.182011 | I20: =F20*(G20*(1+H20)) -> 35181.375 | K20: =F20*(G20*(1+H20)) -> 35181.375
A21: CCU | B21: 02.01.102.2 | C21: CCU - 02.001 | D21: =IF(A21="SERVIÇO",VLOOKUP(C21,SERVIÇOS!$A$6:$D$7645,2,0),IF(A21="INSUMO",VLOOKUP(C21,INSUMOS!$A$6:$D$6961,2,0),IF('036.02-20-CANTEIRO.'!A21="COTAÇÃO",VLOOKUP('036.02-20-CANTEIRO.'!C21,'036-20-Cotação'!$A$9:$G$529,2,0),IF('036.02-20-CANTEIRO.'!A21="CCU",VLOOKUP('036.02-20-CANTEIRO.'!C21,'036-20-CCU''s'!$B$9:$H$1962,2,0))))) -> EXECUÇÃO DE ÁREA DE DESCARGA E DEPOSITO DE MATERIAIS DIVERSOS | E21: =IF(A21="SERVIÇO",VLOOKUP(C21,SERVIÇOS!$A$6:$D$7645,3,0),IF(A21="INSUMO",VLOOKUP(C21,INSUMOS!$A$6:$D$6961,3,0),IF('036.02-20-CANTEIRO.'!A21="COTAÇÃO",VLOOKUP('036.02-20-CANTEIRO.'!C21,'036-20-Cotação'!$A$9:$G$529,4,0),IF('036.02-20-CANTEIRO.'!A21="CCU",VLOOKUP('036.02-20-CANTEIRO.'!C21,'036-20-CCU''s'!$B$9:$H$1962,4,0))))) -> M2 | F21: 108 | G21: =IF(A21="SERVIÇO",VLOOKUP(C21,SERVIÇOS!$A$6:$D$7645,4,0),IF(A21="INSUMO",VLOOKUP(C21,INSUMOS!$A$6:$D$6961,4,0),IF('036.02-20-CANTEIRO.'!A21="COTAÇÃO",VLOOKUP('036.02-20-CANTEIRO.'!C21,'036-20-Cotação'!$A$9:$G$529,3,0),IF('036.02-20-CANTEIRO.'!A21="CCU",VLOOKUP('036.02-20-CANTEIRO.'!C21,'036-20-CCU''s'!$B$9:$H$1962,7,0))))) -> 192.81 | H21: =BDI_O.A.E!$H$22 -> 0.182011 | I21: =F21*(G21*(1+H21)) -> 24613.582 | K21: =F21*(G21*(1+H21)) -> 24613.582
B22: 02.01.103 | D22: REFEITÓRIOS | K22: =F22*(G22*(1+H22)) -> 0
A23: SERVIÇO | B23: 02.01.103.1 | C23: 93210 | D23: =IF(A23="SERVIÇO",VLOOKUP(C23,SERVIÇOS!$A$6:$D$7645,2,0),IF(A23="INSUMO",VLOOKUP(C23,INSUMOS!$A$6:$D$6961,2,0),IF('036.02-20-CANTEIRO.'!A23="COTAÇÃO",VLOOKUP('036.02-20-CANTEIRO.'!C23,'036-20-Cotação'!$A$9:$G$529,2,0),IF('036.02-20-CANTEIRO.'!A23="CCU",VLOOKUP('036.02-20-CANTEIRO.'!C23,'036-20-CCU''s'!$B$9:$H$1962,2,0))))) -> EXECUÇÃO DE REFEITÓRIO EM CANTEIRO DE OBRA EM CHAPA DE MADEIRA COMPENSADA, NÃO INCLUSO MOBILIÁRIO E EQUIPAMENTOS. AF_02/2016 | E23: =IF(A23="SERVIÇO",VLOOKUP(C23,SERVIÇOS!$A$6:$D$7645,3,0),IF(A23="INSUMO",VLOOKUP(C23,INSUMOS!$A$6:$D$6961,3,0),IF('036.02-20-CANTEIRO.'!A23="COTAÇÃO",VLOOKUP('036.02-20-CANTEIRO.'!C23,'036-20-Cotação'!$A$9:$G$529,4,0),IF('036.02-20-CANTEIRO.'!A23="CCU",VLOOKUP('036.02-20-CANTEIRO.'!C23,'036-20-CCU''s'!$B$9:$H$1962,4,0))))) -> M2 | F23: 24 | G23: =IF(A23="SERVIÇO",VLOOKUP(C23,SERVIÇOS!$A$6:$D$7645,4,0),IF(A23="INSUMO",VLOOKUP(C23,INSUMOS!$A$6:$D$6961,4,0),IF('036.02-20-CANTEIRO.'!A23="COTAÇÃO",VLOOKUP('036.02-20-CANTEIRO.'!C23,'036-20-Cotação'!$A$9:$G$529,3,0),IF('036.02-20-CANTEIRO.'!A23="CCU",VLOOKUP('036.02-20-CANTEIRO.'!C23,'036-20-CCU''s'!$B$9:$H$1962,7,0))))) -> 388,42 | H23: =BDI_O.A.E!$H$22 -> 0.182011 | I23: =F23*(G23*(1+H23)) -> 11018.801 | K23: =F23*(G23*(1+H23)) -> 11018.801
B24: 02.01.104 | D24: SANITÁRIOS E VESTIÁRIOS | K24: =F24*(G24*(1+H24)) -> 0
A25: SERVIÇO | B25: 02.01.104.1 | C25: 93212 | D25: =IF(A25="SERVIÇO",VLOOKUP(C25,SERVIÇOS!$A$6:$D$7645,2,0),IF(A25="INSUMO",VLOOKUP(C25,INSUMOS!$A$6:$D$6961,2,0),IF('036.02-20-CANTEIRO.'!A25="COTAÇÃO",VLOOKUP('036.02-20-CANTEIRO.'!C25,'036-20-Cotação'!$A$9:$G$529,2,0),IF('036.02-20-CANTEIRO.'!A25="CCU",VLOOKUP('036.02-20-CANTEIRO.'!C25,'036-20-CCU''s'!$B$9:$H$1962,2,0))))) -> EXECUÇÃO DE SANITÁRIO E VESTIÁRIO EM CANTEIRO DE OBRA EM CHAPA DE MADEIRA COMPENSADA, NÃO INCLUSO MOBILIÁRIO. AF_02/2016 | E25: =IF(A25="SERVIÇO",VLOOKUP(C25,SERVIÇOS!$A$6:$D$7645,3,0),IF(A25="INSUMO",VLOOKUP(C25,INSUMOS!$A$6:$D$6961,3,0),IF('036.02-20-CANTEIRO.'!A25="COTAÇÃO",VLOOKUP('036.02-20-CANTEIRO.'!C25,'036-20-Cotação'!$A$9:$G$529,4,0),IF('036.02-20-CANTEIRO.'!A25="CCU",VLOOKUP('036.02-20-CANTEIRO.'!C25,'036-20-CCU''s'!$B$9:$H$1962,4,0))))) -> M2 | F25: 40 | G25: =IF(A25="SERVIÇO",VLOOKUP(C25,SERVIÇOS!$A$6:$D$7645,4,0),IF(A25="INSUMO",VLOOKUP(C25,INSUMOS!$A$6:$D$6961,4,0),IF('036.02-20-CANTEIRO.'!A25="COTAÇÃO",VLOOKUP('036.02-20-CANTEIRO.'!C25,'036-20-Cotação'!$A$9:$G$529,3,0),IF('036.02-20-CANTEIRO.'!A25="CCU",VLOOKUP('036.02-20-CANTEIRO.'!C25,'036-20-CCU''s'!$B$9:$H$1962,7,0))))) -> 687,78 | H25: =BDI_O.A.E!$H$22 -> 0.182011 | I25: =F25*(G25*(1+H25)) -> 32518.541 | K25: =F25*(G25*(1+H25)) -> 32518.541
A26: COTAÇÃO | B26: 02.01.104.2 | C26: COTAÇÃO-001 | D26: =IF(A26="SERVIÇO",VLOOKUP(C26,SERVIÇOS!$A$6:$D$7645,2,0),IF(A26="INSUMO",VLOOKUP(C26,INSUMOS!$A$6:$D$6961,2,0),IF('036.02-20-CANTEIRO.'!A26="COTAÇÃO",VLOOKUP('036.02-20-CANTEIRO.'!C26,'036-20-Cotação'!$A$9:$G$529,2,0),IF('036.02-20-CANTEIRO.'!A26="CCU",VLOOKUP('036.02-20-CANTEIRO.'!C26,'036-20-CCU''s'!$B$9:$H$1962,2,0))))) -> LOCAÇÃO DE BANHEIRO ECOLOGICO PARA CANTEIRO DE OBRAS - 2 UNDIDADES | E26: =IF(A26="SERVIÇO",VLOOKUP(C26,SERVIÇOS!$A$6:$D$7645,3,0),IF(A26="INSUMO",VLOOKUP(C26,INSUMOS!$A$6:$D$6961,3,0),IF('036.02-20-CANTEIRO.'!A26="COTAÇÃO",VLOOKUP('036.02-20-CANTEIRO.'!C26,'036-20-Cotação'!$A$9:$G$529,4,0),IF('036.02-20-CANTEIRO.'!A26="CCU",VLOOKUP('036.02-20-CANTEIRO.'!C26,'036-20-CCU''s'!$B$9:$H$1962,4,0))))) -> MÊS | F26: 14 | G26: =IF(A26="SERVIÇO",VLOOKUP(C26,SERVIÇOS!$A$6:$D$7645,4,0),IF(A26="INSUMO",VLOOKUP(C26,INSUMOS!$A$6:$D$6961,4,0),IF('036.02-20-CANTEIRO.'!A26="COTAÇÃO",VLOOKUP('036.02-20-CANTEIRO.'!C26,'036-20-Cotação'!$A$9:$G$529,3,0),IF('036.02-20-CANTEIRO.'!A26="CCU",VLOOKUP('036.02-20-CANTEIRO.'!C26,'036-20-CCU''s'!$B$9:$H$1962,7,0))))) -> 1100 | H26: =BDI_Equipamentos!$H$22 -> 0.1089062 | I26: =F26*(G26*(1+H26)) -> 17077.155 | K26: =F26*(G26*(1+H26)) -> 17077.155
B27: 02.01.105 | D27: GUARITAS | K27: =F27*(G27*(1+H27)) -> 0
A28: SERVIÇO | B28: 02.01.105.1 | C28: 93585 | D28: =IF(A28="SERVIÇO",VLOOKUP(C28,SERVIÇOS!$A$6:$D$7645,2,0),IF(A28="INSUMO",VLOOKUP(C28,INSUMOS!$A$6:$D$6961,2,0),IF('036.02-20-CANTEIRO.'!A28="COTAÇÃO",VLOOKUP('036.02-20-CANTEIRO.'!C28,'036-20-Cotação'!$A$9:$G$529,2,0),IF('036.02-20-CANTEIRO.'!A28="CCU",VLOOKUP('036.02-20-CANTEIRO.'!C28,'036-20-CCU''s'!$B$9:$H$1962,2,0))))) -> EXECUÇÃO DE GUARITA EM CANTEIRO DE OBRA EM CHAPA DE MADEIRA COMPENSADA, NÃO INCLUSO MOBILIÁRIO. AF_04/2016 | E28: =IF(A28="SERVIÇO",VLOOKUP(C28,SERVIÇOS!$A$6:$D$7645,3,0),IF(A28="INSUMO",VLOOKUP(C28,INSUMOS!$A$6:$D$6961,3,0),IF('036.02-20-CANTEIRO.'!A28="COTAÇÃO",VLOOKUP('036.02-20-CANTEIRO.'!C28,'036-20-Cotação'!$A$9:$G$529,4,0),IF('036.02-20-CANTEIRO.'!A28="CCU",VLOOKUP('036.02-20-CANTEIRO.'!C28,'036-20-CCU''s'!$B$9:$H$1962,4,0))))) -> M2 | F28: 6.25 | G28: =IF(A28="SERVIÇO",VLOOKUP(C28,SERVIÇOS!$A$6:$D$7645,4,0),IF(A28="INSUMO",VLOOKUP(C28,INSUMOS!$A$6:$D$6961,4,0),IF('036.02-20-CANTEIRO.'!A28="COTAÇÃO",VLOOKUP('036.02-20-CANTEIRO.'!C28,'036-20-Cotação'!$A$9:$G$529,3,0),IF('036.02-20-CANTEIRO.'!A28="CCU",VLOOKUP('036.02-20-CANTEIRO.'!C28,'036-20-CCU''s'!$B$9:$H$1962,7,0))))) -> 853,67 | H28: =BDI_O.A.E!$H$22 -> 0.182011 | I28: =F28*(G28*(1+H28)) -> 6306.5458 | K28: =F28*(G28*(1+H28)) -> 6306.5458
B29: 02.01.106 | D29: AMBULATÓRIO | K29: =F29*(G29*(1+H29)) -> 0
A30: INSUMO | B30: 02.01.106.1 | C30: 10775 | D30: =IF(A30="SERVIÇO",VLOOKUP(C30,SERVIÇOS!$A$6:$D$7645,2,0),IF(A30="INSUMO",VLOOKUP(C30,INSUMOS!$A$6:$D$6961,2,0),IF('036.02-20-CANTEIRO.'!A30="COTAÇÃO",VLOOKUP('036.02-20-CANTEIRO.'!C30,'036-20-Cotação'!$A$9:$G$529,2,0),IF('036.02-20-CANTEIRO.'!A30="CCU",VLOOKUP('036.02-20-CANTEIRO.'!C30,'036-20-CCU''s'!$B$9:$H$1962,2,0))))) -> LOCACAO DE CONTAINER 2,30 X 6,00 M, ALT. 2,50 M, COM 1 SANITARIO, PARA ESCRITORIO, COMPLETO, SEM DIVISORIAS INTERNAS | E30: =IF(A30="SERVIÇO",VLOOKUP(C30,SERVIÇOS!$A$6:$D$7645,3,0),IF(A30="INSUMO",VLOOKUP(C30,INSUMOS!$A$6:$D$6961,3,0),IF('036.02-20-CANTEIRO.'!A30="COTAÇÃO",VLOOKUP('036.02-20-CANTEIRO.'!C30,'036-20-Cotação'!$A$9:$G$529,4,0),IF('036.02-20-CANTEIRO.'!A30="CCU",VLOOKUP('036.02-20-CANTEIRO.'!C30,'036-20-CCU''s'!$B$9:$H$1962,4,0))))) -> MES | F30: 17 | G30: =IF(A30="SERVIÇO",VLOOKUP(C30,SERVIÇOS!$A$6:$D$7645,4,0),IF(A30="INSUMO",VLOOKUP(C30,INSUMOS!$A$6:$D$6961,4,0),IF('036.02-20-CANTEIRO.'!A30="COTAÇÃO",VLOOKUP('036.02-20-CANTEIRO.'!C30,'036-20-Cotação'!$A$9:$G$529,3,0),IF('036.02-20-CANTEIRO.'!A30="CCU",VLOOKUP('036.02-20-CANTEIRO.'!C30,'036-20-CCU''s'!$B$9:$H$1962,7,0))))) -> 515,00 | H30: =BDI_Equipamentos!$H$22 -> 0.1089062 | I30: =F30*(G30*(1+H30)) -> 9708.4738 | K30: =F30*(G30*(1+H30)) -> 9708.4738
B31: 02.01.107 | D31: CENTRAIS DE PRODUÇÃO | K31: =F31*(G31*(1+H31)) -> 0
B32: 02.01.107.1 | D32: CENTRAL DE CARPINTARIA | K32: =F32*(G32*(1+H32)) -> 0
A33: SERVIÇO | B33: 02.01.107.1.1 | C33: 93583 | D33: =IF(A33="SERVIÇO",VLOOKUP(C33,SERVIÇOS!$A$6:$D$7645,2,0),IF(A33="INSUMO",VLOOKUP(C33,INSUMOS!$A$6:$D$6961,2,0),IF('036.02-20-CANTEIRO.'!A33="COTAÇÃO",VLOOKUP('036.02-20-CANTEIRO.'!C33,'036-20-Cotação'!$A$9:$G$529,2,0),IF('036.02-20-CANTEIRO.'!A33="CCU",VLOOKUP('036.02-20-CANTEIRO.'!C33,'036-20-CCU''s'!$B$9:$H$1962,2,0))))) -> EXECUÇÃO DE CENTRAL DE FÔRMAS, PRODUÇÃO DE ARGAMASSA OU CONCRETO EM CANTEIRO DE OBRA, NÃO INCLUSO MOBILIÁRIO E EQUIPAMENTOS. AF_04/2016 | E33: =IF(A33="SERVIÇO",VLOOKUP(C33,SERVIÇOS!$A$6:$D$7645,3,0),IF(A33="INSUMO",VLOOKUP(C33,INSUMOS!$A$6:$D$6961,3,0),IF('036.02-20-CANTEIRO.'!A33="COTAÇÃO",VLOOKUP('036.02-20-CANTEIRO.'!C33,'036-20-Cotação'!$A$9:$G$529,4,0),IF('036.02-20-CANTEIRO.'!A33="CCU",VLOOKUP('036.02-20-CANTEIRO.'!C33,'036-20-CCU''s'!$B$9:$H$1962,4,0))))) -> M2 | F33: 36 | G33: =IF(A33="SERVIÇO",VLOOKUP(C33,SERVIÇOS!$A$6:$D$7645,4,0),IF(A33="INSUMO",VLOOKUP(C33,INSUMOS!$A$6:$D$6961,4,0),IF('036.02-20-CANTEIRO.'!A33="COTAÇÃO",VLOOKUP('036.02-20-CANTEIRO.'!C33,'036-20-Cotação'!$A$9:$G$529,3,0),IF('036.02-20-CANTEIRO.'!A33="CCU",VLOOKUP('036.02-20-CANTEIRO.'!C33,'036-20-CCU''s'!$B$9:$H$1962,7,0))))) -> 320,61 | H33: =BDI_O.A.E!$H$22 -> 0.182011 | I33: =F33*(G33*(1+H33)) -> 13642.724 | K33: =F33*(G33*(1+H33)) -> 13642.724
B34: 02.01.107.2 | D34: CENTRAL DE ARMADURA | K34: =F34*(G34*(1+H34)) -> 0
A35: SERVIÇO | B35: 02.01.107.2.1 | C35: 93582 | D35: =IF(A35="SERVIÇO",VLOOKUP(C35,SERVIÇOS!$A$6:$D$7645,2,0),IF(A35="INSUMO",VLOOKUP(C35,INSUMOS!$A$6:$D$6961,2,0),IF('036.02-20-CANTEIRO.'!A35="COTAÇÃO",VLOOKUP('036.02-20-CANTEIRO.'!C35,'036-20-Cotação'!$A$9:$G$529,2,0),IF('036.02-20-CANTEIRO.'!A35="CCU",VLOOKUP('036.02-20-CANTEIRO.'!C35,'036-20-CCU''s'!$B$9:$H$1962,2,0))))) -> EXECUÇÃO DE CENTRAL DE ARMADURA EM CANTEIRO DE OBRA, NÃO INCLUSO MOBILIÁRIO E EQUIPAMENTOS. AF_04/2016 | E35: =IF(A35="SERVIÇO",VLOOKUP(C35,SERVIÇOS!$A$6:$D$7645,3,0),IF(A35="INSUMO",VLOOKUP(C35,INSUMOS!$A$6:$D$6961,3,0),IF('036.02-20-CANTEIRO.'!A35="COTAÇÃO",VLOOKUP('036.02-20-CANTEIRO.'!C35,'036-20-Cotação'!$A$9:$G$529,4,0),IF('036.02-20-CANTEIRO.'!A35="CCU",VLOOKUP('036.02-20-CANTEIRO.'!C35,'036-20-CCU''s'!$B$9:$H$1962,4,0))))) -> M2 | F35: 100 | G35: =IF(A35="SERVIÇO",VLOOKUP(C35,SERVIÇOS!$A$6:$D$7645,4,0),IF(A35="INSUMO",VLOOKUP(C35,INSUMOS!$A$6:$D$6961,4,0),IF('036.02-20-CANTEIRO.'!A35="COTAÇÃO",VLOOKUP('036.02-20-CANTEIRO.'!C35,'036-20-Cotação'!$A$9:$G$529,3,0),IF('036.02-20-CANTEIRO.'!A35="CCU",VLOOKUP('036.02-20-CANTEIRO.'!C35,'036-20-CCU''s'!$B$9:$H$1962,7,0))))) -> 192,70 | H35: =BDI_O.A.E!$H$22 -> 0.182011 | I35: =F35*(G35*(1+H35)) -> 22777.352 | K35: =F35*(G35*(1+H35)) -> 22777.352
B36: 02.01.107.3 | D36: CENTRAL DE PROTENÇÃO | K36: =F36*(G36*(1+H36)) -> 0
A37: CCU | B37: 02.01.107.3.1 | C37: CCU - 02.002 | D37: =IF(A37="SERVIÇO",VLOOKUP(C37,SERVIÇOS!$A$6:$D$7645,2,0),IF(A37="INSUMO",VLOOKUP(C37,INSUMOS!$A$6:$D$6961,2,0),IF('036.02-20-CANTEIRO.'!A37="COTAÇÃO",VLOOKUP('036.02-20-CANTEIRO.'!C37,'036-20-Cotação'!$A$9:$G$529,2,0),IF('036.02-20-CANTEIRO.'!A37="CCU",VLOOKUP('036.02-20-CANTEIRO.'!C37,'036-20-CCU''s'!$B$9:$H$1962,2,0))))) -> CENTRAL DE PROTENSÃO E DEPÓSITO DE BOBINAS E TUBOS PEAD 300MM | E37: =IF(A37="SERVIÇO",VLOOKUP(C37,SERVIÇOS!$A$6:$D$7645,3,0),IF(A37="INSUMO",VLOOKUP(C37,INSUMOS!$A$6:$D$6961,3,0),IF('036.02-20-CANTEIRO.'!A37="COTAÇÃO",VLOOKUP('036.02-20-CANTEIRO.'!C37,'036-20-Cotação'!$A$9:$G$529,4,0),IF('036.02-20-CANTEIRO.'!A37="CCU",VLOOKUP('036.02-20-CANTEIRO.'!C37,'036-20-CCU''s'!$B$9:$H$1962,4,0))))) -> M2 | F37: 180 | G37: =IF(A37="SERVIÇO",VLOOKUP(C37,SERVIÇOS!$A$6:$D$7645,4,0),IF(A37="INSUMO",VLOOKUP(C37,INSUMOS!$A$6:$D$6961,4,0),IF('036.02-20-CANTEIRO.'!A37="COTAÇÃO",VLOOKUP('036.02-20-CANTEIRO.'!C37,'036-20-Cotação'!$A$9:$G$529,3,0),IF('036.02-20-CANTEIRO.'!A37="CCU",VLOOKUP('036.02-20-CANTEIRO.'!C37,'036-20-CCU''s'!$B$9:$H$1962,7,0))))) -> 192.7 | H37: =BDI_O.A.E!$H$22 -> 0.182011 | I37: =F37*(G37*(1+H37)) -> 40999.234 | K37: =F37*(G37*(1+H37)) -> 40999.234
B38: 02.01.108 | D38: ATRACADOURO/PIER | K38: =F38*(G38*(1+H38)) -> 0
A39: CCU | B39: 02.01.108.1 | C39: CCU - 02.003 | D39: =IF(A39="SERVIÇO",VLOOKUP(C39,SERVIÇOS!$A$6:$D$7645,2,0),IF(A39="INSUMO",VLOOKUP(C39,INSUMOS!$A$6:$D$6961,2,0),IF('036.02-20-CANTEIRO.'!A39="COTAÇÃO",VLOOKUP('036.02-20-CANTEIRO.'!C39,'036-20-Cotação'!$A$9:$G$529,2,0),IF('036.02-20-CANTEIRO.'!A39="CCU",VLOOKUP('036.02-20-CANTEIRO.'!C39,'036-20-CCU''s'!$B$9:$H$1962,2,0))))) -> ATRACADOURO/PIER PARA ATRACACAO DE EMBARCACOES ESTRUTURADO EM PECAS DE MADEIRA SERRADA, SENDO AS LONGARINAS DE 3 X9 E AS TRANSVERSINAS DE 3 X12 , FIXADAS POR BARRAS INOX ROSQUEADAS DE 1,00MX1/2 , ASSOALHO EM RIPAS DE MADEIRA APARELHADA DE (2,5X10)CM, FIXADAS POR PREGOS LVANIZADOS DE SECAO QUADRADA NAS DIMENSOES DE (4,38X79)MM. TODO CONJUNTO ASSENTADO SOBRE PILARES CIRCULARES COM DIAMETRO DE 40CM EM CONCRETO ESTRUTURAL FCK=20MPA, REVESTIDO EM TUBO DE PEAD RIGIDO DE 400MM. FORNECIMENTO DE TODOS MATERIAIS, COLOCACAO, INSTALACAO, TRANSPORTE, TOPOGRAFIA E MONTAGEM DE TODAS AS PECAS E ACABAMENTO FINAL. | E39: =IF(A39="SERVIÇO",VLOOKUP(C39,SERVIÇOS!$A$6:$D$7645,3,0),IF(A39="INSUMO",VLOOKUP(C39,INSUMOS!$A$6:$D$6961,3,0),IF('036.02-20-CANTEIRO.'!A39="COTAÇÃO",VLOOKUP('036.02-20-CANTEIRO.'!C39,'036-20-Cotação'!$A$9:$G$529,4,0),IF('036.02-20-CANTEIRO.'!A39="CCU",VLOOKUP('036.02-20-CANTEIRO.'!C39,'036-20-CCU''s'!$B$9:$H$1962,4,0))))) -> M2 | F39: 420 | G39: =IF(A39="SERVIÇO",VLOOKUP(C39,SERVIÇOS!$A$6:$D$7645,4,0),IF(A39="INSUMO",VLOOKUP(C39,INSUMOS!$A$6:$D$6961,4,0),IF('036.02-20-CANTEIRO.'!A39="COTAÇÃO",VLOOKUP('036.02-20-CANTEIRO.'!C39,'036-20-Cotação'!$A$9:$G$529,3,0),IF('036.02-20-CANTEIRO.'!A39="CCU",VLOOKUP('036.02-20-CANTEIRO.'!C39,'036-20-CCU''s'!$B$9:$H$1962,7,0))))) -> 620.4 | H39: =BDI_O.A.E!$H$22 -> 0.182011 | I39: =F39*(G39*(1+H39)) -> 307994.24 | K39: =F39*(G39*(1+H39)) -> 307994.24 | M39: =5800*3 -> 17400
B40: 02.01.109 | D40: LAVA RODAS | K40: =F40*(G40*(1+H40)) -> 0
A41: CCU | B41: 02.01.109.1 | C41: 919210 | D41: =IF(A41="SERVIÇO",VLOOKUP(C41,SERVIÇOS!$A$6:$D$7645,2,0),IF(A41="INSUMO",VLOOKUP(C41,INSUMOS!$A$6:$D$6961,2,0),IF('036.02-20-CANTEIRO.'!A41="COTAÇÃO",VLOOKUP('036.02-20-CANTEIRO.'!C41,'036-20-Cotação'!$A$9:$G$529,2,0),IF('036.02-20-CANTEIRO.'!A41="CCU",VLOOKUP('036.02-20-CANTEIRO.'!C41,'036-20-CCU''s'!$B$9:$H$1962,2,0))))) -> RAMPA DE LAVAGEM - INCLUSIVE DEMOLIÇÃO | E41: =IF(A41="SERVIÇO",VLOOKUP(C41,SERVIÇOS!$A$6:$D$7645,3,0),IF(A41="INSUMO",VLOOKUP(C41,INSUMOS!$A$6:$D$6961,3,0),IF('036.02-20-CANTEIRO.'!A41="COTAÇÃO",VLOOKUP('036.02-20-CANTEIRO.'!C41,'036-20-Cotação'!$A$9:$G$529,4,0),IF('036.02-20-CANTEIRO.'!A41="CCU",VLOOKUP('036.02-20-CANTEIRO.'!C41,'036-20-CCU''s'!$B$9:$H$1962,4,0))))) -> UN | F41: 1 | G41: =IF(A41="SERVIÇO",VLOOKUP(C41,SERVIÇOS!$A$6:$D$7645,4,0),IF(A41="INSUMO",VLOOKUP(C41,INSUMOS!$A$6:$D$6961,4,0),IF('036.02-20-CANTEIRO.'!A41="COTAÇÃO",VLOOKUP('036.02-20-CANTEIRO.'!C41,'036-20-Cotação'!$A$9:$G$529,3,0),IF('036.02-20-CANTEIRO.'!A41="CCU",VLOOKUP('036.02-20-CANTEIRO.'!C41,'036-20-CCU''s'!$B$9:$H$1962,7,0))))) -> 15738.202 | H41: =BDI_O.A.E!$H$22 -> 0.182011 | I41: =F41*(G41*(1+H41)) -> 18602.728 | K41: =F41*(G41*(1+H41)) -> 18602.728
K42: =F42*(G42*(1+H42)) -> 0
...

Sheet 036-20-CCU's
B2: GOVERNO DO DISTRITO FEDERAL
B3: SECRETARIA DE ESTADO DE INFRAESTRUTURA E SERVIÇOS PÚBLICOS
B4: COMPANHIA URBANIZADORA DA NOVA CAPITAL DO BRASIL
B5: PLANILHA DE COMPOSIÇÕES
B6: Nº ESTIMATIVA PRINCIPAL: | C6: 036/2020-SEORÇA-SDS | G6: DATA: | H6: ='036-20-CAPA'!C19 -> 44370
B7: TÍTULO: | C7: CONTRATAÇÃO DE EMPRESA DE ENGENHARIA PARA EXECUÇÃO DE OBRA DE REVITALIZAÇÃO DA PONTE JK, INCLUINDO ELABORAÇÃO DE PROJETOS EXECUTIVOS | G7: Nº PROJETO: | H7: PROJ-DE-018-20
B8: ENCARGOS TRABALHISTAS: | C8: Conforme - DF 01-2020 Relatório de Mão de Obra SICRO/SINAPI | D8: B.D.I. : | E8: 0,00% | G8: TAB. REF.: | H8: SICRO Jan 2020-SINAPI Jan 2020
B10: CCU - 01.001 | C10: PROJETO EXECUTIVO DO CANTEIRO DE OBRA, COMPLETO, INCLUSIVE PISTAS DE ACESSOS, CONTENÇÃO E ATRACADOURO. INCLUSO TODAS AS TAXAS E DESPESAS PARA APROVAÇÕES E LICENCIAMENTOS | D10: SER.CG | E10: UN | H10: =SUM(H11:H13) -> 24844.912
A11: SERVIÇO | B11: P9848 | C11: =IF(A11="SERVIÇO",VLOOKUP(B11,SERVIÇOS!$A$6:$D$7645,2,0),IF(A11="INSUMO",VLOOKUP(B11,INSUMOS!$A$6:$D$6961,2,0),IF(A11="COTAÇÃO",VLOOKUP(B11,'036-20-Cotação'!$A$9:$G$529,2,0)))) -> DESENHISTA | D11: =IF(A11="SERVIÇO",VLOOKUP(B11,SERVIÇOS!$A$6:$E$7645,5,0),IF(A11="INSUMO",VLOOKUP(B11,INSUMOS!$A$6:$E$6961,5,0),IF(A11="COTAÇÃO",VLOOKUP(B11,'036-20-Cotação'!$A$9:$H$529,8,0)))) -> M.O | E11: =IF(A11="SERVIÇO",VLOOKUP(B11,SERVIÇOS!$A$6:$D$7645,3,0),IF(A11="INSUMO",VLOOKUP(B11,INSUMOS!$A$6:$D$6961,3,0),IF(A11="COTAÇÃO",VLOOKUP(B11,'036-20-Cotação'!$A$9:$G$529,4,0)))) -> MÊS | F11: 2.3622739 | G11: =IF(A11="SERVIÇO",VLOOKUP(B11,SERVIÇOS!$A$6:$D$7645,4,0),IF(A11="INSUMO",VLOOKUP(B11,INSUMOS!$A$6:$D$6961,4,0),IF(A11="COTAÇÃO",VLOOKUP(B11,'036-20-Cotação'!$A$9:$G$529,3,0)))) -> 5359.7883 | H11: =G11*F11 -> 12661.288
A12: SERVIÇO | B12: P9812 | C12: =IF(A12="SERVIÇO",VLOOKUP(B12,SERVIÇOS!$A$6:$D$7645,2,0),IF(A12="INSUMO",VLOOKUP(B12,INSUMOS!$A$6:$D$6961,2,0),IF(A12="COTAÇÃO",VLOOKUP(B12,'036-20-Cotação'!$A$9:$G$529,2,0)))) -> ENGENHEIRO | D12: =IF(A12="SERVIÇO",VLOOKUP(B12,SERVIÇOS!$A$6:$E$7645,5,0),IF(A12="INSUMO",VLOOKUP(B12,INSUMOS!$A$6:$E$6961,5,0),IF(A12="COTAÇÃO",VLOOKUP(B12,'036-20-Cotação'!$A$9:$H$529,8,0)))) -> M.O | E12: =IF(A12="SERVIÇO",VLOOKUP(B12,SERVIÇOS!$A$6:$D$7645,3,0),IF(A12="INSUMO",VLOOKUP(B12,INSUMOS!$A$6:$D$6961,3,0),IF(A12="COTAÇÃO",VLOOKUP(B12,'036-20-Cotação'!$A$9:$G$529,4,0)))) -> MÊS | F12: 0.22458335 | G12: =IF(A12="SERVIÇO",VLOOKUP(B12,SERVIÇOS!$A$6:$D$7645,4,0),IF(A12="INSUMO",VLOOKUP(B12,INSUMOS!$A$6:$D$6961,4,0),IF(A12="COTAÇÃO",VLOOKUP(B12,'036-20-Cotação'!$A$9:$G$529,3,0)))) -> 21731.674 | H12: =G12*F12 -> 4880.5722
A13: SERVIÇO | B13: P9946 | C13: =IF(A13="SERVIÇO",VLOOKUP(B13,SERVIÇOS!$A$6:$D$7645,2,0),IF(A13="INSUMO",VLOOKUP(B13,INSUMOS!$A$6:$D$6961,2,0),IF(A13="COTAÇÃO",VLOOKUP(B13,'036-20-Cotação'!$A$9:$G$529,2,0)))) -> ENGENHEIRO AUXILIAR | D13: =IF(A13="SERVIÇO",VLOOKUP(B13,SERVIÇOS!$A$6:$E$7645,5,0),IF(A13="INSUMO",VLOOKUP(B13,INSUMOS!$A$6:$E$6961,5,0),IF(A13="COTAÇÃO",VLOOKUP(B13,'036-20-Cotação'!$A$9:$H$529,8,0)))) -> M.O | E13: =IF(A13="SERVIÇO",VLOOKUP(B13,SERVIÇOS!$A$6:$D$7645,3,0),IF(A13="INSUMO",VLOOKUP(B13,INSUMOS!$A$6:$D$6961,3,0),IF(A13="COTAÇÃO",VLOOKUP(B13,'036-20-Cotação'!$A$9:$G$529,4,0)))) -> MÊS | F13: 0.41553771 | G13: =IF(A13="SERVIÇO",VLOOKUP(B13,SERVIÇOS!$A$6:$D$7645,4,0),IF(A13="INSUMO",VLOOKUP(B13,INSUMOS!$A$6:$D$6961,4,0),IF(A13="COTAÇÃO",VLOOKUP(B13,'036-20-Cotação'!$A$9:$G$529,3,0)))) -> 17574.943 | H13: =G13*F13 -> 7303.0515
B14: Observação: | C14: REF: MEMÓRIA DE CÁLCULO DE HONORÁRIOS DE PROJETOS
B16: CCU - 01.002 | C16: PROJETO EXECUTIVO DE ENSECADEIRA METÁLICA COM DETALHAMENTO DE PEÇA COM DETALHAMENTO DO FASEAMENTO (ETAPAS) DE MONTAGEM. INCLUINDO MEMÓRIA DE CÁLCULO, QUANTITATIVOS, ESPECIFICAÇÕES TÉCNICAS PROCEDIMENTOS DA MONTAGEM E DESMONTAGEM. INCLUSO TODAS AS TAXAS E DESPESAS NECESSARIAS PARA ELABORAÇÃO E APROVAÇÕES. | D16: SER.CG | E16: UN | H16: =SUM(H17:H20) -> 69662.226
A17: SERVIÇO | B17: T.C.SICRO.CM01 | C17: =IF(A17="SERVIÇO",VLOOKUP(B17,SERVIÇOS!$A$6:$D$7645,2,0),IF(A17="INSUMO",VLOOKUP(B17,INSUMOS!$A$6:$D$6961,2,0),IF(A17="COTAÇÃO",VLOOKUP(B17,'036-20-Cotação'!$A$9:$G$529,2,0)))) -> CONSULTOR ESPECIAL | D17: =IF(A17="SERVIÇO",VLOOKUP(B17,SERVIÇOS!$A$6:$E$7645,5,0),IF(A17="INSUMO",VLOOKUP(B17,INSUMOS!$A$6:$E$6961,5,0),IF(A17="COTAÇÃO",VLOOKUP(B17,'036-20-Cotação'!$A$9:$H$529,8,0)))) -> M.O. | E17: =IF(A17="SERVIÇO",VLOOKUP(B17,SERVIÇOS!$A$6:$D$7645,3,0),IF(A17="INSUMO",VLOOKUP(B17,INSUMOS!$A$6:$D$6961,3,0),IF(A17="COTAÇÃO",VLOOKUP(B17,'036-20-Cotação'!$A$9:$G$529,4,0)))) -> MÊS | F17: 0.25 | G17: =IF(A17="SERVIÇO",VLOOKUP(B17,SERVIÇOS!$A$6:$D$7645,4,0),IF(A17="INSUMO",VLOOKUP(B17,INSUMOS!$A$6:$D$6961,4,0),IF(A17="COTAÇÃO",VLOOKUP(B17,'036-20-Cotação'!$A$9:$G$529,3,0)))) -> 21020.83 | H17: =G17*F17 -> 5255.2075
A18: SERVIÇO | B18: P9848 | C18: =IF(A18="SERVIÇO",VLOOKUP(B18,SERVIÇOS!$A$6:$D$7645,2,0),IF(A18="INSUMO",VLOOKUP(B18,INSUMOS!$A$6:$D$6961,2,0),IF(A18="COTAÇÃO",VLOOKUP(B18,'036-20-Cotação'!$A$9:$G$529,2,0)))) -> DESENHISTA | D18: =IF(A18="SERVIÇO",VLOOKUP(B18,SERVIÇOS!$A$6:$E$7645,5,0),IF(A18="INSUMO",VLOOKUP(B18,INSUMOS!$A$6:$E$6961,5,0),IF(A18="COTAÇÃO",VLOOKUP(B18,'036-20-Cotação'!$A$9:$H$529,8,0)))) -> M.O | E18: =IF(A18="SERVIÇO",VLOOKUP(B18,SERVIÇOS!$A$6:$D$7645,3,0),IF(A18="INSUMO",VLOOKUP(B18,INSUMOS!$A$6:$D$6961,3,0),IF(A18="COTAÇÃO",VLOOKUP(B18,'036-20-Cotação'!$A$9:$G$529,4,0)))) -> MÊS | F18: 2 | G18: =IF(A18="SERVIÇO",VLOOKUP(B18,SERVIÇOS!$A$6:$D$7645,4,0),IF(A18="INSUMO",VLOOKUP(B18,INSUMOS!$A$6:$D$6961,4,0),IF(A18="COTAÇÃO",VLOOKUP(B18,'036-20-Cotação'!$A$9:$G$529,3,0)))) -> 5359.7883 | H18: =G18*F18 -> 10719.577
