Workbook
Name __SM1: #REF!
Name __SM1: #REF!
Name __SM1: #REF!
Name __SM1: #REF!
Name __SM1: #REF!
Name __SM1: #REF!
Name __SM1: #REF!
Name __SM1: #REF!
Name __SM1: #REF!
Name __SM1: #REF!
Name __SM1: #REF!
Name __SM1: #REF!
Name __SM1: #REF!
Name __SM1: #REF!
Name __SM1: #REF!
Name __SM10: #REF!
Name __SM10: #REF!
Name __SM10: #REF!
Name __SM10: #REF!
Name __SM10: #REF!
Name __SM10: #REF!
Name __SM10: #REF!
Name __SM10: #REF!
Name __SM10: #REF!
Name __SM10: #REF!
Name __SM10: #REF!
Name __SM10: #REF!
Name __SM10: #REF!
Name __SM10: #REF!
Name __SM11: #REF!
Name __SM11: #REF!
Name __SM11: #REF!
Name __SM11: #REF!
Name __SM11: #REF!
Name __SM11: #REF!
Name __SM11: #REF!
Name __SM11: #REF!
Name __SM11: #REF!
Name __SM11: #REF!
Name __SM11: #REF!
Name __SM11: #REF!
Name __SM11: #REF!
Name __SM11: #REF!
Name __SM12: #REF!
Name __SM12: #REF!
Name __SM12: #REF!
Name __SM12: #REF!
Name __SM12: #REF!
Name __SM12: #REF!
Name __SM12: #REF!
Name __SM12: #REF!
Name __SM12: #REF!
Name __SM12: #REF!
Name __SM12: #REF!
Name __sm13: #REF!
Name __sm13: #REF!
Name __sm13: #REF!
Name __sm13: #REF!
Name __sm13: #REF!
Name __sm13: #REF!

Sheet 018-21-CAPA
C1: VER COMENTÁRIOS NAS CÉLULAS ANTES DE PREENCHER. FAVOR MANTER TODOS OS COMENTÁRIOS DAS CÉLULAS PARA FACILITAR A CONFERÊNCIA DO ARQUIVO Sempre consultar a Cooordenação de arquivos da DITEC para quaisquer dúvidas.
D8: GOVERNO DO DISTRITO FEDERAL
D9: SECRETARIA DE ESTADO DE INFRAESTRUTURA E SERVIÇOS PÚBLICOS
D10: COMPANHIA URBANIZADORA DA NOVA CAPITAL DO BRASIL
D11: CAPA DA PLANILHA ESTIMATIVA
D14: Nº ESTIMATIVA: | E14: 018/2021-SEORÇA-SDS-R00
D15: TÍTULO: | E15: ORÇ. REFORMA DO RESTAURANTE COMUNITÁRIO DE ARNIQUEIRAS
D16: Nº PROJETO: | E16: PROJ-DE-045-20
D17: NOME PROJETO: | E17: REFORMA DO RESTAURANTE COMUNITÁRIO DE ARNIQUEIRAS
D18: ENDEREÇO: | E18: QS AVENIDA ÁGUAS CLRAS LT-03, ÁGUAS CLARAS-DF
D19: PRAZO: | E19: 240 DIAS CORRIDOS
D20: DATA: | E20: 44389
D21: ORÇAMENTISTA(S): | E21: ENG. GABRIEL DA CUNHA ARAUJO - CREA 23300/D-DF ENG. GILMAR DA MOTA FERNANDES - CREA 23785/D-DF ENG. TIAGO DE SOUZA OLIVEIRA - CREA 24935/D-DF
D22: PROCESSO: | E22: 00112-00017184/2021-40
D23: TABELA REFERÊNCIA: | E23: SINAPI - MAIO 2021 SEM DESONERAÇÃO
D24: SISOBRAS: | E24: ÁREA DE CONSTRUÇÃO: 1.497,00 m² | I24: área da Cap
D25: OBSERVAÇÕES: | E25: 1 - De acordo com o projeto de estrutura foi considerado execução de furos de sondagem conforme a NBR-6484:2001. 2 - O orçamento foi elaborado separado por edificação a fim de facilitar a execução e entendimento do mesmo.
D26: BDI ITILIZADOS: | E26: 20,94% (OBRA) / 10,89% (EQUIPAMENTOS)
D27: RESP. CAPA: | E27: ENG. GABRIEL DA CUNHA ARAUJO - CREA 23300/D-DF ENG. GILMAR DA MOTA FERNANDES - CREA 23785/D-DF ENG. TIAGO DE SOUZA OLIVEIRA - CREA 24935/D-DF
D29: ESTIMATIVAS DIRETORIA DE EDIFICAÇÕES:
D30: 018.01/2021-SEORÇA: Administração da Obra......................................................................................................... | F30: 384623.77
D31: 018.02/2021-SEORÇA: Implantação ......................................................................................................... | F31: 951252.17 | K31: =2*5.07 -> 10.14 | L31: m2 | M31: reservat.
D32: 018.03/2021-SEORÇA: Edificação Principal ......................................................................................................... | F32: 3345712.4 | K32: 1479.94 | L32: m2
D33: 018.04/2021-SEORÇA: Lixeira ......................................................................................................... | F33: 23854.691 | K33: 5.04 | L33: m2
D34: 018.05/2021-SEORÇA: Casa de Gás ......................................................................................................... | F34: 63077.57 | K34: 13.13 | L34: m2
D35: 018.06/2021-SEORÇA: Casa de Bombas ......................................................................................................... | F35: 43023.501 | K35: 6.44 | L35: m2
D36: 018.07/2021-SEORÇA: Caldeira ......................................................................................................... | F36: 162715.36 | K36: 15 | L36: m2
D37: VALOR TOTAL ESTIMADO COM BDI......................................................................................................................... | F37: 4974259.4 | K37: =SUM(K31:K36) -> 1529.69 | L37: m2
D39: NOTAS: | E39: *Esta planilha é orientativa. Desta forma, é de inteira responsabilidade do contratado as quantidades e valores necessários a completa execução da obra. *Havendo irregularidades neste instrumento, entre em contato com a Ouvidoria de Combate a Corrupção, no telefone 0800-6449060
D42: ENG. GABRIEL DA CUNHA ARAUJO ENG. GILMAR DA MOTA FERNANDES ENG. TIAGO DE SOUZA OLIVEIRA CREA 23300/D-DF CREA 23785/D-DF CREA 24935/D-DF ART: 0720210046394 ART: 0720210047629 ART: 0720210047000 MAT.: 973.175-X MAT.: 973.113-X MAT.: 973.315-9
D44: OBRA C/BDI | E44: =F37 -> 4974259.4
D45: ADM LOCAL C/BDI | E45: ='018.01-21-ADM OBRA'!J55 -> 288656.98
D46: % ADM local | E46: =E45/E44 -> 0.058030142

Sheet 018.01-21-ADM OBRA
B2: GOVERNO DO DISTRITO FEDERAL
B3: SECRETARIA DE ESTADO DE INFRAESTRUTURA E SERVIÇOS PÚBLICOS
B4: COMPANHIA URBANIZADORA DA NOVA CAPITAL DO BRASIL
B5: PLANILHA ESTIMATIVA - ADMINISTRAÇÃO DA OBRA
B6: Nº ESTIMATIVA PARCIAL: | D6: 018.01/2021-SEORÇA-SDS | I6: DATA: | J6: ='018-21-CAPA'!E20 -> 44389
B7: NOME ESTIMATIVA PARCIAL: | D7: ORÇ. REFORMA DO RESTAURANTE COMUNITÁRIO DE ARNIQUEIRAS | I7: Nº PROJETO: | J7: PROJ-DE-045-20
B8: ENDEREÇO: | C8: EQNP 16/20 AE, Lotes E,F e G - CEILÂNDIA - DF | D8: QS AVENIDA ÁGUAS CLRAS LT-03, ÁGUAS CLARAS-DF | I8: ÁREA: | J8: 1.497,00 m²
B9: ENCARGOS TRABALHISTAS: | D9: horista=113,69% / mensalista=73,06% | E9: B.D.I. : | F9: 0.2094 | G9: B.D.I. : | H9: 0.1089 | I9: TAB. REF.: | J9: SINAPI MAIO 2021
B11: ITEM | C11: CÓDIGO | D11: DESCRIÇÃO | E11: UNID. | F11: QUANT. | G11: CUSTO UNITÁRIO (R$) | H11: BDI | I11: PREÇO UNITÁRIO (R$) C/ BDI | J11: PREÇO TOTAL (R$) C/ BDI
B12: 01.00.000 | D12: SERVIÇOS TÉCNICO-PROFISSIONAIS
B13: 01.03.100 | D13: ESTUDOS E PROJETOS
A14: COTAÇÃO | B14: 01.03.100.1 | C14: COT - 01.001 | D14: FURO DE SONDAGEM SPT | E14: UN | F14: 7 | G14: 450 | H14: 0.2094 | I14: 544.23 | J14: 3809.61
A15: CCU | B15: 01.03.100.2 | C15: CCU - 01.001 | D15: ELABORAÇÃO DE PROJETOS EXECUTIVOS DE FUNDAÇÕES E ESTRUTURA, INCLUSO BDI | E15: UN | F15: 1 | G15: 10964.12 | H15: 0 | I15: 10964.12 | J15: 10964.12
B17: 01.08.000 | D17: DESPESAS LEGAIS
B18: 01.08.100 | D18: TAXAS
B19: 01.08.100.1 | C19: CREA-DF | D19: ART DO CONTRATO | E19: UN | F19: 1 | G19: 240.82 | H19: 0.2094 | I19: 291.24771 | J19: 291.24771
G21: SUBTOTAL (Divisão): | J21: 15064.978
B23: 02.00.000 | D23: SERVIÇOS PRELIMINARES
B24: 02.01.000 | D24: CANTEIRO DE OBRAS
B25: 02.01.200 | D25: LIGAÇÕES PROVISÓRIAS
A26: CCU | B26: 02.01.200.5 | C26: CCU - 02.007 | D26: CONSUMO MENSAL DE ÁGUA, ESGOTO, ENERGIA E INTERNET | E26: MÊS | F26: 8 | G26: 2774.86 | H26: 0.2094 | I26: 3355.9157 | J26: 26847.325
G28: SUBTOTAL (Divisão): | J28: 26847.325
B30: 09.00.000 | D30: SERVIÇOS COMPLEMENTARES
B31: 09.01.000 | D31: ENSAIOS E TESTES
B32: 09.01.100 | D32: ENSAIOS EM CONCRETO
A33: CCU | B33: 09.01.100.1 | C33: CCU - 09.001 | D33: ENSAIO DE RESISTENCIA A COMPRESSAO SIMPLES - CONCRETO | E33: UN | F33: 17 | G33: 192.53 | H33: 0.2094 | I33: 232.84578 | J33: 3958.3783
A34: CCU | B34: 09.01.100.2 | C34: CCU - 09.005 | D34: ENSAIO DE ABATIMENTO DO TRONCO DE CONE - CONCRETO | E34: UN | F34: 17 | G34: 77.04 | H34: 0.2094 | I34: 93.172176 | J34: 1583.927
A35: COTAÇÃO | B35: 09.01.100.3 | C35: COT - 09.003 | D35: ENSAIO DE PROVA DE CARGA ESTÁTICA DE FUNDAÇÃO | E35: UN | F35: 1 | G35: 7000 | H35: 0.2094 | I35: 8465.8 | J35: 8465.8
B37: 09.02.000 | D37: LIMPEZA DE OBRAS
B38: 09.02.100 | D38: CONSERVAÇÃO E LIMPEZA
A39: CCU | B39: 09.02.100.1 | C39: CCU - 09.002 | D39: LIMPEZA FINAL DA OBRA | E39: M2 | F39: 1497 | G39: 2.7 | H39: 0.2094 | I39: 3.26538 | J39: 4888.2739
A40: CCU | B40: 09.02.100.2 | C40: CCU - 09.003 | D40: LIMPEZA PERMANENTE DA OBRA | E40: MÊS | F40: 8 | G40: 387.42 | H40: 0.2094 | I40: 468.54575 | J40: 3748.366
A41: COTAÇÃO | B41: 09.02.100.3 | C41: COT - 09.001 | D41: CONTAINER PARA ENTULHO INCLUINDO TAXA DE DEPOSIÇÃO FINAL | E41: UN | F41: 24 | G41: 320 | H41: 0.2094 | I41: 387.008 | J41: 9288.192
B43: 09.04.000 | D43: COMO CONSTRUIDO (AS BUILT)
A44: CCU | B44: 09.04.000.1 | C44: CCU - 09.004 | D44: AS BUILT, DE TODOS OS PROJETOS, (ARQUITETURA E INSTALAÇÕES) | E44: M2 | F44: 1497 | G44: 0.82 | H44: 0.2094 | I44: 0.991708 | J44: 1484.5869
B46: 09.05.000 | D46: REPROGRAFIA
B47: 09.05.100 | D47: CÓPIAS
A48: COTAÇÃO | B48: 09.02.100.1 | C48: COT - 09.002 | D48: CÓPIA DE PROJETOS | E48: UN | F48: 148 | G48: 9.6 | H48: 0.2094 | I48: 11.61024 | J48: 1718.3155
G50: SUBTOTAL (Divisão): | J50: 35135.84
B52: 10.00.000 | D52: SERVIÇOS AUXILIARES E ADMINISTRATIVOS
...

Sheet 018.02-21-IMPLANTAÇÃO
B2: GOVERNO DO DISTRITO FEDERAL
B3: SECRETARIA DE ESTADO DE INFRAESTRUTURA E SERVIÇOS PÚBLICOS
B4: COMPANHIA URBANIZADORA DA NOVA CAPITAL DO BRASIL
B5: PLANILHA ESTIMATIVA - IMPLANTAÇÃO
B6: Nº ESTIMATIVA PARCIAL: | D6: 018.02/2021-SEORÇA-SDS | I6: DATA: | J6: ='018-21-CAPA'!E20 -> 44389
B7: NOME ESTIMATIVA PARCIAL: | D7: ORÇ. REFORMA DO RESTAURANTE COMUNITÁRIO DE ARNIQUEIRAS | I7: Nº PROJETO: | J7: ='018.01-21-ADM OBRA'!J7 -> PROJ-DE-045-20
B8: ENDEREÇO: | C8: EQNP 16/20 AE, Lotes E,F e G - CEILÂNDIA - DF | D8: QS AVENIDA ÁGUAS CLRAS LT-03, ÁGUAS CLARAS-DF | I8: ÁREA: | J8: ='018.01-21-ADM OBRA'!J8 -> 1.497,00 m²
B9: ENCARGOS TRABALHISTAS: | D9: horista=113,69% / mensalista=73,06% | E9: B.D.I. : | F9: 0.2094 | G9: B.D.I. : | H9: 0.1089 | I9: TAB. REF.: | J9: ='018.01-21-ADM OBRA'!J9 -> SINAPI MAIO 2021
B11: ITEM | C11: CÓDIGO | D11: DESCRIÇÃO | E11: UNID. | F11: QUANT. | G11: CUSTO UNITÁRIO (R$) | H11: BDI | I11: PREÇO UNITÁRIO (R$) C/ BDI | J11: PREÇO TOTAL (R$) C/ BDI
B12: 02.00.000 | D12: SERVIÇOS PRELIMINARES | L12: =I12*F12 -> 0 | M12: =L12-J12 -> 0
B13: 02.01.000 | D13: CANTEIRO DE OBRAS | L13: =I13*F13 -> 0 | M13: =L13-J13 -> 0
B14: 02.01.100 | D14: CONSTRUÇÕES PROVISÓRIAS | L14: =I14*F14 -> 0 | M14: =L14-J14 -> 0
A15: INSUMO | B15: 02.01.100.1 | C15: 10775 | D15: LOCACAO DE CONTAINER 2,30 X 6,00 M, ALT. 2,50 M, COM 1 SANITARIO, PARA ESCRITORIO, COMPLETO, SEM DIVISORIAS INTERNAS | E15: MES | F15: 8 | G15: 585,00 | H15: 0.2094 | I15: 707.499 | J15: 5659.992 | L15: =I15*F15 -> 5659.992 | M15: =L15-J15 -> 0
A16: SERVIÇO | B16: 02.01.100.2 | C16: 93210 | D16: EXECUÇÃO DE REFEITÓRIO EM CANTEIRO DE OBRA EM CHAPA DE MADEIRA COMPENSADA, NÃO INCLUSO MOBILIÁRIO E EQUIPAMENTOS. AF_02/2016 | E16: M2 | F16: 32.4 | G16: 518,84 | H16: 0.2094 | I16: 627.4851 | J16: 20330.517 | L16: =I16*F16 -> 20330.517 | M16: =L16-J16 -> 0
A17: INSUMO | B17: 02.01.100.3 | C17: 10777 | D17: LOCACAO DE CONTAINER 2,30 X 4,30 M, ALT. 2,50 M, PARA SANITARIO, COM 3 BACIAS, 4 CHUVEIROS, 1 LAVATORIO E 1 MICTORIO | E17: MES | F17: 16 | G17: 664,21 | H17: 0.2094 | I17: 803.29557 | J17: 12852.729 | L17: =I17*F17 -> 12852.729 | M17: =L17-J17 -> 0
A18: SERVIÇO | B18: 02.01.100.4 | C18: 93585 | D18: EXECUÇÃO DE GUARITA EM CANTEIRO DE OBRA EM CHAPA DE MADEIRA COMPENSADA, NÃO INCLUSO MOBILIÁRIO. AF_04/2016 | E18: M2 | F18: 4 | G18: 1.013,01 | H18: 0.2094 | I18: 1225.1343 | J18: 4900.5372 | L18: =I18*F18 -> 4900.5372 | M18: =L18-J18 -> 0
A19: CCU | B19: 02.01.100.5 | C19: CCU - 02.001 | D19: LOCACAO DE CONTAINER 2,30 X 6,00 M, ALT. 2,50 M, PARA ALMOXARIFADO, SEM DIVISORIAS INTERNAS E SEM SANITARIO | E19: MES | F19: 16 | G19: 457.03 | H19: 0.2094 | I19: 552.73208 | J19: 8843.7133 | L19: =I19*F19 -> 8843.7133 | M19: =L19-J19 -> 0
A20: SERVIÇO | B20: 02.01.100.6 | C20: 93582 | D20: EXECUÇÃO DE CENTRAL DE ARMADURA EM CANTEIRO DE OBRA, NÃO INCLUSO MOBILIÁRIO E EQUIPAMENTOS. AF_04/2016 | E20: M2 | F20: 28.8 | G20: 241,57 | H20: 0.2094 | I20: 292.15476 | J20: 8414.057 | L20: =I20*F20 -> 8414.057 | M20: =L20-J20 -> 0
A21: SERVIÇO | B21: 02.01.100.7 | C21: 93583 | D21: EXECUÇÃO DE CENTRAL DE FÔRMAS, PRODUÇÃO DE ARGAMASSA OU CONCRETO EM CANTEIRO DE OBRA, NÃO INCLUSO MOBILIÁRIO E EQUIPAMENTOS. AF_04/2016 | E21: M2 | F21: 28.8 | G21: 394,07 | H21: 0.2094 | I21: 476.58826 | J21: 13725.742 | L21: =I21*F21 -> 13725.742 | M21: =L21-J21 -> 0
A22: CCU | B22: 02.01.100.8 | C22: CCU - 02.002 | D22: RAMPA DE LAVAGEM - INCLUSIVE DEMOLIÇÃO | E22: UN | F22: 1 | G22: 15553.8 | H22: 0.2094 | I22: 18810.766 | J22: 18810.766 | L22: =I22*F22 -> 18810.766 | M22: =L22-J22 -> 0
A23: CCU | B23: 02.01.100.9 | C23: CCU - 02.003 | D23: LOCAÇÃO DE GRUPO GERADOR 13 CV PARA USO EMERGÊNCIAL | E23: MÊS | F23: 8 | G23: 367.84 | H23: 0.2094 | I23: 444.8657 | J23: 3558.9256 | L23: =I23*F23 -> 3558.9256 | M23: =L23-J23 -> 0
L24: =I24*F24 -> 0 | M24: =L24-J24 -> 0
B25: 02.01.200 | D25: LIGAÇÕES PROVISÓRIAS | L25: =I25*F25 -> 0 | M25: =L25-J25 -> 0
A26: CCU | B26: 02.01.200.1 | C26: CCU - 02.004 | D26: ENTRADA PROVISORIA DE ENERGIA ELETRICA AEREA TRIFASICA 40A EM POSTE MADEIRA | E26: UN | F26: 1 | G26: 1998.6 | H26: 0.2094 | I26: 2417.1068 | J26: 2417.1068 | L26: =I26*F26 -> 2417.1068 | M26: =L26-J26 -> 0
A27: CCU | B27: 02.01.200.2 | C27: CCU - 02.005 | D27: LIGAÇÃO PROVISÓRIA DE ÁGUA PARA CANTEIRO DE OBRAS - FORNECIMENTO E INSTALAÇÃO | E27: UN | F27: 1 | G27: 1203.05 | H27: 0.2094 | I27: 1454.9687 | J27: 1454.9687 | L27: =I27*F27 -> 1454.9687 | M27: =L27-J27 -> 0
A28: COTAÇÃO | B28: 02.01.200.3 | C28: COT - 02.001 | D28: CAIXA D'ÁGUA EM POLIETILENO 3.000 LITROS | E28: UN | F28: 6 | G28: 1493.5 | H28: 0.2094 | I28: 1806.2389 | J28: 10837.433 | L28: =I28*F28 -> 10837.433 | M28: =L28-J28 -> 0
A29: CCU | B29: 02.01.200.4 | C29: CCU - 02.006 | D29: LIGAÇÃO PROVISÓRIA DE ESGOTO PARA CANTEIRO DE OBRAS - FORNECIMENTO E INSTALAÇÃO | E29: UN | F29: 1 | G29: 658.82 | H29: 0.2094 | I29: 796.77691 | J29: 796.77691 | L29: =I29*F29 -> 796.77691 | M29: =L29-J29 -> 0
L30: =I30*F30 -> 0 | M30: =L30-J30 -> 0
B31: 02.01.400 | D31: PROTEÇÃO E SINALIZAÇÃO | L31: =I31*F31 -> 0 | M31: =L31-J31 -> 0
A32: CCU | B32: 02.01.400.1 | C32: CCU - 02.008 | D32: PLACA DE OBRA EM CHAPA DE ACO GALVANIZADO ADESIVADA - FORNECIMENTO E INSTALAÇÃO | E32: M2 | F32: 15.38 | G32: 319.22 | H32: 0.2094 | I32: 386.06467 | J32: 5937.6746 | L32: =I32*F32 -> 5937.6746 | M32: =L32-J32 -> 0
A33: SERVIÇO | B33: 02.01.400.2 | C33: 98459 | D33: TAPUME COM TELHA METÁLICA. AF_05/2018 | E33: M2 | F33: 191.73 | G33: 106,71 | H33: 0.2094 | I33: 129.05507 | J33: 24743.729 | L33: =I33*F33 -> 24743.729 | M33: =L33-J33 -> 0
L34: =I34*F34 -> 0 | M34: =L34-J34 -> 0
B35: 02.02.000 | D35: DEMOLIÇÃO | L35: =I35*F35 -> 0 | M35: =L35-J35 -> 0
B36: 02.02.100 | D36: DEMOLIÇÃO MECÂNIZADA/CONVENCIONAL | L36: =I36*F36 -> 0 | M36: =L36-J36 -> 0
B37: 02.02.110 | D37: FUNDAÇÕES E ESTRUTURAS DE CONCRETO | L37: =I37*F37 -> 0
A38: SERVIÇO | B38: 02.02.110.1 | C38: 97627 | D38: DEMOLIÇÃO DE PILARES E VIGAS EM CONCRETO ARMADO, DE FORMA MECANIZADA COM MARTELETE, SEM REAPROVEITAMENTO. AF_12/2017 | E38: M3 | F38: 11.88 | G38: 238,44 | H38: 0.2094 | I38: 288.36934 | J38: 3425.8277 | L38: =I38*F38 -> 3425.8277 | M38: =L38-J38 -> 0
A39: SERVIÇO | B39: 02.02.110.1 | C39: 97629 | D39: DEMOLIÇÃO DE LAJES, DE FORMA MECANIZADA COM MARTELETE, SEM REAPROVEITAMENTO. AF_12/2017 | E39: M3 | F39: 5.68 | G39: 105,72 | H39: 0.2094 | I39: 127.85777 | J39: 726.23212 | L39: =I39*F39 -> 726.23212 | M39: =L39-J39 -> 0
L40: =I40*F40 -> 0
B41: 02.02.120 | D41: ESTRUTURAS METÁLICAS | L41: =I41*F41 -> 0
A42: SERVIÇO | B42: 02.02.120.1 | C42: 97655 | D42: REMOÇÃO DE TRAMA METÁLICA PARA COBERTURA, DE FORMA MANUAL, SEM REAPROVEITAMENTO. AF_12/2017 | E42: M2 | F42: 1308.7 | G42: 17,96 | H42: 0.2094 | I42: 21.720824 | J42: 28426.042 | L42: =I42*F42 -> 28426.042 | M42: =L42-J42 -> 0
...

Sheet 018.03-21-ED. PRINCIPAL
B2: GOVERNO DO DISTRITO FEDERAL
B3: SECRETARIA DE ESTADO DE INFRAESTRUTURA E SERVIÇOS PÚBLICOS
B4: COMPANHIA URBANIZADORA DA NOVA CAPITAL DO BRASIL
B5: PLANILHA ESTIMATIVA - EDIFICAÇÃO PRINCIPAL
B6: Nº ESTIMATIVA PARCIAL: | D6: 018.03/2021-SEORÇA-SDS | I6: DATA: | J6: ='018-21-CAPA'!E20 -> 44389
B7: NOME ESTIMATIVA PARCIAL: | D7: ORÇ. REFORMA DO RESTAURANTE COMUNITÁRIO DE ARNIQUEIRAS | I7: Nº PROJETO: | J7: ='018.01-21-ADM OBRA'!J7 -> PROJ-DE-045-20
B8: ENDEREÇO: | C8: EQNP 16/20 AE, Lotes E,F e G - CEILÂNDIA - DF | D8: QS AVENIDA ÁGUAS CLRAS LT-03, ÁGUAS CLARAS-DF | I8: ÁREA: | J8: ='018.01-21-ADM OBRA'!J8 -> 1.497,00 m²
B9: ENCARGOS TRABALHISTAS: | D9: horista=113,69% / mensalista=73,06% | E9: B.D.I. : | F9: 0.2094 | G9: B.D.I. : | H9: 0.1089 | I9: TAB. REF.: | J9: ='018.01-21-ADM OBRA'!J9 -> SINAPI MAIO 2021
B11: ITEM | C11: CÓDIGO | D11: DESCRIÇÃO | E11: UNID. | F11: QUANT. | G11: CUSTO UNITÁRIO (R$) | H11: BDI | I11: PREÇO UNITÁRIO (R$) C/ BDI | J11: PREÇO TOTAL (R$) C/ BDI
B12: 03.00.000 | D12: FUNDAÇÕES E ESTRUTURAS | L12: =I12*F12 -> 0
B13: 03.01.000 | D13: FUNDAÇÕES | L13: =I13*F13 -> 0 | O13: VOL. CONCRETO
B14: 03.01.100 | D14: ESCAVAÇÃO DE VALAS | L14: =I14*F14 -> 0 | O14: =K23+F46+F65+F78+F94+F103 -> 65.96398
A15: SERVIÇO | B15: 03.01.100.1 | C15: 96527 | D15: ESCAVAÇÃO MANUAL DE VALA PARA VIGA BALDRAME, COM PREVISÃO DE FÔRMA. AF_06/2017 | E15: M3 | F15: 65.22 | G15: 107,74 | H15: 0.2094 | I15: 130.30076 | J15: 8498.2153 | L15: =I15*F15 -> 8498.2153
A16: SERVIÇO | B16: 03.01.100.2 | C16: 96523 | D16: ESCAVAÇÃO MANUAL PARA BLOCO DE COROAMENTO OU SAPATA, COM PREVISÃO DE FÔRMA. AF_06/2017 | E16: M3 | F16: 10.53 | G16: 82,17 | H16: 0.2094 | I16: 99.376398 | J16: 1046.4335 | L16: =I16*F16 -> 1046.4335
A17: SERVIÇO | B17: 03.01.100.3 | C17: 101616 | D17: PREPARO DE FUNDO DE VALA COM LARGURA MENOR QUE 1,5 M (ACERTO DO SOLO NATURAL). AF_08/2020 | E17: M2 | F17: 173.15 | G17: 5,27 | H17: 0.2094 | I17: 6.373538 | J17: 1103.5781 | L17: =I17*F17 -> 1103.5781
A18: SERVIÇO | B18: 03.01.100.4 | C18: 93382 | D18: REATERRO MANUAL DE VALAS COM COMPACTAÇÃO MECANIZADA. AF_04/2016 | E18: M3 | F18: 47.86 | G18: 25,12 | H18: 0.2094 | I18: 30.380128 | J18: 1453.9929 | L18: =I18*F18 -> 1453.9929
L19: =I19*F19 -> 0
B20: 03.01.400 | D20: FUNDAÇÕES PROFUNDAS | L20: =I20*F20 -> 0
B21: 03.01.411 | D21: DE CONCRETO ARMADO | L21: =I21*F21 -> 0
B22: 03.01.413 | D22: ESTACAS | L22: =I22*F22 -> 0
A23: CCU | B23: 03.01.413.1 | C23: CCU - 03.003 | D23: ESTACA BROCA DE CONCRETO, DIÂMETRO DE 30CM, ESCAVAÇÃO MANUAL COM TRADO CONCHA | E23: M | F23: 232 | G23: 83.86 | H23: 0.2094 | I23: 101.42028 | J23: 23529.506 | K23: =PI()*(0.2^2)*F23 -> 29.15398 | L23: =I23*F23 -> 23529.506
A24: SERVIÇO | B24: 03.01.413.2 | C24: 95584 | D24: MONTAGEM DE ARMADURA TRANSVERSAL DE ESTACAS DE SEÇÃO CIRCULAR, DIÂMETRO = 6,3 MM. AF_11/2016 | E24: KG | F24: 241.08 | G24: 15,55 | H24: 0.2094 | I24: 18.80617 | J24: 4533.7915 | L24: =I24*F24 -> 4533.7915
A25: SERVIÇO | B25: 03.01.413.3 | C25: 95578 | D25: MONTAGEM DE ARMADURA LONGITUDINAL/TRANSVERSAL DE ESTACAS DE SEÇÃO CIRCULAR, DIÂMETRO = 12,5 MM. AF_11/2016 | E25: KG | F25: 1066.04 | G25: 11,31 | H25: 0.2094 | I25: 13.678314 | J25: 14581.63 | L25: =I25*F25 -> 14581.63
L26: =I26*F26 -> 0
B27: 03.01.430 | D27: ARRASAMENTO DE CABEÇA DE ESTACAS | L27: =I27*F27 -> 0
A28: SERVIÇO | B28: 03.01.430.1 | C28: 95601 | D28: ARRASAMENTO MECANICO DE ESTACA DE CONCRETO ARMADO, DIAMETROS DE ATÉ 40 CM. AF_05/2021 | E28: UN | F28: 41 | G28: 13,78 | H28: 0.2094 | I28: 16.665532 | J28: 683.28681 | L28: =I28*F28 -> 683.28681
L29: =I29*F29 -> 0
B30: 03.01.500 | D30: BLOCOS SAPATAS E VIGAS BALDRAME | L30: =I30*F30 -> 0
B31: 03.01.501 | D31: LASTRO | L31: =I31*F31 -> 0
A32: SERVIÇO | B32: 03.01.501.1 | C32: 96619 | D32: LASTRO DE CONCRETO MAGRO, APLICADO EM BLOCOS DE COROAMENTO OU SAPATAS, ESPESSURA DE 5 CM. AF_08/2017 | E32: M2 | F32: 67.08 | G32: 27,10 | H32: 0.2094 | I32: 32.77474 | J32: 2198.5296 | L32: =I32*F32 -> 2198.5296
L33: =I33*F33 -> 0
B34: 03.01.502 | D34: FORMAS | L34: =I34*F34 -> 0
A35: SERVIÇO | B35: 03.01.502.1 | C35: 96540 | D35: FABRICAÇÃO, MONTAGEM E DESMONTAGEM DE FÔRMA PARA BLOCO DE COROAMENTO, EM CHAPA DE MADEIRA COMPENSADA RESINADA, E=17 MM, 4 UTILIZAÇÕES. AF_06/2017 | E35: M2 | F35: 59.04 | G35: 113,82 | H35: 0.2094 | I35: 137.65391 | J35: 8127.0867 | L35: =I35*F35 -> 8127.0867
A36: SERVIÇO | B36: 03.01.502.2 | C36: 96542 | D36: FABRICAÇÃO, MONTAGEM E DESMONTAGEM DE FÔRMA PARA VIGA BALDRAME, EM CHAPA DE MADEIRA COMPENSADA RESINADA, E=17 MM, 4 UTILIZAÇÕES. AF_06/2017 | E36: M2 | F36: 254.99 | G36: 79,72 | H36: 0.2094 | I36: 96.413368 | J36: 24584.445 | L36: =I36*F36 -> 24584.445
L37: =I37*F37 -> 0
B38: 03.01.503 | D38: ARMADURA | L38: =I38*F38 -> 0
A39: SERVIÇO | B39: 03.01.503.1 | C39: 96543 | D39: ARMAÇÃO DE BLOCO, VIGA BALDRAME E SAPATA UTILIZANDO AÇO CA-60 DE 5 MM - MONTAGEM. AF_06/2017 | E39: KG | F39: 379.83624 | G39: 18,47 | H39: 0.2094 | I39: 22.337618 | J39: 8484.6368 | L39: =I39*F39 -> 8484.6368
A40: SERVIÇO | B40: 03.01.503.2 | C40: 96544 | D40: ARMAÇÃO DE BLOCO, VIGA BALDRAME OU SAPATA UTILIZANDO AÇO CA-50 DE 6,3 MM - MONTAGEM. AF_06/2017 | E40: KG | F40: 12 | G40: 17,21 | H40: 0.2094 | I40: 20.813774 | J40: 249.76529 | L40: =I40*F40 -> 249.76529
A41: SERVIÇO | B41: 03.01.503.3 | C41: 96545 | D41: ARMAÇÃO DE BLOCO, VIGA BALDRAME OU SAPATA UTILIZANDO AÇO CA-50 DE 8 MM - MONTAGEM. AF_06/2017 | E41: KG | F41: 520.9248 | G41: 16,02 | H41: 0.2094 | I41: 19.374588 | J41: 10092.703 | L41: =I41*F41 -> 10092.703
A42: SERVIÇO | B42: 03.01.503.4 | C42: 96546 | D42: ARMAÇÃO DE BLOCO, VIGA BALDRAME OU SAPATA UTILIZANDO AÇO CA-50 DE 10 MM - MONTAGEM. AF_06/2017 | E42: KG | F42: 284 | G42: 14,26 | H42: 0.2094 | I42: 17.246044 | J42: 4897.8765 | L42: =I42*F42 -> 4897.8765
...

Sheet 018.04-21-LIXEIRA
B2: GOVERNO DO DISTRITO FEDERAL
B3: SECRETARIA DE ESTADO DE INFRAESTRUTURA E SERVIÇOS PÚBLICOS
B4: COMPANHIA URBANIZADORA DA NOVA CAPITAL DO BRASIL
B5: PLANILHA ESTIMATIVA - LIXEIRA
B6: Nº ESTIMATIVA PARCIAL: | D6: 018.04/2021-SEORÇA-SDS | I6: DATA: | J6: ='018-21-CAPA'!E20 -> 44389
B7: NOME ESTIMATIVA PARCIAL: | D7: ORÇ. REFORMA DO RESTAURANTE COMUNITÁRIO DE ARNIQUEIRAS | I7: Nº PROJETO: | J7: ='018.01-21-ADM OBRA'!J7 -> PROJ-DE-045-20
B8: ENDEREÇO: | C8: EQNP 16/20 AE, Lotes E,F e G - CEILÂNDIA - DF | D8: QS AVENIDA ÁGUAS CLRAS LT-03, ÁGUAS CLARAS-DF | I8: ÁREA: | J8: ='018.01-21-ADM OBRA'!J8 -> 1.497,00 m²
B9: ENCARGOS TRABALHISTAS: | D9: horista=113,69% / mensalista=73,06% | E9: B.D.I. : | F9: 0.2094 | G9: B.D.I. : | H9: 0.1089 | I9: TAB. REF.: | J9: ='018.01-21-ADM OBRA'!J9 -> SINAPI MAIO 2021
B11: ITEM | C11: CÓDIGO | D11: DESCRIÇÃO | E11: UNID. | F11: QUANT. | G11: CUSTO UNITÁRIO (R$) | H11: BDI | I11: PREÇO UNITÁRIO (R$) C/ BDI | J11: PREÇO TOTAL (R$) C/ BDI
B12: 02.00.000 | D12: SERVIÇOS PRELIMINARES | L12: =I12*F12 -> 0
B13: 02.03.000 | D13: LOCAÇÃO DE OBRAS | L13: =I13*F13 -> 0
B14: 02.03.100 | D14: DE EDIFICAÇÕES | L14: =I14*F14 -> 0
A15: SERVIÇO | B15: 02.03.100.1 | C15: 99059 | D15: LOCACAO CONVENCIONAL DE OBRA, UTILIZANDO GABARITO DE TÁBUAS CORRIDAS PONTALETADAS A CADA 2,00M - 2 UTILIZAÇÕES. AF_10/2018 | E15: M | F15: 9.2 | G15: 49,10 | H15: 0.2094 | I15: 59.38154 | J15: 546.31017 | L15: =I15*F15 -> 546.31017
L16: =I16*F16 -> 0
G17: SUBTOTAL (Divisão): | J17: 546.31017 | L17: =I17*F17 -> 0
L18: =I18*F18 -> 0
B19: 03.00.000 | D19: FUNDAÇÕES E ESTRUTURAS | L19: =I19*F19 -> 0
B20: 03.01.000 | D20: FUNDAÇÕES | L20: =I20*F20 -> 0 | O20: VOL. CONCRETO
B21: 03.01.100 | D21: ESCAVAÇÃO DE VALAS | L21: =I21*F21 -> 0 | O21: =K30+F51+F68+F84+F91 -> 12.609203
A22: SERVIÇO | B22: 03.01.100.1 | C22: 96527 | D22: ESCAVAÇÃO MANUAL DE VALA PARA VIGA BALDRAME, COM PREVISÃO DE FÔRMA. AF_06/2017 | E22: M3 | F22: 1.19 | G22: 107,74 | H22: 0.2094 | I22: 130.30076 | J22: 155.0579 | L22: =I22*F22 -> 155.0579
A23: SERVIÇO | B23: 03.01.100.2 | C23: 96523 | D23: ESCAVAÇÃO MANUAL PARA BLOCO DE COROAMENTO OU SAPATA, COM PREVISÃO DE FÔRMA. AF_06/2017 | E23: M3 | F23: 2.11 | G23: 82,17 | H23: 0.2094 | I23: 99.376398 | J23: 209.6842 | L23: =I23*F23 -> 209.6842
A24: SERVIÇO | B24: 03.01.100.3 | C24: 101616 | D24: PREPARO DE FUNDO DE VALA COM LARGURA MENOR QUE 1,5 M (ACERTO DO SOLO NATURAL). AF_08/2020 | E24: M2 | F24: 5.89 | G24: 5,27 | H24: 0.2094 | I24: 6.373538 | J24: 37.540139 | L24: =I24*F24 -> 37.540139
A25: SERVIÇO | B25: 03.01.100.4 | C25: 93382 | D25: REATERRO MANUAL DE VALAS COM COMPACTAÇÃO MECANIZADA. AF_04/2016 | E25: M3 | F25: 1.96 | G25: 25,12 | H25: 0.2094 | I25: 30.380128 | J25: 59.545051 | L25: =I25*F25 -> 59.545051
L26: =I26*F26 -> 0
B27: 03.01.400 | D27: FUNDAÇÕES PROFUNDAS | L27: =I27*F27 -> 0
B28: 03.01.411 | D28: DE CONCRETO ARMADO | L28: =I28*F28 -> 0
B29: 03.01.413 | D29: ESTACAS | L29: =I29*F29 -> 0
A30: CCU | B30: 03.01.413.1 | C30: CCU - 03.001 | D30: ESTACA ESCAVADA MECANICAMENTE, SEM FLUIDO ESTABILIZANTE, COM 30CM DE DIÂMETRO, CONCRETO (C-30) LANÇADO POR CAMINHÃO BETONEIRA (EXCLUSIVE ARMAÇÃO) | E30: M | F30: 28 | G30: 45.82 | H30: 0.2094 | I30: 55.414708 | J30: 1551.6118 | K30: =PI()*(0.15^2)*F30 -> 1.9792034 | L30: =I30*F30 -> 1551.6118
A31: SERVIÇO | B31: 03.01.413.2 | C31: 95584 | D31: MONTAGEM DE ARMADURA TRANSVERSAL DE ESTACAS DE SEÇÃO CIRCULAR, DIÂMETRO = 6,3 MM. AF_11/2016 | E31: KG | F31: 23.52 | G31: 15,55 | H31: 0.2094 | I31: 18.80617 | J31: 442.32112 | L31: =I31*F31 -> 442.32112
A32: SERVIÇO | B32: 03.01.413.3 | C32: 95578 | D32: MONTAGEM DE ARMADURA LONGITUDINAL/TRANSVERSAL DE ESTACAS DE SEÇÃO CIRCULAR, DIÂMETRO = 12,5 MM. AF_11/2016 | E32: KG | F32: 104 | G32: 11,31 | H32: 0.2094 | I32: 13.678314 | J32: 1422.5447 | L32: =I32*F32 -> 1422.5447
L33: =I33*F33 -> 0
B34: 03.01.430 | D34: ARRASAMENTO DE CABEÇA DE ESTACAS | L34: =I34*F34 -> 0
A35: SERVIÇO | B35: 03.01.430.1 | C35: 95601 | D35: ARRASAMENTO MECANICO DE ESTACA DE CONCRETO ARMADO, DIAMETROS DE ATÉ 40 CM. AF_05/2021 | E35: UN | F35: 4 | G35: 13,78 | H35: 0.2094 | I35: 16.665532 | J35: 66.662128 | L35: =I35*F35 -> 66.662128
L36: =I36*F36 -> 0
B37: 03.01.500 | D37: BLOCOS SAPATAS E VIGAS BALDRAME | L37: =I37*F37 -> 0
B38: 03.01.501 | D38: LASTRO | L38: =I38*F38 -> 0
A39: SERVIÇO | B39: 03.01.501.1 | C39: 96619 | D39: LASTRO DE CONCRETO MAGRO, APLICADO EM BLOCOS DE COROAMENTO OU SAPATAS, ESPESSURA DE 5 CM. AF_08/2017 | E39: M2 | F39: 2.32 | G39: 27,10 | H39: 0.2094 | I39: 32.77474 | J39: 76.037397 | L39: =I39*F39 -> 76.037397
L40: =I40*F40 -> 0
B41: 03.01.502 | D41: FORMAS | L41: =I41*F41 -> 0
A42: SERVIÇO | B42: 03.01.502.1 | C42: 96540 | D42: FABRICAÇÃO, MONTAGEM E DESMONTAGEM DE FÔRMA PARA BLOCO DE COROAMENTO, EM CHAPA DE MADEIRA COMPENSADA RESINADA, E=17 MM, 4 UTILIZAÇÕES. AF_06/2017 | E42: M2 | F42: 5.76 | G42: 113,82 | H42: 0.2094 | I42: 137.65391 | J42: 792.88651 | L42: =I42*F42 -> 792.88651
...

Sheet 018.05-21-GLP
B2: GOVERNO DO DISTRITO FEDERAL
B3: SECRETARIA DE ESTADO DE INFRAESTRUTURA E SERVIÇOS PÚBLICOS
B4: COMPANHIA URBANIZADORA DA NOVA CAPITAL DO BRASIL
B5: PLANILHA ESTIMATIVA - CASA DE GÁS
B6: Nº ESTIMATIVA PARCIAL: | D6: 018.05/2021-SEORÇA-SDS | I6: DATA: | J6: ='018-21-CAPA'!E20 -> 44389
B7: NOME ESTIMATIVA PARCIAL: | D7: ORÇ. REFORMA DO RESTAURANTE COMUNITÁRIO DE ARNIQUEIRAS | I7: Nº PROJETO: | J7: ='018.01-21-ADM OBRA'!J7 -> PROJ-DE-045-20
B8: ENDEREÇO: | C8: EQNP 16/20 AE, Lotes E,F e G - CEILÂNDIA - DF | D8: QS AVENIDA ÁGUAS CLRAS LT-03, ÁGUAS CLARAS-DF | I8: ÁREA: | J8: ='018.01-21-ADM OBRA'!J8 -> 1.497,00 m²
B9: ENCARGOS TRABALHISTAS: | D9: horista=113,69% / mensalista=73,06% | E9: B.D.I. : | F9: 0.2094 | G9: B.D.I. : | H9: 0.1089 | I9: TAB. REF.: | J9: ='018.01-21-ADM OBRA'!J9 -> SINAPI MAIO 2021
B11: ITEM | C11: CÓDIGO | D11: DESCRIÇÃO | E11: UNID. | F11: QUANT. | G11: CUSTO UNITÁRIO (R$) | H11: BDI | I11: PREÇO UNITÁRIO (R$) C/ BDI | J11: PREÇO TOTAL (R$) C/ BDI
B12: 02.00.000 | D12: SERVIÇOS PRELIMINARES | L12: =I12*F12 -> 0
B13: 02.03.000 | D13: LOCAÇÃO DE OBRAS | L13: =I13*F13 -> 0
B14: 02.03.100 | D14: DE EDIFICAÇÕES | L14: =I14*F14 -> 0
A15: SERVIÇO | B15: 02.03.100.1 | C15: 99059 | D15: LOCACAO CONVENCIONAL DE OBRA, UTILIZANDO GABARITO DE TÁBUAS CORRIDAS PONTALETADAS A CADA 2,00M - 2 UTILIZAÇÕES. AF_10/2018 | E15: M | F15: 18.8 | G15: 49,10 | H15: 0.2094 | I15: 59.38154 | J15: 1116.373 | L15: =I15*F15 -> 1116.373
L16: =I16*F16 -> 0
G17: SUBTOTAL (Divisão): | J17: 1116.373 | L17: =I17*F17 -> 0
L18: =I18*F18 -> 0
B19: 03.00.000 | D19: FUNDAÇÕES E ESTRUTURAS | L19: =I19*F19 -> 0
B20: 03.01.000 | D20: FUNDAÇÕES | L20: =I20*F20 -> 0
B21: 03.01.100 | D21: ESCAVAÇÃO DE VALAS | L21: =I21*F21 -> 0 | O21: VOL. CONCRETO
A22: SERVIÇO | B22: 03.01.100.1 | C22: 96527 | D22: ESCAVAÇÃO MANUAL DE VALA PARA VIGA BALDRAME, COM PREVISÃO DE FÔRMA. AF_06/2017 | E22: M3 | F22: 3.48 | G22: 107,74 | H22: 0.2094 | I22: 130.30076 | J22: 453.44663 | L22: =I22*F22 -> 453.44663 | O22: =K30+F51+F68+F84+F91 -> 29.028407
A23: SERVIÇO | B23: 03.01.100.2 | C23: 96523 | D23: ESCAVAÇÃO MANUAL PARA BLOCO DE COROAMENTO OU SAPATA, COM PREVISÃO DE FÔRMA. AF_06/2017 | E23: M3 | F23: 4.21 | G23: 82,17 | H23: 0.2094 | I23: 99.376398 | J23: 418.37464 | L23: =I23*F23 -> 418.37464
A24: SERVIÇO | B24: 03.01.100.3 | C24: 101616 | D24: PREPARO DE FUNDO DE VALA COM LARGURA MENOR QUE 1,5 M (ACERTO DO SOLO NATURAL). AF_08/2020 | E24: M2 | F24: 14.22 | G24: 5,27 | H24: 0.2094 | I24: 6.373538 | J24: 90.63171 | L24: =I24*F24 -> 90.63171
A25: SERVIÇO | B25: 03.01.100.4 | C25: 93382 | D25: REATERRO MANUAL DE VALAS COM COMPACTAÇÃO MECANIZADA. AF_04/2016 | E25: M3 | F25: 4.55 | G25: 25,12 | H25: 0.2094 | I25: 30.380128 | J25: 138.22958 | L25: =I25*F25 -> 138.22958
L26: =I26*F26 -> 0
B27: 03.01.400 | D27: FUNDAÇÕES PROFUNDAS | L27: =I27*F27 -> 0
B28: 03.01.411 | D28: DE CONCRETO ARMADO | L28: =I28*F28 -> 0
B29: 03.01.413 | D29: ESTACAS | L29: =I29*F29 -> 0
A30: CCU | B30: 03.01.413.1 | C30: CCU - 03.001 | D30: ESTACA ESCAVADA MECANICAMENTE, SEM FLUIDO ESTABILIZANTE, COM 30CM DE DIÂMETRO, CONCRETO (C-30) LANÇADO POR CAMINHÃO BETONEIRA (EXCLUSIVE ARMAÇÃO) | E30: M | F30: 56 | G30: 45.82 | H30: 0.2094 | I30: 55.414708 | J30: 3103.2236 | K30: =PI()*(0.15^2)*F30 -> 3.9584067 | L30: =I30*F30 -> 3103.2236
A31: SERVIÇO | B31: 03.01.413.2 | C31: 95584 | D31: MONTAGEM DE ARMADURA TRANSVERSAL DE ESTACAS DE SEÇÃO CIRCULAR, DIÂMETRO = 6,3 MM. AF_11/2016 | E31: KG | F31: 47.04 | G31: 15,55 | H31: 0.2094 | I31: 18.80617 | J31: 884.64224 | L31: =I31*F31 -> 884.64224
A32: SERVIÇO | B32: 03.01.413.3 | C32: 95578 | D32: MONTAGEM DE ARMADURA LONGITUDINAL/TRANSVERSAL DE ESTACAS DE SEÇÃO CIRCULAR, DIÂMETRO = 12,5 MM. AF_11/2016 | E32: KG | F32: 208.01 | G32: 11,31 | H32: 0.2094 | I32: 13.678314 | J32: 2845.2261 | L32: =I32*F32 -> 2845.2261
L33: =I33*F33 -> 0
B34: 03.01.430 | D34: ARRASAMENTO DE CABEÇA DE ESTACAS | L34: =I34*F34 -> 0
A35: SERVIÇO | B35: 03.01.430.1 | C35: 95601 | D35: ARRASAMENTO MECANICO DE ESTACA DE CONCRETO ARMADO, DIAMETROS DE ATÉ 40 CM. AF_05/2021 | E35: UN | F35: 8 | G35: 13,78 | H35: 0.2094 | I35: 16.665532 | J35: 133.32426 | L35: =I35*F35 -> 133.32426
L36: =I36*F36 -> 0
B37: 03.01.500 | D37: BLOCOS SAPATAS E VIGAS BALDRAME | L37: =I37*F37 -> 0
B38: 03.01.501 | D38: LASTRO | L38: =I38*F38 -> 0
A39: SERVIÇO | B39: 03.01.501.1 | C39: 96619 | D39: LASTRO DE CONCRETO MAGRO, APLICADO EM BLOCOS DE COROAMENTO OU SAPATAS, ESPESSURA DE 5 CM. AF_08/2017 | E39: M2 | F39: 5.46 | G39: 27,10 | H39: 0.2094 | I39: 32.77474 | J39: 178.95008 | L39: =I39*F39 -> 178.95008
L40: =I40*F40 -> 0
B41: 03.01.502 | D41: FORMAS | L41: =I41*F41 -> 0
A42: SERVIÇO | B42: 03.01.502.1 | C42: 96540 | D42: FABRICAÇÃO, MONTAGEM E DESMONTAGEM DE FÔRMA PARA BLOCO DE COROAMENTO, EM CHAPA DE MADEIRA COMPENSADA RESINADA, E=17 MM, 4 UTILIZAÇÕES. AF_06/2017 | E42: M2 | F42: 11.52 | G42: 113,82 | H42: 0.2094 | I42: 137.65391 | J42: 1585.773 | L42: =I42*F42 -> 1585.773
...

Sheet 018.06-21-BOMBAS
B2: GOVERNO DO DISTRITO FEDERAL
B3: SECRETARIA DE ESTADO DE INFRAESTRUTURA E SERVIÇOS PÚBLICOS
B4: COMPANHIA URBANIZADORA DA NOVA CAPITAL DO BRASIL
B5: PLANILHA ESTIMATIVA - CASA DE BOMBAS
B6: Nº ESTIMATIVA PARCIAL: | D6: 018.06/2021-SEORÇA-SDS | I6: DATA: | J6: ='018-21-CAPA'!E20 -> 44389
B7: NOME ESTIMATIVA PARCIAL: | D7: ORÇ. REFORMA DO RESTAURANTE COMUNITÁRIO DE ARNIQUEIRAS | I7: Nº PROJETO: | J7: ='018.01-21-ADM OBRA'!J7 -> PROJ-DE-045-20
B8: ENDEREÇO: | C8: EQNP 16/20 AE, Lotes E,F e G - CEILÂNDIA - DF | D8: QS AVENIDA ÁGUAS CLRAS LT-03, ÁGUAS CLARAS-DF | I8: ÁREA: | J8: ='018.01-21-ADM OBRA'!J8 -> 1.497,00 m²
B9: ENCARGOS TRABALHISTAS: | D9: horista=113,69% / mensalista=73,06% | E9: B.D.I. : | F9: 0.2094 | G9: B.D.I. : | H9: 0.1089 | I9: TAB. REF.: | J9: ='018.01-21-ADM OBRA'!J9 -> SINAPI MAIO 2021
B11: ITEM | C11: CÓDIGO | D11: DESCRIÇÃO | E11: UNID. | F11: QUANT. | G11: CUSTO UNITÁRIO (R$) | H11: BDI | I11: PREÇO UNITÁRIO (R$) C/ BDI | J11: PREÇO TOTAL (R$) C/ BDI
B12: 02.00.000 | D12: SERVIÇOS PRELIMINARES | L12: =I12*F12 -> 0
B13: 02.03.000 | D13: LOCAÇÃO DE OBRAS | L13: =I13*F13 -> 0
B14: 02.03.100 | D14: DE EDIFICAÇÕES | L14: =I14*F14 -> 0
A15: SERVIÇO | B15: 02.03.100.1 | C15: 99059 | D15: LOCACAO CONVENCIONAL DE OBRA, UTILIZANDO GABARITO DE TÁBUAS CORRIDAS PONTALETADAS A CADA 2,00M - 2 UTILIZAÇÕES. AF_10/2018 | E15: M | F15: 10.2 | G15: 49,10 | H15: 0.2094 | I15: 59.38154 | J15: 605.69171 | L15: =I15*F15 -> 605.69171
L16: =I16*F16 -> 0
G17: SUBTOTAL (Divisão): | J17: 605.69171 | L17: =I17*F17 -> 0
L18: =I18*F18 -> 0
B19: 03.00.000 | D19: FUNDAÇÕES E ESTRUTURAS | L19: =I19*F19 -> 0
B20: 03.01.000 | D20: FUNDAÇÕES | L20: =I20*F20 -> 0 | O20: VOL. CONCRETO
B21: 03.01.100 | D21: ESCAVAÇÃO DE VALAS | L21: =I21*F21 -> 0 | O21: =K30+F51+F68+F80+F91 -> 5.0692034
A22: SERVIÇO | B22: 03.01.100.1 | C22: 96527 | D22: ESCAVAÇÃO MANUAL DE VALA PARA VIGA BALDRAME, COM PREVISÃO DE FÔRMA. AF_06/2017 | E22: M3 | F22: 1.39 | G22: 107,74 | H22: 0.2094 | I22: 130.30076 | J22: 181.11805 | L22: =I22*F22 -> 181.11805
A23: SERVIÇO | B23: 03.01.100.2 | C23: 96523 | D23: ESCAVAÇÃO MANUAL PARA BLOCO DE COROAMENTO OU SAPATA, COM PREVISÃO DE FÔRMA. AF_06/2017 | E23: M3 | F23: 2.11 | G23: 82,17 | H23: 0.2094 | I23: 99.376398 | J23: 209.6842 | L23: =I23*F23 -> 209.6842
A24: SERVIÇO | B24: 03.01.100.3 | C24: 101616 | D24: PREPARO DE FUNDO DE VALA COM LARGURA MENOR QUE 1,5 M (ACERTO DO SOLO NATURAL). AF_08/2020 | E24: M2 | F24: 6.34 | G24: 5,27 | H24: 0.2094 | I24: 6.373538 | J24: 40.408231 | L24: =I24*F24 -> 40.408231
A25: SERVIÇO | B25: 03.01.100.4 | C25: 93382 | D25: REATERRO MANUAL DE VALAS COM COMPACTAÇÃO MECANIZADA. AF_04/2016 | E25: M3 | F25: 2.1 | G25: 25,12 | H25: 0.2094 | I25: 30.380128 | J25: 63.798269 | L25: =I25*F25 -> 63.798269
L26: =I26*F26 -> 0
B27: 03.01.400 | D27: FUNDAÇÕES PROFUNDAS | L27: =I27*F27 -> 0
B28: 03.01.411 | D28: DE CONCRETO ARMADO | L28: =I28*F28 -> 0
B29: 03.01.413 | D29: ESTACAS | L29: =I29*F29 -> 0
A30: CCU | B30: 03.01.413.1 | C30: CCU - 03.001 | D30: ESTACA ESCAVADA MECANICAMENTE, SEM FLUIDO ESTABILIZANTE, COM 30CM DE DIÂMETRO, CONCRETO (C-30) LANÇADO POR CAMINHÃO BETONEIRA (EXCLUSIVE ARMAÇÃO) | E30: M | F30: 28 | G30: 45.82 | H30: 0.2094 | I30: 55.414708 | J30: 1551.6118 | K30: =PI()*(0.15^2)*F30 -> 1.9792034 | L30: =I30*F30 -> 1551.6118
A31: SERVIÇO | B31: 03.01.413.2 | C31: 95584 | D31: MONTAGEM DE ARMADURA TRANSVERSAL DE ESTACAS DE SEÇÃO CIRCULAR, DIÂMETRO = 6,3 MM. AF_11/2016 | E31: KG | F31: 23.52 | G31: 15,55 | H31: 0.2094 | I31: 18.80617 | J31: 442.32112 | L31: =I31*F31 -> 442.32112
A32: SERVIÇO | B32: 03.01.413.3 | C32: 95578 | D32: MONTAGEM DE ARMADURA LONGITUDINAL/TRANSVERSAL DE ESTACAS DE SEÇÃO CIRCULAR, DIÂMETRO = 12,5 MM. AF_11/2016 | E32: KG | F32: 104 | G32: 11,31 | H32: 0.2094 | I32: 13.678314 | J32: 1422.5447 | L32: =I32*F32 -> 1422.5447
L33: =I33*F33 -> 0
B34: 03.01.430 | D34: ARRASAMENTO DE CABEÇA DE ESTACAS | L34: =I34*F34 -> 0
A35: SERVIÇO | B35: 03.01.430.1 | C35: 95601 | D35: ARRASAMENTO MECANICO DE ESTACA DE CONCRETO ARMADO, DIAMETROS DE ATÉ 40 CM. AF_05/2021 | E35: UN | F35: 4 | G35: 13,78 | H35: 0.2094 | I35: 16.665532 | J35: 66.662128 | L35: =I35*F35 -> 66.662128
L36: =I36*F36 -> 0
B37: 03.01.500 | D37: BLOCOS SAPATAS E VIGAS BALDRAME | L37: =I37*F37 -> 0
B38: 03.01.501 | D38: LASTRO | L38: =I38*F38 -> 0
A39: SERVIÇO | B39: 03.01.501.1 | C39: 96619 | D39: LASTRO DE CONCRETO MAGRO, APLICADO EM BLOCOS DE COROAMENTO OU SAPATAS, ESPESSURA DE 5 CM. AF_08/2017 | E39: M2 | F39: 2.47 | G39: 27,10 | H39: 0.2094 | I39: 32.77474 | J39: 80.953608 | L39: =I39*F39 -> 80.953608
L40: =I40*F40 -> 0
B41: 03.01.502 | D41: FORMAS | L41: =I41*F41 -> 0
A42: SERVIÇO | B42: 03.01.502.1 | C42: 96540 | D42: FABRICAÇÃO, MONTAGEM E DESMONTAGEM DE FÔRMA PARA BLOCO DE COROAMENTO, EM CHAPA DE MADEIRA COMPENSADA RESINADA, E=17 MM, 4 UTILIZAÇÕES. AF_06/2017 | E42: M2 | F42: 5.76 | G42: 113,82 | H42: 0.2094 | I42: 137.65391 | J42: 792.88651 | L42: =I42*F42 -> 792.88651
...

Sheet 018.07-21-CALDEIRA
B2: GOVERNO DO DISTRITO FEDERAL
B3: SECRETARIA DE ESTADO DE INFRAESTRUTURA E SERVIÇOS PÚBLICOS
B4: COMPANHIA URBANIZADORA DA NOVA CAPITAL DO BRASIL
B5: PLANILHA ESTIMATIVA - CALDEIRA
B6: Nº ESTIMATIVA PARCIAL: | D6: 018.07/2021-SEORÇA-SDS | I6: DATA: | J6: ='018-21-CAPA'!E20 -> 44389
B7: NOME ESTIMATIVA PARCIAL: | D7: ORÇ. REFORMA DO RESTAURANTE COMUNITÁRIO DE ARNIQUEIRAS | I7: Nº PROJETO: | J7: ='018.01-21-ADM OBRA'!J7 -> PROJ-DE-045-20
B8: ENDEREÇO: | C8: EQNP 16/20 AE, Lotes E,F e G - CEILÂNDIA - DF | D8: QS AVENIDA ÁGUAS CLRAS LT-03, ÁGUAS CLARAS-DF | I8: ÁREA: | J8: ='018.01-21-ADM OBRA'!J8 -> 1.497,00 m²
B9: ENCARGOS TRABALHISTAS: | D9: horista=113,69% / mensalista=73,06% | E9: B.D.I. : | F9: 0.2094 | G9: B.D.I. : | H9: 0.1089 | I9: TAB. REF.: | J9: ='018.01-21-ADM OBRA'!J9 -> SINAPI MAIO 2021
B11: ITEM | C11: CÓDIGO | D11: DESCRIÇÃO | E11: UNID. | F11: QUANT. | G11: CUSTO UNITÁRIO (R$) | H11: BDI | I11: PREÇO UNITÁRIO (R$) C/ BDI | J11: PREÇO TOTAL (R$) C/ BDI
B12: 02.00.000 | D12: SERVIÇOS PRELIMINARES | L12: =I12*F12 -> 0
B13: 02.03.000 | D13: LOCAÇÃO DE OBRAS | L13: =I13*F13 -> 0
B14: 02.03.100 | D14: DE EDIFICAÇÕES | L14: =I14*F14 -> 0
A15: SERVIÇO | B15: 02.03.100.1 | C15: 99059 | D15: LOCACAO CONVENCIONAL DE OBRA, UTILIZANDO GABARITO DE TÁBUAS CORRIDAS PONTALETADAS A CADA 2,00M - 2 UTILIZAÇÕES. AF_10/2018 | E15: M | F15: 16 | G15: 49,10 | H15: 0.2094 | I15: 59.38154 | J15: 950.10464 | L15: =I15*F15 -> 950.10464
L16: =I16*F16 -> 0
G17: SUBTOTAL (Divisão): | J17: 950.10464 | L17: =I17*F17 -> 0
L18: =I18*F18 -> 0
B19: 03.00.000 | D19: FUNDAÇÕES E ESTRUTURAS | L19: =I19*F19 -> 0
B20: 03.01.000 | D20: FUNDAÇÕES | L20: =I20*F20 -> 0
B21: 03.01.100 | D21: ESCAVAÇÃO DE VALAS | L21: =I21*F21 -> 0 | O21: VOL. CONCRETO
A22: SERVIÇO | B22: 03.01.100.1 | C22: 96527 | D22: ESCAVAÇÃO MANUAL DE VALA PARA VIGA BALDRAME, COM PREVISÃO DE FÔRMA. AF_06/2017 | E22: M3 | F22: 2.57 | G22: 107,74 | H22: 0.2094 | I22: 130.30076 | J22: 334.87294 | L22: =I22*F22 -> 334.87294 | O22: =K30+F51+F68+F80+F91 -> 6.4992034
A23: SERVIÇO | B23: 03.01.100.2 | C23: 96523 | D23: ESCAVAÇÃO MANUAL PARA BLOCO DE COROAMENTO OU SAPATA, COM PREVISÃO DE FÔRMA. AF_06/2017 | E23: M3 | F23: 2.11 | G23: 82,17 | H23: 0.2094 | I23: 99.376398 | J23: 209.6842 | L23: =I23*F23 -> 209.6842
A24: SERVIÇO | B24: 03.01.100.3 | C24: 101616 | D24: PREPARO DE FUNDO DE VALA COM LARGURA MENOR QUE 1,5 M (ACERTO DO SOLO NATURAL). AF_08/2020 | E24: M2 | F24: 8.95 | G24: 5,27 | H24: 0.2094 | I24: 6.373538 | J24: 57.043165 | L24: =I24*F24 -> 57.043165
A25: SERVIÇO | B25: 03.01.100.4 | C25: 93382 | D25: REATERRO MANUAL DE VALAS COM COMPACTAÇÃO MECANIZADA. AF_04/2016 | E25: M3 | F25: 2.88 | G25: 25,12 | H25: 0.2094 | I25: 30.380128 | J25: 87.494769 | L25: =I25*F25 -> 87.494769
L26: =I26*F26 -> 0
B27: 03.01.400 | D27: FUNDAÇÕES PROFUNDAS | L27: =I27*F27 -> 0
B28: 03.01.411 | D28: DE CONCRETO ARMADO | L28: =I28*F28 -> 0
B29: 03.01.413 | D29: ESTACAS | L29: =I29*F29 -> 0
A30: CCU | B30: 03.01.413.1 | C30: CCU - 03.001 | D30: ESTACA ESCAVADA MECANICAMENTE, SEM FLUIDO ESTABILIZANTE, COM 30CM DE DIÂMETRO, CONCRETO (C-30) LANÇADO POR CAMINHÃO BETONEIRA (EXCLUSIVE ARMAÇÃO) | E30: M | F30: 28 | G30: 45.82 | H30: 0.2094 | I30: 55.414708 | J30: 1551.6118 | K30: =PI()*(0.15^2)*F30 -> 1.9792034 | L30: =I30*F30 -> 1551.6118
A31: SERVIÇO | B31: 03.01.413.2 | C31: 95584 | D31: MONTAGEM DE ARMADURA TRANSVERSAL DE ESTACAS DE SEÇÃO CIRCULAR, DIÂMETRO = 6,3 MM. AF_11/2016 | E31: KG | F31: 23.52 | G31: 15,55 | H31: 0.2094 | I31: 18.80617 | J31: 442.32112 | L31: =I31*F31 -> 442.32112
A32: SERVIÇO | B32: 03.01.413.3 | C32: 95578 | D32: MONTAGEM DE ARMADURA LONGITUDINAL/TRANSVERSAL DE ESTACAS DE SEÇÃO CIRCULAR, DIÂMETRO = 12,5 MM. AF_11/2016 | E32: KG | F32: 104 | G32: 11,31 | H32: 0.2094 | I32: 13.678314 | J32: 1422.5447 | L32: =I32*F32 -> 1422.5447
L33: =I33*F33 -> 0
B34: 03.01.430 | D34: ARRASAMENTO DE CABEÇA DE ESTACAS | L34: =I34*F34 -> 0
A35: SERVIÇO | B35: 03.01.430.1 | C35: 95601 | D35: ARRASAMENTO MECANICO DE ESTACA DE CONCRETO ARMADO, DIAMETROS DE ATÉ 40 CM. AF_05/2021 | E35: UN | F35: 4 | G35: 13,78 | H35: 0.2094 | I35: 16.665532 | J35: 66.662128 | L35: =I35*F35 -> 66.662128
L36: =I36*F36 -> 0
B37: 03.01.500 | D37: BLOCOS SAPATAS E VIGAS BALDRAME | L37: =I37*F37 -> 0
B38: 03.01.501 | D38: LASTRO | L38: =I38*F38 -> 0
A39: SERVIÇO | B39: 03.01.501.1 | C39: 96619 | D39: LASTRO DE CONCRETO MAGRO, APLICADO EM BLOCOS DE COROAMENTO OU SAPATAS, ESPESSURA DE 5 CM. AF_08/2017 | E39: M2 | F39: 3.34 | G39: 27,10 | H39: 0.2094 | I39: 32.77474 | J39: 109.46763 | L39: =I39*F39 -> 109.46763
L40: =I40*F40 -> 0
B41: 03.01.502 | D41: FORMAS | L41: =I41*F41 -> 0
A42: SERVIÇO | B42: 03.01.502.1 | C42: 96540 | D42: FABRICAÇÃO, MONTAGEM E DESMONTAGEM DE FÔRMA PARA BLOCO DE COROAMENTO, EM CHAPA DE MADEIRA COMPENSADA RESINADA, E=17 MM, 4 UTILIZAÇÕES. AF_06/2017 | E42: M2 | F42: 5.76 | G42: 113,82 | H42: 0.2094 | I42: 137.65391 | J42: 792.88651 | L42: =I42*F42 -> 792.88651
...

Sheet 018-21-CCU's
B2: GOVERNO DO DISTRITO FEDERAL
B3: SECRETARIA DE ESTADO DE INFRAESTRUTURA E SERVIÇOS PÚBLICOS
B4: COMPANHIA URBANIZADORA DA NOVA CAPITAL DO BRASIL
B5: PLANILHA DE COMPOSIÇÕES
B6: Nº ESTIMATIVA PRINCIPAL: | C6: 018/2021-SEORÇA-SDS | G6: DATA: | H6: ='018-21-CAPA'!E20 -> 44389
B7: TÍTULO: | C7: ORÇ. REFORMA DO RESTAURANTE COMUNITÁRIO DE ARNIQUEIRAS | G7: Nº PROJETO: | H7: ='018.03-21-ED. PRINCIPAL'!J7 -> PROJ-DE-045-20
B8: ENCARGOS TRABALHISTAS: | C8: ='018.03-21-ED. PRINCIPAL'!D9 -> horista=113,69% / mensalista=73,06% | D8: B.D.I. : | E8: 0,00% | G8: TAB. REF.: | H8: ='018.03-21-ED. PRINCIPAL'!J9 -> SINAPI MAIO 2021
B9: CÓDIGO | C9: DESCRIÇÃO | D9: TIPO | E9: UNID. | F9: COEFICIENTE | G9: CUSTO UNIT(R$) | H9: CUSTO TOTAL (R$)
B11: CCU - 01.001 | C11: ELABORAÇÃO DE PROJETOS EXECUTIVOS DE FUNDAÇÕES E ESTRUTURA, INCLUSO BDI | D11: SER.CG | E11: UN | H11: 10964.12
B12: TR13 | C12: ELABORAÇÃO DE PROJETOS EXECUTIVOS DE FUNDAÇÕES E ESTRUTURA, INCLUSO BDI | D12: SER.CG | E12: UN | F12: 1 | G12: 10964.12 | H12: 10964.12
B13: Observação: | C13: REF: CREDENCIAMENTO TR13
B15: CCU - 02.001 | C15: LOCACAO DE CONTAINER 2,30 X 6,00 M, ALT. 2,50 M, PARA ALMOXARIFADO, SEM DIVISORIAS INTERNAS E SEM SANITARIO | D15: SER.CG | E15: MES | H15: 457.03
A16: INSUMO | B16: 10776 | C16: LOCACAO DE CONTAINER 2,30 X 6,00 M, ALT. 2,50 M, PARA ESCRITORIO, SEM DIVISORIAS INTERNAS E SEM SANITARIO | D16: M.O | E16: MES | F16: 1 | G16: 457,03 | H16: 457.03
B17: Observação: | C17: REF: 10776 SINAPI MAIO 2020
B19: CCU - 02.002 | C19: RAMPA DE LAVAGEM - INCLUSIVE DEMOLIÇÃO | D19: SER.CG | E19: UN | H19: 15553.8
A20: SERVIÇO | B20: 94968 | C20: CONCRETO MAGRO PARA LASTRO, TRAÇO 1:4,5:4,5 (EM MASSA SECA DE CIMENTO/ AREIA MÉDIA/ BRITA 1) - PREPARO MECÂNICO COM BETONEIRA 600 L. AF_05/2021 | D20: SER.CG | E20: M3 | F20: 26.19328 | G20: 322,01 | H20: 8434.49
A21: SERVIÇO | B21: 97629 | C21: DEMOLIÇÃO DE LAJES, DE FORMA MECANIZADA COM MARTELETE, SEM REAPROVEITAMENTO. AF_12/2017 | D21: SER.CG | E21: M3 | F21: 26.19328 | G21: 105,72 | H21: 2769.15
A22: SERVIÇO | B22: 93358 | C22: ESCAVAÇÃO MANUAL DE VALA COM PROFUNDIDADE MENOR OU IGUAL A 1,30 M. AF_02/2021 | D22: SER.CG | E22: M3 | F22: 7.52711 | G22: 69,66 | H22: 524.33
A23: SERVIÇO | B23: 96536 | C23: FABRICAÇÃO, MONTAGEM E DESMONTAGEM DE FÔRMA PARA VIGA BALDRAME, EM MADEIRA SERRADA, E=25 MM, 4 UTILIZAÇÕES. AF_06/2017 | D23: SER.CG | E23: M2 | F23: 56.0178 | G23: 66,12 | H23: 3703.89
A24: SERVIÇO | B24: 93382 | C24: REATERRO MANUAL DE VALAS COM COMPACTAÇÃO MECANIZADA. AF_04/2016 | D24: SER.CG | E24: M3 | F24: 4.8545 | G24: 25,12 | H24: 121.94
B25: Observação: | C25: REF: 919210 SICRO OUTUBRO 2020
B27: CCU - 02.003 | C27: LOCAÇÃO DE GRUPO GERADOR 13 CV PARA USO EMERGÊNCIAL | D27: SER.CG | E27: MÊS | H27: 367.84
A28: SERVIÇO | B28: 93415 | C28: GERADOR PORTÁTIL MONOFÁSICO, POTÊNCIA 5500 VA, MOTOR A GASOLINA, POTÊNCIA DO MOTOR 13 CV - CHP DIURNO. AF_03/2016 | D28: EQUIP. | E28: CHP | F28: 22 | G28: 14,74 | H28: 324.28
A29: SERVIÇO | B29: 93416 | C29: GERADOR PORTÁTIL MONOFÁSICO, POTÊNCIA 5500 VA, MOTOR A GASOLINA, POTÊNCIA DO MOTOR 13 CV - CHI DIURNO. AF_03/2016 | D29: EQUIP. | E29: CHI | F29: 198 | G29: 0,22 | H29: 43.56
B31: CCU - 02.004 | C31: ENTRADA PROVISORIA DE ENERGIA ELETRICA AEREA TRIFASICA 40A EM POSTE MADEIRA | D31: SER.CG | E31: UN | H31: 1998.6
A32: INSUMO | B32: 406 | C32: FITA ACO INOX PARA CINTAR POSTE, L = 19 MM, E = 0,5 MM (ROLO DE 30M) | D32: MAT. | E32: UN | F32: 0.1333333 | G32: 68,56 | H32: 9.14
A33: INSUMO | B33: 420 | C33: CINTA CIRCULAR EM ACO GALVANIZADO DE 150 MM DE DIAMETRO PARA FIXACAO DE CAIXA MEDICAO, INCLUI PARAFUSOS E PORCAS | D33: MAT. | E33: UN | F33: 2 | G33: 25,84 | H33: 51.68
A34: INSUMO | B34: 857 | C34: CABO DE COBRE NU 16 MM2 MEIO-DURO | D34: MAT. | E34: M | F34: 3 | G34: 12,58 | H34: 37.74
A35: INSUMO | B35: 937 | C35: FIO DE COBRE, SOLIDO, CLASSE 1, ISOLACAO EM PVC/A, ANTICHAMA BWF-B, 450/750V, SECAO NOMINAL 10 MM2 | D35: MAT. | E35: M | F35: 27 | G35: 9,22 | H35: 248.94
A36: INSUMO | B36: 1062 | C36: CAIXA INTERNA/EXTERNA DE MEDICAO PARA 1 MEDIDOR TRIFASICO, COM VISOR, EM CHAPA DE ACO 18 USG (PADRAO DA CONCESSIONARIA LOCAL) | D36: MAT. | E36: UN | F36: 1 | G36: 324,36 | H36: 324.36
A37: INSUMO | B37: 1096 | C37: ARMACAO VERTICAL COM HASTE E CONTRA-PINO, EM CHAPA DE ACO GALVANIZADO 3/16", COM 4 ESTRIBOS E 4 ISOLADORES | D37: MAT. | E37: UN | F37: 2 | G37: 85,76 | H37: 171.52
A38: INSUMO | B38: 1539 | C38: CONECTOR METALICO TIPO PARAFUSO FENDIDO (SPLIT BOLT), PARA CABOS ATE 16 MM2 | D38: MAT. | E38: UN | F38: 8 | G38: 6,58 | H38: 52.64
A39: INSUMO | B39: 1892 | C39: LUVA EM PVC RIGIDO ROSCAVEL, DE 1", PARA ELETRODUTO | D39: MAT. | E39: UN | F39: 4 | G39: 1,47 | H39: 5.88
A40: INSUMO | B40: 2392 | C40: DISJUNTOR TIPO NEMA, TRIPOLAR 10 ATE 50A, TENSAO MAXIMA DE 415 V | D40: MAT. | E40: UN | F40: 1 | G40: 82,10 | H40: 82.1
A41: INSUMO | B41: 2685 | C41: ELETRODUTO DE PVC RIGIDO ROSCAVEL DE 1 ", SEM LUVA | D41: MAT. | E41: M | F41: 8 | G41: 6,46 | H41: 51.68
A42: INSUMO | B42: 2731 | C42: POSTE ROLICO DE MADEIRA TRATADA, D = 20 A 25 CM, H = 12,00 M, EM EUCALIPTO OU EQUIVALENTE DA REGIAO | D42: MAT. | E42: M | F42: 7.96 | G42: 69,25 | H42: 551.23
A43: INSUMO | B43: 3379 | C43: !EM PROCESSO DE DESATIVACAO! HASTE DE ATERRAMENTO EM ACO COM 3,00 M DE COMPRIMENTO E DN = 5/8", REVESTIDA COM BAIXA CAMADA DE COBRE, SEM CONECTOR | D43: MAT. | E43: UN | F43: 1 | G43: 54,29 | H43: 54.29
A44: INSUMO | B44: 4346 | C44: PARAFUSO DE FERRO POLIDO, SEXTAVADO, COM ROSCA PARCIAL, DIAMETRO 5/8", COMPRIMENTO 6", COM PORCA E ARRUELA DE PRESSAO MEDIA | D44: MAT. | E44: UN | F44: 2,0000000 | G44: 5,62 | H44: 11.24
A45: INSUMO | B45: 11267 | C45: ARRUELA LISA, REDONDA, DE LATAO POLIDO, DIAMETRO NOMINAL 5/8", DIAMETRO EXTERNO = 34 MM, DIAMETRO DO FURO = 17 MM, ESPESSURA = *2,5* MM | D45: MAT. | E45: UN | F45: 2,0000000 | G45: 0,90 | H45: 1.8
A46: INSUMO | B46: 12034 | C46: CURVA 180 GRAUS, DE PVC RIGIDO ROSCAVEL, DE 3/4", PARA ELETRODUTO | D46: MAT. | E46: UN | F46: 2 | G46: 4,17 | H46: 8.34
...

Sheet 018-21-CCU's AUX
B2: GOVERNO DO DISTRITO FEDERAL
B3: SECRETARIA DE ESTADO DE INFRAESTRUTURA E SERVIÇOS PÚBLICOS
B4: COMPANHIA URBANIZADORA DA NOVA CAPITAL DO BRASIL
B5: PLANILHA DE COMPOSIÇÕES AUXILIARES
B6: Nº ESTIMATIVA PRINCIPAL: | C6: ='018-21-CCU''s'!C6 -> 018/2021-SEORÇA-SDS | G6: DATA: | H6: ='018-21-CAPA'!E20 -> 44389
B7: TÍTULO: | C7: ='018-21-CCU''s'!C7:E7 -> ORÇ. REFORMA DO RESTAURANTE COMUNITÁRIO DE ARNIQUEIRAS | G7: Nº PROJETO: | H7: ='018.03-21-ED. PRINCIPAL'!J7 -> PROJ-DE-045-20
B8: ENCARGOS TRABALHISTAS: | C8: ='018-21-CCU''s'!C8 -> horista=113,69% / mensalista=73,06% | D8: B.D.I. : | E8: 0,00% | G8: TAB. REF.: | H8: ='018-21-CCU''s'!H8 -> SINAPI MAIO 2021
B9: CÓDIGO | C9: DESCRIÇÃO | D9: TIPO | E9: UNID. | F9: COEFICIENTE | G9: CUSTO UNIT(R$) | H9: CUSTO TOTAL (R$)
B11: CCU - 04.001 AUX | C11: PORTA DE MADEIRA COMPENSADA LISA PARA PINTURA, 140X210 CM, 2 FOLHAS, INCLUSO ADUELA, ALIZA E DOBRADIÇAS VAI E VEM | D11: SER.CG | E11: UN | H11: 989.36
A12: INSUMO | B12: 184 | C12: BATENTE/ PORTAL/ ADUELA/ MARCO MACICO, E= *3* CM, L= *13* CM, *60 CM A 120* CM X *210* CM, EM PINUS/ TAUARI/ VIROLA OU EQUIVALENTE DA REGIAO (NAO INCLUI ALIZARES) | D12: MAT. | E12: JG | F12: 1.05 | G12: 148,71 | H12: 156.14
A13: INSUMO | B13: 11451 | C13: DOBRADICA TIPO VAI-E-VEM EM ACO/FERRO, TAMANHO 3'', GALVANIZADO, COM PARAFUSOS | D13: MAT. | E13: UN | F13: 6 | G13: 44,05 | H13: 264.3
A14: INSUMO | B14: 10554 | C14: PORTA DE MADEIRA, FOLHA MEDIA (NBR 15930) DE 700 X 2100 MM, DE 35 MM A 40 MM DE ESPESSURA, NUCLEO SEMI-SOLIDO (SARRAFEADO), CAPA LISA EM HDF, ACABAMENTO EM PRIMER PARA PINTURA | D14: MAT. | E14: UN | F14: 2 | G14: 156,19 | H14: 312.38
A15: INSUMO | B15: 11055 | C15: PARAFUSO ROSCA SOBERBA ZINCADO CABECA CHATA FENDA SIMPLES 3,5 X 25 MM (1 ") | D15: MAT. | E15: UN | F15: 39.6 | G15: 0,05 | H15: 1.98
A16: INSUMO | B16: 20017 | C16: GUARNICAO/ ALIZAR/ VISTA MACICA, E= *1* CM, L= *4,5* CM, EM CEDRINHO/ ANGELIM COMERCIAL/ EUCALIPTO/ CURUPIXA/ PEROBA/ CUMARU OU EQUIVALENTE DA REGIAO | D16: MAT. | E16: M | F16: 11.6 | G16: 6,81 | H16: 78.99
A17: INSUMO | B17: 20247 | C17: PREGO DE ACO POLIDO COM CABECA 15 X 15 (1 1/4 X 13) | D17: MAT. | E17: KG | F17: 0.0315 | G17: 21,79 | H17: 0.68
A18: INSUMO | B18: 39027 | C18: PREGO DE ACO POLIDO COM CABECA 19 X 36 (3 1/4 X 9) | D18: MAT. | E18: KG | F18: 0.225 | G18: 19,66 | H18: 4.42
A19: SERVIÇO | B19: 88261 | C19: CARPINTEIRO DE ESQUADRIA COM ENCARGOS COMPLEMENTARES | D19: M.O | E19: H | F19: 3.458 | G19: 23,72 | H19: 82.02
A20: SERVIÇO | B20: 88309 | C20: PEDREIRO COM ENCARGOS COMPLEMENTARES | D20: M.O | E20: H | F20: 1.389 | G20: 23,90 | H20: 33.19
A21: SERVIÇO | B21: 88316 | C21: SERVENTE COM ENCARGOS COMPLEMENTARES | D21: M.O | E21: H | F21: 2.424 | G21: 17,61 | H21: 42.68
A22: SERVIÇO | B22: 88627 | C22: ARGAMASSA TRAÇO 1:0,5:4,5 (EM VOLUME DE CIMENTO, CAL E AREIA MÉDIA ÚMIDA) PARA ASSENTAMENTO DE ALVENARIA, PREPARO MANUAL. AF_08/2019 | D22: SER.CG | E22: M3 | F22: 0.025 | G22: 503,46 | H22: 12.58
B23: Observação: | C23: REF: 100700 SINAPI FEV 2021
J24: PORTA 2,25X2,40M - MATERIAL PARA 1 UNIDADE
B25: CCU - 04.002 AUX | C25: PORTA EM CHAPA DE AÇO COM DUAS FOLHAS DE ABRIR 200X210 CM, INCLUSO BATENTE, DOBRADIÇAS E BANDEIRA PARA VIDRO, CONFECÇÃO | D25: SER.CG | E25: UN | H25: 1397.15 | J25: PERFIL | K25: Comprimento (m) | L25: Perímetro (m) | M25: Quantidade | N25: Kg/M ou m2 | O25: Unidade | P25: Total | Q25: Pintura
A26: INSUMO | B26: 43692 | C26: PERFIL "U" EM CHAPA ACO DOBRADA, E = 3,04 MM, H = 20 CM, ABAS = 5 CM (4,47 KG/M) | D26: MAT. | E26: KG | F26: 101.15327 | G26: 11,10 | H26: 1122.8 | J26: Chapa de aço #16 | K26: 1.01 | L26: 0.96 | M26: 4 | N26: 11.78 | O26: kg | P26: =K26*L26*M26*N26 -> 45.687552 | Q26: =M26*L26*K26*2 -> 7.7568
A27: INSUMO | B27: 2432 | C27: DOBRADICA EM ACO/FERRO, 3 1/2" X 3", E= 1,9 A 2 MM, COM ANEL, CROMADO OU ZINCADO, TAMPA BOLA, COM PARAFUSOS | D27: MAT. | E27: UN | F27: 6 | G27: 14,29 | H27: 85.74 | J27: Perfil cadeirinha 100x30 #16 | K27: =1.8 -> 1.8 | L27: =(0.1+0.03)*2 -> 0.26 | M27: 2 | N27: 3.027 | O27: kg | P27: =K27*M27*N27 -> 10.8972 | Q27: =M27*L27*K27 -> 0.936
A28: SERVIÇO | B28: 88315 | C28: SERRALHEIRO COM ENCARGOS COMPLEMENTARES | D28: M.O | E28: H | F28: 3.8534579 | G28: 23,78 | H28: 91.63 | J28: Perfil cadeirinha 60x30 #16 | K28: =1.9 -> 1.9 | L28: =(0.06+0.03)*2 -> 0.18 | M28: 4 | N28: 2.05 | O28: kg | P28: =K28*M28*N28 -> 15.58 | Q28: =M28*L28*K28 -> 1.368
A29: SERVIÇO | B29: 88316 | C29: SERVENTE COM ENCARGOS COMPLEMENTARES | D29: M.O | E29: H | F29: 3.8534579 | G29: 17,61 | H29: 67.85 | J29: Perfil TE 60x30 #16 | K29: =2+1.8 -> 3.8 | L29: =(0.06+0.03)*2 -> 0.18 | M29: 1 | N29: 2.068 | O29: kg | P29: =K29*M29*N29 -> 7.8584 | Q29: =M29*L29*K29 -> 0.684
A30: SERVIÇO | B30: 98746 | C30: SOLDA DE TOPO EM CHAPA/PERFIL/TUBO DE AÇO CHANFRADO, ESPESSURA=1/4''. AF_06/2018 | D30: SER.CG | E30: M | F30: 0.57801869 | G30: 50,41 | H30: 29.13 | J30: Chapa de aço #16 | K30: =2+2.1*2 -> 6.2 | L30: 0.22 | M30: 1 | N30: 11.78 | O30: kg | P30: =K30*L30*M30*N30 -> 16.06792 | Q30: =M30*L30*K30*2 -> 2.728
B31: Observação: | C31: REF: 73970/2 SINAPI JUL 2019 | J31: Cantoneira 30x30 #16 | K31: =0.9*2+0.26*4 -> 2.84 | L31: =0.03*4 -> 0.12 | M31: 1 | N31: 0.72 | O31: kg | P31: =K31*L31*M31*N31 -> 0.245376 | Q31: =M31*L31*K31*2 -> 0.6816
O32: total | P32: =SUM(P26:P31) -> 96.336448 | Q32: =SUM(Q26:Q31) -> 14.1544
B33: CCU - 04.003 AUX | C33: PORTÃO EM TUBO DE FERRO GALVANIZADO DE 2", DE ABRIR, COM TELA DE ARAME GALVANIZADO, FIO 14 BWG E MALHA QUADRADA 5X5CM, INCLUSIVE DOBRADIÇAS E TRANCAS/FERROLHO | D33: SER.CG | E33: M2 | H33: 791.71
A34: INSUMO | B34: 567 | C34: CANTONEIRA (ABAS IGUAIS) EM FERRO GALVANIZADO, 25,4 MM X 3,17 MM (L X E), 1,27KG/M | D34: MAT. | E34: M | F34: 0.56 | G34: 15,85 | H34: 8.87
A35: INSUMO | B35: 4777 | C35: CANTONEIRA ACO ABAS IGUAIS (QUALQUER BITOLA), ESPESSURA ENTRE 1/8" E 1/4" | D35: MAT. | E35: KG | F35: 7.96 | G35: 9,76 | H35: 77.68
A36: INSUMO | B36: 546 | C36: BARRA DE FERRO CHATA, RETANGULAR (QUALQUER BITOLA) | D36: MAT. | E36: KG | F36: 4.37 | G36: 12,50 | H36: 54.62
A37: SERVIÇO | B37: 88309 | C37: PEDREIRO COM ENCARGOS COMPLEMENTARES | D37: M.O | E37: H | F37: 0.53 | G37: 23,90 | H37: 12.66
A38: SERVIÇO | B38: 88315 | C38: SERRALHEIRO COM ENCARGOS COMPLEMENTARES | D38: M.O | E38: H | F38: 5.6 | G38: 23,78 | H38: 133.16
A39: SERVIÇO | B39: 88316 | C39: SERVENTE COM ENCARGOS COMPLEMENTARES | D39: M.O | E39: H | F39: 6.13 | G39: 17,61 | H39: 107.94
A40: INSUMO | B40: 7167 | C40: TELA DE ARAME GALVANIZADA QUADRANGULAR / LOSANGULAR, FIO 2,11 MM (14 BWG), MALHA 5 X 5 CM, H = 2 M | D40: MAT. | E40: M2 | F40: 0.68 | G40: 25,72 | H40: 17.48
A41: INSUMO | B41: 10997 | C41: ELETRODO REVESTIDO AWS - E7018, DIAMETRO IGUAL A 4,00 MM | D41: MAT. | E41: KG | F41: 3.07 | G41: 19,88 | H41: 61.03
A42: INSUMO | B42: 21013 | C42: TUBO ACO GALVANIZADO COM COSTURA, CLASSE LEVE, DN 50 MM ( 2"), E = 3,00 MM, *4,40* KG/M (NBR 5580) | D42: MAT. | E42: M | F42: 3.79 | G42: 80,79 | H42: 306.19
...

Sheet 018-21-cotação
A2: GOVERNO DO DISTRITO FEDERAL
A3: SECRETARIA DE ESTADO DE INFRAESTRUTURA E SERVIÇOS PÚBLICOS
A4: COMPANHIA URBANIZADORA DA NOVA CAPITAL DO BRASIL
A5: COTAÇÕES
A6: Nº ESTIMATIVA PRINCIPAL: | B6: ='018-21-CCU''s'!C6 -> 018/2021-SEORÇA-SDS | H6: DATA: | I6: ='018-21-CAPA'!E20 -> 44389
A7: TÍTULO: | B7: ='018-21-CCU''s'!C7 -> ORÇ. REFORMA DO RESTAURANTE COMUNITÁRIO DE ARNIQUEIRAS | H7: Nº PROJETO: | I7: ='018-21-CCU''s'!H7 -> PROJ-DE-045-20
A9: COTAÇÃO | B9: MATERIAL | C9: VALOR ADOTADO | D9: UN | E9: EMPRESA 1 | F9: EMPRESA 2 | G9: EMPRESA 3 | H9: EMPRESA 4 | I9: EMPRESA 5
A11: COT - 01.001 | B11: FURO DE SONDAGEM SPT | C11: =MIN(E13:I13) -> 450 | D11: UN | E11: PIMENTEL SONDAGENS | F11: VM SONDAGENS | G11: FUNDEX | J11: MAT.
C12: CONTATO | J12: MEDIANA | K12: 30% MAIOR | L12: 30%MENOR
C13: PREÇO | E13: =2400/4 -> 600 | F13: =1800/4 -> 450 | G13: =3500/4 -> 875 | J13: =MEDIAN(E13:I13) -> 600 | K13: =J13*1.3 -> 780 | L13: =J13*0.7 -> 420
C14: CNPJ
C15: TELEFONE | E15: 3964-8450 | F15: 99915-5173 | G15: 99320-5687
C16: DATA | E16: 44329 | F16: 44329 | G16: 44329
C17: ARQUIVO
A19: COT - 02.001 | B19: CAIXA D'ÁGUA EM POLIETILENO 3.000 LITROS | C19: =MIN(E21:I21) -> 1493.5 | D19: UN | E19: AMERICANAS | F19: CARAJÁS | G19: CASA MIMOSA | H19: PREÇO PÚBLICO | J19: MAT.
C20: CONTATO | E20: www.americanas.com | F20: sac@carajasonline.com | G20: vendas@casamimosa.com.br | H20: 821 | J20: MEDIANA | K20: 30% MAIOR | L20: 30%MENOR
C21: PREÇO | E21: 2131.2 | F21: 1779.9 | G21: 1801.45 | H21: 1493.5 | J21: =MEDIAN(E21:I21) -> 1790.675 | K21: =J21*1.3 -> 2327.8775 | L21: =J21*0.7 -> 1253.4725
C22: CNPJ | E22: 00.776.574/0006-60 | F22: 03.656.804/0001-31 | G22: 62.978.978/0001-80
C23: TELEFONE | E23: 4003-4848 | F23: (11) 4003-2020 | G23: (11) 2782-5500
C24: DATA | E24: 44312 | F24: 44312 | G24: 44312 | H24: 44236
C25: ARQUIVO | E25: P-151 | F25: P-151 | G25: P-151 | H25: P-250
A27: COT - 03.001 | B27: DETERGENTE DESENGORDURANTE 5L | C27: =MIN(E29:I29) -> 9 | D27: L | E27: STARS | F27: NET SUPRIMENTOS | G27: NC BELLA | J27: MAT.
C28: CONTATO | E28: starsprodutosdelimpeza.com.br | F28: netsuprimentos.com.br | G28: ncbelladistribuidora.com.br | J28: MEDIANA | K28: 30% MAIOR | L28: 30%MENOR
C29: PREÇO | E29: =45/5 -> 9 | F29: =68.9/5 -> 13.78 | G29: =61.11/5 -> 12.222 | J29: =MEDIAN(E29:I29) -> 12.222 | K29: =J29*1.3 -> 15.8886 | L29: =J29*0.7 -> 8.5554
C30: CNPJ | E30: 27.151.031/0001-08 | F30: 19.812.763/0001-65 | G30: 05.420.840/0001-27
C31: TELEFONE | E31: 65 3364-1037 | F31: (11) 3004-9515 | G31: (11) 2337-5153
C32: DATA | E32: 44386 | F32: 44386 | G32: 44386
C33: ARQUIVO | E33: P-295 | F33: P-295 | G33: P-295
A35: COT - 04.001 | B35: BATENTE EM AÇO INÓX PARA GRANITO | C35: =MIN(E37:I37) -> 47.88 | D35: UN | E35: JCL FERRAGENS | F35: REI DAS FECHADURAS | G35: FERROCENTER | J35: MAT.
C36: CONTATO | E36: www.jclfechaduras.com.br | F36: vendas@reidasfechaduras.com.br | G36: NATALIA | J36: MEDIANA | K36: 30% MAIOR | L36: 30%MENOR
C37: PREÇO | E37: 47.88 | F37: 54 | G37: 60 | J37: =MEDIAN(E37:I37) -> 54 | K37: =J37*1.3 -> 70.2 | L37: =J37*0.7 -> 37.8
C38: CNPJ | E38: 43.837.483/0001-96 | F38: 77.620.599/0003-52 | G38: 28.889.565/0001-90
C39: TELEFONE | E39: (11) 3081 - 6816 | F39: (41) 3016-8008 | G39: (61) 3346-6677
C40: DATA | E40: 44320 | F40: 44320 | G40: 44328
C41: ARQUIVO | E41: P-165 | F41: P-166 | G41: P-224
A43: COT - 04.002 | B43: DOBRADIÇA COM MOLA EM AÇO INÓX PARA GRANITO | C43: =MIN(E45:I45) -> 112.02 | D43: UN | E43: JCL FERRAGENS | F43: REI DAS FECHADURAS | G43: FERROCENTER | H43: PREÇO PÚBLICO | J43: MAT.
C44: CONTATO | E44: www.jclfechaduras.com.br | F44: vendas@reidasfechaduras.com.br | G44: NATALIA | H44: NºPregão:22020 UASG:153289 | J44: MEDIANA | K44: 30% MAIOR | L44: 30%MENOR
C45: PREÇO | E45: 123.06 | F45: 127.6 | G45: 150 | H45: 112.02 | J45: =MEDIAN(E45:I45) -> 125.33 | K45: =J45*1.3 -> 162.929 | L45: =J45*0.7 -> 87.731
C46: CNPJ | E46: 43.837.483/0001-96 | F46: 77.620.599/0003-52 | G46: 28.889.565/0001-90
C47: TELEFONE | E47: (11) 3081 - 6816 | F47: (41) 3016-8008 | G47: (61) 3346-6677
...

Sheet SERVIÇOS
A1: PCI.817.01 - CUSTO DE COMPOSIÇÕES - SINTÉTICO DATA DE EMISSÃO: 11/06/2021 23:21:19 DATA DE RT: 11/06/2021
A2: ENCARGOS SOCIAIS SOBRE PREÇOS DA MÃO-DE-OBRA: 113,69%(HORA) 73,06%(MÊS)
A3: ABRANGÊNCIA : NACIONAL LOCALIDADE : BRASILIA DATA DE PREÇO : 05/2021 REFERÊNCIA COLETA : MEDIANO
A5: CODIGO DA COMPOSICAO | B5: DESCRICAO DA COMPOSICAO | C5: UNIDADE | D5: CUSTO TOTAL | E5: CLASSE
A6: CODIGO | B6: DESCRICAO DA COMPOSICAO | C6: UNIDADE | D6: CUSTO TOTAL | E6: TIPO
A7: 97141 | B7: ASSENTAMENTO DE TUBO DE FERRO FUNDIDO PARA REDE DE ÁGUA, DN 80 MM, JUNTA ELÁSTICA, INSTALADO EM LOCAL COM NÍVEL ALTO DE INTERFERÊNCIAS (NÃO INCLUI FORNECIMENTO). AF_11/2017 | C7: M | D7: 6,42 | E7: SER.CG
A8: 97142 | B8: ASSENTAMENTO DE TUBO DE FERRO FUNDIDO PARA REDE DE ÁGUA, DN 100 MM, JUNTA ELÁSTICA, INSTALADO EM LOCAL COM NÍVEL ALTO DE INTERFERÊNCIAS (NÃO INCLUI FORNECIMENTO). AF_11/2017 | C8: M | D8: 7,17 | E8: SER.CG
A9: 97143 | B9: ASSENTAMENTO DE TUBO DE FERRO FUNDIDO PARA REDE DE ÁGUA, DN 150 MM, JUNTA ELÁSTICA, INSTALADO EM LOCAL COM NÍVEL ALTO DE INTERFERÊNCIAS (NÃO INCLUI FORNECIMENTO). AF_11/2017 | C9: M | D9: 9,02 | E9: SER.CG
