Workbook
Name __SM1: #REF!
Name __SM1: #REF!
Name __SM1: #REF!
Name __SM1: #REF!
Name __SM1: #REF!
Name __SM1: #REF!
Name __SM1: #REF!
Name __SM1: #REF!
Name __SM1: #REF!
Name __SM10: #REF!
Name __SM10: #REF!
Name __SM10: #REF!
Name __SM10: #REF!
Name __SM10: #REF!
Name __SM10: #REF!
Name __SM10: #REF!
Name __SM10: #REF!
Name __SM11: #REF!
Name __SM11: #REF!
Name __SM11: #REF!
Name __SM11: #REF!
Name __SM11: #REF!
Name __SM11: #REF!
Name __SM11: #REF!
Name __SM11: #REF!
Name __SM12: #REF!
Name __SM12: #REF!
Name __SM12: #REF!
Name __SM12: #REF!
Name __sm13: #REF!
Name __sm13: #REF!
Name __sm13: #REF!
Name __sm13: #REF!
Name __SM2: #REF!
Name __SM2: #REF!
Name __SM2: #REF!
Name __SM2: #REF!
Name __SM3: #REF!
Name __SM3: #REF!
Name __SM3: #REF!
Name __SM3: #REF!
Name __SM4: #REF!
Name __SM4: #REF!
Name __SM4: #REF!
Name __SM4: #REF!
Name __SM5: #REF!
Name __SM5: #REF!
Name __SM5: #REF!
Name __SM5: #REF!
Name __SM6: #REF!
Name __SM6: #REF!
Name __SM6: #REF!
Name __SM6: #REF!
Name __SM7: #REF!
Name __SM7: #REF!
Name __SM7: #REF!
Name __SM7: #REF!
Name __SM8: #REF!
Name __SM8: #REF!
Name __SM8: #REF!

Sheet 074-19-CAPA
A1: VER COMENTÁRIOS NAS CÉLULAS ANTES DE PREENCHER. FAVOR MANTER TODOS OS COMENTÁRIOS DAS CÉLULAS PARA FACILITAR A CONFERÊNCIA DO ARQUIVO Sempre consultar a Cooordenação de arquivos da DITEC para quaisquer dúvidas.
B8: GOVERNO DO DISTRITO FEDERAL
B9: SECRETARIA DE ESTADO DE INFRAESTRUTURA E SERVIÇOS PÚBLICOS
B10: COMPANHIA URBANIZADORA DA NOVA CAPITAL DO BRASIL
B11: CAPA DA PLANILHA ESTIMATIVA
B14: Nº ESTIMATIVA: | C14: 074/2019-SEORÇA-SDS-R02
B15: TÍTULO: | C15: REFORMA DA CRECHE NÚCLEO RURAL JARDIM II
B16: Nº PROJETO: | C16: PROJ-DE 125-18
B17: NOME PROJETO: | C17: REFORMA DA CRECHE NÚCLEO RURAL JARDIM II
B18: ENDEREÇO: | C18: NÚCLEO RURAL JARDIM, DF 285, PARANOÁ, DF
B19: PRAZO: | C19: 90 DIAS CORRIDOS
B20: DATA: | C20: 44386
B21: ORÇAMENTISTA(S): | C21: Eng° ÉDNUM ALMEIDA RIBEIRO - Lev. Quantitativos e Orçamento Instalação Elétrica, Hidrossanitária, Sistema de Prevenção e Combate a Incêndio, Estrutura Concreto Armado e Aço. Arq. JANINE ALVES COSTA - Lev. Quantitativos e Oçamento Arquitetura
B22: DOCUMENTO SEI: | C22: 54609777
B23: PROCESSO: | C23: SEI_00072-00001105/2019-97
B24: TABELA REFERÊNCIA: | C24: SINAPI - MAIO 2021 SEM DESONERAÇÃO
B25: SISOBRAS: | C25: Área Construída: 257,64 m²
B26: OBSERVAÇÕES: | C26: 1-Esta estimativa foi elaborada conforme a Proposta Padrão e as suas Especificações e os mesmos devem ser seguidos na execução dos serviços. 2-O levantamento foi realizado com base nos projetos fornecidos. Qualquer serviço levantado que seja entendido como desnecessário pela fiscalização deverá ser glosado. Os levantamentos foram feitos de forma mais completa possível de forma a atender a situação mais crítica encontrada de forma a minimizar aditivos financeiros. 3-A CONTRATADA deverá executar a sondagem, Levantamento planialtimétrico cadastral do lote e Projetos executivos de Implantação. 4-Após definição do lote deve ser cálculada a distância para o bota fora e os serviços de transportes, (93593), devem ser ajustados conforme o novo local. 5-Após execução dos Projetos executivos da implantação adequada para cada local destinado. Os quantitativos do orçamento devem ser ajustados para aquela localidade.
B27: BDI UTILIZADOS: | C27: 20,94% (obra)
B28: RESP. CAPA: | C28: Eng° ÉDNUM ALMEIDA RIBEIRO - CREA 22.359/D-PE Arq. JANINE ALVES COSTA - CAU A53120-0
B30: ESTIMATIVAS DIRETORIA DE EDIFICAÇÕES:
B31: 093.01/2019-SEORÇA: Estimativa Fonte ......................................................................................................... | D31: 441122.17
B32: VALOR ESTIMADO TOTAL COM BDI ............................................................................................................. | D32: 441122.17
B34: NOTAS: | C34: *Esta planilha é orientativa. Desta forma, é de inteira responsabilidade do contratado as quantidades e valores necessários a completa execução da obra. *Havendo irregularidades neste instrumento, entre em contato com a Ouvidoria de Combate a Corrupção, no telefone 0800-6449060
B37: ENG. ÉDNUM ALMEIDA RIBEIRO CREA 22.359/D-PE ART: 0720190083904 MAT: 973.457-0 | D37: Arq.JANINE ALVES COSTA CAU: A53120-0 RRT: 0000009032523 MAT: 973073-7
B39: OBRA S/BDI | C39: =SUM(D31:D31) -> 441122.17
B42: Preço/m² com BDI | C42: =D32/257.64 -> 1712.1649

Sheet 074.01-19-Edificação
B2: GOVERNO DO DISTRITO FEDERAL
B3: SECRETARIA DE ESTADO DE INFRAESTRUTURA E SERVIÇOS PÚBLICOS
B4: COMPANHIA URBANIZADORA DA NOVA CAPITAL DO BRASIL
B5: PLANILHA ESTIMATIVA
B6: Nº ESTIMATIVA PARCIAL: | D6: ='074-19-CCU''s'!C6 -> 074/2019-SEORÇA-SDS-R02 | I6: DATA: | J6: ='074-19-CAPA'!C20 -> 44386
B7: NOME ESTIMATIVA PARCIAL: | D7: REFORMA DA CRECHE NÚCLEO RURAL JARDIM II | I7: Nº PROJETO: | J7: PROJ-DE 125-18
B8: ENDEREÇO: | C8: EQNP 16/20 AE, Lotes E,F e G - CEILÂNDIA - DF | D8: NÚCLEO RURAL JARDIM, DF 285, PARANOÁ, DF | I8: ÁREA: | J8: 257,64 m²
B9: ENCARGOS TRABALHISTAS: | D9: horista=113,69% / mensalista=73,06% | E9: B.D.I. : | F9: 20,94% | I9: TAB. REF.: | J9: SINAPI MAI 2021
B11: ITEM | C11: CÓDIGO | D11: DESCRIÇÃO | E11: UNID. | F11: QUANT. | G11: CUSTO UNITÁRIO (R$) | H11: BDI | I11: PREÇO UNITÁRIO (R$) C/ BDI | J11: PREÇO TOTAL (R$) C/ BDI
B12: 01.00.000 | D12: SERVIÇOS TÉCNICOS-PROFISSIONAIS | L12: =I12*F12 -> 0
B13: 01.08.000 | D13: DESPESAS LEGAIS | L13: =I13*F13 -> 0
B14: 01.08.100 | D14: TAXAS | L14: =I14*F14 -> 0
B15: 01.08.100.1 | C15: CREA - DF | D15: ART da obra | E15: UN | F15: 1 | G15: 240.82 | H15: 20,94% | I15: 291.24771 | J15: 291.24771 | L15: =I15*F15 -> 291.24771 | R15: =I15*F15 -> 291.24771
R16: =I16*F16 -> 0
E17: SUBTOTAL (Divisão): | J17: 291.24771 | R17: =I17*F17 -> 0
L18: =I18*F18 -> 0 | R18: =I18*F18 -> 0
B19: 02.00.000 | D19: SERVIÇOS PRELIMINARES | L19: =I19*F19 -> 0 | R19: =I19*F19 -> 0
B20: 02.01.100 | D20: CANTEIRO DE OBRAS | L20: =I20*F20 -> 0 | R20: =I20*F20 -> 0
A21: INSUMO | B21: 02.01.100.1 | C21: 10775 | D21: LOCACAO DE CONTAINER 2,30 X 6,00 M, ALT. 2,50 M, COM 1 SANITARIO, PARA ESCRITORIO, COMPLETO, SEM DIVISORIAS INTERNAS | E21: MES | F21: 3 | G21: 585,00 | H21: 20,94% | I21: 707.499 | J21: 2122.497 | L21: =I21*F21 -> 2122.497 | O21: ESCRITÓRIO | R21: =I21*F21 -> 2122.497
A22: INSUMO | B22: 02.01.100.2 | C22: 10779 | D22: LOCACAO DE CONTAINER 2,30 X 4,30 M, ALT. 2,50 M, P/ SANITARIO, C/ 5 BACIAS, 1 LAVATORIO E 4 MICTORIOS | E22: MES | F22: 3 | G22: 731,25 | H22: 20,94% | I22: 884.37375 | J22: 2653.1213 | L22: =I22*F22 -> 2653.1213 | O22: SANITÁRIOS | R22: =I22*F22 -> 2653.1213
A23: INSUMO | B23: 02.01.100.3 | C23: 10776 | D23: LOCACAO DE CONTAINER 2,30 X 6,00 M, ALT. 2,50 M, PARA ESCRITORIO, SEM DIVISORIAS INTERNAS E SEM SANITARIO | E23: MES | F23: 3 | G23: 457,03 | H23: 20,94% | I23: 552.73208 | J23: 1658.1962 | L23: =I23*F23 -> 1658.1962 | O23: ALMOXARIFE | R23: =I23*F23 -> 1658.1962
A24: SERVIÇO | B24: 02.01.100.4 | C24: 93210 | D24: EXECUÇÃO DE REFEITÓRIO EM CANTEIRO DE OBRA EM CHAPA DE MADEIRA COMPENSADA, NÃO INCLUSO MOBILIÁRIO E EQUIPAMENTOS. AF_02/2016 | E24: M2 | F24: 15.48 | G24: 518,84 | H24: 20,94% | I24: 627.4851 | J24: 9713.4693 | L24: =I24*F24 -> 9713.4693 | O24: REFEITÓRIO | R24: =I24*F24 -> 9713.4693
A25: COTAÇÃO | B25: 02.01.100.5 | C25: COTAÇÃO-014 | D25: MOBILIZAÇÃO E DESMOBILIZAÇÃO DE CONTAINER MARÍTIMO/CANTEIRO | E25: UN | F25: 3 | G25: 730 | H25: 20,94% | I25: 882.862 | J25: 2648.586 | L25: =I25*F25 -> 2648.586 | R25: =I25*F25 -> 2648.586
L26: =I26*F26 -> 0 | R26: =I26*F26 -> 0
L27: =I27*F27 -> 0 | R27: =I27*F27 -> 0
B28: 02.01.200 | D28: LIGAÇÕES PROVISÓRIAS | L28: =I28*F28 -> 0 | R28: =I28*F28 -> 0
A29: CCU | B29: 02.01.200.1 | C29: CCU - 02.001 | D29: LIGAÇÃO PROVISÓRIA DE ÁGUA PARA OBRA E INSTALAÇÃO SANITÁRIA PROVISÓRIA - INSTALAÇÃO MÍNIMA | E29: UN | F29: 1 | G29: 2252.9132 | H29: 20,94% | I29: 2724.6732 | J29: 2724.6732 | L29: =I29*F29 -> 2724.6732 | R29: =I29*F29 -> 2724.6732
A30: SERVIÇO | B30: 02.01.200.2 | C30: 93214 | D30: EXECUÇÃO DE RESERVATÓRIO ELEVADO DE ÁGUA (1000 LITROS) EM CANTEIRO DE OBRA, APOIADO EM ESTRUTURA DE MADEIRA. AF_02/2016 | E30: UN | F30: 1 | G30: 4.794,11 | H30: 20,94% | I30: 5797.9966 | J30: 5797.9966 | L30: =I30*F30 -> 5797.9966 | R30: =I30*F30 -> 5797.9966
A31: INSUMO | B31: 02.01.200.3 | C31: 39362 | D31: FOSSA SEPTICA, SEM FILTRO, PARA 8 A 14 CONTRIBUINTES, CILINDRICA, COM TAMPA, EM POLIETILENO DE ALTA DENSIDADE (PEAD), CAPACIDADE APROXIMADA DE 3000 LITROS (NBR 7229) | E31: UN | F31: 1 | G31: 3.638,57 | H31: 20,94% | I31: 4400.4866 | J31: 4400.4866 | L31: =I31*F31 -> 4400.4866 | R31: =I31*F31 -> 4400.4866
A32: SERVIÇO | B32: 02.01.200.4 | C32: 101529 | D32: ENTRADA DE ENERGIA ELÉTRICA, SUBTERRÂNEA, TRIFÁSICA, COM CAIXA DE SOBREPOR, CABO DE 10 MM2 E DISJUNTOR DIN 50A (NÃO INCLUSA MURETA DE ALVENARIA). AF_07/2020_P | E32: UN | F32: 1 | G32: 1.104,46 | H32: 20,94% | I32: 1335.7339 | J32: 1335.7339 | L32: =I32*F32 -> 1335.7339 | M32: antes-41598(jul 2019)-R$1.521,75 | R32: =I32*F32 -> 1335.7339
B33: 02.01.200.5 | C33: Tabela de consumo | D33: CONSUMO DE INTERNET, TELEFONE, ÁGUA, ESGOTO E ENERGIA | E33: MÊS | F33: 3 | G33: 1679.5517 | H33: 20,94% | I33: 2031.2498 | J33: 6093.7494 | L33: =I33*F33 -> 6093.7494 | R33: =I33*F33 -> 6093.7494
L34: =I34*F34 -> 0 | R34: =I34*F34 -> 0
B35: 02.01.400 | D35: PROTEÇÃO E SINALIZAÇÃO | L35: =I35*F35 -> 0 | R35: =I35*F35 -> 0
B36: 02.01.401 | D36: TAPUMES | L36: =I36*F36 -> 0 | R36: =I36*F36 -> 0
A37: SERVIÇO | B37: 02.01.401.1 | C37: 98459 | D37: TAPUME COM TELHA METÁLICA. AF_05/2018 | E37: M2 | F37: 155.804 | G37: 106,71 | H37: 20,94% | I37: 129.05507 | J37: 20107.297 | L37: =I37*F37 -> 20107.297 | R37: =I37*F37 -> 20107.297
L38: =I38*F38 -> 0 | R38: =I38*F38 -> 0
B39: 02.02.000 | D39: DEMOLIÇÃO | L39: =I39*F39 -> 0 | R39: =I39*F39 -> 0
A40: SERVIÇO | B40: 02.02.100 | C40: 97622 | D40: DEMOLIÇÃO DE ALVENARIA DE BLOCO FURADO, DE FORMA MANUAL, SEM REAPROVEITAMENTO. AF_12/2017 | E40: M3 | F40: 4.76 | G40: 46,30 | H40: 20,94% | I40: 55.99522 | J40: 266.53725 | L40: =I40*F40 -> 266.53725 | R40: =I40*F40 -> 266.53725
A41: CCU | B41: 02.02.101 | C41: CCU - 02.003 | D41: DEMOLIÇÃO MANUAL DE CONSTRUÇÕES PROVISÓRIAS DE MADEIRA - SEM REAPROVEITAMENTO | E41: M2 | F41: 15.48 | G41: 11.79 | H41: 20,94% | I41: 14.258826 | J41: 220.72663 | L41: =I41*F41 -> 220.72663 | M41: Ajuste Gabriel | R41: =I41*F41 -> 220.72663
L42: =I42*F42 -> 0 | R42: =I42*F42 -> 0
...

Sheet 074-19-CCU's
B2: GOVERNO DO DISTRITO FEDERAL
B3: SECRETARIA DE ESTADO DE INFRAESTRUTURA E SERVIÇOS PÚBLICOS
B4: COMPANHIA URBANIZADORA DA NOVA CAPITAL DO BRASIL
B5: PLANILHA DE COMPOSIÇÕES
B6: Nº ESTIMATIVA PRINCIPAL: | C6: ='074-19-CAPA'!C14:D14 -> 074/2019-SEORÇA-SDS-R02 | G6: DATA: | H6: ='074-19-CAPA'!C20 -> 44386
B7: TÍTULO: | C7: ='074-19-CAPA'!C15:D15 -> REFORMA DA CRECHE NÚCLEO RURAL JARDIM II | G7: Nº PROJETO: | H7: ='074.01-19-Edificação'!J7 -> PROJ-DE 125-18
B8: ENCARGOS TRABALHISTAS: | C8: ='074.01-19-Edificação'!D9 -> horista=113,69% / mensalista=73,06% | D8: B.D.I. : | E8: 0,00% | G8: TAB. REF.: | H8: ='074.01-19-Edificação'!J9 -> SINAPI MAI 2021
B9: CÓDIGO | C9: DESCRIÇÃO | D9: TIPO | E9: UNID. | F9: COEFICIENTE | G9: CUSTO UNIT(R$) | H9: CUSTO TOTAL (R$)
B11: CCU - 02.001 | C11: LIGAÇÃO PROVISÓRIA DE ÁGUA PARA OBRA E INSTALAÇÃO SANITÁRIA PROVISÓRIA - INSTALAÇÃO MÍNIMA | D11: SER.CG | E11: UN | H11: 2252.9132
A12: SERVIÇO | B12: 88248 | C12: AUXILIAR DE ENCANADOR OU BOMBEIRO HIDRÁULICO COM ENCARGOS COMPLEMENTARES | D12: M.O | E12: H | F12: 4 | G12: 18,23 | H12: 72.92
A13: SERVIÇO | B13: 88267 | C13: ENCANADOR OU BOMBEIRO HIDRÁULICO COM ENCARGOS COMPLEMENTARES | D13: M.O | E13: H | F13: 8 | G13: 23,41 | H13: 187.28
A14: SERVIÇO | B14: 88309 | C14: PEDREIRO COM ENCARGOS COMPLEMENTARES | D14: M.O | E14: H | F14: 8 | G14: 23,90 | H14: 191.2
A15: SERVIÇO | B15: 88316 | C15: SERVENTE COM ENCARGOS COMPLEMENTARES | D15: M.O | E15: H | F15: 8.12 | G15: 17,61 | H15: 142.9932
A16: INSUMO | B16: 370 | C16: AREIA MEDIA - POSTO JAZIDA/FORNECEDOR (RETIRADO NA JAZIDA, SEM TRANSPORTE) | D16: MAT. | E16: M3 | F16: 0.02 | G16: 95,00 | H16: 1.9
A17: INSUMO | B17: 12774 | C17: HIDROMETRO UNIJATO / MEDIDOR DE AGUA, DN 3/4", VAZAO MAXIMA DE 5 M3/H, PARA AGUA POTAVEL FRIA, RELOJOARIA PLANA, CLASSE B, HORIZONTAL (SEM CONEXOES)0, | D17: MAT. | E17: UN | F17: 1 | G17: 113,57 | H17: 113.57
A18: INSUMO | B18: 7258 | C18: TIJOLO CERAMICO MACICO COMUM *5 X 10 X 20* CM (L X A X C) | D18: MAT. | E18: UN | F18: 30 | G18: 0,69 | H18: 20.7
A19: SERVIÇO | B19: 91795 | C19: (COMPOSIÇÃO REPRESENTATIVA) DO SERVIÇO DE INST. TUBO PVC, SÉRIE N, ESGOTO PREDIAL, 100 MM (INST. RAMAL DESCARGA, RAMAL DE ESG. SANIT., PRUMADA ESG. SANIT., VENTILAÇÃO OU SUB-COLETOR AÉREO), INCL. CONEXÕES E CORTES, FIXAÇÕES, P/ PRÉDIOS. AF_10/2015 | D19: SER.CG | E19: M | F19: 5 | G19: 64,53 | H19: 322.65
A20: SERVIÇO | B20: 91785 | C20: (COMPOSIÇÃO REPRESENTATIVA) DO SERVIÇO DE INSTALAÇÃO DE TUBOS DE PVC, SOLDÁVEL, ÁGUA FRIA, DN 25 MM (INSTALADO EM RAMAL, SUB-RAMAL, RAMAL DE DISTRIBUIÇÃO OU PRUMADA), INCLUSIVE CONEXÕES, CORTES E FIXAÇÕES, PARA PRÉDIOS. AF_10/2015 | D20: SER.CG | E20: M | F20: 30 | G20: 39,99 | H20: 1199.7
B21: Observação: | C21: REF: 02510.8.1.1 PINI PINI TCPO
B23: CCU - 02.002 | C23: PLACA DE OBRA EM CHAPA DE ACO GALVANIZADO | D23: SER.CG | E23: M² | H23: 319.2345
A24: SERVIÇO | B24: 88262 | C24: CARPINTEIRO DE FORMAS COM ENCARGOS COMPLEMENTARES | D24: M.O | E24: H | F24: 1 | G24: 23,68 | H24: 23.68
A25: SERVIÇO | B25: 88316 | C25: SERVENTE COM ENCARGOS COMPLEMENTARES | D25: M.O | E25: H | F25: 2 | G25: 17,61 | H25: 35.22
A26: SERVIÇO | B26: 94962 | C26: CONCRETO MAGRO PARA LASTRO, TRAÇO 1:4,5:4,5 (EM MASSA SECA DE CIMENTO/ AREIA MÉDIA/ BRITA 1) - PREPARO MECÂNICO COM BETONEIRA 400 L. AF_05/2021 | D26: SER.CG | E26: M3 | F26: 0.01 | G26: 324,97 | H26: 3.2497
A27: INSUMO | B27: 4417 | C27: SARRAFO NAO APARELHADO *2,5 X 7* CM, EM MACARANDUBA, ANGELIM OU EQUIVALENTE DA REGIAO - BRUTA | D27: MAT. | E27: M | F27: 1 | G27: 5,96 | H27: 5.96
A28: INSUMO | B28: 4491 | C28: PONTALETE *7,5 X 7,5* CM EM PINUS, MISTA OU EQUIVALENTE DA REGIAO - BRUTA | D28: MAT. | E28: M | F28: 4 | G28: 5,99 | H28: 23.96
A29: INSUMO | B29: 4813 | C29: PLACA DE OBRA (PARA CONSTRUCAO CIVIL) EM CHAPA GALVANIZADA *N. 22*, ADESIVADA, DE *2,0 X 1,125* M | D29: MAT. | E29: M2 | F29: 1 | G29: 225,00 | H29: 225
A30: INSUMO | B30: 5075 | C30: PREGO DE ACO POLIDO COM CABECA 18 X 30 (2 3/4 X 10) | D30: MAT. | E30: KG | F30: 0.11 | G30: 19,68 | H30: 2.1648
B31: Observação: | C31: REF: 74.209/001 SINAPI JUL/19
B33: CCU - 02.003 | C33: DEMOLIÇÃO MANUAL DE CONSTRUÇÕES PROVISÓRIAS DE MADEIRA - SEM REAPROVEITAMENTO | D33: SER.CG | E33: M2 | H33: 11.79
A34: SERVIÇO | B34: 88309 | C34: PEDREIRO COM ENCARGOS COMPLEMENTARES | D34: M.O | E34: H | F34: 0.1 | G34: 23,90 | H34: 2.39
A35: SERVIÇO | B35: 88262 | C35: CARPINTEIRO DE FORMAS COM ENCARGOS COMPLEMENTARES | D35: M.O | E35: H | F35: 0.1 | G35: 23,68 | H35: 2.36
A36: SERVIÇO | B36: 88316 | C36: SERVENTE COM ENCARGOS COMPLEMENTARES | D36: M.O | E36: H | F36: 0.4 | G36: 17,61 | H36: 7.04
B37: Observação: | C37: REF: SICRO 1600895 Jul/2018
B39: CCU - 02.004 | C39: REMOÇÃO DE PLACA DE SINALIZAÇÃO | D39: SER.CG | E39: M2 | H39: 18.3
A40: SERVIÇO | B40: 5824 | C40: CAMINHÃO TOCO, PBT 16.000 KG, CARGA ÚTIL MÁX. 10.685 KG, DIST. ENTRE EIXOS 4,8 M, POTÊNCIA 189 CV, INCLUSIVE CARROCERIA FIXA ABERTA DE MADEIRA P/ TRANSPORTE GERAL DE CARGA SECA, DIMEN. APROX. 2,5 X 7,00 X 0,50 M - CHP DIURNO. AF_06/2014 | D40: EQUIP. | E40: CHP | F40: 0.09469697 | G40: 140,48 | H40: 13.3
A41: SERVIÇO | B41: 88316 | C41: SERVENTE COM ENCARGOS COMPLEMENTARES | D41: M.O | E41: H | F41: 0.28409091 | G41: 17,61 | H41: 5
B42: Observação: | C42: REF: SICRO 5213364 Jul/2018
B44: CCU - 02.005 | C44: RETIRADA DE RESERVATÓRIO DE POLIETILENO DE 1000L E DESMONTAGEM DE ESTRUTURA - REFERÊNCIA | D44: SER.CG | E44: UN | H44: 233.75
A45: Cca | B45: CCU - 02.005-AUX | C45: TRANSPORTE VERTICAL (IÇAMENTO PARA MOBILIZAÇÃO/DESMOBILIZAÇÃO) | D45: SER.CG | E45: KG | F45: 55 | G45: 0.36 | H45: 19.8 | K45: PESO DA CAIXA D'ÁGUA VAZIA
A46: SERVIÇO | B46: 97642 | C46: REMOÇÃO DE TRAMA METÁLICA OU DE MADEIRA PARA FORRO, DE FORMA MANUAL, SEM REAPROVEITAMENTO. AF_12/2017 | D46: SER.CG | E46: M2 | F46: 10 | G46: 2,42 | H46: 24.2
...

Sheet SERVIÇOS
A1: PCI.817.01 - CUSTO DE COMPOSIÇÕES - SINTÉTICO DATA DE EMISSÃO: 11/06/2021 23:21:19 DATA DE RT: 11/06/2021
A2: ENCARGOS SOCIAIS SOBRE PREÇOS DA MÃO-DE-OBRA: 113,69%(HORA) 73,06%(MÊS)
A3: ABRANGÊNCIA : NACIONAL LOCALIDADE : BRASILIA DATA DE PREÇO : 05/2021 REFERÊNCIA COLETA : MEDIANO
A5: CODIGO DA COMPOSICAO | B5: DESCRICAO DA COMPOSICAO | C5: UNIDADE | D5: CUSTO TOTAL | E5: CLASSE
A7: 97141 | B7: ASSENTAMENTO DE TUBO DE FERRO FUNDIDO PARA REDE DE ÁGUA, DN 80 MM, JUNTA ELÁSTICA, INSTALADO EM LOCAL COM NÍVEL ALTO DE INTERFERÊNCIAS (NÃO INCLUI FORNECIMENTO). AF_11/2017 | C7: M | D7: 6,42 | E7: SER.CG
A8: 97142 | B8: ASSENTAMENTO DE TUBO DE FERRO FUNDIDO PARA REDE DE ÁGUA, DN 100 MM, JUNTA ELÁSTICA, INSTALADO EM LOCAL COM NÍVEL ALTO DE INTERFERÊNCIAS (NÃO INCLUI FORNECIMENTO). AF_11/2017 | C8: M | D8: 7,17 | E8: SER.CG
A9: 97143 | B9: ASSENTAMENTO DE TUBO DE FERRO FUNDIDO PARA REDE DE ÁGUA, DN 150 MM, JUNTA ELÁSTICA, INSTALADO EM LOCAL COM NÍVEL ALTO DE INTERFERÊNCIAS (NÃO INCLUI FORNECIMENTO). AF_11/2017 | C9: M | D9: 9,02 | E9: SER.CG
A10: 97144 | B10: ASSENTAMENTO DE TUBO DE FERRO FUNDIDO PARA REDE DE ÁGUA, DN 200 MM, JUNTA ELÁSTICA, INSTALADO EM LOCAL COM NÍVEL ALTO DE INTERFERÊNCIAS (NÃO INCLUI FORNECIMENTO). AF_11/2017 | C10: M | D10: 10,88 | E10: SER.CG
A11: 97145 | B11: ASSENTAMENTO DE TUBO DE FERRO FUNDIDO PARA REDE DE ÁGUA, DN 250 MM, JUNTA ELÁSTICA, INSTALADO EM LOCAL COM NÍVEL ALTO DE INTERFERÊNCIAS (NÃO INCLUI FORNECIMENTO). AF_11/2017 | C11: M | D11: 12,78 | E11: SER.CG
A12: 97146 | B12: ASSENTAMENTO DE TUBO DE FERRO FUNDIDO PARA REDE DE ÁGUA, DN 300 MM, JUNTA ELÁSTICA, INSTALADO EM LOCAL COM NÍVEL ALTO DE INTERFERÊNCIAS (NÃO INCLUI FORNECIMENTO). AF_11/2017 | C12: M | D12: 14,64 | E12: SER.CG
A13: 97147 | B13: ASSENTAMENTO DE TUBO DE FERRO FUNDIDO PARA REDE DE ÁGUA, DN 350 MM, JUNTA ELÁSTICA, INSTALADO EM LOCAL COM NÍVEL ALTO DE INTERFERÊNCIAS (NÃO INCLUI FORNECIMENTO). AF_11/2017 | C13: M | D13: 16,53 | E13: SER.CG
A14: 97148 | B14: ASSENTAMENTO DE TUBO DE FERRO FUNDIDO PARA REDE DE ÁGUA, DN 400 MM, JUNTA ELÁSTICA, INSTALADO EM LOCAL COM NÍVEL ALTO DE INTERFERÊNCIAS (NÃO INCLUI FORNECIMENTO). AF_11/2017 | C14: M | D14: 18,41 | E14: SER.CG
A15: 97149 | B15: ASSENTAMENTO DE TUBO DE FERRO FUNDIDO PARA REDE DE ÁGUA, DN 450 MM, JUNTA ELÁSTICA, INSTALADO EM LOCAL COM NÍVEL ALTO DE INTERFERÊNCIAS (NÃO INCLUI FORNECIMENTO). AF_11/2017 | C15: M | D15: 20,31 | E15: SER.CG
A16: 97150 | B16: ASSENTAMENTO DE TUBO DE FERRO FUNDIDO PARA REDE DE ÁGUA, DN 500 MM, JUNTA ELÁSTICA, INSTALADO EM LOCAL COM NÍVEL ALTO DE INTERFERÊNCIAS (NÃO INCLUI FORNECIMENTO). AF_11/2017 | C16: M | D16: 25,10 | E16: SER.CG
A17: 97151 | B17: ASSENTAMENTO DE TUBO DE FERRO FUNDIDO PARA REDE DE ÁGUA, DN 600 MM, JUNTA ELÁSTICA, INSTALADO EM LOCAL COM NÍVEL ALTO DE INTERFERÊNCIAS (NÃO INCLUI FORNECIMENTO). AF_11/2017 | C17: M | D17: 29,32 | E17: SER.CG
A18: 97152 | B18: ASSENTAMENTO DE TUBO DE FERRO FUNDIDO PARA REDE DE ÁGUA, DN 700 MM, JUNTA ELÁSTICA, INSTALADO EM LOCAL COM NÍVEL ALTO DE INTERFERÊNCIAS (NÃO INCLUI FORNECIMENTO). AF_11/2017 | C18: M | D18: 33,26 | E18: SER.CG
... A1285: 94444 | B1285: TELHAMENTO COM TELHA DE ENCAIXE, TIPO FRANCESA DE VIDRO, COM ATÉ 2 ÁGUAS, INCLUSO TRANSPORTE VERTICAL. AF_07/2019 | C1285: M2 | D1285: 862,58 | E1285: SER.CG
A1286: 73881/1 | B1286: EXECUCAO DE DRENO COM MANTA GEOTEXTIL 200 G/M2 | C1286: M2 | D1286: 5,60 | E1286: SER.CG
A1287: 73883/2 | B1287: EXECUCAO DE DRENO FRANCES COM BRITA NUM 2 | C1287: M3 | D1287: 178,37 | E1287: SER.CG
A1288: 92743 | B1288: MURO DE GABIÃO, ENCHIMENTO COM PEDRA DE MÃO TIPO RACHÃO, DE GRAVIDADE, COM GAIOLAS DE COMPRIMENTO IGUAL A 2 M, PARA MUROS COM ALTURA MENOR OU IGUAL A 4 M  FORNECIMENTO E EXECUÇÃO. AF_12/2015 | C1288: M3 | D1288: 580,08 | E1288: SER.CG
A1289: 92744 | B1289: MURO DE GABIÃO, ENCHIMENTO COM PEDRA DE MÃO TIPO RACHÃO, DE GRAVIDADE, COM GAIOLAS DE COMPRIMENTO IGUAL A 5 M, PARA MUROS COM ALTURA MENOR OU IGUAL A 4 M  FORNECIMENTO E EXECUÇÃO. AF_12/2015 | C1289: M3 | D1289: 553,62 | E1289: SER.CG
A1290: 92745 | B1290: MURO DE GABIÃO, ENCHIMENTO COM PEDRA DE MÃO TIPO RACHÃO, DE GRAVIDADE, COM GAIOLAS DE COMPRIMENTO IGUAL A 2 M, PARA MUROS COM ALTURA MAIOR QUE 4 M E MENOR OU IGUAL A 6 M  FORNECIMENTO E EXECUÇÃO. AF_12/2015 | C1290: M3 | D1290: 705,80 | E1290: SER.CG
A1291: 92746 | B1291: MURO DE GABIÃO, ENCHIMENTO COM PEDRA DE MÃO TIPO RACHÃO, DE GRAVIDADE, COM GAIOLAS DE COMPRIMENTO IGUAL A 5 M, PARA MUROS COM ALTURA MAIOR QUE 4 M E MENOR OU IGUAL A 6 M FORNECIMENTO E EXECUÇÃO. AF_12/2015 | C1291: M3 | D1291: 647,09 | E1291: SER.CG
A1292: 92747 | B1292: MURO DE GABIÃO, ENCHIMENTO COM PEDRA DE MÃO TIPO RACHÃO, DE GRAVIDADE, COM GAIOLAS DE COMPRIMENTO IGUAL A 2 M, PARA MUROS COM ALTURA MAIOR QUE 6 M E MENOR OU IGUAL A 10 M FORNECIMENTO E EXECUÇÃO. AF_12/2015 | C1292: M3 | D1292: 777,40 | E1292: SER.CG
A1293: 92748 | B1293: MURO DE GABIÃO, ENCHIMENTO COM PEDRA DE MÃO TIPO RACHÃO, DE GRAVIDADE, COM GAIOLAS DE COMPRIMENTO IGUAL A 5 M, PARA MUROS COM ALTURA MAIOR QUE 6 M E MENOR OU IGUAL A 10 M FORNECIMENTO E EXECUÇÃO. AF_12/2015 | C1293: M3 | D1293: 700,71 | E1293: SER.CG
A1294: 92749 | B1294: MURO DE GABIÃO, ENCHIMENTO COM PEDRA DE MÃO TIPO RACHÃO, COM SOLO REFORÇADO, PARA MUROS COM ALTURA MENOR OU IGUAL A 4 M FORNECIMENTO E EXECUÇÃO. AF_12/2015 | C1294: M3 | D1294: 799,79 | E1294: SER.CG
A1295: 92750 | B1295: MURO DE GABIÃO, ENCHIMENTO COM PEDRA DE MÃO TIPO RACHÃO, COM SOLO REFORÇADO, PARA MUROS COM ALTURA MAIOR QUE 4 M E MENOR OU IGUAL A 12 M FORNECIMENTO E EXECUÇÃO. AF_12/2015 | C1295: M3 | D1295: 1.331,39 | E1295: SER.CG
A1296: 92751 | B1296: MURO DE GABIÃO, ENCHIMENTO COM PEDRA DE MÃO TIPO RACHÃO, COM SOLO REFORÇADO, PARA MUROS COM ALTURA MAIOR QUE 12 M E MENOR OU IGUAL A 20 M FORNECIMENTO E EXECUÇÃO. AF_12/2015 | C1296: M3 | D1296: 1.640,32 | E1296: SER.CG
A1297: 92752 | B1297: MURO DE GABIÃO, ENCHIMENTO COM PEDRA DE MÃO TIPO RACHÃO, COM SOLO REFORÇADO, PARA MUROS COM ALTURA MAIOR QUE 20 M E MENOR OU IGUAL A 28 M FORNECIMENTO E EXECUÇÃO. AF_12/2015 | C1297: M3 | D1297: 1.947,99 | E1297: SER.CG
A1298: 92753 | B1298: MURO DE GABIÃO, ENCHIMENTO COM RESÍDUO DE CONSTRUÇÃO E DEMOLIÇÃO, DE GRAVIDADE, COM GAIOLA TRAPEZOIDAL DE COMPRIMENTO IGUAL A 2 M, PARA MUROS COM ALTURA MENOR OU IGUAL A 2 M FORNECIMENTO E EXECUÇÃO. AF_12/2015 | C1298: M3 | D1298: 491,27 | E1298: SER.CG
A1299: 92754 | B1299: MURO DE GABIÃO, ENCHIMENTO COM RESÍDUO DE CONSTRUÇÃO E DEMOLIÇÃO, DE GRAVIDADE, COM GAIOLA TRAPEZOIDAL DE COMPRIMENTO IGUAL A 2 M, PARA MUROS COM ALTURA MAIOR QUE 2 M E MENOR OU IGUAL A 4 M FORNECIMENTO E EXECUÇÃO. AF_12/2015 | C1299: M3 | D1299: 449,33 | E1299: SER.CG
... A1369: 100349 | B1369: CONCRETAGEM DE CORTINA DE CONTENÇÃO, ATRAVÉS DE BOMBA  LANÇAMENTO, ADENSAMENTO E ACABAMENTO. AF_07/2019 | C1369: M3 | D1369: 404,17 | E1369: SER.CG
A1370: 73856/1 | B1370: BOCA P/BUEIRO SIMPLES TUBULAR D=0,40M EM CONCRETO CICLOPICO, INCLINDO FORMAS, ESCAVACAO, REATERRO E MATERIAIS, EXCLUINDO MATERIAL REATERRO JAZIDA E TRANSPORTE | C1370: UN | D1370: 861,81 | E1370: SER.CG
A1371: 73856/2 | B1371: BOCA PARA BUEIRO SIMPLES TUBULAR, DIAMETRO =0,60M, EM CONCRETO CICLOPICO, INCLUINDO FORMAS, ESCAVACAO, REATERRO E MATERIAIS, EXCLUINDO MATERIAL REATERRO JAZIDA E TRANSPORTE. | C1371: UN | D1371: 1.402,03 | E1371: SER.CG
A1372: 73856/3 | B1372: BOCA PARA BUEIRO SIMPLES TUBULAR, DIAMETRO =0,80M, EM CONCRETO CICLOPICO, INCLUINDO FORMAS, ESCAVACAO, REATERRO E MATERIAIS, EXCLUINDO MATERIAL REATERRO JAZIDA E TRANSPORTE. | C1372: UN | D1372: 2.088,43 | E1372: SER.CG
A1373: 73856/4 | B1373: BOCA PARA BUEIRO SIMPLES TUBULAR, DIAMETRO =1,00M, EM CONCRETO CICLOPICO, INCLUINDO FORMAS, ESCAVACAO, REATERRO E MATERIAIS, EXCLUINDO MATERIAL REATERRO JAZIDA E TRANSPORTE. | C1373: UN | D1373: 2.929,67 | E1373: SER.CG
A1374: 83716 | B1374: GRELHA FF 30X90CM, 135KG, P/ CX RALO COM ASSENTAMENTO DE ARGAMASSA CIMENTO/AREIA 1:4 - FORNECIMENTO E INSTALAÇÃO | C1374: UN | D1374: 515,63 | E1374: SER.CG
A1375: 97933 | B1375: CAIXA COM GRELHA SIMPLES RETANGULAR, EM CONCRETO PRÉ-MOLDADO, DIMENSÕES INTERNAS: 0,6X1,0X1,0 M. AF_12/2020 | C1375: UN | D1375: 782,90 | E1375: SER.CG
A1376: 97934 | B1376: CAIXA COM GRELHA DUPLA RETANGULAR, EM CONCRETO PRÉ-MOLDADO, DIMENSÕES INTERNAS: 0,6X2,2X1,0 M. AF_12/2020 | C1376: UN | D1376: 1.807,96 | E1376: SER.CG
A1377: 97935 | B1377: CAIXA PARA BOCA DE LOBO SIMPLES RETANGULAR, EM CONCRETO PRÉ-MOLDADO, DIMENSÕES INTERNAS: 0,6X1,0X1,2 M. AF_12/2020 | C1377: UN | D1377: 663,28 | E1377: SER.CG
...

Sheet INSUMOS
A1: PRECOS DE INSUMOS
A3: MES DE COLETA: 05/2021
A4: LOCALIDADE: 4495 - BRASILIA
A5: ENCARGOS SOCIAIS (%) HORISTA 113,69 MENSALISTA 73,06
A7: CODIGO | B7: DESCRICAO DO INSUMO | C7: UNIDADE | D7: PRECO MEDIANO R$ | E7: CLASSE
A8: 1363 | B8: !EM PROCESSO DE DESATIVACAO! CHAPA DE MADEIRA COMPENSADA DE PINUS, VIROLA OU EQUIVALENTE, DE *2,2 X 1,6* M, E = 6 MM | C8: M2 | D8: 22,05 | E8: MAT.
A9: 1344 | B9: !EM PROCESSO DE DESATIVACAO! CHAPA DE MADEIRA COMPENSADA PLASTIFICADA PARA FORMA DE CONCRETO, DE 2,20 x 1,10 M, E = 6 MM | C9: UN | D9: 63,27 | E9: MAT.
A10: 1342 | B10: !EM PROCESSO DE DESATIVACAO! CHAPA DE MADEIRA COMPENSADA PLASTIFICADA PARA FORMA DE CONCRETO, DE 2,20 X 1,10 m, E = 14 MM | C10: UN | D10: 111,84 | E10: MAT.
A11: 1349 | B11: !EM PROCESSO DE DESATIVACAO! CHAPA DE MADEIRA COMPENSADA PLASTIFICADA PARA FORMA DE CONCRETO, DE 2,20 X 1,10 M, E = 20 MM | C11: UN | D11: 159,51 | E11: MAT.
A12: 1350 | B12: !EM PROCESSO DE DESATIVACAO! CHAPA DE MADEIRA COMPENSADA RESINADA PARA FORMA DE CONCRETO, DE *2,2 X 1,1* M, E = 10 MM | C12: UN | D12: 63,00 | E12: MAT.
A13: 1359 | B13: !EM PROCESSO DE DESATIVACAO! CHAPA DE MADEIRA COMPENSADA RESINADA PARA FORMA DE CONCRETO, DE *2,2 X 1,1* M, E = 20 MM | C13: UN | D13: 123,98 | E13: MAT.
A14: 1351 | B14: !EM PROCESSO DE DESATIVACAO! CHAPA DE MADEIRA COMPENSADA RESINADA PARA FORMA DE CONCRETO, DE *2,2 X 1,1* M, E = 6 MM | C14: UN | D14: 39,95 | E14: MAT.
A15: 2418 | B15: !EM PROCESSO DE DESATIVACAO! DOBRADICA EM ACO/FERRO, 3" X 2 1/2", E= 1,2 A 1,8 MM, SEM ANEL, CROMADO OU ZINCADO, TAMPA BOLA, COM PARAFUSOS | C15: UN | D15: 6,63 | E15: MAT.
A16: 6086 | B16: !EM PROCESSO DE DESATIVACAO! FUNDO SINTETICO NIVELADOR BRANCO FOSCO PARA MADEIRA | C16: GL | D16: 78,97 | E16: MAT.
A17: 3378 | B17: !EM PROCESSO DE DESATIVACAO! HASTE DE ATERRAMENTO EM ACO COM 3,00 M DE COMPRIMENTO E DN = 3/4", REVESTIDA COM BAIXA CAMADA DE COBRE, SEM CONECTOR | C17: UN | D17: 80,32 | E17: MAT.
A18: 3380 | B18: !EM PROCESSO DE DESATIVACAO! HASTE DE ATERRAMENTO EM ACO COM 3,00 M DE COMPRIMENTO E DN = 5/8", REVESTIDA COM BAIXA CAMADA DE COBRE, COM CONECTOR TIPO GRAMPO | C18: UN | D18: 56,23 | E18: MAT.
A19: 3379 | B19: !EM PROCESSO DE DESATIVACAO! HASTE DE ATERRAMENTO EM ACO COM 3,00 M DE COMPRIMENTO E DN = 5/8", REVESTIDA COM BAIXA CAMADA DE COBRE, SEM CONECTOR | C19: UN | D19: 54,29 | E19: MAT.
... A5189: 41776 | B5189: VIGIA NOTURNO, HORA EFETIVAMENTE TRABALHADA DE 22 H AS 5 H (COM ADICIONAL NOTURNO) | C5189: H | D5189: 16,32 | E5189: M.O
A5191: TOTAL DE INSUMOS : 5182
E5198: MAT.
A5199: M1378 | B5199: Chapa de aço ASTM A36 | C5199: KG | D5199: 5.8168 | E5199: MAT. | G5199: SICRO | H5199: 43466
A5200: M0682 | B5200: Aço em perfis ASTM A36 | C5200: KG | D5200: 5.4879 | E5200: MAT. | G5200: SICRO | H5200: 43466
A5201: E9521 | B5201: Grupo gerador - 2,5/3 Kva | C5201: CHP | D5201: 2.2081 | E5201: EQUIP.
A5202: E9675 | B5202: Martelete perfurador/rompedor elétrico - 1,5 kW | C5202: CHP | D5202: 0.5916 | E5202: EQUIP.
A5203: M1527 | B5203: Broca de widia - D = 10 mm | C5203: UN | D5203: 9.0055 | E5203: MAT.
A5204: M0719 | B5204: Diluente epóxi | C5204: L | D5204: 25.9713 | E5204: MAT.
A5205: E9605 | B5205: Caminhão tanque com capacidade de 6.000 l - 136 Kw | C5205: CHP | D5205: 145.2478 | E5205: EQUIP.
A5206: E9649 | B5206: Compressor de ar portátil de 197 PCM - 55 kW | C5206: CHP | D5206: 53.94 | E5206: EQUIP.
A5207: E9591 | B5207: Serra para corte de concreto e asfalto - 10 kW | C5207: CHP | D5207: 9.8675 | E5207: EQUIP.
A5208: E9605-I | B5208: Caminhão tanque com capacidade de 6.000 l - 136 Kw | C5208: CHI | D5208: 45.0236 | E5208: EQUIP.
A5209: E9649-I | B5209: Compressor de ar portátil de 197 PCM - 55 kW | C5209: CHI | D5209: 11.9794 | E5209: EQUIP.
A5210: E9591-I | B5210: Serra para corte de concreto e asfalto - 10 kW | C5210: CHI | D5210: 1.1477 | E5210: EQUIP.
A5211: M1131 | B5211: Cordão de polietileno expandido | C5211: M | D5211: 0.1199 | E5211: MAT.
A5212: M1385 | B5212: Disco diamantado - D = 350 mm | C5212: UN | D5212: 247.3046 | E5212: MAT.
... A5228: M0163 | B5228: Gonzo com aba 1/2" em aço galvanizado | C5228: UN | D5228: 0.87 | E5228: MAT.
A5229: 1419543 | B5229: Corte de perfil metálico com máquina policorte com espessura de até 1/8" | C5229: UN | D5229: 0.12 | E5229: SER
A5230: 2408070 | B5230: Pintura epóxi em chapa de aço com pistola a ar comprimido | C5230: M2 | D5230: 13.06 | E5230: SER
A5231: 2408057 | B5231: Solda elétrica de perfis metálicos e chapas de aço com eletrodo E60XX | C5231: KG | D5231: 64.92 | E5231: SER
A5232: E9028 | B5232: Lavadora profissional - 5,2 Kw | C5232: CHP | D5232: 22.983 | E5232: EQUIP.
A5236: 17001000276 | B5236: Veneziana para descarga de ar com lâminas fixas, 200 x 50 cm | C5236: UN | E5236: MAT. | G5236: TCPO
...

Sheet 074-19-cotação
A2: GOVERNO DO DISTRITO FEDERAL
A3: SECRETARIA DE ESTADO DE INFRAESTRUTURA E SERVIÇOS PÚBLICOS
A4: COMPANHIA URBANIZADORA DA NOVA CAPITAL DO BRASIL
A5: COTAÇÕES
A6: Nº ESTIMATIVA PRINCIPAL: | B6: ='074-19-CCU''s'!C6 -> 074/2019-SEORÇA-SDS-R02 | F6: DATA: | G6: ='[10]074.01-19-Edificação'!J6 -> 44225
A7: TÍTULO: | B7: ='[11]074-19-CCU''s'!C7 -> REFORMA DA CRECHE NÚCLEO RURAL JARDIM II | F7: Nº PROJETO: | G7: ='[11]074.01-19-Edificação'!H7 -> PROJ-DE 125-18
A9: COTAÇÃO | B9: MATERIAL | C9: VALOR ADOTADO | D9: UN | E9: EMPRESA | F9: EMPRESA | G9: EMPRESA | H9: PREÇO PÚBLICO PAINEL DE PREÇO | I9: MAT.
A10: COTAÇÃO-001 | B10: PERFIL "U" (CHAPA DOBRADA) 200x75x3x20 mm | C10: =MIN(E12:G12) -> 13.817738 | D10: KG | E10: GRAVIA | F10: PINHEIRO FERRAGENS | G10: PERFILADOS TERRA | I10: MAT.
A11: Os preços cotados com data posteior a data base da estimativa orçamentária foram retroagidos utilizando a COL-19 da Planilha de Índice Nacional da Construção Civil (INCC). | C11: CONTATO | E11: soraya.lima@gravia.com.br | F11: DIOGO | G11: www.perfiladosterra.com.br | I11: MEDIANA | J11: 30% MAIOR | K11: 30%MENOR
C12: PREÇO | E12: 13.9 | F12: =((848.65/6)/8.63) -> 16.389533 | G12: =(735.38/6)/8.87 -> 13.817738 | I12: =MEDIAN(E12:G12) -> 13.9 | J12: =I12*1.3 -> 18.07 | K12: =I12*0.7 -> 9.73
C13: ICC % | E13: ='[10]Reajustamento INCC'!$C$155 -> 1.0174762 | F13: ='[10]Reajustamento INCC'!$C$155 -> 1.0174762 | G13: ='[10]Reajustamento INCC'!$C$155 -> 1.0174762
C14: PREÇO REAJUSTADO | E14: =G12/E13 -> 13.580404 | F14: =F12/F13 -> 16.108025 | G14: =G12/G13 -> 13.580404
C15: MÊS - ICC | E15: OUT20 A NOV20 | F15: OUT20 A NOV20 | G15: OUT20 A NOV20
C16: CNPJ | E16: 26.487.744/0001-76 | F16: 00.002.329/0002-72 | G16: 59.154.237/0001-70
C17: TELEFONE | E17: 61 3355-9090 | F17: (61) 3354-8181 | G17: (61) 3233-3525
C18: DATA | E18: 44371 | F18: 44379 | G18: 44371
A20: COTAÇÃO-002 | B20: PERFIL "U" (CHAPA DOBRADA) 127x50x2,25x17 mm | C20: =MIN(E22:G22) -> 12.799612 | D20: KG | E20: GRAVIA | F20: PINHEIRO FERRAGENS | G20: PERFILADOS TERRA | I20: MAT.
A21: =$A$11 -> Os preços cotados com data posteior a data base da estimativa orçamentária foram retroagidos utilizando a COL-19 da Planilha de Índice Nacional da Construção Civil (INCC). | C21: CONTATO | E21: soraya.lima@gravia.com.br | F21: DIOGO | G21: www.perfiladosterra.com.br | I21: MEDIANA | J21: 30% MAIOR | K21: 30%MENOR
C22: PREÇO | E22: =((413.57/6)/4.3) -> 16.029845 | F22: =((395.92/6)/4.3) -> 15.345736 | G22: =(330.23/6)/4.3 -> 12.799612 | I22: =MEDIAN(E22:G22) -> 15.345736 | J22: =I22*1.3 -> 19.949457 | K22: =I22*0.7 -> 10.742016
A23: =$A$11 -> Os preços cotados com data posteior a data base da estimativa orçamentária foram retroagidos utilizando a COL-19 da Planilha de Índice Nacional da Construção Civil (INCC). | C23: ICC % | E23: ='[10]Reajustamento INCC'!$C$155 -> 1.0174762 | F23: ='[10]Reajustamento INCC'!$C$155 -> 1.0174762 | G23: ='[10]Reajustamento INCC'!$C$155 -> 1.0174762
C24: PREÇO REAJUSTADO | E24: =E22/E23 -> 15.754516 | F24: =F22/F23 -> 15.082157 | G24: =G22/G23 -> 12.579766
C25: MÊS - ICC | E25: OUT20 A NOV20 | F25: OUT20 A NOV20 | G25: OUT20 A NOV20
C26: CNPJ | E26: 26.487.744/0001-76 | F26: 00.002.329/0002-72 | G26: 59.154.237/0001-70
C27: TELEFONE | E27: (61) 3355-9090 | F27: (61) 3012-8181 | G27: (61) 3233-3525
C28: DATA | E28: 44379 | F28: 44380 | G28: 44370
A30: COTAÇÃO-004 | B30: CHUMBADOR QUÍMICO ∅ 5/8" | C30: =MIN(E32:G32) -> 14.9 | D30: UN | E30: SHOPTIME | F30: MAGAZINE LUIZA | G30: A MEGALOJA | I30: MAT.
A31: =$A$11 -> Os preços cotados com data posteior a data base da estimativa orçamentária foram retroagidos utilizando a COL-19 da Planilha de Índice Nacional da Construção Civil (INCC). | C31: CONTATO | E31: www.shoptime.com.br | F31: www . Magazineluiza.com.br | G31: www.amegaloja.com.br | I31: MEDIANA | J31: 30% MAIOR | K31: 30%MENOR
C32: PREÇO | E32: 24.73 | F32: 18.24 | G32: 14.9 | I32: =MEDIAN(E32:G32) -> 18.24 | J32: =I32*1.3 -> 23.712 | K32: =I32*0.7 -> 12.768
A33: =$A$11 -> Os preços cotados com data posteior a data base da estimativa orçamentária foram retroagidos utilizando a COL-19 da Planilha de Índice Nacional da Construção Civil (INCC). | C33: ICC % | E33: ='[10]Reajustamento INCC'!$C$155 -> 1.0174762 | F33: ='[10]Reajustamento INCC'!$C$155 -> 1.0174762 | G33: ='[10]Reajustamento INCC'!$C$155 -> 1.0174762
C34: PREÇO REAJUSTADO | E34: =E32/E33 -> 24.305237 | F34: =F32/F33 -> 17.926709 | G34: =G32/G33 -> 14.644077
C35: MÊS - ICC | E35: OUT20 A NOV20 | F35: OUT20 A NOV20 | G35: OUT20 A NOV20
C36: CNPJ | E36: 00.776.574/0006-60 | F36: 47.960.950/1088-36 | G36: 07.424.991/0001-89
C37: TELEFONE | E37: (11) 4003-9898 | F37: 0800 773 3838 | G37: (11) 2394-2222
C38: DATA | E38: 44370 | F38: 44370 | G38: 44370
A40: COTAÇÃO-005 | B40: CHUMBADOR QUÍMICO ∅ 1/2" | C40: =MIN(E42:G42) -> 7.6 | D40: UN | E40: COSAMA | F40: PARAFUTRECOS | G40: CCP | I40: MAT.
A41: =$A$11 -> Os preços cotados com data posteior a data base da estimativa orçamentária foram retroagidos utilizando a COL-19 da Planilha de Índice Nacional da Construção Civil (INCC). | C41: CONTATO | E41: www.cosamapro.com.br | F41: www.parafutrecos.com.br | G41: www.ccpvirtual.com.br | I41: MEDIANA | J41: 30% MAIOR | K41: 30%MENOR
C42: PREÇO | E42: 13.54 | F42: 22.11 | G42: 7.6 | I42: =MEDIAN(E42:G42) -> 13.54 | J42: =I42*1.3 -> 17.602 | K42: =I42*0.7 -> 9.478
A43: =$A$11 -> Os preços cotados com data posteior a data base da estimativa orçamentária foram retroagidos utilizando a COL-19 da Planilha de Índice Nacional da Construção Civil (INCC). | C43: ICC % | E43: ='[10]Reajustamento INCC'!$C$155 -> 1.0174762 | F43: ='[10]Reajustamento INCC'!$C$155 -> 1.0174762 | G43: ='[10]Reajustamento INCC'!$C$155 -> 1.0174762
C44: PREÇO REAJUSTADO | E44: =E42/E43 -> 13.307436 | F44: =F42/F43 -> 21.730238 | G44: =G42/G43 -> 7.4694621
C45: MÊS - ICC | E45: OUT20 A NOV20 | F45: OUT20 A NOV20 | G45: OUT20 A NOV20
...

Sheet 074-19-CRO
B2: GOVERNO DO DISTRITO FEDERAL
B3: SECRETARIA DE ESTADO DE INFRAESTRUTURA E SERVIÇOS PÚBLICOS
B4: COMPANHIA URBANIZADORA DA NOVA CAPITAL DO BRASIL
B5: CRONOGRAMA FISICO FINANCEIRO
B6: Nº ESTIMATIVA PRINCIPAL: | C6: ='074-19-CCU''s'!C6 -> 074/2019-SEORÇA-SDS-R02 | G6: DATA: | H6: ='074-19-CAPA'!C20 -> 44386
B7: TÍTULO: | C7: ='074-19-CCU''s'!C7 -> REFORMA DA CRECHE NÚCLEO RURAL JARDIM II | E7: Nº PROJETO: | F7: PROJ-DE 125-18 | G7: TAB. REF.: | H7: ='074.01-19-Edificação'!J9 -> SINAPI MAI 2021
B8: ENCARGOS TRABALHISTAS: | C8: ='074.01-19-Edificação'!D9 -> horista=113,69% / mensalista=73,06% | E8: B.D.I. : | F8: 20,94% (obra)
B11: CÓDIGO | C11: DESCRIÇÃO DOS SERVIÇOS | E11: TOTAL DA ETAPA (COM BDI) | F11: DIAS 1 A 30 | G11: DIAS 31 A 60 | H11: DIAS 61 A 90
B12: 01.00.000 | C12: SERVIÇOS TÉCNICOS PROFISSIONAIS | D12: =E12/$E$45 -> 0.00066024273 | E12: ='074.01-19-Edificação'!J17 -> 291.24771 | F12: 1 | O12: =SUM(F12:M12) -> 1
F14: =$E$12*F12 -> 291.24771 | O14: =SUM(F14:M14) -> 291.24771
B15: 02.00.000 | C15: SERVIÇOS PRELIMINARES | D15: =E15/$E$45 -> 0.15482306 | E15: ='074.01-19-Edificação'!J58 -> 68295.883 | F15: 0.95 | H15: 0.05 | O15: =SUM(F15:M15) -> 1
F17: =$E$15*F15 -> 64881.089 | H17: =$E$15*H15 -> 3414.7941 | O17: =SUM(F17:M17) -> 68295.883
B18: 03.00.000 | C18: FUNDAÇÕES E ESTRUTURA | D18: =E18/$E$45 -> 0.052687928 | E18: ='074.01-19-Edificação'!J144 -> 23241.813 | F18: 1 | O18: =SUM(F18:M18) -> 1
F20: =$E$18*F18 -> 23241.813 | O20: =SUM(F20:M20) -> 23241.813
B21: 04.00.000 | C21: ARQUITETURA E ELEMENTOS DE URBANISMO | D21: =E21/$E$45 -> 0.45181252 | E21: ='074.01-19-Edificação'!J270 -> 199304.52 | F21: 0.3 | G21: 0.5 | H21: 0.2 | O21: =SUM(F21:M21) -> 1
B22: 04.01.100
F23: =$E$21*F21 -> 59791.356 | G23: =$E$21*G21 -> 99652.261 | H23: =$E$21*H21 -> 39860.904 | O23: =SUM(F23:M23) -> 199304.52
B24: 05.00.000 | C24: INSTALAÇÕES HIDRÁULICAS E SANITÁRIAS | D24: =E24/$E$45 -> 0.089217046 | E24: ='074.01-19-Edificação'!J347 -> 39355.617 | F24: 0.2 | G24: 0.6 | H24: 0.2 | O24: =SUM(F24:M24) -> 1
F26: =$E$24*F24 -> 7871.1234 | G26: =$E$24*G24 -> 23613.37 | H26: =$E$24*H24 -> 7871.1234 | O26: =SUM(F26:M26) -> 39355.617
B27: 06.00.000 | C27: INSTALAÇÕES ELÉTRICAS E ELETRÔNICAS | D27: =E27/$E$45 -> 0.063412687 | E27: ='074.01-19-Edificação'!J407 -> 27972.742 | F27: 0.2 | G27: 0.65 | H27: 0.15 | O27: =SUM(F27:M27) -> 1
F29: =$E$27*F27 -> 5594.5484 | G29: =$E$27*G27 -> 18182.282 | H29: =$E$27*H27 -> 4195.9113 | O29: =SUM(F29:M29) -> 27972.742
B30: 07.00.000 | C30: INSTALAÇÕES MECÂNICAS E DE UTILIDADES | D30: =E30/$E$45 -> 0 | O30: =SUM(F30:M30) -> 0
O31: =SUM(F31:M31) -> 0
O32: =SUM(F32:M32) -> 0
B33: 08.00.000 | C33: INSTALAÇÕES DE PREVENÇÃO E COMBATE À INCÊNDIO | D33: =E33/$E$45 -> 0 | O33: =SUM(F33:M33) -> 0
O34: =SUM(F34:M34) -> 0
O35: =SUM(F35:M35) -> 0
B36: 08.00.000 | C36: INSTALAÇÕES DE PREVENÇÃO E COMBATE A INCÊNDIO | D36: =E36/$E$45 -> 0.0016484629 | E36: ='074.01-19-Edificação'!J420 -> 727.17352 | H36: 1 | O36: =SUM(F36:M36) -> 1
O37: =SUM(F37:M37) -> 0
H38: =$E$36*H36 -> 727.17352 | O38: =SUM(F38:M38) -> 727.17352
B39: 9.00.000 | C39: SERVIÇOS COMPLEMENTARES | D39: =E39/$E$45 -> 0.016488601 | E39: ='074.01-19-Edificação'!J435 -> 7273.4875 | F39: 0.35 | G39: 0.35 | H39: 0.3 | O39: =SUM(F39:M39) -> 1
O40: =SUM(F40:M40) -> 0
F41: =$E$39*F39 -> 2545.7206 | G41: =$E$39*G39 -> 2545.7206 | H41: =$E$39*H39 -> 2182.0462 | O41: =SUM(F41:M41) -> 7273.4875
B42: 10.00.000 | C42: SERVIÇOS AUXILIARES E ADMINISTRATIVOS | D42: =E42/$E$45 -> 0.16924945 | E42: ='074.01-19-Edificação'!J450 -> 74659.686 | F42: =F51 -> 0.4481138 | G42: =G51 -> 0.39292872 | H42: =H51 -> 0.15895748 | O42: =SUM(F42:M42) -> 1
O43: =SUM(F43:M43) -> 0
F44: =$E$42*F42 -> 33456.036 | G44: =$E$42*G42 -> 29335.935 | H44: =$E$42*H42 -> 11867.715 | O44: =SUM(F44:M44) -> 74659.686
C45: PERCENTUAL MENSAL (%) | E45: =SUM(E12:E44) -> 441122.17 | F45: =F46/$E45 -> 0.4481138 | G45: =G46/$E45 -> 0.39292872 | H45: =H46/$E45 -> 0.15895748
C46: VALOR MENSAL (R$) | F46: =F14+F17+F20+F23+F26+F29+F32+F35+F38+F41+F44 -> 197672.93 | G46: =G14+G17+G20+G23+G26+G29+G32+G35+G38+G41+G44 -> 173329.57 | H46: =H14+H17+H20+H23+H26+H29+H32+H35+H38+H41+H44 -> 70119.668
C47: PERCENTUAL ACUMULADO (%) | F47: =F45 -> 0.4481138 | G47: =G45+F47 -> 0.84104252 | H47: =H45+G47 -> 1
C48: VALOR ACUMULADO (R$) | F48: =F46 -> 197672.93 | G48: =G46+F48 -> 371002.5 | H48: =H46+G48 -> 441122.17
...

Sheet 074-19-ABC
A2: GOVERNO DO DISTRITO FEDERAL
A3: SECRETARIA DE ESTADO DE INFRAESTRUTURA E SERVIÇOS PÚBLICOS
A4: COMPANHIA URBANIZADORA DA NOVA CAPITAL DO BRASIL
A5: PLANILHA ESTIMATIVA
A6: Nº ESTIMATIVA PARCIAL: | B6: ='074-19-CCU''s'!C6 -> 074/2019-SEORÇA-SDS-R02 | I6: DATA: | J6: ='074-19-CAPA'!C20 -> 44386
A7: NOME ESTIMATIVA PARCIAL: | B7: REFORMA DA CRECHE NÚCLEO RURAL JARDIM II | I7: Nº PROJETO: | J7: PROJ-DE 125-18
A8: ENDEREÇO: | B8: NÚCLEO RURAL JARDIM, DF 285, PARANOÁ, DF | I8: ÁREA: | J8: 257,64 m²
A9: ENCARGOS TRABALHISTAS: | B9: horista=113,69% / mensalista=73,06% | G9: B.D.I. : | H9: 20,94% | I9: TAB. REF.: | J9: SINAPI mai 2021
A11: CÓDIGO | B11: DESCRIÇÃO | C11: UNID. | D11: QUANT. | E11: CUSTO UNITÁRIO (R$) | F11: BDI | G11: PREÇO UNITÁRIO (R$) C/ BDI | H11: PREÇO TOTAL (R$) C/ BDI | I11: % SIMPLES DO ITEM | J11: % ACUMULADO DO ITEM
A12: CCU - 10.004 | B12: ADMINISTRAÇÃO LOCAL - CONTENDO (1 ENGENHEIRO, 1 ENCARREGADO E POSTO DE VIGIA) | C12: UN | D12: 1 | E12: 60437.94 | F12: 20,94% | G12: 73093.645 | H12: 73093.645 | I12: 0.16569932 | J12: 0.16569932 | K12: =$H$259 -> 441122.17 | L12: ='074-19-CAPA'!$D$32 -> 441122.17 | R12: =G12*D12 -> 73093.645
A13: 94218 | B13: TELHAMENTO COM TELHA ESTRUTURAL DE FIBROCIMENTO E= 8 MM, COM ATÉ 2 ÁGUAS, INCLUSO IÇAMENTO. AF_07/2019_P | C13: M2 | D13: 252.6 | E13: 92,50 | F13: 20,94% | G13: 111.8695 | H13: 28258.236 | I13: 0.064059885 | J13: 0.22975921 | K13: =$H$259 -> 441122.17 | L13: ='074-19-CAPA'!$D$32 -> 441122.17 | R13: =G13*D13 -> 28258.236
A14: 98459 | B14: TAPUME COM TELHA METÁLICA. AF_05/2018 | C14: M2 | D14: 155.804 | E14: 106,71 | F14: 20,94% | G14: 129.05507 | H14: 20107.297 | I14: 0.045582149 | J14: 0.27534136 | K14: =$H$259 -> 441122.17 | L14: ='074-19-CAPA'!$D$32 -> 441122.17 | R14: =G14*D14 -> 20107.297
A15: 96114 | B15: FORRO EM DRYWALL, PARA AMBIENTES COMERCIAIS, INCLUSIVE ESTRUTURA DE FIXAÇÃO. AF_05/2017_P | C15: M2 | D15: 236.2 | E15: 59,40 | F15: 20,94% | G15: 71.83836 | H15: 16968.221 | I15: 0.038466034 | J15: 0.31380739 | K15: =$H$259 -> 441122.17 | L15: ='074-19-CAPA'!$D$32 -> 441122.17
A16: CCU - 04.011 | B16: GRADIL PARA FIXAÇÃO EM CONCRETO - INCLUSO (SISTEMA CERCAMENTO MALHA 5 X 20 CM FIO 4,30 MM ALT. 2,03 M), (MONTANTE, TUBO 60 X 40 X 1,25 MM, GALVANIZADO + PINTURA ELETROSTATICA EM PLOLIÉSTER, COR BRANCA, MEDINDO 2,60 M - PARA FIXAÇÃO NO SOLO C/ ESCAVAÇÃO, EM VÃO, COM CONCRETO), (TAMPA DO MONTANTE 60 X 40) E (FIXADOR DE SEGURANÇA (FIXADOR + PARAFUSO + ARRUELA)). | C16: M2 | D16: 75.06 | E16: 184.38078 | F16: 20,94% | G16: 222.99011 | H16: 16737.638 | I16: 0.037943316 | J16: 0.35175071 | K16: =$H$259 -> 441122.17 | L16: ='074-19-CAPA'!$D$32 -> 441122.17
A17: COTAÇÃO-005.03 | B17: RESERVATÓRIO TUBULAR METÁLICO, DIÂMETRO: ∅ 1.11M, ALTURA 5,40M, VOLUME: 5.000 L | C17: UN | D17: 1 | E17: 12130 | F17: 20,94% | G17: 14670.022 | H17: 14670.022 | I17: 0.033256143 | J17: 0.38500685 | K17: =$H$259 -> 441122.17 | L17: ='074-19-CAPA'!$D$32 -> 441122.17
A18: 100761 | B18: PINTURA COM TINTA ALQUÍDICA DE ACABAMENTO (ESMALTE SINTÉTICO FOSCO) PULVERIZADA SOBRE SUPERFÍCIES METÁLICAS (EXCETO PERFIL) EXECUTADO EM OBRA (02 DEMÃOS). AF_01/2020_P | C18: M2 | D18: 287.79 | E18: 39,55 | F18: 20,94% | G18: 47.83177 | H18: 13765.505 | I18: 0.031205652 | J18: 0.4162125 | K18: =$H$259 -> 441122.17 | L18: ='074-19-CAPA'!$D$32 -> 441122.17
A19: CCU - 04.007 | B19: JF01 297 x 140 cm - 04 FOLHAS - 02 FIXAS / VENEZIANA METÁLICA | C19: UN | D19: 1 | E19: 8547.4744 | F19: 20,94% | G19: 10337.316 | H19: 10337.316 | I19: 0.023434133 | J19: 0.43964664 | K19: =$H$259 -> 441122.17 | L19: ='074-19-CAPA'!$D$32 -> 441122.17
A20: 93210 | B20: EXECUÇÃO DE REFEITÓRIO EM CANTEIRO DE OBRA EM CHAPA DE MADEIRA COMPENSADA, NÃO INCLUSO MOBILIÁRIO E EQUIPAMENTOS. AF_02/2016 | C20: M2 | D20: 15.48 | E20: 518,84 | F20: 20,94% | G20: 627.4851 | H20: 9713.4693 | I20: 0.022019907 | J20: 0.46166654 | K20: =$H$259 -> 441122.17 | L20: ='074-19-CAPA'!$D$32 -> 441122.17
A21: 88489 | B21: APLICAÇÃO MANUAL DE PINTURA COM TINTA LÁTEX ACRÍLICA EM PAREDES, DUAS DEMÃOS. AF_06/2014 | C21: M2 | D21: 599.33 | E21: 12,64 | F21: 20,94% | G21: 15.286816 | H21: 9161.8474 | I21: 0.02076941 | J21: 0.48243595 | K21: =$H$259 -> 441122.17 | L21: ='074-19-CAPA'!$D$32 -> 441122.17
A22: 88496 | B22: APLICAÇÃO E LIXAMENTO DE MASSA LÁTEX EM TETO, DUAS DEMÃOS. AF_06/2014 | C22: M2 | D22: 236.2 | E22: 25,03 | F22: 20,94% | G22: 30.271282 | H22: 7150.0768 | I22: 0.016208836 | J22: 0.49864479 | K22: =$H$259 -> 441122.17 | L22: ='074-19-CAPA'!$D$32 -> 441122.17
A23: CCU - 04.014 | B23: PISO VINÍLICO SEMI-FLEXÍVEL EM PLACAS, PADRÃO LISO, FIXADO COM COLA. | C23: M2 | D23: 36.21 | E23: 155.65065 | F23: 20,94% | G23: 188.2439 | H23: 6816.3115 | I23: 0.015452208 | J23: 0.514097 | K23: =$H$259 -> 441122.17 | L23: ='074-19-CAPA'!$D$32 -> 441122.17
A24: 91926 | B24: CABO DE COBRE FLEXÍVEL ISOLADO, 2,5 MM², ANTI-CHAMA 450/750 V, PARA CIRCUITOS TERMINAIS - FORNECIMENTO E INSTALAÇÃO. AF_12/2015 | C24: M | D24: 1344.24 | E24: 4,07 | F24: 20,94% | G24: 4.922258 | H24: 6616.6961 | I24: 0.014999691 | J24: 0.52909669 | K24: =$H$259 -> 441122.17 | L24: ='074-19-CAPA'!$D$32 -> 441122.17
A25: 87529 | B25: MASSA ÚNICA, PARA RECEBIMENTO DE PINTURA, EM ARGAMASSA TRAÇO 1:2:8, PREPARO MECÂNICO COM BETONEIRA 400L, APLICADA MANUALMENTE EM FACES INTERNAS DE PAREDES, ESPESSURA DE 20MM, COM EXECUÇÃO DE TALISCAS. AF_06/2014 | C25: M2 | D25: 171.36 | E25: 31,38 | F25: 20,94% | G25: 37.950972 | H25: 6503.2786 | I25: 0.014742579 | J25: 0.54383927 | K25: =$H$259 -> 441122.17 | L25: ='074-19-CAPA'!$D$32 -> 441122.17
A26: CCU - 04.025 | B26: PAREDE EM PLACA DE GESSO ACARTONADO 12,5MM RESISTENTE A FOGO | C26: M2 | D26: 61.02 | E26: 84.533272 | F26: 20,94% | G26: 102.23454 | H26: 6238.3516 | I26: 0.014142004 | J26: 0.55798127 | K26: =$H$259 -> 441122.17 | L26: ='074-19-CAPA'!$D$32 -> 441122.17
A27: Tabela de consumo | B27: CONSUMO DE INTERNET, TELEFONE, ÁGUA, ESGOTO E ENERGIA | C27: MÊS | D27: 3 | E27: 1679.5517 | F27: 20,94% | G27: 2031.2498 | H27: 6093.7494 | I27: 0.013814199 | J27: 0.57179547 | K27: =$H$259 -> 441122.17 | L27: ='074-19-CAPA'!$D$32 -> 441122.17
A28: 93214 | B28: EXECUÇÃO DE RESERVATÓRIO ELEVADO DE ÁGUA (1000 LITROS) EM CANTEIRO DE OBRA, APOIADO EM ESTRUTURA DE MADEIRA. AF_02/2016 | C28: UN | D28: 1 | E28: 4.794,11 | F28: 20,94% | G28: 5797.9966 | H28: 5797.9966 | I28: 0.013143743 | J28: 0.58493921 | K28: =$H$259 -> 441122.17 | L28: ='074-19-CAPA'!$D$32 -> 441122.17
A29: CCU - 09.003 | B29: LIMPEZA PERMANENTE | C29: MÊS | D29: 3 | E29: 1549.68 | F29: 20,94% | G29: 1874.183 | H29: 5622.549 | I29: 0.012746013 | J29: 0.59768523 | K29: =$H$259 -> 441122.17 | L29: ='074-19-CAPA'!$D$32 -> 441122.17
A30: CCU - 02.002 | B30: PLACA DE OBRA EM CHAPA DE ACO GALVANIZADO | C30: M² | D30: 14.4 | E30: 319.2345 | F30: 20,94% | G30: 386.0822 | H30: 5559.5837 | I30: 0.012603274 | J30: 0.6102885 | K30: =$H$259 -> 441122.17 | L30: ='074-19-CAPA'!$D$32 -> 441122.17
A31: CCU - 04.016 | B31: RODAPÉ EVA ECO FLEXÍVEL AUTOCOLANTE 10MMX8CM METRO | C31: M | D31: 131.27 | E31: 29.43742 | F31: 20,94% | G31: 35.601616 | H31: 4673.4241 | I31: 0.010594399 | J31: 0.6208829 | K31: =$H$259 -> 441122.17 | L31: ='074-19-CAPA'!$D$32 -> 441122.17
A32: 91314 | B32: KIT DE PORTA DE MADEIRA PARA PINTURA, SEMI-OCA (LEVE OU MÉDIA), PADRÃO POPULAR, 80X210CM, ESPESSURA DE 3,5CM, ITENS INCLUSOS: DOBRADIÇAS, MONTAGEM E INSTALAÇÃO DO BATENTE, FECHADURA COM EXECUÇÃO DO FURO - FORNECIMENTO E INSTALAÇÃO. AF_12/2019 | C32: UN | D32: 5 | E32: 758,75 | F32: 20,94% | G32: 917.63225 | H32: 4588.1613 | I32: 0.010401112 | J32: 0.63128401 | K32: =$H$259 -> 441122.17 | L32: ='074-19-CAPA'!$D$32 -> 441122.17
A33: 39362 | B33: FOSSA SEPTICA, SEM FILTRO, PARA 8 A 14 CONTRIBUINTES, CILINDRICA, COM TAMPA, EM POLIETILENO DE ALTA DENSIDADE (PEAD), CAPACIDADE APROXIMADA DE 3000 LITROS (NBR 7229) | C33: UN | D33: 1 | E33: 3.638,57 | F33: 20,94% | G33: 4400.4866 | H33: 4400.4866 | I33: 0.009975664 | J33: 0.64125968 | K33: =$H$259 -> 441122.17 | L33: ='074-19-CAPA'!$D$32 -> 441122.17
A34: 101747 | B34: PISO EM CONCRETO 20 MPA PREPARO MECÂNICO, ESPESSURA 7CM. AF_09/2020 | C34: M2 | D34: 61.3 | E34: 59,24 | F34: 20,94% | G34: 71.644856 | H34: 4391.8297 | I34: 0.0099560393 | J34: 0.65121571 | K34: =$H$259 -> 441122.17 | L34: ='074-19-CAPA'!$D$32 -> 441122.17
A35: 88488 | B35: APLICAÇÃO MANUAL DE PINTURA COM TINTA LÁTEX ACRÍLICA EM TETO, DUAS DEMÃOS. AF_06/2014 | C35: M2 | D35: 242.29 | E35: 14,41 | F35: 20,94% | G35: 17.427454 | H35: 4222.4978 | I35: 0.0095721732 | J35: 0.66078789 | K35: =$H$259 -> 441122.17 | L35: ='074-19-CAPA'!$D$32 -> 441122.17
A36: CCU - 04.010 | B36: GR 03 285 x 210 CM-02 FOLHAS - DE ABRIR EM GRADIL METÁLICO ENRIJECIDO-FORNECIMENTO E INSTALAÇÃO | C36: UN | D36: 1 | E36: 3346.3381 | F36: 20,94% | G36: 4047.0613 | H36: 4047.0613 | I36: 0.0091744681 | J36: 0.66996236 | K36: =$H$259 -> 441122.17 | L36: ='074-19-CAPA'!$D$32 -> 441122.17
A37: CCU - 04.015 | B37: Piso IMPACT SOFT DUPLO T20 - 20mm | C37: M2 | D37: 18.92 | E37: 164.5767 | F37: 20,94% | G37: 199.03906 | H37: 3765.819 | I37: 0.0085369072 | J37: 0.67849926 | K37: =$H$259 -> 441122.17 | L37: ='074-19-CAPA'!$D$32 -> 441122.17
A38: CCU - 04.002 | B38: PF3 2,97X2,10 -02 FOLHAS DE CORRER - PORTA DE VIDRO TEMPERADO INCOLOR- FORNECIMENTO E INSTALAÇÃO | C38: UN | D38: 2 | E38: 1550.0816 | F38: 20,94% | G38: 1874.6687 | H38: 3749.3374 | I38: 0.0084995442 | J38: 0.68699881 | K38: =$H$259 -> 441122.17 | L38: ='074-19-CAPA'!$D$32 -> 441122.17
A39: CCU - 03.005 | B39: ESTRUTURA METALICA EM PERFIL "U" (CHAPA DOBRADA) 127x50x2,25x17 mm | C39: KG | D39: 188.44 | E39: 15.397653 | F39: 20,94% | G39: 18.621922 | H39: 3509.1149 | I39: 0.0079549729 | J39: 0.69495378 | K39: =$H$259 -> 441122.17 | L39: ='074-19-CAPA'!$D$32 -> 441122.17
A40: CCU - 04.020 | B40: BACIA INFANTIL COM CAIXA ACOPLADA, COR BRANCO GELO, COD 87784375M MARCA CELITE OU EQUIVALENTE TECNICO | C40: UN | D40: 3 | E40: 959.16318 | F40: 20,94% | G40: 1160.012 | H40: 3480.0359 | I40: 0.0078890523 | J40: 0.70284283 | K40: =$H$259 -> 441122.17 | L40: ='074-19-CAPA'!$D$32 -> 441122.17
A41: 102166 | B41: INSTALAÇÃO DE VIDRO LISO INCOLOR, E = 6 MM, EM ESQUADRIA DE ALUMÍNIO OU PVC, FIXADO COM BAGUETE. AF_01/2021_P | C41: M2 | D41: 12.88 | E41: 220.49 | F41: 20,94% | G41: 266.66061 | H41: 3434.5886 | I41: 0.0077860258 | J41: 0.71062886 | K41: =$H$259 -> 441122.17 | L41: ='074-19-CAPA'!$D$32 -> 441122.17
A42: CCU - 05.010 | B42: CAIXA ENTERRADA HIDRÁULICA RETANGULAR EM ALVENARIA COM TIJOLOS CERÂMICOS MACIÇOS, DIMENSÕES INTERNAS: 1,20X1,20X1,30M PARA REDE DE DRENAGEM. AF_05/2018 | C42: UN | D42: 1 | E42: 2764.8772 | F42: 20,94% | G42: 3343.8424 | H42: 3343.8424 | I42: 0.0075803092 | J42: 0.71820917 | K42: =$H$259 -> 441122.17 | L42: ='074-19-CAPA'!$D$32 -> 441122.17
...

Sheet Encargos

Sheet BDI-Edificações
B2: BENEFÍCIOS E DESPESAS INDIRETAS
B3: Edificações
B4: SEM Desoneração da Folha de Pagamento
H5: Médio
B6: Grupo | C6: Componentes | H6: Incidências
B7: Despesas Indiretas
B8: A | C8: Administração Central | H8: =INDEX('[13]Quadro Comparativo'!C7:E7,MATCH($H$5,'[13]Quadro Comparativo'!C6:E6,0)) -> 0.04
C9: Seguros + Garantias | H9: =INDEX('[13]Quadro Comparativo'!F$7:H$7,MATCH($H$5,'[13]Quadro Comparativo'!F$6:H$6,0)) -> 0.008
C10: Riscos | H10: =INDEX('[13]Quadro Comparativo'!I$7:K$7,MATCH($H$5,'[13]Quadro Comparativo'!I$6:K$6,0)) -> 0.0127
C11: Despesas Financeiras | H11: =INDEX('[13]Quadro Comparativo'!L$7:N$7,MATCH($H$5,'[13]Quadro Comparativo'!L$6:N$6,0)) -> 0.0123
B12: Subtotal A | H12: =SUM(H8:H11) -> 0.073
B13: Tributos
B14: B | C14: COFINS - Contribuição Para o Financiamento Seguridade Social | H14: 0.03
C15: PIS - Programa de Integração Social | H15: 0.0065
C16: ISS - Imposto Sobre Serviços de Qualquer Natureza | H16: =INDEX('[13]Quadro Geral'!$B$5:$G$11,MATCH($B$3,'[13]Quadro Geral'!$A$5:$A$11,0),MATCH(C16,'[13]Quadro Geral'!$B$4:$G$4,0)) -> 0.01
C17: CPRB - Contribuição Previdenciária Sobre Receita Bruta | H17: =IF(B4="COM Desoneração da Folha de Pagamento",0.045,0) -> 0
B18: Subtotal B | H18: =SUM(H14:H17) -> 0.0465
B19: Bonificação
B20: C | C20: Lucro | H20: =INDEX('[13]Quadro Comparativo'!O$7:Q$7,MATCH($H$5,'[13]Quadro Comparativo'!O$6:Q$6,0)) -> 0.074
B21: Subtotal C | H21: =SUM(H20:H20) -> 0.074
B22: BDI | H22: =((((((1+(H8+H9+H10))*((1+H11)*(1+H21)))/(1-H18))-1)*100))/100 -> 0.20944296
B24: FÓRMULA PARA CÁLCULO DO BDI
B25: BDI = | C25: [( | D25: (1 + (AC + S + R + G)) x ((1 + DF) X (1 + L)) | E25: ) | F25: -1 | G25: ] | H25: X 100
D26: (1 - I)
B28: AC | C28: Taxa representativa das despesas de rateio da Administração Central
B29: S | C29: Taxa Representativa de Seguros
B30: R | C30: Taxa Representativa de Riscos
B31: G | C31: Taxa Representativa de Garantias
B32: DF | C32: Taxa Representativa de Despesas Financeiras
B33: L | C33: Taxa Representativa de Lucro
B34: I | C34: Taxa Representativa de Incidência de Impostos
C35: Taxa Representativa da Incidência de Impostos é aplicada sobre o preço de venda da prestação do serviço, enquanto que as demais taxas são aplicadas sobre o custo
B37: Referência:
B38: Relatório do Acordão n° 2.622/2013 - TCU/Plenário
B43: Edificações
B44: Vias Urbanas e Rodovias (incluindo obras de arte especiais)
B45: ='[13]Quadro Comparativo'!A9 -> Drenagem Pluvial, Redes de Abastecimento de Água, Coleta de Esgoto e Construções Correlatas
B46: ='[13]Quadro Comparativo'!A10 -> Drenagem Pluvial com Pavimentação
B47: ='[13]Quadro Comparativo'!A11 -> Paisagismo, Parques e Jardins
B48: ='[13]Quadro Comparativo'!A12 -> Obras de Menor Complexidade (Praças, Calçadas, Ciclovias, Meios Fios, Quiosques e Obras Correlatas)
...

Sheet Reajustamento INCC
A1: Cálculo do reajustamento para adequação de preços
B3: ICC COLUNA-18=160981 TOTAL BRASÍLIA
B4: MÃO-DE-OBRA | C4: MAT EQUIP SERV | F4: TOTAL | H4: TOTAL EDIFICAÇÃO
B5: COL-20 161007 | C5: COL-19 160991 | D5: var.%acumul.material | E5: var.%acumul.total | F5: COL-18 160981 | G5: var.%acumul.total | H5: COL-35 159428
A6: JAN - 09 | B6: 402.986 | C6: 366.983 | F6: 384.876 | H6: 409.166 | J6: 161007
A7: FEV - 09 | B7: 402.986 | C7: 367.477 | D7: =C7/C6 -> 1.0013461 | E7: =F7/F6 -> 1.0008055 | F7: 385.186 | G7: =H7/H6 -> 1.0026786 | H7: 410.262
A8: MAR - 09 | B8: 402.986 | C8: 367.13 | D8: =C8/C7 -> 0.99905572 | E8: =F8/F7 -> 0.99947298 | F8: 384.983 | G8: =H8/H7 -> 0.99745041 | H8: 409.216
A9: ABR - 09 | B9: 402.986 | C9: 363.515 | D9: =C9/C8 -> 0.99015335 | E9: =F9/F8 -> 0.99451404 | F9: 382.871 | G9: =H9/H8 -> 0.9995748 | H9: 409.042
A10: MAI - 09 | B10: 402.986 | C10: 362.515 | D10: =C10/C9 -> 0.99724908 | E10: =F10/F9 -> 0.99847468 | F10: 382.287 | G10: =H10/H9 -> 1.013935 | H10: 414.742
A11: JUN - 09 | B11: 431.438 | C11: 362.11 | D11: =C11/C10 -> 0.9988828 | E11: =F11/F10 -> 1.0308773 | F11: 394.091 | G11: =H11/H10 -> 1.0070285 | H11: 417.657
A12: JUL - 09 | B12: 431.516 | C12: 362.573 | D12: =C12/C11 -> 1.0012786 | E12: =F12/F11 -> 1.0022507 | F12: 394.978 | G12: =H12/H11 -> 1.0026337 | H12: 418.757
A13: AGO - 09 | B13: 431.516 | C13: 362.809 | D13: =C13/C12 -> 1.0006509 | E13: =F13/F12 -> 0.99887082 | F13: 394.532 | G13: =H13/H12 -> 0.99945314 | H13: 418.528
A14: SET - 09 | B14: 431.516 | C14: 363.88 | D14: =C14/C13 -> 1.002952 | E14: =F14/F13 -> 1.0015867 | F14: 395.158 | G14: =H14/H13 -> 1.001479 | H14: 419.147
A15: OUT - 09 | B15: 431.516 | C15: 364.09 | D15: =C15/C14 -> 1.0005771 | E15: =F15/F14 -> 1.0003113 | F15: 395.281 | G15: =H15/H14 -> 1.0006155 | H15: 419.405
A16: NOV - 09 | B16: 431.516 | C16: 365.571 | D16: =C16/C15 -> 1.0040677 | E16: =F16/F15 -> 1.0021883 | F16: 396.146 | G16: =H16/H15 -> 1.0029327 | H16: 420.635
A17: DEZ - 09 | B17: 431.516 | C17: 366.932 | D17: =C17/C16 -> 1.0037229 | E17: =F17/F16 -> 1.0020068 | F17: 396.941 | G17: =H17/H16 -> 1.000989 | H17: 421.051
A18: JAN - 10 | B18: 431.539 | C18: 367.068 | D18: =C18/C17 -> 1.0003706 | E18: =F18/F17 -> 1.0002242 | F18: 397.03 | G18: =H18/H17 -> 1.0063864 | H18: 423.74
... A64: NOV-13 | B64: 656.913 | C64: 433.89 | D64: =C64/C63 -> 1.0008119 | E64: =F64/F63 -> 1.0003859 | F64: 531.435 | G64: =H64/H63 -> 1.003486 | H64: 564.201
A65: DEZ-13 | B65: 656.913 | C65: 434.113 | D65: =C65/C64 -> 1.000514 | E65: =F65/F64 -> 1.0002446 | F65: =531.565 -> 531.565 | G65: =H65/H64 -> 1.0009996 | H65: 564.765
A66: JAN-14 | B66: 657.102 | C66: 436.473 | D66: =C66/C65 -> 1.0054364 | E66: =F66/F65 -> 1.0027447 | F66: 533.024 | G66: =H66/H65 -> 1.0087736 | H66: 569.72
A67: FEV-14 | B67: 657.102 | C67: 437.458 | D67: =C67/C66 -> 1.0022567 | E67: =F67/F66 -> 1.0010788 | F67: 533.599 | G67: =H67/H66 -> 1.0032595 | H67: 571.577
A68: MAR-14 | B68: 657.102 | C68: 441.609 | D68: =C68/C67 -> 1.0094889 | E68: =F68/F67 -> 1.0045446 | F68: 536.024 | G68: =H68/H67 -> 1.0027625 | H68: 573.156
A69: ABR-14 | B69: 657.102 | C69: 444.458 | D69: =C69/C68 -> 1.0064514 | E69: =F69/F68 -> 1.0031043 | F69: 537.688 | G69: =H69/H68 -> 1.0088423 | H69: 578.224
A70: MAI-14 | B70: 657.102 | C70: 447.08 | D70: =C70/C69 -> 1.0058993 | E70: =F70/F69 -> 1.0028492 | F70: 539.22 | G70: =H70/H69 -> 1.020537 | H70: 590.099
A71: JUN-14 | B71: 674.857 | C71: 448.444 | D71: =C71/C70 -> 1.0030509 | E71: =F71/F70 -> 1.0154093 | F71: 547.529 | G71: =H71/H70 -> 1.0066328 | H71: 594.013
A72: JUL-14 | B72: 702.87 | C72: 451.66 | D72: =C72/C71 -> 1.0071715 | E72: =F72/F71 -> 1.02508 | F72: 561.261 | G72: =H72/H71 -> 1.0074544 | H72: 598.441
A73: AGO-14 | B73: 702.87 | C73: 452.655 | D73: =C73/C72 -> 1.002203 | E73: =F73/F72 -> 1.0010352 | F73: 561.842 | G73: =H73/H72 -> 1.0007637 | H73: 598.898
A74: SET-14 | B74: 702.87 | C74: 452.868 | D74: =C74/C73 -> 1.0004706 | E74: =F74/F73 -> 1.0002207 | F74: 561.966 | G74: =H74/H73 -> 1.0015445 | H74: 599.823
A75: OUT-14 | B75: 702.87 | C75: 454.752 | D75: =C75/C74 -> 1.0041602 | E75: =F75/F74 -> 1.0019592 | F75: 563.067 | G75: =H75/H74 -> 1.0017372 | H75: 600.865
A76: NOV-14 | B76: 702.87 | C76: 456.261 | D76: =C76/C75 -> 1.0033183 | E76: =F76/F75 -> 1.0015664 | F76: 563.949 | G76: =H76/H75 -> 1.0044253 | H76: 603.524
A77: DEZ-14 | B77: 702.87 | C77: 456.137 | D77: =C77/C76 -> 0.99972823 | E77: =F77/F76 -> 0.99987233 | F77: 563.877 | G77: =H77/H76 -> 1.0008318 | H77: 604.026
... A148: NOV-20 | B148: 949.006 | C148: 624.591 | D148: =C148/C147 -> 1.0174762 | E148: =F148/F147 -> 1.0082456 | F148: 766.432 | G148: =H148/H147 -> 1.0127947 | H148: 839.382
A150: MÃO DE OBRA | C150: MATERIAL | E150: SERVIÇO | G150: EDIFICAÇÃO
A151: multiplicador | B151: Variação acumulada | C151: multiplicador | D151: Variação acumulada | E151: multiplicador | F151: Variação acumulada | G151: multiplicador | H151: Variação acumulada
C152: =PRODUCT(D148) -> 1.0174762 | E152: =PRODUCT(E127:E148) -> 1.1080379 | G152: =PRODUCT(G115:G148) -> 1.1650074
A154: i 0 / i 1 | B154: Número do índice | C154: i 0 / i 1 | D154: Número do índice | E154: i 0 / i 1 | F154: Número do índice | G154: i 0 / i 1 | H154: Número do índice
A155: =B148/B114 -> 1.0990048 | B155: JAN18 A NOV20 | C155: =C148/C147 -> 1.0174762 | D155: OUT20 A NOV20 | E155: =F148/F126 -> 1.1080379 | F155: JAN19 A NOV20 | G155: =H148/H114 -> 1.1650074 | H155: JAN18 A NOV20
A156: COL. 20 161007 | C156: COL. 19 160991 | E156: COL. 18 160981 | G156: COL. 35 159428
B158: unidade | C158: Descrição do ítem | F158: valor atual | G158: valor reajustado
B159: 1 | G159: =F159*E155 -> 0
...
