Workbook

Sheet Planilha3
B1: SERVIÇOS REALIZADOS NO SÁBADO
A2: CÓDIGO | B2: DESCRIÇÃO | C2: UNIDADE | D2: QUANTIDADE | E2: CUSTO UNITÁRIO | F2: CUSTO TOTAL
A3: GRUPO 01 | B3: MANUTENÇÃO PREVENTIVA
A4: 1.A | B4: MICRORREVESTIMENTO | C4: 65258.169 | D4: m2
B5: FRESAGEM
A6: 4011479M/SICRO - Noturno | B6: FRESAGEM CONTÍNUA DE REVESTIMENTO BETUMINOSO | C6: m3 | D6: 1305.1634 | E6: 21.515511 | F6: 28081.258
B7: BOTA FORA DE MATERIAL FRESADO
A8: 95878 - Noturno | B8: TRANSPORTE COM CAMINHÃO BASCULANTE DE 10 M3, EM VIA URBANA PAVIMENTADA, DMT ATÉ 30 KM (UNIDADE: TXKM). AF_12/2016 | C8: t*km | D8: 125295.68 | E8: 0.7250199 | F8: 90841.865
B9: MICROREVESTIMENTO
A10: 4011412M - Noturno | B10: Microrrevestimento a frio com emulsão modificada com polímero de 2,0 cm - brita comercial | C10: m2 | D10: 65258.169 | E10: 3.5109888 | F10: 229120.7
B11: CARGA E TRANSPORTE DO FILLER E PÓ DE PEDRA
A12: 72844 - Noturno | B12: CARGA, MANOBRAS E DESCARGA DE AREIA, BRITA, PEDRA DE MAO E SOLOS COM CAMINHAO BASCULANTE 6 M3 (DESCARGA LIVRE) | C12: t | D12: 1987.1113 | E12: 0.618238 | F12: 1228.5077
A13: 95878 - Noturno | B13: TRANSPORTE COM CAMINHÃO BASCULANTE DE 10 M3, EM VIA URBANA PAVIMENTADA, DMT ATÉ 30 KM (UNIDADE: TXKM). AF_12/2016 | C13: t*km | D13: 66568.227 | E13: 0.7250199 | F13: 48263.289
A15: ANP - RR 1C MAR 2020 | B15: EMULSÃO ASFÁLTICA CATIÔNICA RR1C - E | C15: t | D15: 195.77451 | E15: 3417.73 | F15: 669104.41
A16: 93177 - Noturno | B16: TRANSPORTE DE MATERIAL ASFALTICO, COM CAMINHÃO COM CAPACIDADE DE 20000L EM RODOVIA PAVIMENTADA PARA DISTÂNCIAS MÉDIAS DE TRANSPORTE IGUAL OU INFERIOR A 100 KM. AF_02/2016 | C16: t*km | D16: 6558.446 | E16: 1.9022782 | F16: 12475.989
E17: TOTAL DO GRUPO | F17: 1079116
D18: 16.536106 | E18: R$/m2
A19: 1.B | B19: CAPA SELANTE | C19: 65258.169 | D19: m2
A20: 4915637M - Noturno | B20: Capa selante - areia comercial | C20: m2 | D20: 65258.169 | E20: 0.85809276 | F20: 55997.562
B21: CARGA E TRANSPORTE DA AREIA
A22: 72844 - Noturno | B22: CARGA, MANOBRAS E DESCARGA DE AREIA, BRITA, PEDRA DE MAO E SOLOS COM CAMINHAO BASCULANTE 6 M3 (DESCARGA LIVRE) | C22: t | D22: 587.32352 | E22: 0.618238 | F22: 363.10572
A23: 95878 - Noturno | B23: TRANSPORTE COM CAMINHÃO BASCULANTE DE 10 M3, EM VIA URBANA PAVIMENTADA, DMT ATÉ 30 KM (UNIDADE: TXKM). AF_12/2016 | C23: t*km | D23: 19675.338 | E23: 0.7250199 | F23: 14265.012
A25: ANP - RR 2C MAR 2020 | B25: EMULSÃO ASFÁLTICA CATIÔNICA RR2C | C25: t | D25: 39.154902 | E25: 2260.1 | F25: 88493.993
A26: 93177 - Noturno | B26: TRANSPORTE DE MATERIAL ASFALTICO, COM CAMINHÃO COM CAPACIDADE DE 20000L EM RODOVIA PAVIMENTADA PARA DISTÂNCIAS MÉDIAS DE TRANSPORTE IGUAL OU INFERIOR A 100 KM. AF_02/2016 | C26: t*km | D26: 1311.6892 | E26: 1.9022782 | F26: 2495.1978
E27: TOTAL DO GRUPO | F27: 161614.87
D28: 2.4765462 | E28: R$/m2
A29: 1.C | B29: LAMA ASFÁLTICA | C29: 65258.169 | D29: m2
A30: 4011404M - Noturno | B30: Lama asfáltica - faixa II - areia e brita comerciais | C30: m2 | D30: 65258.169 | E30: 1.0350886 | F30: 67547.988
B31: CARGA E TRANSPORTE DE AREIA, FILLER E PEDRISCO
A32: 72844 - Noturno | B32: CARGA, MANOBRAS E DESCARGA DE AREIA, BRITA, PEDRA DE MAO E SOLOS COM CAMINHAO BASCULANTE 6 M3 (DESCARGA LIVRE) | C32: t | D32: 227.09843 | E32: 0.618238 | F32: 140.40088
A33: 95878 - Noturno | B33: TRANSPORTE COM CAMINHÃO BASCULANTE DE 10 M3, EM VIA URBANA PAVIMENTADA, DMT ATÉ 30 KM (UNIDADE: TXKM). AF_12/2016 | C33: t*km | D33: 7607.7974 | E33: 0.7250199 | F33: 5515.8045
A35: ANP - RR 2C MAR 2020 | B35: EMULSÃO ASFÁLTICA CATIÔNICA RR2C | C35: t | D35: 32.629085 | E35: 2260.1 | F35: 73744.994
A36: 93177 - Noturno | B36: TRANSPORTE DE MATERIAL ASFALTICO, COM CAMINHÃO COM CAPACIDADE DE 20000L EM RODOVIA PAVIMENTADA PARA DISTÂNCIAS MÉDIAS DE TRANSPORTE IGUAL OU INFERIOR A 100 KM. AF_02/2016 | C36: t*km | D36: 1093.0743 | E36: 1.9022782 | F36: 2079.3315
E37: TOTAL DO GRUPO | F37: 149028.52
D38: 2.2836761 | E38: R$/m2
A39: GRUPO 02 | B39: MANUTENÇÃO CORRETIVA
A40: 2.A | B40: SELAGEM DE TRINCAS | C40: 587.57313 | D40: m
A41: 4915626M - Noturno | B41: Selagem de trincas mecanizada em pavimento flexível com emulsão - areia comercial | C41: m | D41: 587.57313 | E41: 2.2202176 | F41: 1304.5402
B42: CARGA E TRANSPORTE DA AREIA
A43: 72844 - Noturno | B43: CARGA, MANOBRAS E DESCARGA DE AREIA, BRITA, PEDRA DE MAO E SOLOS COM CAMINHAO BASCULANTE 6 M3 (DESCARGA LIVRE) | C43: t | D43: 0.5640702 | E43: 0.618238 | F43: 0.34872963
...

Sheet capa
A4: GOVERNO DO DISTRITO FEDERAL
A5: COMPANHIA URBANIZADORA DA NOVA CAPITAL DO BRASIL - NOVACAP
A6: DIRETORIA DE URBANIZAÇÃO
A8: TABELA DE REFERÊNCIA - SINAPI - ABRIL - 2021
A9: DADOS DA OBRA
A11: OBJETO: REPARO LOCALIZADO EM PAVIMENTO ASFÁLTICO
A15: LOTE 3 - Asa Norte
A19: INTERESSADO: PROCESSO 00112-00012738/2021-12
A22: SEM DESONERAÇÃO
A24: RESPONSÁVEL TECNICO DO ORÇAMENTO:
A25: FABIO ROSSIGNOLI MARQUES
A26: CREA: 83382/D-MG
A29: VALOR DA OBRA:
A31: 2078661
D33: ATUALIZAÇÃO | G33: DATA
D34: 00 | G34: 44330
D35: 01 | G35: 44349
D36: 02 | G36: 44365
D37: 03 | G37: 44397

Sheet ESTIMATIVA DE PREÇOS
A1: ESTIMATIVA DE PREÇOS
A2: LOTE 3 - Asa Norte
A3: SEM DESONERAÇÃO
A4: INTERESSADO: PROCESSO 00112-00012738/2021-12
A5: OBJETO: REPARO LOCALIZADO EM PAVIMENTO ASFÁLTICO
B6: OBJETO: REPARO LOCALIZADO EM PAVIMENTO ASFÁLTICO | E6: SEM DESONERAÇÃO
A7: CÓDIGO | B7: DESCRIÇÃO | C7: UNIDADE | D7: QUANTIDADE | E7: CUSTO UNITÁRIO | F7: CUSTO TOTAL
B9: DMT NOVACAP/OBRA | C9: 12.5 | D9: km
A11: CÓDIGO | B11: DESCRIÇÃO | C11: UNIDADE | D11: QUANTIDADE | E11: CUSTO UNITÁRIO | F11: CUSTO TOTAL
A12: GRUPO 01 | B12: ÁREA DE SEGMENTOS DE PISTA DO LOTE | D12: 105838.08 | E12: m2
B13: FRESAGEM DESCONTÍNUA COM RECOMPOSIÇÃO DA CAPA | D13: 13758.95 | E13: m2
B14: FRESAGEM | C14: 1375.895 | D14: m3
A15: 4915705M/SICRO | B15: Correção de defeitos por fresagem descontínua do revestimento asfáltico | C15: M3 | D15: 1375.895 | E15: 75.45 | F15: 103811.28
B16: BOTA FORA DE MATERIAL FRESADO
A17: 95878 | B17: TRANSPORTE COM CAMINHÃO BASCULANTE DE 10 M³, EM VIA URBANA PAVIMENTADA, DMT ATÉ 30 KM (UNIDADE: TXKM). AF_07/2020 | C17: TXKM | D17: 41276.851 | E17: 1.07 | F17: 44166.231
A18: 93596 | B18: TRANSPORTE COM CAMINHÃO BASCULANTE DE 10 M³, EM VIA URBANA PAVIMENTADA, ADICIONAL PARA DMT EXCEDENTE A 30 KM (UNIDADE: TXKM). AF_07/2020 | C18: TXKM | D18: 0 | E18: 0.42 | F18: 0
B19: PINTURA DE LIGAÇÃO | C19: 13758.95 | D19: m2
A20: 96402M/SINAPI | B20: EXECUÇÃO DE PINTURA DE LIGAÇÃO COM EMULSÃO ASFÁLTICA RR-2C. AF_11/2019 (EXCLUSIVE PRODUTO BETUMINOSO) | C20: M2 | D20: 13758.95 | E20: 0.69 | F20: 9493.6758
A21: ANP - RR 2C MAI 2021 | B21: EMULSÃO ASFÁLTICA CATIÔNICA RR2C | C21: T | D21: 6.1915277 | E21: 4384.74 | F21: 27148.239
A22: 102330 | B22: TRANSPORTE COM CAMINHÃO TANQUE DE TRANSPORTE DE MATERIAL ASFÁLTICO DE 30000 L, EM VIA URBANA PAVIMENTADA, DMT ATÉ 30KM (UNIDADE: TXKM). AF_07/2020 | C22: TXKM | D22: 77.394096 | E22: 0.95 | F22: 73.524391
A23: 102331 | B23: TRANSPORTE COM CAMINHÃO TANQUE DE TRANSPORTE DE MATERIAL ASFÁLTICO DE 30000 L, EM VIA URBANA PAVIMENTADA, ADICIONAL PARA DMT EXCEDENTE A 30 KM (UNIDADE: TXKM). AF_07/2020 | C23: TXKM | D23: 0 | E23: 0.37 | F23: 0
B24: APLICAÇÃO DE C.A.U.Q | C24: 1375.895 | D24: m3
A25: 4915703M/SICRO | B25: Correção de defeitos com mistura betuminosa | C25: M3 | D25: 1375.895 | E25: 125.7 | F25: 172950.01
A26: ANP - CAP 30/45 JUN 2021 | B26: CIMENTO ASFÁLTICO DE PETRÓLEO - CAP 30/45 | C26: T | D26: 184.92029 | E26: 5049.7 | F26: 933792.01
A27: 95875 | B27: TRANSPORTE COM CAMINHÃO BASCULANTE DE 10 M³, EM VIA URBANA PAVIMENTADA, DMT ATÉ 30 KM (UNIDADE: M3XKM). AF_07/2020 | C27: M3XKM | D27: 17198.688 | E27: 1.59 | F27: 27345.914
A28: 93590 | B28: TRANSPORTE COM CAMINHÃO BASCULANTE DE 10 M³, EM VIA URBANA PAVIMENTADA, ADICIONAL PARA DMT EXCEDENTE A 30 KM (UNIDADE: M3XKM). AF_07/2020 | C28: M3XKM | D28: 0 | E28: 0.62 | F28: 0
A29: 6416078M/SICRO | B29: USINAGEM DE CONCRETO ASFÁLTICO - FAIXA C - AREIA E BRITA COMERCIAIS (EXCLUSIVE MATERIAL BETUMINOSO) | C29: T | D29: 3302.1481 | E29: 137.36 | F29: 453583.06
E30: TOTAL DO GRUPO | F30: 1772363.9
A32: GRUPO 02 | B32: SINALIZACAO DE SEGURANÇA
A33: 97053 | B33: SINALIZAÇÃO COM FITA FIXADA EM CONE PLÁSTICO, INCLUINDO CONE. AF_11/2017 | C33: M | D33: 1376 | E33: 9.35 | F33: 12865.6
A34: AD24.05.0500M (/) AD25.05.0500M (/) SCO-RIO | B34: PROTEÇÃO DE CANTEIRO DE OBRA EM ÁREAS PÚBLICAS, COMPREENDENDO TELA PLÁSTICA, ESTRUTURA DE MADEIRA A CADA 3M DE DISTÂNCIA COM BASE DE CONCRETO, UTILIZAÇÃO 2 VEZES. | C34: M | D34: 688 | E34: 24.82 | F34: 17076.16
E35: TOTAL DO GRUPO | F35: 29941.76
D36: 14.506667 | E36: R$/m2
A37: GRUPO 03 | B37: ADMINISTRAÇÃO LOCAL
B38: DESCRIÇÃO | C38: UNIDADE | D38: QUANTIDADE | E38: CUSTO UNITÁRIO | F38: CUSTO TOTAL
B39: Administração Local (expessífica para o Lote) | C39: % | D39: 1 | E39: 104252.76 | F39: 104252.76
B41: % da Adm Local, com relação ao valor da obra (com o BDI) | C41: 0.0592818
E42: TOTAL DO GRUPO | F42: 104252.76
B44: Valor total da estimativa de preços SEM BDI | F44: 1906558.5
B46: BDI
...

Sheet RESUMO DAS ATIVIDADES
B1: RESUMO DAS ATIVIDADES
B3: SEM DESONERAÇÃO
B4: INTERESSADO: PROCESSO 00112-00012738/2021-12
B5: LOTE 3 - Asa Norte
C6: OBJETO: REPARO LOCALIZADO EM PAVIMENTO ASFÁLTICO | D6: SEM DESONERAÇÃO
B7: GRUPO | C7: DESCRIÇÃO | D7: VALOR (COM BDI) | E7: %
F8: MATERIAL BETUMINOSO | G8: DEMAIS ELEMENTOS
B9: GRUPO 1 | C9: FRESAGEM DESCONTÍNUA COM RECOMPOSIÇÃO DA CAPA | D9: 1920043.1 | E9: 0.92369226 | F9: 960940.24 | G9: 811423.69 | H9: 1772363.9 | I9: 0
B11: GRUPO 2 | C11: SINALIZACAO DE SEGURANÇA | D11: 35391.16 | E11: 0.017025942
B13: GRUPO 3 | C13: ADMINISTRAÇÃO LOCAL | D13: 123226.77 | E13: 0.0592818
C16: VALOR TOTAL DO LOTE | D16: 2078661 | E16: 1
C19: CONFERÊNCIA | D19: 0

Sheet CAPA MEMÓRIA
A4: GOVERNO DO DISTRITO FEDERAL
A5: COMPANHIA URBANIZADORA DA NOVA CAPITAL DO BRASIL - NOVACAP
A6: DIRETORIA DE URBANIZAÇÃO
A10: MEMÓRIA DE CÁLCULO
A13: =capa!A11 -> OBJETO: REPARO LOCALIZADO EM PAVIMENTO ASFÁLTICO
A17: MEMÓRIA DE CÁLCULO E APONTAMENTOS
A23: =capa!A19 -> INTERESSADO: PROCESSO 00112-00012738/2021-12
A28: RESPONSÁVEL TECNICO DO ORÇAMENTO:
B29: FABIO ROSSIGNOLI MARQUES
B30: CREA: 83382/D-MG

Sheet CCU - ADM LOCAL
A1: ADMINISTRAÇÃO LOCAL
B2: LOTE 3 - Asa Norte
B3: INTERESSADO: PROCESSO 00112-00012738/2021-12
B5: Quantidade de R.A no lote | C5: 1
A6: CCU- ADMINISTRAÇÃO LOCAL
A7: ADM 022021 | B7: ADMINISTRAÇÃO LOCAL | E7: (Em 6 mêses)
A8: 93565 | B8: ENGENHEIRO CIVIL DE OBRA JUNIOR COM ENCARGOS COMPLEMENTARES | C8: MES | D8: 6 | E8: 16531.82 | F8: 99190.92 | G8: Um profissional pelo período da obra (por lote)
A9: 93572 | B9: ENCARREGADO GERAL DE OBRAS COM ENCARGOS COMPLEMENTARES | C9: MES | F9: 0 | G9: Um profissional pelo período da obra (por R.A)
A10: 93572 | B10: ENCARREGADO DE PAVIMENTAÇÃO | C10: MES | F10: 0 | G10: Um profissional pelo período da obra (por R.A)
A11: 93564 | B11: APONTADOR OU APROPRIADOR COM ENCARGOS COMPLEMENTARES | C11: MES | F11: 0 | G11: Um profissional pelo período da obra (por R.A)
A12: 93566 | B12: AUXILIAR DE ESCRITORIO COM ENCARGOS COMPLEMENTARES | C12: MES | F12: 0 | G12: Um profissional pelo período da obra (por R.A)
A13: 10775 | B13: LOCACAO DE CONTAINER 2,30 X 6,00 M, ALT. 2,50 M, COM 1 SANITARIO, PARA ESCRITORIO, COMPLETO, SEM DIVISORIAS INTERNAS | C13: MES | D13: 6 | E13: 585 | F13: 3510 | G13: Seis mêses x Quantidade de R.A
A14: 6496 - ART | B14: Tabela A - ART de Obra ou Serviço (Para contratos acima de R$15.000,00) | C14: und | D14: 1 | E14: 233.94 | F14: 233.94 | G14: Estimado uma ART por R.A
A15: 5213417M/SICRO | B15: CONFECÇÃO DE PLACA EM AÇO Nº 16 GALVANIZADO, COM PELÍCULA RETRORREFLETIVA TIPO I + III | C15: M2 | D15: 4.32 | E15: 305.07 | F15: 1317.9024 | G15: Estimado 6 placas de 0,60 x 1,20 m2, para cada R.A
E16: TOTAL DO GRUPO | F16: 104252.76 | G16: Valor da ADM Local sem BDI
B18: Valor da obra, com o BDI | E18: 2078661
B19: Valor da ADM LOCAL com BDI | E19: 123226.77
B21: % da Adm Local, com relação ao valor da obra | F21: 0.0592818

Sheet QUANTIDADE SGPU
A1: QUANTIDADE SGPU
A2: =capa!A15 -> LOTE 3 - Asa Norte
A3: =capa!A22 -> SEM DESONERAÇÃO
A4: =capa!A19 -> INTERESSADO: PROCESSO 00112-00012738/2021-12
A5: =capa!A11 -> OBJETO: REPARO LOCALIZADO EM PAVIMENTO ASFÁLTICO
B6: QUANTIDADE SGPU | E6: =#REF! -> #REF!
B9: ÁREA DE REMENDO (PARA O LOTE) | C9: 105838.08
B11: DMT NOVACAP ATÉ A OBRA (PARA O LOTE) | C11: 12.5

Sheet ÁREAS - SGPU
A1: ESTIMATIVA DE ÁREA POR LOTE | H1: QUANTIDADE PARA UM ANO | I1: 0.33
B3: LOTE 1 - Asa Norte
B4: Atividade de M&R | C4: Área SGPU (m²) | D4: Custo estimado | E4: Área Projetos (m²) | F4: Custo estimado | G4: CUSTO TOTAL | H4: ÁREA TOTAL | I4: ÁREA TOTAL PARA UM ANO
B5: Lama Asfáltica | C5: 381772.78 | D5: 920072.4 | E5: 0 | F5: 0 | G5: 920072.4 | H5: 381772.78 | I5: =H5*$I$1 -> 125985.02 | J5: CUSTO UNITÁRIO | K5: UNID. | M5: 4202957
B6: Capa Selante | C6: 381772.78 | D6: 1049875.1 | E6: 0 | F6: 0 | G6: 1049875.1 | H6: 381772.78 | I6: =H6*$I$1 -> 125985.02 | J6: 2.41 | K6: /m2 | M6: 0
B7: Microrrevestimento | C7: 381772.78 | D7: 5783857.6 | E7: 0 | F7: 0 | G7: 5783857.6 | H7: 381772.78 | I7: =H7*$I$1 -> 125985.02 | J7: 2.75 | K7: /m2 | M7: 378316.38
B8: Selagem de Trincas | C8: 9634.935 | D8: 28037.661 | E8: 0 | F8: 0 | G8: 28037.661 | H8: 9634.935 | I8: =H8*$I$1 -> 3179.5285 | J8: 15.15 | K8: /m2
B9: Remendo | C9: 52919.037 | D9: 5294549.7 | E9: 0 | F9: 0 | G9: 5294549.7 | H9: 52919.037 | I9: =H9*$I$1 -> 17463.282 | J9: 2.91 | K9: /ml
B10: Remendo profundo | C10: 15065.705 | D10: 1740390.2 | E10: 0 | F10: 0 | G10: 1740390.2 | H10: 15065.705 | I10: =H10*$I$1 -> 4971.6827 | J10: 100.05 | K10: /m2
B11: Recapeamento (5 cm) | C11: 20396.388 | D11: 930687.16 | E11: 134171.19 | F11: 6122231.5 | G11: 7052918.7 | H11: 154567.58 | I11: =H11*$I$1 -> 51007.301 | J11: 115.52 | K11: /m2
B12: Recap. (5 cm) + remendo prof. | C12: 18033.972 | D12: 1100974 | E12: 0 | F12: 0 | G12: 1100974 | H12: 18033.972 | I12: =H12*$I$1 -> 5951.2109 | J12: 45.63 | K12: /m2
B13: Recap. (7,5 cm) + remendo prof. | C13: 1808.1625 | D13: 151777.16 | E13: 35371.335 | F13: 2969069.9 | G13: 3120847 | H13: 37179.497 | I13: =H13*$I$1 -> 12269.234 | J13: 61.05 | K13: /m2
B14: Recap. (10 cm) + remendo prof. | C14: 424.0125 | D14: 46984.825 | E14: 275264.14 | F14: 30502020 | G14: 30549005 | H14: 275688.16 | I14: =H14*$I$1 -> 90977.092 | J14: 83.94 | K14: /m2
B15: Reconstrução (5 cm) | C15: 1530.2625 | D15: 123599.3 | E15: 0 | F15: 0 | G15: 123599.3 | H15: 1530.2625 | I15: =H15*$I$1 -> 504.98663 | J15: 110.81 | K15: /m2
B16: Reconstrução (7,5 cm) | C16: 31.875 | D16: 3528.2438 | E16: 42625.388 | F16: 4718204.1 | G16: 4721732.4 | H16: 42657.263 | I16: =H16*$I$1 -> 14076.897 | J16: 80.77 | K16: /m2
B17: Reconstrução (10 cm) | C17: 0 | D17: 0 | E17: 10211.088 | F17: 1545958.6 | G17: 1545958.6 | H17: 10211.088 | I17: =H17*$I$1 -> 3369.6589 | J17: 110.69 | K17: /m2
B18: Baia de ônibus | C18: 0 | D18: 0 | E18: 7468.5 | F18: 1226178.3 | G18: 1226178.3 | H18: 7468.5 | I18: =H18*$I$1 -> 2464.605 | J18: 151.4 | K18: /m2
B19: TOTAL: | C19: 1265162.7 | D19: 17174333 | E19: 505111.65 | F19: 47083662 | G19: 64257996 | H19: 1770274.3 | I19: =SUM(I5:I18) -> 584190.53 | J19: 164.18 | K19: /m2
B21: LOTE 2 - Asa Sul
B22: Atividade de M&R | C22: Área SGPU (m²) | D22: Custo estimado | E22: Área Projetos (m²) | F22: Custo estimado | G22: CUSTO TOTAL | H22: ÁREA TOTAL | I22: ÁREA TOTAL PARA UM ANO
B23: Lama Asfáltica | C23: 381772.78 | D23: 920072.4 | E23: 0 | F23: 0 | G23: 920072.4 | H23: 381772.78 | I23: =H23*$I$1 -> 125985.02 | M23: 1592967.8
B24: Capa Selante | C24: 381772.78 | D24: 1049875.1 | E24: 0 | F24: 0 | G24: 1049875.1 | H24: 381772.78 | I24: =H24*$I$1 -> 125985.02 | M24: 4269.98
B25: Microrrevestimento | C25: 381772.78 | D25: 5783857.6 | E25: 0 | F25: 0 | G25: 5783857.6 | H25: 381772.78 | I25: =H25*$I$1 -> 125985.02 | M25: 121131.84
B26: Selagem de Trincas | C26: 9634.935 | D26: 28037.661 | E26: 0 | F26: 0 | G26: 28037.661 | H26: 9634.935 | I26: =H26*$I$1 -> 3179.5285
B27: Remendo | C27: 52919.037 | D27: 5294549.7 | E27: 0 | F27: 0 | G27: 5294549.7 | H27: 52919.037 | I27: =H27*$I$1 -> 17463.282
B28: Remendo profundo | C28: 15065.705 | D28: 1740390.2 | E28: 0 | F28: 0 | G28: 1740390.2 | H28: 15065.705 | I28: =H28*$I$1 -> 4971.6827
B29: Recapeamento (5 cm) | C29: 20396.388 | D29: 930687.16 | E29: 43460.987 | F29: 1983124.9 | G29: 2913812 | H29: 63857.375 | I29: =H29*$I$1 -> 21072.934
B30: Recap. (5 cm) + remendo prof. | C30: 18033.972 | D30: 1100974 | E30: 0 | F30: 0 | G30: 1100974 | H30: 18033.972 | I30: =H30*$I$1 -> 5951.2109
B31: Recap. (7,5 cm) + remendo prof. | C31: 1808.1625 | D31: 151777.16 | E31: 9803.96 | F31: 822944.4 | G31: 974721.56 | H31: 11612.122 | I31: =H31*$I$1 -> 3832.0004
B32: Recap. (10 cm) + remendo prof. | C32: 424.0125 | D32: 46984.825 | E32: 413929.31 | F32: 45867507 | G32: 45914492 | H32: 414353.32 | I32: =H32*$I$1 -> 136736.6
B33: Reconstrução (5 cm) | C33: 1530.2625 | D33: 123599.3 | E33: 0 | F33: 0 | G33: 123599.3 | H33: 1530.2625 | I33: =H33*$I$1 -> 504.98663
B34: Reconstrução (7,5 cm) | C34: 31.875 | D34: 3528.2438 | E34: 0 | F34: 0 | G34: 3528.2438 | H34: 31.875 | I34: =H34*$I$1 -> 10.51875
B35: Reconstrução (10 cm) | C35: 0 | D35: 0 | E35: 36588.5 | F35: 5539498.9 | G35: 5539498.9 | H35: 36588.5 | I35: =H35*$I$1 -> 12074.205
B36: Baia de ônibus | C36: 0 | D36: 0 | E36: 8420 | F36: 1382395.6 | G36: 1382395.6 | H36: 8420 | I36: =H36*$I$1 -> 2778.6
B37: TOTAL: | C37: 1265162.7 | D37: 17174333 | E37: 512202.76 | F37: 55595471 | G37: 72769804 | H37: 1777365.4 | I37: =SUM(I23:I36) -> 586530.6
B39: LOTE 3 - Taguatinga, Águas Claras, Arniqueira, SCIA, Vicente Pires
B40: Atividade de M&R | C40: Área SGPU (m²) | D40: Custo estimado | E40: Área Projetos (m²) | F40: Custo estimado | G40: CUSTO TOTAL | H40: ÁREA TOTAL (m²) | I40: ÁREA TOTAL PARA UM ANO
B41: Lama Asfáltica | C41: 774999.09 | D41: 1867747.8 | E41: 0 | F41: 0 | G41: 1867747.8 | H41: 774999.09 | I41: =H41*$I$1 -> 255749.7 | M41: 2854976.1
B42: Capa Selante | C42: 774999.09 | D42: 2131247.5 | E42: 0 | F42: 0 | G42: 2131247.5 | H42: 774999.09 | I42: =H42*$I$1 -> 255749.7 | M42: 0
B43: Microrrevestimento | C43: 774999.09 | D43: 11741236 | E43: 0 | F43: 0 | G43: 11741236 | H43: 774999.09 | I43: =H43*$I$1 -> 255749.7 | M43: 174931.27
...

Sheet RESUMO DAS ATIVIDADES - NORMAL
C1: RESUMO DAS ATIVIDADES
G2: BDI
C3: =capa!A22 -> SEM DESONERAÇÃO | G3: ='ESTIMATIVA DE PREÇOS'!C47 -> 0.182
C5: =capa!A15 -> LOTE 3 - Asa Norte
C6: MANUTENÇÃO DE VIAS
B7: CÓDIGO | C7: DESCRIÇÃO | D7: NORMAL | E7: normal | F7: NORMAL COM BDI | G7: CUSTO/ m2 NORMAL
A9: 35 | B9: 1.A | C9: MICRORREVESTIMENTO | D9: ='ESTIMATIVA DE PREÇOS'!#REF! -> #REF! | E9: =D9-E10 -> #REF! | F9: =E9*(1+$G$3)+E10 -> #REF! | G9: ='ESTIMATIVA DE PREÇOS'!#REF! -> #REF!
E10: ='ESTIMATIVA DE PREÇOS'!#REF! -> #REF!
A11: 32 | B11: 1.B | C11: CAPA SELANTE | D11: ='ESTIMATIVA DE PREÇOS'!#REF! -> #REF! | E11: =D11-E12 -> #REF! | F11: =E11*(1+$G$3)+E12 -> #REF! | G11: ='ESTIMATIVA DE PREÇOS'!#REF! -> #REF!
E12: ='ESTIMATIVA DE PREÇOS'!#REF! -> #REF!
A13: 34 | B13: 1.C | C13: LAMA ASFÁLTICA | D13: ='ESTIMATIVA DE PREÇOS'!#REF! -> #REF! | E13: =D13-E14 -> #REF! | F13: =E13*(1+$G$3)+E14 -> #REF! | G13: ='ESTIMATIVA DE PREÇOS'!#REF! -> #REF!
E14: ='ESTIMATIVA DE PREÇOS'!#REF! -> #REF!
A15: 8 | B15: 2.A | C15: SELAGEM DE TRINCAS | D15: ='ESTIMATIVA DE PREÇOS'!#REF! -> #REF! | E15: =D15-E16 -> #REF! | F15: =E15*(1+$G$3)+E16 -> #REF! | G15: ='ESTIMATIVA DE PREÇOS'!#REF! -> #REF!
E16: ='ESTIMATIVA DE PREÇOS'!#REF! -> #REF!
A17: 29 | B17: 2.B | C17: TAPA BURACO (inclui COLOCAÇÃO E COMPACTAÇÃO DO CBUQ) | D17: ='ESTIMATIVA DE PREÇOS'!#REF! -> #REF! | E17: =D17-E18 -> #REF! | F17: =E17*(1+$G$3)+E18 -> #REF! | G17: ='ESTIMATIVA DE PREÇOS'!#REF! -> #REF!
E18: ='ESTIMATIVA DE PREÇOS'!#REF!+'ESTIMATIVA DE PREÇOS'!#REF! -> #REF!
A19: 19 | B19: 2.C | C19: REMENDO PROFUNDO | D19: ='ESTIMATIVA DE PREÇOS'!#REF! -> #REF! | E19: =D19-E20 -> #REF! | F19: =E19*(1+$G$3)+E20 -> #REF! | G19: ='ESTIMATIVA DE PREÇOS'!#REF! -> #REF!
E20: ='ESTIMATIVA DE PREÇOS'!#REF!+'ESTIMATIVA DE PREÇOS'!#REF! -> #REF!
A21: 31 | B21: 3.A | C21: FRESAGEM CONTÍNUA COM RECOMPOSIÇÃO DA CAPA (5 cm) | D21: ='ESTIMATIVA DE PREÇOS'!#REF! -> #REF! | E21: =D21-E22 -> #REF! | F21: =E21*(1+$G$3)+E22 -> #REF! | G21: ='ESTIMATIVA DE PREÇOS'!#REF! -> #REF!
E22: ='ESTIMATIVA DE PREÇOS'!#REF!+'ESTIMATIVA DE PREÇOS'!#REF! -> #REF!
A23: 7 | B23: 3.B | C23: FRESAGEM DESCONTÍNUA COM RECOMPOSIÇÃO DA CAPA (5 cm)+ MICRORREVESTIMENTO | D23: ='ESTIMATIVA DE PREÇOS'!#REF! -> #REF! | E23: =D23-E24 -> #REF! | F23: =E23*(1+$G$3)+E24 -> #REF! | G23: ='ESTIMATIVA DE PREÇOS'!#REF! -> #REF!
E24: ='ESTIMATIVA DE PREÇOS'!#REF!+'ESTIMATIVA DE PREÇOS'!F26+'ESTIMATIVA DE PREÇOS'!F21 -> #REF!
A25: 17 | B25: 4.A-L | C25: FRESAGEM CONTÍNUA + RECOMPOSIÇÃO DA CAPA (5 cm) + REMENDO PROFUNDO | D25: ='ESTIMATIVA DE PREÇOS'!#REF! -> #REF! | E25: =D25-E26 -> #REF! | F25: =E25*(1+$G$3)+E26 -> #REF! | G25: ='ESTIMATIVA DE PREÇOS'!#REF! -> #REF!
E26: ='ESTIMATIVA DE PREÇOS'!#REF!+'ESTIMATIVA DE PREÇOS'!#REF!+'ESTIMATIVA DE PREÇOS'!#REF! -> #REF!
A27: 27 | B27: 4.A-M | C27: FRESAGEM CONTÍNUA + RECOMPOSIÇÃO DA CAPA (7,5 cm) + REMENDO PROFUNDO | D27: ='ESTIMATIVA DE PREÇOS'!#REF! -> #REF! | E27: =D27-E28 -> #REF! | F27: =E27*(1+$G$3)+E28 -> #REF! | G27: ='ESTIMATIVA DE PREÇOS'!#REF! -> #REF!
E28: ='ESTIMATIVA DE PREÇOS'!#REF!+'ESTIMATIVA DE PREÇOS'!#REF!+'ESTIMATIVA DE PREÇOS'!#REF! -> #REF!
A29: 30 | B29: 4.A-P | C29: FRESAGEM CONTÍNUA + RECOMPOSIÇÃO DA CAPA (10 cm)+ REMENDO PROFUNDO | D29: ='ESTIMATIVA DE PREÇOS'!#REF! -> #REF! | E29: =D29-E30 -> #REF! | F29: =E29*(1+$G$3)+E30 -> #REF! | G29: ='ESTIMATIVA DE PREÇOS'!#REF! -> #REF!
E30: ='ESTIMATIVA DE PREÇOS'!#REF!+'ESTIMATIVA DE PREÇOS'!#REF!+'ESTIMATIVA DE PREÇOS'!#REF!+'ESTIMATIVA DE PREÇOS'!#REF!+'ESTIMATIVA DE PREÇOS'!#REF! -> #REF!
A31: 22 | B31: 4.B-L | C31: FRESAGEM DESCONTÍNUA + RECOMPOSIÇÃO DA CAPA (5 cm) + REMENDO PROFUNDO + MICRORREVESTIMENTO | D31: ='ESTIMATIVA DE PREÇOS'!#REF! -> #REF! | E31: =D31-E32 -> #REF! | F31: =E31*(1+$G$3)+E32 -> #REF! | G31: ='ESTIMATIVA DE PREÇOS'!#REF! -> #REF!
E32: ='ESTIMATIVA DE PREÇOS'!#REF!+'ESTIMATIVA DE PREÇOS'!#REF!+'ESTIMATIVA DE PREÇOS'!#REF!+'ESTIMATIVA DE PREÇOS'!#REF! -> #REF!
A33: 21 | B33: 4.B-M | C33: FRESAGEM DESCONTÍNUA + RECOMPOSIÇÃO DA CAPA (7,5 cm)+ REMENDO PROFUNDO + MICRORREVESTIMENTO | D33: ='ESTIMATIVA DE PREÇOS'!#REF! -> #REF! | E33: =D33-E34 -> #REF! | F33: =E33*(1+$G$3)+E34 -> #REF! | G33: ='ESTIMATIVA DE PREÇOS'!#REF! -> #REF!
E34: ='ESTIMATIVA DE PREÇOS'!#REF!+'ESTIMATIVA DE PREÇOS'!#REF!+'ESTIMATIVA DE PREÇOS'!#REF!+'ESTIMATIVA DE PREÇOS'!#REF! -> #REF!
A35: 25 | B35: 4.B-P | C35: FRESAGEM DESCONTÍNUA + RECOMPOSIÇÃO DA CAPA (10 cm) + REMENDO PROFUNDO + MICRORREVESTIMENTO | D35: ='ESTIMATIVA DE PREÇOS'!#REF! -> #REF! | E35: =D35-E36 -> #REF! | F35: =E35*(1+$G$3)+E36 -> #REF! | G35: ='ESTIMATIVA DE PREÇOS'!#REF! -> #REF!
E36: ='ESTIMATIVA DE PREÇOS'!#REF!+'ESTIMATIVA DE PREÇOS'!#REF!+'ESTIMATIVA DE PREÇOS'!#REF!+'ESTIMATIVA DE PREÇOS'!#REF!+'ESTIMATIVA DE PREÇOS'!#REF!+'ESTIMATIVA DE PREÇOS'!#REF! -> #REF!
A37: 15 | B37: 5.A.L | C37: RECICLAGEM (capa de 5 cm) | D37: ='ESTIMATIVA DE PREÇOS'!#REF! -> #REF! | E37: =D37-E38 -> #REF! | F37: =E37*(1+$G$3)+E38 -> #REF! | G37: ='ESTIMATIVA DE PREÇOS'!#REF! -> #REF!
E38: ='ESTIMATIVA DE PREÇOS'!#REF!+'ESTIMATIVA DE PREÇOS'!#REF! -> #REF!
A39: 20 | B39: 5.A.M | C39: RECICLAGEM (capa de 7,5 cm) | D39: ='ESTIMATIVA DE PREÇOS'!#REF! -> #REF! | E39: =D39-E40 -> #REF! | F39: =E39*(1+$G$3)+E40 -> #REF! | G39: ='ESTIMATIVA DE PREÇOS'!#REF! -> #REF!
E40: ='ESTIMATIVA DE PREÇOS'!#REF!+'ESTIMATIVA DE PREÇOS'!#REF! -> #REF!
A41: 11 | B41: 5.A.P | C41: RECICLAGEM (capa de 10 cm) | D41: ='ESTIMATIVA DE PREÇOS'!#REF! -> #REF! | E41: =D41-E42 -> #REF! | F41: =E41*(1+$G$3)+E42 -> #REF! | G41: ='ESTIMATIVA DE PREÇOS'!#REF! -> #REF!
E42: ='ESTIMATIVA DE PREÇOS'!#REF!+'ESTIMATIVA DE PREÇOS'!#REF!+'ESTIMATIVA DE PREÇOS'!#REF!+'ESTIMATIVA DE PREÇOS'!#REF!+'ESTIMATIVA DE PREÇOS'!#REF! -> #REF!
...

Sheet RESUMO DAS ATIVIDADES - DOMINGO
C1: RESUMO DAS ATIVIDADES
G2: BDI
C3: =capa!A22 -> SEM DESONERAÇÃO | G3: ='ESTIMATIVA DE PREÇOS'!C47 -> 0.182
C5: =capa!A15 -> LOTE 3 - Asa Norte
C6: MANUTENÇÃO DE VIAS
B7: CÓDIGO | C7: DESCRIÇÃO | D7: DOMINGO | F7: DOMINGO COM BDI
A9: 35 | B9: 1.A | C9: MICRORREVESTIMENTO | D9: ='ESTIMATIVA DE PREÇOS'!#REF! -> #REF! | E9: =D9-E10 -> #REF! | F9: =E9*(1+$G$3)+E10 -> #REF!
E10: ='ESTIMATIVA DE PREÇOS'!#REF! -> #REF!
A11: 32 | B11: 1.B | C11: CAPA SELANTE | D11: ='ESTIMATIVA DE PREÇOS'!#REF! -> #REF! | E11: =D11-E12 -> #REF! | F11: =E11*(1+$G$3)+E12 -> #REF!
E12: ='ESTIMATIVA DE PREÇOS'!#REF! -> #REF!
A13: 34 | B13: 1.C | C13: LAMA ASFÁLTICA | D13: ='ESTIMATIVA DE PREÇOS'!#REF! -> #REF! | E13: =D13-E14 -> #REF! | F13: =E13*(1+$G$3)+E14 -> #REF!
E14: ='ESTIMATIVA DE PREÇOS'!#REF! -> #REF!
A15: 8 | B15: 2.A | C15: SELAGEM DE TRINCAS | D15: ='ESTIMATIVA DE PREÇOS'!#REF! -> #REF! | E15: =D15-E16 -> #REF! | F15: =E15*(1+$G$3)+E16 -> #REF!
E16: ='ESTIMATIVA DE PREÇOS'!#REF! -> #REF!
A17: 29 | B17: 2.B | C17: TAPA BURACO (inclui COLOCAÇÃO E COMPACTAÇÃO DO CBUQ) | D17: ='ESTIMATIVA DE PREÇOS'!#REF! -> #REF! | E17: =D17-E18 -> #REF! | F17: =E17*(1+$G$3)+E18 -> #REF!
E18: ='ESTIMATIVA DE PREÇOS'!#REF!+'ESTIMATIVA DE PREÇOS'!#REF! -> #REF!
A19: 19 | B19: 2.C | C19: REMENDO PROFUNDO | D19: ='ESTIMATIVA DE PREÇOS'!#REF! -> #REF! | E19: =D19-E20 -> #REF! | F19: =E19*(1+$G$3)+E20 -> #REF!
E20: ='ESTIMATIVA DE PREÇOS'!#REF!+'ESTIMATIVA DE PREÇOS'!#REF! -> #REF!
A21: 31 | B21: 3.A | C21: FRESAGEM CONTÍNUA COM RECOMPOSIÇÃO DA CAPA (5 cm) | D21: ='ESTIMATIVA DE PREÇOS'!#REF! -> #REF! | E21: =D21-E22 -> #REF! | F21: =E21*(1+$G$3)+E22 -> #REF!
E22: ='ESTIMATIVA DE PREÇOS'!#REF!+'ESTIMATIVA DE PREÇOS'!#REF! -> #REF!
A23: 7 | B23: 3.B | C23: FRESAGEM DESCONTÍNUA COM RECOMPOSIÇÃO DA CAPA (5 cm)+ MICRORREVESTIMENTO | D23: ='ESTIMATIVA DE PREÇOS'!#REF! -> #REF! | E23: =D23-E24 -> #REF! | F23: =E23*(1+$G$3)+E24 -> #REF!
E24: ='ESTIMATIVA DE PREÇOS'!#REF! -> #REF!
A25: 17 | B25: 4.A-L | C25: FRESAGEM CONTÍNUA + RECOMPOSIÇÃO DA CAPA (5 cm) + REMENDO PROFUNDO | D25: ='ESTIMATIVA DE PREÇOS'!#REF! -> #REF! | E25: =D25-E26 -> #REF! | F25: =E25*(1+$G$3)+E26 -> #REF!
E26: ='ESTIMATIVA DE PREÇOS'!#REF!+'ESTIMATIVA DE PREÇOS'!#REF!+'ESTIMATIVA DE PREÇOS'!#REF! -> #REF!
A27: 27 | B27: 4.A-M | C27: FRESAGEM CONTÍNUA + RECOMPOSIÇÃO DA CAPA (7,5 cm) + REMENDO PROFUNDO | D27: ='ESTIMATIVA DE PREÇOS'!#REF! -> #REF! | E27: =D27-E28 -> #REF! | F27: =E27*(1+$G$3)+E28 -> #REF!
E28: ='ESTIMATIVA DE PREÇOS'!#REF!+'ESTIMATIVA DE PREÇOS'!#REF!+'ESTIMATIVA DE PREÇOS'!#REF! -> #REF!
A29: 30 | B29: 4.A-P | C29: FRESAGEM CONTÍNUA + RECOMPOSIÇÃO DA CAPA (10 cm)+ REMENDO PROFUNDO | D29: ='ESTIMATIVA DE PREÇOS'!#REF! -> #REF! | E29: =D29-E30 -> #REF! | F29: =E29*(1+$G$3)+E30 -> #REF!
E30: ='ESTIMATIVA DE PREÇOS'!#REF!+'ESTIMATIVA DE PREÇOS'!#REF!+'ESTIMATIVA DE PREÇOS'!#REF!+'ESTIMATIVA DE PREÇOS'!#REF!+'ESTIMATIVA DE PREÇOS'!#REF! -> #REF!
A31: 22 | B31: 4.B-L | C31: FRESAGEM DESCONTÍNUA + RECOMPOSIÇÃO DA CAPA (5 cm) + REMENDO PROFUNDO + MICRORREVESTIMENTO | D31: ='ESTIMATIVA DE PREÇOS'!#REF! -> #REF! | E31: =D31-E32 -> #REF! | F31: =E31*(1+$G$3)+E32 -> #REF!
E32: ='ESTIMATIVA DE PREÇOS'!#REF!+'ESTIMATIVA DE PREÇOS'!#REF!+'ESTIMATIVA DE PREÇOS'!#REF!+'ESTIMATIVA DE PREÇOS'!#REF! -> #REF!
A33: 21 | B33: 4.B-M | C33: FRESAGEM DESCONTÍNUA + RECOMPOSIÇÃO DA CAPA (7,5 cm)+ REMENDO PROFUNDO + MICRORREVESTIMENTO | D33: ='ESTIMATIVA DE PREÇOS'!#REF! -> #REF! | E33: =D33-E34 -> #REF! | F33: =E33*(1+$G$3)+E34 -> #REF!
E34: ='ESTIMATIVA DE PREÇOS'!#REF!+'ESTIMATIVA DE PREÇOS'!#REF!+'ESTIMATIVA DE PREÇOS'!#REF!+'ESTIMATIVA DE PREÇOS'!#REF! -> #REF!
A35: 25 | B35: 4.B-P | C35: FRESAGEM DESCONTÍNUA + RECOMPOSIÇÃO DA CAPA (10 cm) + REMENDO PROFUNDO + MICRORREVESTIMENTO | D35: ='ESTIMATIVA DE PREÇOS'!#REF! -> #REF! | E35: =D35-E36 -> #REF! | F35: =E35*(1+$G$3)+E36 -> #REF!
E36: ='ESTIMATIVA DE PREÇOS'!#REF!+'ESTIMATIVA DE PREÇOS'!#REF!+'ESTIMATIVA DE PREÇOS'!#REF!+'ESTIMATIVA DE PREÇOS'!#REF!+'ESTIMATIVA DE PREÇOS'!#REF!+'ESTIMATIVA DE PREÇOS'!#REF! -> #REF!
A37: 15 | B37: 5.A.L | C37: RECICLAGEM (capa de 5 cm) | D37: ='ESTIMATIVA DE PREÇOS'!#REF! -> #REF! | E37: =D37-E38 -> #REF! | F37: =E37*(1+$G$3)+E38 -> #REF!
E38: ='ESTIMATIVA DE PREÇOS'!#REF!+'ESTIMATIVA DE PREÇOS'!#REF! -> #REF!
A39: 20 | B39: 5.A.M | C39: RECICLAGEM (capa de 7,5 cm) | D39: ='ESTIMATIVA DE PREÇOS'!#REF! -> #REF! | E39: =D39-E40 -> #REF! | F39: =E39*(1+$G$3)+E40 -> #REF!
E40: ='ESTIMATIVA DE PREÇOS'!#REF!+'ESTIMATIVA DE PREÇOS'!#REF! -> #REF!
A41: 11 | B41: 5.A.P | C41: RECICLAGEM (capa de 10 cm) | D41: ='ESTIMATIVA DE PREÇOS'!#REF! -> #REF! | E41: =D41-E42 -> #REF! | F41: =E41*(1+$G$3)+E42 -> #REF!
E42: ='ESTIMATIVA DE PREÇOS'!#REF!+'ESTIMATIVA DE PREÇOS'!#REF!+'ESTIMATIVA DE PREÇOS'!#REF!+'ESTIMATIVA DE PREÇOS'!#REF!+'ESTIMATIVA DE PREÇOS'!#REF! -> #REF!
...

Sheet RESUMO DAS ATIVIDADES - SÁBADO
C1: RESUMO DAS ATIVIDADES
G2: BDI
C3: =capa!A22 -> SEM DESONERAÇÃO | G3: ='ESTIMATIVA DE PREÇOS'!C47 -> 0.182
C5: =capa!A15 -> LOTE 3 - Asa Norte
C6: MANUTENÇÃO DE VIAS
B7: CÓDIGO | C7: DESCRIÇÃO | D7: SÁBADO | F7: SÁBADO COM BDI
A9: 35 | B9: 1.A | C9: MICRORREVESTIMENTO | D9: ='ESTIMATIVA DE PREÇOS'!#REF! -> #REF! | E9: =D9-E10 -> #REF! | F9: =E9*(1+$G$3)+E10 -> #REF!
E10: ='ESTIMATIVA DE PREÇOS'!#REF! -> #REF!
A11: 32 | B11: 1.B | C11: CAPA SELANTE | D11: ='ESTIMATIVA DE PREÇOS'!#REF! -> #REF! | E11: =D11-E12 -> #REF! | F11: =E11*(1+$G$3)+E12 -> #REF!
E12: ='ESTIMATIVA DE PREÇOS'!#REF! -> #REF!
A13: 34 | B13: 1.C | C13: LAMA ASFÁLTICA | D13: ='ESTIMATIVA DE PREÇOS'!#REF! -> #REF! | E13: =D13-E14 -> #REF! | F13: =E13*(1+$G$3)+E14 -> #REF!
E14: ='ESTIMATIVA DE PREÇOS'!#REF! -> #REF!
A15: 8 | B15: 2.A | C15: SELAGEM DE TRINCAS | D15: ='ESTIMATIVA DE PREÇOS'!#REF! -> #REF! | E15: =D15-E16 -> #REF! | F15: =E15*(1+$G$3)+E16 -> #REF!
E16: ='ESTIMATIVA DE PREÇOS'!#REF! -> #REF!
A17: 29 | B17: 2.B | C17: TAPA BURACO (inclui COLOCAÇÃO E COMPACTAÇÃO DO CBUQ) | D17: ='ESTIMATIVA DE PREÇOS'!#REF! -> #REF! | E17: =D17-E18 -> #REF! | F17: =E17*(1+$G$3)+E18 -> #REF!
E18: ='ESTIMATIVA DE PREÇOS'!#REF!+'ESTIMATIVA DE PREÇOS'!#REF! -> #REF!
A19: 19 | B19: 2.C | C19: REMENDO PROFUNDO | D19: ='ESTIMATIVA DE PREÇOS'!#REF! -> #REF! | E19: =D19-E20 -> #REF! | F19: =E19*(1+$G$3)+E20 -> #REF!
E20: ='ESTIMATIVA DE PREÇOS'!#REF!+'ESTIMATIVA DE PREÇOS'!#REF! -> #REF!
A21: 31 | B21: 3.A | C21: FRESAGEM CONTÍNUA COM RECOMPOSIÇÃO DA CAPA (5 cm) | D21: ='ESTIMATIVA DE PREÇOS'!#REF! -> #REF! | E21: =D21-E22 -> #REF! | F21: =E21*(1+$G$3)+E22 -> #REF!
E22: ='ESTIMATIVA DE PREÇOS'!#REF!+'ESTIMATIVA DE PREÇOS'!#REF! -> #REF!
A23: 7 | B23: 3.B | C23: FRESAGEM DESCONTÍNUA COM RECOMPOSIÇÃO DA CAPA (5 cm)+ MICRORREVESTIMENTO | D23: ='ESTIMATIVA DE PREÇOS'!#REF! -> #REF! | E23: =D23-E24 -> #REF! | F23: =E23*(1+$G$3)+E24 -> #REF!
E24: ='ESTIMATIVA DE PREÇOS'!#REF!+'ESTIMATIVA DE PREÇOS'!#REF!+'ESTIMATIVA DE PREÇOS'!#REF! -> #REF!
A25: 17 | B25: 4.A-L | C25: FRESAGEM CONTÍNUA + RECOMPOSIÇÃO DA CAPA (5 cm) + REMENDO PROFUNDO | D25: ='ESTIMATIVA DE PREÇOS'!#REF! -> #REF! | E25: =D25-E26 -> #REF! | F25: =E25*(1+$G$3)+E26 -> #REF!
E26: ='ESTIMATIVA DE PREÇOS'!#REF!+'ESTIMATIVA DE PREÇOS'!#REF!+'ESTIMATIVA DE PREÇOS'!#REF! -> #REF!
A27: 27 | B27: 4.A-M | C27: FRESAGEM CONTÍNUA + RECOMPOSIÇÃO DA CAPA (7,5 cm) + REMENDO PROFUNDO | D27: ='ESTIMATIVA DE PREÇOS'!#REF! -> #REF! | E27: =D27-E28 -> #REF! | F27: =E27*(1+$G$3)+E28 -> #REF!
E28: ='ESTIMATIVA DE PREÇOS'!#REF!+'ESTIMATIVA DE PREÇOS'!#REF!+'ESTIMATIVA DE PREÇOS'!#REF! -> #REF!
A29: 30 | B29: 4.A-P | C29: FRESAGEM CONTÍNUA + RECOMPOSIÇÃO DA CAPA (10 cm)+ REMENDO PROFUNDO | D29: ='ESTIMATIVA DE PREÇOS'!#REF! -> #REF! | E29: =D29-E30 -> #REF! | F29: =E29*(1+$G$3)+E30 -> #REF!
E30: ='ESTIMATIVA DE PREÇOS'!#REF!+'ESTIMATIVA DE PREÇOS'!#REF!+'ESTIMATIVA DE PREÇOS'!#REF!+'ESTIMATIVA DE PREÇOS'!#REF!+'ESTIMATIVA DE PREÇOS'!#REF! -> #REF!
A31: 22 | B31: 4.B-L | C31: FRESAGEM DESCONTÍNUA + RECOMPOSIÇÃO DA CAPA (5 cm) + REMENDO PROFUNDO + MICRORREVESTIMENTO | D31: ='ESTIMATIVA DE PREÇOS'!#REF! -> #REF! | E31: =D31-E32 -> #REF! | F31: =E31*(1+$G$3)+E32 -> #REF!
E32: ='ESTIMATIVA DE PREÇOS'!#REF!+'ESTIMATIVA DE PREÇOS'!#REF!+'ESTIMATIVA DE PREÇOS'!#REF!+'ESTIMATIVA DE PREÇOS'!#REF! -> #REF!
A33: 21 | B33: 4.B-M | C33: FRESAGEM DESCONTÍNUA + RECOMPOSIÇÃO DA CAPA (7,5 cm)+ REMENDO PROFUNDO + MICRORREVESTIMENTO | D33: ='ESTIMATIVA DE PREÇOS'!#REF! -> #REF! | E33: =D33-E34 -> #REF! | F33: =E33*(1+$G$3)+E34 -> #REF!
E34: ='ESTIMATIVA DE PREÇOS'!#REF!+'ESTIMATIVA DE PREÇOS'!#REF!+'ESTIMATIVA DE PREÇOS'!#REF!+'ESTIMATIVA DE PREÇOS'!#REF! -> #REF!
A35: 25 | B35: 4.B-P | C35: FRESAGEM DESCONTÍNUA + RECOMPOSIÇÃO DA CAPA (10 cm) + REMENDO PROFUNDO + MICRORREVESTIMENTO | D35: ='ESTIMATIVA DE PREÇOS'!#REF! -> #REF! | E35: =D35-E36 -> #REF! | F35: =E35*(1+$G$3)+E36 -> #REF!
E36: ='ESTIMATIVA DE PREÇOS'!#REF!+'ESTIMATIVA DE PREÇOS'!#REF!+'ESTIMATIVA DE PREÇOS'!#REF!+'ESTIMATIVA DE PREÇOS'!#REF!+'ESTIMATIVA DE PREÇOS'!#REF!+'ESTIMATIVA DE PREÇOS'!#REF! -> #REF!
A37: 15 | B37: 5.A.L | C37: RECICLAGEM (capa de 5 cm) | D37: ='ESTIMATIVA DE PREÇOS'!#REF! -> #REF! | E37: =D37-E38 -> #REF! | F37: =E37*(1+$G$3)+E38 -> #REF!
E38: ='ESTIMATIVA DE PREÇOS'!#REF!+'ESTIMATIVA DE PREÇOS'!#REF! -> #REF!
A39: 20 | B39: 5.A.M | C39: RECICLAGEM (capa de 7,5 cm) | D39: ='ESTIMATIVA DE PREÇOS'!#REF! -> #REF! | E39: =D39-E40 -> #REF! | F39: =E39*(1+$G$3)+E40 -> #REF!
E40: ='ESTIMATIVA DE PREÇOS'!#REF!+'ESTIMATIVA DE PREÇOS'!#REF! -> #REF!
A41: 11 | B41: 5.A.P | C41: RECICLAGEM (capa de 10 cm) | D41: ='ESTIMATIVA DE PREÇOS'!#REF! -> #REF! | E41: =D41-E42 -> #REF! | F41: =E41*(1+$G$3)+E42 -> #REF!
E42: ='ESTIMATIVA DE PREÇOS'!#REF!+'ESTIMATIVA DE PREÇOS'!#REF!+'ESTIMATIVA DE PREÇOS'!#REF!+'ESTIMATIVA DE PREÇOS'!#REF!+'ESTIMATIVA DE PREÇOS'!#REF! -> #REF!
...

Sheet RESUMO DAS ATIVIDADES - NOTURNO
C1: RESUMO DAS ATIVIDADES
G2: BDI
C3: =capa!A22 -> SEM DESONERAÇÃO | G3: ='ESTIMATIVA DE PREÇOS'!C47 -> 0.182
C5: =capa!A15 -> LOTE 3 - Asa Norte
C6: MANUTENÇÃO DE VIAS
B7: CÓDIGO | C7: DESCRIÇÃO | D7: NOTURNO | F7: NOTURNO COM BDI
A9: 35 | B9: 1.A | C9: MICRORREVESTIMENTO | D9: ='ESTIMATIVA DE PREÇOS'!#REF! -> #REF! | E9: =D9-E10 -> #REF! | F9: =E9*(1+$G$3)+E10 -> #REF!
E10: ='ESTIMATIVA DE PREÇOS'!#REF! -> #REF!
A11: 32 | B11: 1.B | C11: CAPA SELANTE | D11: ='ESTIMATIVA DE PREÇOS'!#REF! -> #REF! | E11: =D11-E12 -> #REF! | F11: =E11*(1+$G$3)+E12 -> #REF!
E12: ='ESTIMATIVA DE PREÇOS'!#REF! -> #REF!
A13: 34 | B13: 1.C | C13: LAMA ASFÁLTICA | D13: ='ESTIMATIVA DE PREÇOS'!#REF! -> #REF! | E13: =D13-E14 -> #REF! | F13: =E13*(1+$G$3)+E14 -> #REF!
E14: ='ESTIMATIVA DE PREÇOS'!#REF! -> #REF!
A15: 8 | B15: 2.A | C15: SELAGEM DE TRINCAS | D15: ='ESTIMATIVA DE PREÇOS'!#REF! -> #REF! | E15: =D15-E16 -> #REF! | F15: =E15*(1+$G$3)+E16 -> #REF!
E16: ='ESTIMATIVA DE PREÇOS'!#REF! -> #REF!
A17: 29 | B17: 2.B | C17: TAPA BURACO (inclui COLOCAÇÃO E COMPACTAÇÃO DO CBUQ) | D17: ='ESTIMATIVA DE PREÇOS'!#REF! -> #REF! | E17: =D17-E18 -> #REF! | F17: =E17*(1+$G$3)+E18 -> #REF!
E18: ='ESTIMATIVA DE PREÇOS'!#REF!+'ESTIMATIVA DE PREÇOS'!#REF! -> #REF!
A19: 19 | B19: 2.C | C19: REMENDO PROFUNDO | D19: ='ESTIMATIVA DE PREÇOS'!#REF! -> #REF! | E19: =D19-E20 -> #REF! | F19: =E19*(1+$G$3)+E20 -> #REF!
E20: ='ESTIMATIVA DE PREÇOS'!#REF!+'ESTIMATIVA DE PREÇOS'!#REF! -> #REF!
A21: 31 | B21: 3.A | C21: FRESAGEM CONTÍNUA COM RECOMPOSIÇÃO DA CAPA (5 cm) | D21: ='ESTIMATIVA DE PREÇOS'!#REF! -> #REF! | E21: =D21-E22 -> #REF! | F21: =E21*(1+$G$3)+E22 -> #REF!
E22: ='ESTIMATIVA DE PREÇOS'!#REF!+'ESTIMATIVA DE PREÇOS'!#REF! -> #REF!
A23: 7 | B23: 3.B | C23: FRESAGEM DESCONTÍNUA COM RECOMPOSIÇÃO DA CAPA (5 cm)+ MICRORREVESTIMENTO | D23: ='ESTIMATIVA DE PREÇOS'!#REF! -> #REF! | E23: =D23-E24 -> #REF! | F23: =E23*(1+$G$3)+E24 -> #REF!
E24: ='ESTIMATIVA DE PREÇOS'!#REF!+'ESTIMATIVA DE PREÇOS'!#REF!+'ESTIMATIVA DE PREÇOS'!#REF! -> #REF!
A25: 17 | B25: 4.A-L | C25: FRESAGEM CONTÍNUA + RECOMPOSIÇÃO DA CAPA (5 cm) + REMENDO PROFUNDO | D25: ='ESTIMATIVA DE PREÇOS'!#REF! -> #REF! | E25: =D25-E26 -> #REF! | F25: =E25*(1+$G$3)+E26 -> #REF!
E26: ='ESTIMATIVA DE PREÇOS'!#REF!+'ESTIMATIVA DE PREÇOS'!#REF!+'ESTIMATIVA DE PREÇOS'!#REF! -> #REF!
A27: 27 | B27: 4.A-M | C27: FRESAGEM CONTÍNUA + RECOMPOSIÇÃO DA CAPA (7,5 cm) + REMENDO PROFUNDO | D27: ='ESTIMATIVA DE PREÇOS'!#REF! -> #REF! | E27: =D27-E28 -> #REF! | F27: =E27*(1+$G$3)+E28 -> #REF!
E28: ='ESTIMATIVA DE PREÇOS'!#REF!+'ESTIMATIVA DE PREÇOS'!#REF!+'ESTIMATIVA DE PREÇOS'!#REF! -> #REF!
A29: 30 | B29: 4.A-P | C29: FRESAGEM CONTÍNUA + RECOMPOSIÇÃO DA CAPA (10 cm)+ REMENDO PROFUNDO | D29: ='ESTIMATIVA DE PREÇOS'!#REF! -> #REF! | E29: =D29-E30 -> #REF! | F29: =E29*(1+$G$3)+E30 -> #REF!
E30: ='ESTIMATIVA DE PREÇOS'!#REF!+'ESTIMATIVA DE PREÇOS'!#REF!+'ESTIMATIVA DE PREÇOS'!#REF!+'ESTIMATIVA DE PREÇOS'!#REF!+'ESTIMATIVA DE PREÇOS'!#REF! -> #REF!
A31: 22 | B31: 4.B-L | C31: FRESAGEM DESCONTÍNUA + RECOMPOSIÇÃO DA CAPA (5 cm) + REMENDO PROFUNDO + MICRORREVESTIMENTO | D31: ='ESTIMATIVA DE PREÇOS'!#REF! -> #REF! | E31: =D31-E32 -> #REF! | F31: =E31*(1+$G$3)+E32 -> #REF!
E32: ='ESTIMATIVA DE PREÇOS'!#REF!+'ESTIMATIVA DE PREÇOS'!#REF!+'ESTIMATIVA DE PREÇOS'!#REF!+'ESTIMATIVA DE PREÇOS'!#REF! -> #REF!
A33: 21 | B33: 4.B-M | C33: FRESAGEM DESCONTÍNUA + RECOMPOSIÇÃO DA CAPA (7,5 cm)+ REMENDO PROFUNDO + MICRORREVESTIMENTO | D33: ='ESTIMATIVA DE PREÇOS'!#REF! -> #REF! | E33: =D33-E34 -> #REF! | F33: =E33*(1+$G$3)+E34 -> #REF!
E34: ='ESTIMATIVA DE PREÇOS'!#REF!+'ESTIMATIVA DE PREÇOS'!#REF!+'ESTIMATIVA DE PREÇOS'!#REF!+'ESTIMATIVA DE PREÇOS'!#REF! -> #REF!
A35: 25 | B35: 4.B-P | C35: FRESAGEM DESCONTÍNUA + RECOMPOSIÇÃO DA CAPA (10 cm) + REMENDO PROFUNDO + MICRORREVESTIMENTO | D35: ='ESTIMATIVA DE PREÇOS'!#REF! -> #REF! | E35: =D35-E36 -> #REF! | F35: =E35*(1+$G$3)+E36 -> #REF!
E36: ='ESTIMATIVA DE PREÇOS'!#REF!+'ESTIMATIVA DE PREÇOS'!#REF!+'ESTIMATIVA DE PREÇOS'!#REF!+'ESTIMATIVA DE PREÇOS'!#REF!+'ESTIMATIVA DE PREÇOS'!#REF!+'ESTIMATIVA DE PREÇOS'!#REF! -> #REF!
A37: 15 | B37: 5.A.L | C37: RECICLAGEM (capa de 5 cm) | D37: ='ESTIMATIVA DE PREÇOS'!#REF! -> #REF! | E37: =D37-E38 -> #REF! | F37: =E37*(1+$G$3)+E38 -> #REF!
E38: ='ESTIMATIVA DE PREÇOS'!#REF!+'ESTIMATIVA DE PREÇOS'!#REF! -> #REF!
A39: 20 | B39: 5.A.M | C39: RECICLAGEM (capa de 7,5 cm) | D39: ='ESTIMATIVA DE PREÇOS'!#REF! -> #REF! | E39: =D39-E40 -> #REF! | F39: =E39*(1+$G$3)+E40 -> #REF!
E40: ='ESTIMATIVA DE PREÇOS'!#REF!+'ESTIMATIVA DE PREÇOS'!#REF! -> #REF!
A41: 11 | B41: 5.A.P | C41: RECICLAGEM (capa de 10 cm) | D41: ='ESTIMATIVA DE PREÇOS'!#REF! -> #REF! | E41: =D41-E42 -> #REF! | F41: =E41*(1+$G$3)+E42 -> #REF!
E42: ='ESTIMATIVA DE PREÇOS'!#REF!+'ESTIMATIVA DE PREÇOS'!#REF!+'ESTIMATIVA DE PREÇOS'!#REF!+'ESTIMATIVA DE PREÇOS'!#REF!+'ESTIMATIVA DE PREÇOS'!#REF! -> #REF!
...

Sheet PROJETO
C2: =capa!A15 -> LOTE 3 - Asa Norte
C3: =capa!A19 -> INTERESSADO: PROCESSO 00112-00012738/2021-12
C6: PROJETOS
B7: Cód. | C7: Descrição do serviço | D7: Und. | E7: R$ unt. | F7: Índice | H7: R$ Total
A9: 10900 | B9: LEVANTAMENTO PLANIMÉTRICO CADASTRAL | G9: M2 | I9: =SUM(H10:H16) -> #REF! | J9: =I9*#REF! -> #REF!
B10: 88253 | C10: =VLOOKUP($B10,#REF!,2,FALSE) -> #REF! | D10: =VLOOKUP($B10,#REF!,3,FALSE) -> #REF! | E10: =VLOOKUP($B10,#REF!,5,FALSE) -> #REF! | F10: 0.0055 | H10: =F10*E10 -> #REF!
B11: 88258 | C11: =VLOOKUP($B11,#REF!,2,FALSE) -> #REF! | D11: =VLOOKUP($B11,#REF!,3,FALSE) -> #REF! | E11: =VLOOKUP($B11,#REF!,5,FALSE) -> #REF! | F11: 0.001 | H11: =F11*E11 -> #REF!
B12: 88597 | C12: =VLOOKUP($B12,#REF!,2,FALSE) -> #REF! | D12: =VLOOKUP($B12,#REF!,3,FALSE) -> #REF! | E12: =VLOOKUP($B12,#REF!,5,FALSE) -> #REF! | F12: 0.002 | H12: =F12*E12 -> #REF!
B13: 90781 | C13: =VLOOKUP($B13,#REF!,2,FALSE) -> #REF! | D13: =VLOOKUP($B13,#REF!,3,FALSE) -> #REF! | E13: =VLOOKUP($B13,#REF!,5,FALSE) -> #REF! | F13: 0.0027 | H13: =F13*E13 -> #REF!
B14: 7247 | C14: =VLOOKUP($B14,#REF!,2,FALSE) -> #REF! | D14: =VLOOKUP($B14,#REF!,3,FALSE) -> #REF! | E14: =VLOOKUP($B14,#REF!,5,FALSE) -> #REF! | F14: 0.0027 | H14: =F14*E14 -> #REF!
B15: 94298/PMS | C15: =VLOOKUP($B15,#REF!,2,FALSE) -> #REF! | D15: =VLOOKUP($B15,#REF!,3,FALSE) -> #REF! | E15: =VLOOKUP($B15,#REF!,5,FALSE) -> #REF! | F15: 0.0016 | H15: =F15*E15 -> #REF!
F17: Quantidade
A18: DAER - RS | B18: 10.9 - DAER - RS | C18: Viga Benkelman - Levantamento por pista de 20 em 20 m, alterando a faixa | D18: km pista | E18: 633.16 | F18: =#REF! -> #REF! | G18: =F18*E18 -> #REF!
B19: 10.11 - DAER - RS | C19: Inventário de superfície - DNIT PRO 06/2004 | D19: km pista | E19: 300.63
B20: 1.3 - DAER - RS | C20: Estudo de tráfego - um posto (contagem de tres dias úteis e consecutivos - 24 h e cálculo n° n) - tráfego baixo <= 1500 | D20: und | E20: 9334.69 | F20: =#REF!/2 -> #REF! | G20: =F20*E20 -> #REF! | H20: =G20/20 -> #REF!
B22: 10900 | C22: LEVANTAMENTO PLANIMÉTRICO CADASTRAL
B23: 1134 | C23: AJUDANTE OU AUXILIAR DE TOPOGRAFIA (SGSP) | D23: H | E23: 22.8 | F23: 0.0055
B24: 1158 | C24: DESENHISTA CADISTA (SGSP) | D24: H | E24: 49.08 | F24: 0.001
B25: 1163 | C25: DESENHISTA DE TOPOGRAFIA - NÍVEL TÉCNICO (SGSP) | D25: H | E25: 47.68 | F25: 0.002
B26: 1181 | C26: TOPÓGRAFO (SGSP) | D26: H | E26: 70.01 | F26: 0.0027
B27: 94286 | C27: TEODOLITO COM PRECISÃO DE 10 SEGUNDOS | D27: H | E27: 0.67 | F27: 0.0027
B28: 94298 | C28: FURGÃO LONGO, TETO ALTO 50% EM OPERAÇÃO | D28: H | E28: 48.03 | F28: 0.0016

Sheet Avaliação Preliminar
B1: AVALIAÇÃO PRELIMINAR | E1: (Em 3 anos)
A2: 93567 | B2: =VLOOKUP($A2,#REF!,2,FALSE) -> #REF! | C2: =VLOOKUP($A2,#REF!,3,FALSE) -> #REF! | D2: =((#REF!/C9)/C10)*C11 -> #REF! | E2: =VLOOKUP($A2,#REF!,5,FALSE) -> #REF! | F2: =D2*E2 -> #REF! | G2: 50% DE TEMPO DE SERVIÇO (OBRA URBANA)
A3: P9804/SICRO | B3: =VLOOKUP($A3,#REF!,2,FALSE) -> #REF! | C3: =VLOOKUP($A3,#REF!,3,FALSE) -> #REF! | D3: =#REF!/C9/C10 -> #REF! | E3: =VLOOKUP($A3,#REF!,5,FALSE) -> #REF! | F3: =D3*E3 -> #REF! | G3: A quantidade de profissional é em função da quantidade de serviços a serem executadas, tendo como referência o Manual de Custos de infraestrutura de transportes do DNIT - Anexo 04/2017
F4: =SUM(F2:F3) -> #REF!
F5: =0.02*F4 -> #REF!
F6: =F4/'ESTIMATIVA DE PREÇOS'!F44 -> #REF!
B8: Produtividade
B9: Produtividade do técnico de avaliação | C9: 2 | D9: km/dia
B10: Dias úteis em um mês | C10: 22 | D10: dias
B11: Proporção do Engenheiro Civil Pleno | C11: 0.5
B13: Estimado, conforme trabalhos da NOVACAP (Com o apoio da DIATEC)

Sheet Resumo R$ m2 (2)
B1: ESTIMATIVA DE PREÇOS
C6: MANUTENÇÃO DE VIAS | F6: COM DESONERAÇÃO
B7: CÓDIGO | C7: DESCRIÇÃO | D7: UNIDADE | E7: QUANTIDADE | F7: CUSTO UNITÁRIO | G7: CUSTO TOTAL
C8: PREMISSAS:
C9: ESPESSURA DO REVESTIMENTO - (LEVE) | D9: 5 | E9: cm
C10: ESPESSURA DO REVESTIMENTO - (MÉDIO) | D10: 7.5 | E10: cm
C11: ESPESSURA DO REVESTIMENTO - (PESADO) | D11: 10 | E11: cm
C12: ESPESSURA DE RECICLAGEM | D12: 25 | E12: cm
C13: ESPESSURA DO REMENDO (SOMENTE CAPA) | D13: 10 | E13: cm
C14: ESPESSURA DO REMENDO PROFUNDO (CAPA + BASE) | D14: 25 | E14: cm
C15: ÁREA DE REMENDO PROFUNDO ESTIMADA PARA RECAPEAMENTO | D15: 0.3
C16: PROPORÇÃO DAS FRESAGENS: CONTÍNUA | D16: 0.7
C17: PROPORÇÃO DAS FRESAGENS: DESCONTÍNUA | D17: 0.3
C18: ÁREA DE RECAPEAMENTO NA FRESAGEM DESCONTÍNUA | D18: 0.5
C19: PROPORÇÃO DAS RECONTRUÇÕES: RECICLAGEM | D19: 0.7
C20: PROPORÇÃO DAS RECONTRUÇÕES: REAPROVEITAMENTO | D20: 0.3
C21: DENSIDADE CAUQ | D21: 2.4 | E21: t/m3
C22: DMT NOVACAP/OBRA | D22: 20 | E22: km
C23: DMT OBRA/BOTA-ESPERA | D23: 10 | E23: km
C24: DMT OBRA/CASCALHEIRA | D24: # | E24: km
B26: CÓDIGO | C26: DESCRIÇÃO DA RECUPERAÇÃO | D26: QUANTIDADE | E26: UNIDADE | F26: CUSTO UNITÁRIO | G26: CUSTO UNITÁRIO (R$/M2)
A27: 35 | C27: BAIA DE ÔNIBUS | D27: 77068.504 | E27: m2 | F27: R$/m2: | G27: ='ESTIMATIVA DE PREÇOS'!#REF! -> #REF! | H27: 141.5
A28: 32 | B28: 5.B.P | C28: RECONSTRUÇÃO DE PAVIMENTO (10 cm) - COM REAPROVEITAMENTO PARCIAL DO SOLO LOCAL | D28: 105356.34 | E28: m2 | F28: R$/m2: | G28: ='ESTIMATIVA DE PREÇOS'!#REF! -> #REF! | H28: 151.39928
A29: 34 | B29: 4.A-P | C29: FRESAGEM CONTÍNUA + RECOMPOSIÇÃO DA CAPA (10 cm)+ REMENDO PROFUNDO | D29: 882494.18 | E29: m2 | F29: R$/m2: | G29: ='ESTIMATIVA DE PREÇOS'!#REF! -> #REF! | H29: 110.81454
A30: 8 | B30: 5.A.P | C30: RECICLAGEM (capa de 10 cm) | D30: 245831.47 | E30: m2 | F30: R$/m2: | G30: ='ESTIMATIVA DE PREÇOS'!#REF! -> #REF! | H30: 112.8335
A31: 29 | B31: 2.C | C31: REMENDO PROFUNDO | D31: 113963.1 | E31: m2 | F31: R$/m2: | G31: ='ESTIMATIVA DE PREÇOS'!#REF! -> #REF! | H31: 115.515
A32: 19 | B32: 5.B.M | C32: RECONSTRUÇÃO DE PAVIMENTO (7,5 cm) - COM REAPROVEITAMENTO PARCIAL DO SOLO LOCAL | D32: 213134.22 | E32: m2 | F32: R$/m2: | G32: ='ESTIMATIVA DE PREÇOS'!#REF! -> #REF! | H32: 110.69086
A33: 31 | B33: 4.B-P | C33: FRESAGEM DESCONTÍNUA + RECOMPOSIÇÃO DA CAPA (10 cm) + REMENDO PROFUNDO + MICRORREVESTIMENTO | D33: 378211.79 | E33: m2 | F33: R$/m2: | G33: ='ESTIMATIVA DE PREÇOS'!#REF! -> #REF! | H33: 78.16777
A34: 7 | B34: 2.B | C34: REPARO LOCALIZADO (INCLUÍDO COLOCAÇÃO E COMPACTAÇÃO DO CBUQ) | D34: 185340.12 | E34: m2 | F34: R$/m2: | G34: ='ESTIMATIVA DE PREÇOS'!#REF! -> #REF! | H34: 100.046
A35: 17 | B35: 4.A-M | C35: FRESAGEM CONTÍNUA + RECOMPOSIÇÃO DA CAPA (7,5 cm) + REMENDO PROFUNDO | D35: 1396655.4 | E35: m2 | F35: R$/m2: | G35: ='ESTIMATIVA DE PREÇOS'!#REF! -> #REF! | H35: 83.939695
A36: 27 | B36: 5.A.M | C36: RECICLAGEM (capa de 7,5 cm) | D36: 497313.19 | E36: m2 | F36: R$/m2: | G36: ='ESTIMATIVA DE PREÇOS'!#REF! -> #REF! | H36: 83.655253
A37: 30 | B37: 5.B.L | C37: RECONSTRUÇÃO DE PAVIMENTO (5 cm) COM REAPROVEITAMENTO PARCIAL DO SOLO LOCAL | D37: 65580.006 | E37: m2 | F37: R$/m2: | G37: ='ESTIMATIVA DE PREÇOS'!#REF! -> #REF! | H37: 80.768737
A38: 22 | B38: 4.B-M | C38: FRESAGEM DESCONTÍNUA + RECOMPOSIÇÃO DA CAPA (7,5 cm)+ REMENDO PROFUNDO + MICRORREVESTIMENTO | D38: 598566.6 | E38: m2 | F38: R$/m2: | G38: ='ESTIMATIVA DE PREÇOS'!#REF! -> #REF! | H38: 64.57722
A39: 21 | B39: 4.A-L | C39: FRESAGEM CONTÍNUA + RECOMPOSIÇÃO DA CAPA (5 cm) + REMENDO PROFUNDO | D39: 675728.43 | E39: m2 | F39: R$/m2: | G39: ='ESTIMATIVA DE PREÇOS'!#REF! -> #REF! | H39: 61.052062
... A42: 20 | B42: 3.A | C42: FRESAGEM CONTÍNUA COM RECOMPOSIÇÃO DA CAPA (5 cm) | D42: 982684.69 | E42: m2 | F42: R$/m2: | G42: ='ESTIMATIVA DE PREÇOS'!#REF! -> #REF! | H42: 45.628602
A43: 11 | B43: 3.B | C43: FRESAGEM DESCONTÍNUA COM RECOMPOSIÇÃO DA CAPA (5 cm)+ MICRORREVESTIMENTO | E43: 421150.58 | F43: R$/m2: | G43: ='ESTIMATIVA DE PREÇOS'!#REF! -> #REF! | H43: 37.116738
A44: 12 | B44: 1.A | C44: MICRORREVESTIMENTO | D44: 1882486.1 | E44: m2 | F44: R$/m2: | G44: ='ESTIMATIVA DE PREÇOS'!#REF! -> #REF! | H44: 13.996187
A45: 2 | B45: 2.A | C45: SELAGEM DE TRINCAS | D45: 3627 | E45: m | F45: R$/m: | G45: ='ESTIMATIVA DE PREÇOS'!#REF! -> #REF! | H45: 2.9081771
A46: 6 | B46: 1.B | C46: CAPA SELANTE | D46: 1882486.1 | E46: m2 | F46: R$/m2: | G46: ='ESTIMATIVA DE PREÇOS'!#REF! -> #REF! | H46: 2.7506183
A47: 3 | B47: 1.C | C47: LAMA ASFÁLTICA | D47: 1882486.1 | E47: m2 | F47: R$/m2: | G47: ='ESTIMATIVA DE PREÇOS'!#REF! -> #REF! | H47: 2.4069022

Sheet Tab Ref (2)
B1: SINAPI DEZEMBRO 2020
B2: NOVACAP 04 / 2020
B3: COM DESONERAÇÃO
A4: CÓDIGO | B4: DESCRIÇÃO | C4: UNIDADE | D4: QUANTIDADE | E4: CUSTO UNITÁRIO
A5: 13255 | B5: 6087 | C5: und | E5: ?
A6: 83627 | B6: 98114 | C6: und | E6: ?
A7: 85180 | B7: SUBSTITUIR POR 98504 e INCLUIR 98520 e 98521 | C7: m2 | E7: ?
A8: 85423 | B8: 85423M | C8: m2 | E8: ?
A9: 85424 | B9: 85424M | C9: m2 | E9: ?
A10: 92970 | B10: 92970M | C10: m2 | E10: ?
A11: 74005/001 | B11: 97084, trocou de m3, para m2 | C11: m3 | E11: ?
A12: 74221/001 | B12: 74221/1M | C12: m | E12: ?
A13: P9897/SICRO | B13: 100321 | C13: mês | E13: ?
A14: P9903/SICRO | B14: 93566 | C14: mês | E14: ?
A15: P9840/SICRO | B15: 93572 | C15: mês | E15: ?
A16: P9893/SICRO | B16: 93572 | C16: mês | E16: ?
A17: P9804/SICRO | B17: 93564 | C17: mês | E17: ?
A18: P9827/SICRO | B18: Vigia (COM ENCARGOS COMPLEMENTARES) | C18: mês | E18: ?
A19: P9949/SICRO | B19: 94296 | C19: mês | E19: ?
A20: P9950/SICRO | B20: 88253M | C20: mês | E20: ?
A21: 85180M | B21: SUBSTITUIR POR 98504M e INCLUIR 98520 e 98521 | C21: m2 | E21: ?
A22: 41089 | B22: 100534 | C22: mês | E22: ?
A23: 41090 | B23: 88249M | C23: mês | E23: ?
A24: 74209/001 | B24: 74209/1M | E24: ?
A25: 5213361M | B25: 5213361M/SICRO | E25: ?
A26: 5213362M | B26: 5213362M/SICRO | E26: ?
A27: 5213414M | B27: 5213414M/SICRO | E27: ?
A28: 5213851M | B28: 5213851M/SICRO | E28: ?
A29: 72962m | B29: 72962M/SINAPI | E29: ?
A30: 96402M | B30: 96402M/SINAPI | E30: ?
A31: C4624M | B31: C4624M/SEINFRA | E31: ?
A32: 72962m - Domingo | B32: 101023M/SINAPI - Domingo | C32: t | E32: ?
A33: 85424 - Domingo | B33: AD 24.05.0500M (/) AD 25.05.0500M (/) SCO-RIO - Domingo | C33: m2 | E33: ?
A34: 92970 - Domingo | B34: 15M/ORSE - Domingo | C34: m2 | E34: ?
A35: P9949/SICRO - Domingo | B35: 94296 - Domingo | C35: mês | E35: ?
A36: 83659M - Domingo | B36: 06-22-04M/PMSP - Domingo | E36: ?
A37: 83659 - Domingo | B37: 06-22-03M/PMSP - Domingo | E37: ?
A38: 83659M/SINAPI - Sábado | B38: 06-22-03M/PMSP - Sábado | E38: ?
A39: 83659DM - Sábado | B39: 06-22-04M/PMSP - Sábado | E39: ?
A40: BLCD/NOVACAP | B40: 06-22-04M/PMSP | C40: und | E40: ?
...

Sheet EXPECIAIS
B1: SINAPI JULHO 2020
B2: NOVACAP 02 / 2020
B3: SEM DESONERAÇÃO | E3: DOMINGO
A4: CÓDIGO | B4: DESCRIÇÃO | C4: UNIDADE | D4: QUANTIDADE | E4: CUSTO UNITÁRIO
A5: 5213414M - Domingo | B5: Confecção de placa em aço nº 16 galvanizado, com película retrorrefletiva tipo I + SI | C5: m2 | E5: 393.85
A6: 5213851M - Domingo | B6: Fornecimento e implantação de suporte metálico galvanizado para placa de regulamentação - D = 0,60 m | C6: Unid. | E6: 208.56
A7: 5213409M/SICRO - Domingo | B7: PINTURA DE SETAS E ZEBRADOS - TERMOPLÁSTICO POR EXTRUSÃO - ESPESSURA DE 3,0 MM | C7: m2 | E7: 81.09
A8: 5213362M - Domingo | B8: TACHÃO REFLETIVO BIDIRECIONAL - FORNECIMENTO E COLOCAÇÃO | C8: und | E8: 37.68
A9: 5213361M - Domingo | B9: TACHÃO REFLETIVO MONODIRECIONAL - FORNECIMENTO E COLOCAÇÃO | C9: und | E9: 36.68
A10: 5213360M/SICRO - Domingo | B10: TACHA REFLETIVA BIDIRECIONAL - FORNECIMENTO E COLOCAÇÃO | C10: und | E10: 16.99
A11: 72947 - Domingo | B11: SINALIZACAO HORIZONTAL COM TINTA RETRORREFLETIVA A BASE DE RESINA ACRILICA COM MICROESFERAS DE VIDRO | C11: m2 | E11: 15.09
A12: 72961 - Domingo | B12: REGULARIZACAO E COMPACTACAO DE SUBLEITO ATE 20 CM DE ESPESSURA | C12: m2 | E12: TROCOU PARA 100576
A13: 95880 - Domingo | B13: TRANSPORTE COM CAMINHÃO BASCULANTE DE 18 M3, EM VIA URBANA PAVIMENTADA, DMT ATÉ 30 KM (UNIDADE: TXKM). AF_12/2016 | C13: t*km | E13: 0.51 | F13: NÃO TEM MÃO DE OBRA
A14: 93568 - Domingo | B14: ENGENHEIRO CIVIL DE OBRA SENIOR COM ENCARGOS COMPLEMENTARES | C14: MÊS | E14: 47737.29
A15: 93567 - Domingo | B15: ENGENHEIRO CIVIL DE OBRA PLENO COM ENCARGOS COMPLEMENTARES | C15: MÊS | E15: 35008.89
A16: 93565 - Domingo | B16: ENGENHEIRO CIVIL DE OBRA JUNIOR COM ENCARGOS COMPLEMENTARES | C16: MÊS | E16: 30797.29
A17: P9893/SICRO - Domingo | B17: Encarregado de pavimentação (COM ENCARGOS COMPLEMENTARES) | C17: MÊS | E17: 14466.177
A18: P9897/SICRO - Domingo | B18: Técnico de meio ambiente (COM ENCARGOS COMPLEMENTARES) | C18: MÊS | E18: 12856.318
A19: P9903/SICRO - Domingo | B19: Auxiliar técnico (COM ENCARGOS COMPLEMENTARES) | C19: MÊS | E19: 7946.3982
A20: 93572 - Domingo | B20: ENCARREGADO GERAL DE OBRAS COM ENCARGOS COMPLEMENTARES | C20: MÊS | E20: 6158.72
A21: 83659 - Domingo | B21: BOCA DE LOBO EM ALVENARIA TIJOLO MACICO, REVESTIDA C/ ARGAMASSA DE CIMENTO E AREIA 1:3, SOBRE LASTRO DE CONCRETO 10CM E TAMPA DE CONCRETO ARMADO | C21: und | E21: 1804.877
A22: 83659M - Domingo | B22: BOCA DE LOBO DUPLA EM ALVENARIA TIJOLO MACICO, REVESTIDA C/ ARGAMASSA DE CIMENTO E AREIA 1:3, SOBRE LASTRO DE CONCRETO 10CM E TAMPA DE CONCRETO ARMADO | C22: und | E22: 1411.0805
A23: 94991 - Domingo | B23: EXECUÇÃO DE PASSEIO (CALÇADA) OU PISO DE CONCRETO COM CONCRETO MOLDADO IN LOCO, USINADO, ACABAMENTO CONVENCIONAL, NÃO ARMADO. AF_07/2016 | C23: m3 | E23: 493.27511
A24: 4915757M - Domingo | B24: Tapa buraco com pintura de ligação - demolição com serra corta piso | C24: m3 | E24: 319.92352
A25: 4915632M/SICRO - Domingo | B25: REPARO LOCALIZADO COM PINTURA DE LIGAÇÃO - DEMOLIÇÃO MECÂNICA E SERRA | C25: m3 | E25: 112.97
... A70: 72844 - Domingo | B70: CARGA, MANOBRAS E DESCARGA DE AREIA, BRITA, PEDRA DE MAO E SOLOS COM CAMINHAO BASCULANTE 6 M3 (DESCARGA LIVRE) | C70: t | E70: 0.634829
B71: SÁBADO
A72: 83659 - Sábado | B72: BOCA DE LOBO EM ALVENARIA TIJOLO MACICO, REVESTIDA C/ ARGAMASSA DE CIMENTO E AREIA 1:3, SOBRE LASTRO DE CONCRETO 10CM E TAMPA DE CONCRETO ARMADO | D72: und | E72: 1620.7886
A73: 83659M - Sábado | B73: BOCA DE LOBO DUPLA EM ALVENARIA TIJOLO MACICO, REVESTIDA C/ ARGAMASSA DE CIMENTO E AREIA 1:3, SOBRE LASTRO DE CONCRETO 10CM E TAMPA DE CONCRETO ARMADO | D73: und | E73: 1411.0805
A74: 94991 - Sábado | B74: EXECUÇÃO DE PASSEIO (CALÇADA) OU PISO DE CONCRETO COM CONCRETO MOLDADO IN LOCO, USINADO, ACABAMENTO CONVENCIONAL, NÃO ARMADO. AF_07/2016 | D74: m3 | E74: 459.19589
A75: 4915746M2/SICRO - Sábado | B75: REMENDO PROFUNDO COM IMPRIMAÇÃO COM ASFALTO DILUÍDO - DEMOLIÇÃO MECÂNICA E SERRA (EXCLUSIVE MATERIAL BETUMINOSO) | D75: m3 | E75: 214.76835
A76: 4011459M/SICRO - Sábado | B76: CONCRETO ASFÁLTICO - FAIXA B - AREIA E BRITA COMERCIAIS | D76: t | E76: 149.34814
A77: 96396 - Sábado | B77: EXECUÇÃO E COMPACTAÇÃO DE BASE E OU SUB BASE COM BRITA GRADUADA SIMPLES - EXCLUSIVE CARGA E TRANSPORTE. AF_09/2017 | D77: m3 | E77: 148.09917
A78: 4011454M/SICRO - Sábado | B78: CONCRETO ASFÁLTICO - FAIXA A - AREIA E BRITA COMERCIAIS | D78: t | E78: 141.98559
A79: C4624M - Sábado | B79: PISO PODOTÁTIL EXTERNO EM CONCRETO, DIRECIONAL E ALERTA, *40 X 40 X 2,5* CM, ASSENTADO COM ARGAMASSA (INCLUSIVE FORNECIMENTO) | D79: m2 | E79: 129.3948
A80: 4011463M/SICRO - Sábado | B80: CONCRETO ASFÁLTICO - FAIXA C - AREIA E BRITA COMERCIAIS (EXCLUSIVE CAP 50/70) | D80: t | E80: 114.7341
A81: 06.21.00M/PMSP - Sábado | B81: LEVANTAMENTO OU REBAIXAMENTO DE TAMPÃO DE POÇO DE VISITA | D81: und | E81: 123.06347
A82: 4915632M/SICRO - Sábado | B82: REPARO LOCALIZADO COM PINTURA DE LIGAÇÃO - DEMOLIÇÃO MECÂNICA E SERRA | D82: m3 | E82: 112.97
A83: 03.PAVI.PAVC.005/01M-SINAPI - Sábado | B83: EXECUÇÃO DE PAVIMENTO DE CONCRETO SIMPLES (PCS), FCK =40 MPA, CAMADA COM ESPESSURA DE 20,0 CM. AF_11/2017 (COM BARRAS DE TRANSFERÊNCIA E TELA) | D83: m2 | E83: 98.798714
... A107: 72844 - Sábado | B107: CARGA, MANOBRAS E DESCARGA DE AREIA, BRITA, PEDRA DE MAO E SOLOS COM CAMINHAO BASCULANTE 6 M3 (DESCARGA LIVRE) | D107: t | E107: 0.604937
...

Sheet Domingo
B1: SINAPI JULHO 2020
B2: NOVACAP 02 / 2020
B3: SEM DESONERAÇÃO | E3: DOMINGO
A4: CÓDIGO | B4: DESCRIÇÃO | C4: UNIDADE | D4: QUANTIDADE | E4: CUSTO UNITÁRIO
A5: 5213414M - Domingo | B5: Confecção de placa em aço nº 16 galvanizado, com película retrorrefletiva tipo I + SI | C5: m2 | E5: 393.85
A6: 5213851M - Domingo | B6: Fornecimento e implantação de suporte metálico galvanizado para placa de regulamentação - D = 0,60 m | C6: Unid. | E6: 208.56
A7: 5213409M/SICRO - Domingo | B7: PINTURA DE SETAS E ZEBRADOS - TERMOPLÁSTICO POR EXTRUSÃO - ESPESSURA DE 3,0 MM | C7: m2 | E7: 81.09
A8: 5213362M - Domingo | B8: TACHÃO REFLETIVO BIDIRECIONAL - FORNECIMENTO E COLOCAÇÃO | C8: und | E8: 37.68
A9: 5213361M - Domingo | B9: TACHÃO REFLETIVO MONODIRECIONAL - FORNECIMENTO E COLOCAÇÃO | C9: und | E9: 36.68
A10: 5213360M/SICRO - Domingo | B10: TACHA REFLETIVA BIDIRECIONAL - FORNECIMENTO E COLOCAÇÃO | C10: und | E10: 16.99
A11: 72947 - Domingo | B11: SINALIZACAO HORIZONTAL COM TINTA RETRORREFLETIVA A BASE DE RESINA ACRILICA COM MICROESFERAS DE VIDRO | C11: m2 | E11: 15.09
A12: 72961 - Domingo | B12: REGULARIZACAO E COMPACTACAO DE SUBLEITO ATE 20 CM DE ESPESSURA | C12: m2 | E12: TROCOU PARA 100576
A13: 95880 - Domingo | B13: TRANSPORTE COM CAMINHÃO BASCULANTE DE 18 M3, EM VIA URBANA PAVIMENTADA, DMT ATÉ 30 KM (UNIDADE: TXKM). AF_12/2016 | C13: t*km | E13: 0.51 | F13: NÃO TEM MÃO DE OBRA
A14: 93568 - Domingo | B14: ENGENHEIRO CIVIL DE OBRA SENIOR COM ENCARGOS COMPLEMENTARES | C14: MÊS | E14: =VLOOKUP($A14,'PLAN DOMINGO'!$A$1:$D$108,4,FALSE) -> 47737.29
A15: 93567 - Domingo | B15: ENGENHEIRO CIVIL DE OBRA PLENO COM ENCARGOS COMPLEMENTARES | C15: MÊS | E15: =VLOOKUP($A15,'PLAN DOMINGO'!$A$1:$D$108,4,FALSE) -> 35008.89
A16: 93565 - Domingo | B16: ENGENHEIRO CIVIL DE OBRA JUNIOR COM ENCARGOS COMPLEMENTARES | C16: MÊS | E16: =VLOOKUP($A16,'PLAN DOMINGO'!$A$1:$D$108,4,FALSE) -> 30797.29
A17: P9893/SICRO - Domingo | B17: Encarregado de pavimentação (COM ENCARGOS COMPLEMENTARES) | C17: MÊS | E17: =VLOOKUP($A17,'PLAN DOMINGO'!$A$1:$D$108,4,FALSE) -> 14466.177
A18: P9897/SICRO - Domingo | B18: Técnico de meio ambiente (COM ENCARGOS COMPLEMENTARES) | C18: MÊS | E18: =VLOOKUP($A18,'PLAN DOMINGO'!$A$1:$D$108,4,FALSE) -> 12856.318
A19: P9903/SICRO - Domingo | B19: Auxiliar técnico (COM ENCARGOS COMPLEMENTARES) | C19: MÊS | E19: =VLOOKUP($A19,'PLAN DOMINGO'!$A$1:$D$108,4,FALSE) -> 7946.3982
A20: 93572 - Domingo | B20: ENCARREGADO GERAL DE OBRAS COM ENCARGOS COMPLEMENTARES | C20: MÊS | E20: =VLOOKUP($A20,'PLAN DOMINGO'!$A$1:$D$108,4,FALSE) -> 6158.72
A21: 83659 - Domingo | B21: BOCA DE LOBO EM ALVENARIA TIJOLO MACICO, REVESTIDA C/ ARGAMASSA DE CIMENTO E AREIA 1:3, SOBRE LASTRO DE CONCRETO 10CM E TAMPA DE CONCRETO ARMADO | C21: und | E21: =VLOOKUP($A21,'PLAN DOMINGO'!$A$1:$D$108,4,FALSE) -> 1804.877
A22: 83659M - Domingo | B22: BOCA DE LOBO DUPLA EM ALVENARIA TIJOLO MACICO, REVESTIDA C/ ARGAMASSA DE CIMENTO E AREIA 1:3, SOBRE LASTRO DE CONCRETO 10CM E TAMPA DE CONCRETO ARMADO | C22: und | E22: 1411.0805
A23: 94991 - Domingo | B23: EXECUÇÃO DE PASSEIO (CALÇADA) OU PISO DE CONCRETO COM CONCRETO MOLDADO IN LOCO, USINADO, ACABAMENTO CONVENCIONAL, NÃO ARMADO. AF_07/2016 | C23: m3 | E23: =VLOOKUP($A23,'PLAN DOMINGO'!$A$1:$D$108,4,FALSE) -> 493.27511
A24: 4915757M - Domingo | B24: Tapa buraco com pintura de ligação - demolição com serra corta piso | C24: m3 | E24: =VLOOKUP($A24,'PLAN DOMINGO'!$A$1:$D$108,4,FALSE) -> 319.92352
A25: 4915632M/SICRO - Domingo | B25: REPARO LOCALIZADO COM PINTURA DE LIGAÇÃO - DEMOLIÇÃO MECÂNICA E SERRA | C25: m3 | E25: 112.97
A26: 4011459M/SICRO - Domingo | B26: CONCRETO ASFÁLTICO - FAIXA B - AREIA E BRITA COMERCIAIS | C26: t | E26: =VLOOKUP($A26,'PLAN DOMINGO'!$A$1:$D$108,4,FALSE) -> 151.00983
A27: 96396 - Domingo | B27: EXECUÇÃO E COMPACTAÇÃO DE BASE E OU SUB BASE COM BRITA GRADUADA SIMPLES - EXCLUSIVE CARGA E TRANSPORTE. AF_09/2017 | C27: m3 | E27: =VLOOKUP($A27,'PLAN DOMINGO'!$A$1:$D$108,4,FALSE) -> 149.66096
A28: 4011454M/SICRO - Domingo | B28: CONCRETO ASFÁLTICO - FAIXA A - AREIA E BRITA COMERCIAIS | C28: t | E28: =VLOOKUP($A28,'PLAN DOMINGO'!$A$1:$D$108,4,FALSE) -> 143.63679
A29: 4915746M2/SICRO - Domingo | B29: REMENDO PROFUNDO COM IMPRIMAÇÃO COM ASFALTO DILUÍDO - DEMOLIÇÃO MECÂNICA E SERRA (EXCLUSIVE MATERIAL BETUMINOSO) | C29: m3 | E29: =VLOOKUP($A29,'PLAN DOMINGO'!$A$1:$D$108,4,FALSE) -> 253.04335
A30: C4624M - Domingo | B30: PISO PODOTÁTIL EXTERNO EM CONCRETO, DIRECIONAL E ALERTA, *40 X 40 X 2,5* CM, ASSENTADO COM ARGAMASSA (INCLUSIVE FORNECIMENTO) | C30: m2 | E30: =VLOOKUP($A30,'PLAN DOMINGO'!$A$1:$D$108,4,FALSE) -> 149.1978
A31: 06.21.00M/PMSP - Domingo | B31: LEVANTAMENTO OU REBAIXAMENTO DE TAMPÃO DE POÇO DE VISITA | C31: und | E31: =VLOOKUP($A31,'PLAN DOMINGO'!$A$1:$D$108,4,FALSE) -> 143.98835
A32: 4011463M/SICRO - Domingo | B32: CONCRETO ASFÁLTICO - FAIXA C - AREIA E BRITA COMERCIAIS (EXCLUSIVE CAP 50/70) | C32: t | E32: =VLOOKUP($A32,'PLAN DOMINGO'!$A$1:$D$108,4,FALSE) -> 116.38531
A33: 03.PAVI.PAVC.005/01M-SINAPI - Domingo | B33: EXECUÇÃO DE PAVIMENTO DE CONCRETO SIMPLES (PCS), FCK =40 MPA, CAMADA COM ESPESSURA DE 20,0 CM. AF_11/2017 (COM BARRAS DE TRANSFERÊNCIA E TELA) | C33: m2 | E33: =VLOOKUP($A33,'PLAN DOMINGO'!$A$1:$D$108,4,FALSE) -> 103.87267
