Workbook
Name completo: #REF!
Name desonerada: #REF!
Name EQUIPCOMPLETA: #REF!
Name incompleto: #REF!
Name LOTE01E02: #REF!
Name LOTE3456: #REF!
Name Origem: #REF!
Name Origem: #REF!
Name RESUMO: #REF!
Name RESUMOCOM: #REF!
Name RESUMOCOMPLETO: #REF!
Name TIPO: #REF!
Name TIPO: #REF!

Sheet DMTs RAS CONSIDERADOS
A2: TABELA DMT'S CONSIDERADOS PARA AS REGIÕES ADMINISTRATIVAS
A3: EM CONFORMIDADE COM AS INFORMAÇÕES TÉCNICAS - LOTES 01 A 11 DO PROCESSO 112-000264772024-61
B4: Região Administrativa | C4: Distância em quilômetro (Km)
C5: Viveiro I | D5: Viveiro II | E5: URE (Estrutural)
A6: LOTE 1 (SEI nº 155619066) | B6: Plano Piloto | C6: 11.6 | D6: 13.5 | E6: 19.1 | F6: DMT Viveiro I (155619066)
B7: Cruzeiro | C7: 13 | D7: 7.4 | E7: 11.7 | F7: DMT Viveiro II (155619066)
B8: Sudoeste/Octogonal | C8: 14.3 | D8: 8.6 | E8: 15.2 | F8: DMT URE (155619066)
B9: MÉDIA | C9: =TRUNC((AVERAGE(C6:C8)),1) -> 12.9 | D9: =TRUNC((AVERAGE(D6:D8)),1) -> 9.8 | E9: =TRUNC((AVERAGE(E6:E8)),1) -> 15.3
A10: LOTE 2 (SEI nº 155619689) | B10: Plano Piloto | C10: 18.9 | D10: 7.8 | E10: 22.5 | F10: DMT Viveiro I (155619689)
B11: S.I.A | C11: 17 | D11: 4.6 | E11: 15.7 | F11: DMT Viveiro II (155619689)
B12: MÉDIA | C12: =TRUNC((AVERAGE(C10:C11)),1) -> 17.9 | D12: =TRUNC((AVERAGE(D10:D11)),1) -> 6.2 | E12: =TRUNC((AVERAGE(E10:E11)),1) -> 19.1 | F12: DMT URE (155619689)
A13: LOTE 3 (SEI nº 155619844) | B13: São Sebastião | C13: 29 | D13: 31.5 | E13: 41.5
B14: Lago Sul | C14: 17.6 | D14: 23.1 | E14: 28.7 | F14: DMT Viveiro I (155619844)
B15: Jardim Botânico | C15: 26.5 | D15: 24.7 | E15: 33.9 | F15: DMT Viveiro II (155619844)
B16: MÉDIA | C16: =TRUNC((AVERAGE(C13:C15)),1) -> 24.3 | D16: =TRUNC((AVERAGE(D13:D15)),1) -> 26.4 | E16: =TRUNC((AVERAGE(E13:E15)),1) -> 34.7 | F16: DMT URE (155619844)
A17: LOTE 4 (SEI nº 155620119) | B17: Paranoá | C17: 32.3 | D17: 21.5 | E17: 34.5
B18: Lago Norte | C18: 26.1 | D18: 10 | E18: 24.7 | F18: DMT Viveiro I (155620119)
B19: Varjão | C19: 25.7 | D19: 9.7 | E19: 24.3 | F19: DMT Viveiro II (155620119)
B20: Itapoã | C20: 36.1 | D20: 22.7 | E20: 35.7 | F20: DMT URE (155620119)
B21: MÉDIA | C21: =TRUNC((AVERAGE(C17:C20)),1) -> 30 | D21: =TRUNC((AVERAGE(D17:D20)),1) -> 15.9 | E21: =TRUNC((AVERAGE(E17:E20)),1) -> 29.8
A22: LOTE 5 (SEI nº 155621820) | B22: Sobradinho | C22: 35.3 | D22: 19.2 | E22: 32.2
B23: Planaltina | C23: 54.6 | D23: 38.5 | E23: 51.5 | F23: DMT Viveiro I (155621820)
B24: Sobradinho II | C24: 35.3 | D24: 19.3 | E24: 32.3 | F24: DMT Viveiro II (155621820)
B25: Fercal | C25: 38.9 | D25: 22.8 | E25: 35.8 | F25: DMT URE (155621820)
B26: MÉDIA | C26: =TRUNC((AVERAGE(C22:C25)),1) -> 41 | D26: =TRUNC((AVERAGE(D22:D25)),1) -> 24.9 | E26: =TRUNC((AVERAGE(E22:E25)),1) -> 37.9
A27: LOTE 6 (SEI nº 155621984) | B27: Guará | C27: 8.8 | D27: 11.3 | E27: 14.2 | F27: DMT Viveiro I (155621984)
B28: SCIA | C28: 20.3 | D28: 14.5 | E28: 2.7 | F28: DMT Viveiro II (155621984)
B29: S.I.A | C29: 11.8 | D29: 11.2 | E29: 7 | F29: DMT URE (155621984)
B30: Vicente Pires | C30: 19.6 | D30: 18.2 | E30: 8.8
B31: MÉDIA | C31: =TRUNC((AVERAGE(C27:C30)),1) -> 15.1 | D31: =TRUNC((AVERAGE(D27:D30)),1) -> 13.8 | E31: =TRUNC((AVERAGE(E27:E30)),1) -> 8.1
A32: LOTE 7 (SEI nº 155622163) | B32: Núcleo Bandeirante | C32: 2.7 | D32: 17.8 | E32: 16.1 | F32: DMT Viveiro I (155622163)
B33: Riacho Fundo I | C33: 7.7 | D33: 21 | E33: 18.4 | F33: DMT Viveiro II (155622163)
B34: Candangolândia | C34: 5.4 | D34: 15.3 | E34: 18.1 | F34: DMT URE (155622163)
B35: Park Way | C35: 9.5 | D35: 23.2 | E35: 26.1
B36: MÉDIA | C36: =TRUNC((AVERAGE(C32:C35)),1) -> 6.3 | D36: =TRUNC((AVERAGE(D32:D35)),1) -> 19.3 | E36: =TRUNC((AVERAGE(E32:E35)),1) -> 19.6
A37: LOTE 8 (SEI nº 155622354) | B37: Taguatinga | C37: 22.3 | D37: 22.5 | E37: 13.5
B38: Brazlândia | C38: 53 | D38: 47.2 | E38: 37.8 | F38: DMT Viveiro I (155622354)
B39: Ceilândia | C39: 29.6 | D39: 30.1 | E39: 20.7 | F39: DMT Viveiro II (155622354)
B40: Sol Nascente/Pôr do Sol | C40: 26.7 | D40: 31.3 | E40: 22.3 | F40: DMT URE (155622354)
B41: MÉDIA | C41: =TRUNC((AVERAGE(C37:C40)),1) -> 32.9 | D41: =TRUNC((AVERAGE(D37:D40)),1) -> 32.7 | E41: =TRUNC((AVERAGE(E37:E40)),1) -> 23.5
...

Sheet MEMO COM e SEM - ALEX
B4: Estimativa Nº: | C4: =CONCATENATE('CAPA COM ALEX'!C9,"e",#REF!) -> #REF! | M4: Tabelas de Referências Data-base | N4: ='CAPA COM ALEX'!C15 -> SINAPI-09/2024
B5: Interessado: | C5: ='CAPA COM ALEX'!C12 -> 00112-000264772024-61 | N5: ='CAPA COM ALEX'!C16 -> SICRO-07/2024
B6: Objeto: | C6: contratação de empresa especializada para implantação e posterior manutenção de 35.000,00 m² (trinta e cinco mil metros quadrados) de novos canteiros e manutenção e substituição, quando necessário, de 97.310,18 m² de canteiros públicos urbanos já existentes no âmbito do Distrito Federal, incluindo os serviços de análise de solo, capina, adubação, aplicação de composto, calagem, escarificação, destorroamento, incorporação, nivelamento, plantio, transporte de mudas e composto, capina, controle fitossanitário, replantio, correção de borda de canteiro, replantio e irrigação. | N6: ='CAPA COM ALEX'!C17 -> SCO-09/2024
N7: ='CAPA COM ALEX'!C18 -> SEINFRA-028/028.1
N8: ='CAPA COM ALEX'!C19 -> ADASA: Taxa SLU 2024
B9: Local: | C9: ='CAPA COM ALEX'!C10 -> Distrito Federal
B10: Estimado por: | C10: ='CAPA COM ALEX'!C14 -> Téc. Edif. Alexsander de Oliveira Barbosa
B11: Data atualização: | C11: ='CAPA COM ALEX'!C13 -> 45607
B13: OBSERVAÇÕES
B14: 1 - | C14: Os valores unitários e os subtotais foram truncados com 4 casas decimais, já totais gerais forma truncados com 2 casas decimais.
A16: IMPLANTAÇÃO
A17: ='IMPLANT NOVOS CANT COM'!A19 -> 1.01 | B17: ='IMPLANT NOVOS CANT COM'!B19 -> Limpeza superficial
B18: CGCIT | G18: Com Desoneração | J18: DNIT | K18: Sem Desoneração | N18: DNIT
B19: SISTEMA DE CUSTOS REFERENCIAIS DE OBRAS - SICRO | G19: FIC | H19: 0.0224 | K19: FIC | L19: =H19 -> 0.0224
B20: Custo Unitário de Referência | E20: =$N$5 -> SICRO-07/2024 | H20: Produção da equipe | I20: 622.95 | J20: m² | L20: Produção da equipe | M20: =I20 -> 622.95 | N20: m²
B21: 5502985M | C21: Limpeza mecanizada da camada vegetal (substituição do Trator sobre esteiras com lâmina - 127 kW pela Retroescavadeira de pneus - capacidade da caçamba da pá-carregadeira de 0,76 m³ e da retroescavadeira de 0,29 m³ - 58 kW) | I21: Valores em reais (R$) | M21: Valores em reais (R$)
B22: A - EQUIPAMENTOS | D22: Quantidade | E22: Utilização | G22: Custo Horário | J22: Custo | K22: Custo Horário | N22: Custo
E23: Operativa | F23: Improdutiva | G23: Produtivo | H23: Improdutivo | J23: Horário Total | K23: Produtivo | L23: Improdutivo | N23: Horário Total
B24: E9526 | C24: =VLOOKUP(B24,'Custos unitarios Alex'!$A$4:$K$70,4,0) -> Retroescavadeira de pneus - capacidade da caçamba da pá-carregadeira de 0,76 m³ e da retroescavadeira de 0,29 m³ - 58 kW | D24: 1 | E24: 1 | F24: 0 | G24: =VLOOKUP(B24,'Custos unitarios Alex'!$A$4:$K$70,6,0) -> 140.4608 | H24: =VLOOKUP(B24,'Custos unitarios Alex'!$A$4:$K$70,7,0) -> 68.1514 | J24: =(D24*E24*G24)+(D24*F24*H24) -> 140.4608 | K24: =VLOOKUP(B24,'Custos unitarios Alex'!$A$4:$K$70,9,0) -> 143.7848 | L24: =VLOOKUP(B24,'Custos unitarios Alex'!$A$4:$K$70,10,0) -> 71.4754 | N24: =(D24*E24*K24)+(D24*F24*L24) -> 143.7848
H25: Custo horário total de equipamentos | J25: =J24 -> 140.4608 | L25: Custo horário total de equipamentos | N25: =N24 -> 143.7848
B26: B - MÃO DE OBRA | D26: Quantidade | E26: Unidade | F26: Custo Horário | H26: Custo Horário Total | L26: Custo Horário Total
B27: P9824 | C27: =VLOOKUP(B27,'Custos unitarios Alex'!$A$4:$K$70,4,0) -> Servente | D27: 1 | E27: h | G27: =VLOOKUP(B27,'Custos unitarios Alex'!$A$4:$K$70,8,0) -> 18.768 | J27: =D27*G27 -> 18.768 | K27: =VLOOKUP(B27,'Custos unitarios Alex'!$A$4:$K$70,11,0) -> 20.6422 | N27: =D27*K27 -> 20.6422
E28: Custo horário total de mão de obra | J28: =SUM(J27:J27) -> 18.768 | M28: - | N28: =SUM(N27:N27) -> 20.6422
E29: Custo horário total de execução | J29: =J28+J25 -> 159.2288 | N29: =N28+N25 -> 164.427
E30: Custo unitário de execução | J30: =TRUNC(J29/I20,4) -> 0.2556 | N30: =N29/I20 -> 0.26394895
H31: Custo do FIC | J31: =J30*H19 -> 0.00572544 | L31: Custo do FIC | N31: =N30*H19 -> 0.0059124565
H32: Custo do FIT | J32: - | L32: Custo do FIT | N32: -
B33: C - MATERIAL | D33: Quantidade | E33: Unidade | F33: Preço Unitário | H33: Custo Unitário | L33: Custo Unitário
E35: Custo unitário total de material | J35: =TRUNC(SUM(J34:J34),4) -> 0 | N35: =TRUNC(SUM(N34:N34),4) -> 0
B36: D - ATIVIDADES AUXILIARES | D36: Quantidade | E36: Unidade | F36: Custo Unitário | H36: Custo Unitário | L36: Custo Unitário
E37: Custo total de atividades auxiliares
H38: Subtotal | L38: Subtotal
B39: E - TEMPO FIXO | D39: Código | E39: Quantidade | F39: Unidade | G39: Custo Unitário | I39: Custo Unitário | K39: Custo Unitário | M39: Custo Unitário | O39: COM DESONERAÇÃO
E41: Custo unitário total de tempo fixo | J41: =J30+J31 -> 0.26132544 | N41: =N30+N31 -> 0.26986141
B42: F - MOMENTO DE TRANSPORTE | D42: Quantidade | E42: Unidade | F42: DMT | J42: Custo Unitário | N42: Custo Unitário
F43: LN | G43: RP | H43: P | K43: RP | L43: P
E44: Custo unitário total de transporte | J44: - | N44: -
F45: Custo unitário direto total | J45: =ROUND((J41+J35),2) -> 0.26 | N45: =ROUND((N41+N35),2) -> 0.27
O51: SEM DESONERAÇÃO
B67: Carga, manobra e descarga
...

Sheet Custos unitarios Alex
A1: Licitação BDI SEM Desoneração Arrematante do LOTE
A2: CÓDIGO | B2: ORIGEM | C2: TIPO | D2: DESCRIÇÃO | E2: UNID. | F2: R$ Unitário Produtivo c/ Deson. | G2: R$ Unitário Improdutivo c/ Deson. | H2: R$ Unitário c/Deson. | I2: R$ Unitário Produtivo s/ Deson. | J2: R$ Unitário Improdutivo s/ Deson. | K2: R$ Unitário s/ Deson.
A3: SERVIÇO | L3: Serviço | M3: SINAPI
A4: 0 | B4: SINAPI | C4: Serviço | D4: {=IFERROR(_xlfn.IFS(AND(B4="SINAPI",C4="Serviço"),INDEX([1]planilhanull!$H$7:$K$7539,MATCH(A4,[1]planilhanull!$G$7:$G$7539,0),1),AND(B4="SICRO",C4="Serviço"),INDEX([2]Sheet1!$B$4:$D$6374,MATCH(A4,[2]Sheet1!$A$4:$A$6374,0),1)),"Item não encontrado, verifique fórmula")} -> Item não encontrado, verifique fórmula | H4: {=IFERROR(_xlfn.IFS(AND(B4="SINAPI",C4="Serviço"),INDEX([1]planilhanull!$H$7:$L$7539,MATCH(A4,[1]planilhanull!$G$7:$G$7539,0),4)),"não existe na SICRO")} -> não existe na SICRO | K4: {=IFERROR(_xlfn.IFS(AND(B4="SINAPI",C4="Serviço"),INDEX([3]sheet1!$H$7:$L$7539,MATCH(A4,[3]sheet1!$G$7:$G$7539,0),4),AND(B4="SICRO",C4="Serviço"),INDEX([2]Sheet1!$B$4:$D$6374,MATCH(A4,[2]Sheet1!$A$4:$A$6374,0),3)),"não existe na SICRO")} -> não existe na SICRO | L4: Equipamento | M4: SICRO | XED4: Insumo Comp. | XEE4: SINAPI
A5: C2235 | B5: SEINFRA | C5: Serviço | D5: REVOLVIMENTO MECANICO DE TERRA PROFUNDIDADE 20-30cm | E5: m2 | H5: 0.52 | K5: 0.56 | L5: Mão de obra | M5: SEINFRA | XED5: Insumo | XEE5: SICRO
A6: SE 39.05.0050 (/) | B6: SCO | C6: Serviço | D6: Analise laboratorial de solo de arvores.(desonerado) | E6: und | H6: 250 | L6: Insumo | M6: SCO | XED6: Composição | XEE6: MERCADO
A7: SE 40.05.0050 (/) | B7: SCO | C7: Serviço | D7: Analise laboratorial de solo de arvores. | E7: und | K7: 250 | L7: Composição | M7: ORSE | XED7: Composição Modif. | XEE7: NOVACAP
A8: 100947 | B8: SINAPI | C8: Serviço | D8: {=IFERROR(_xlfn.IFS(AND(B8="SINAPI",C8="Serviço"),INDEX([1]planilhanull!$H$7:$K$7539,MATCH(A8,[1]planilhanull!$G$7:$G$7539,0),1),AND(B8="SICRO",C8="Serviço"),INDEX([2]Sheet1!$B$4:$D$6374,MATCH(A8,[2]Sheet1!$A$4:$A$6374,0),1)),"Item não encontrado, verifique fórmula")} -> TRANSPORTE COM CAMINHÃO CARROCERIA 9T, EM VIA URBANA PAVIMENTADA, DMT ATÉ 30KM (UNIDADE: TXKM). AF_07/2020 | E8: tkm | H8: 2.18 | K8: 2.22
A9: PJ 19.05.0390 (/)M | B9: SCO | C9: Serviço | D9: Combate de formigas, com aplicacao de formicida, em encosta.(desonerado) | E9: m2 | H9: ='MEMO COM e SEM - ALEX'!C701 -> 0.26 | M9: ADASA | XED9: Equipamento | XEE9: ORSE
A10: PJ 20.05.0390 (/)M | B10: SCO | C10: Serviço | D10: Combate de formigas, com aplicacao de formicida, em encosta. | E10: m2 | K10: ='MEMO COM e SEM - ALEX'!C717 -> 0.28 | M10: PMSP
A11: C1080 | B11: SEINFRA | C11: Serviço | D11: DESPRAGUEJAMENTO DE ÁREAS GRAMADAS | E11: m2 | H11: 0.09 | K11: 0.1 | M11: SUDECAP
A12: 5914655 | B12: SICRO | C12: Serviço | D12: =VLOOKUP(A12,[4]Sheet1!$A$4:$D$6494,2,0) -> Carga, manobra e descarga de materiais diversos em caminhão carroceria de 15 t - carga e descarga manuais | E12: =VLOOKUP(A12,[4]Sheet1!$A$4:$D$6494,3,0) -> t | H12: ='MEMO COM e SEM - ALEX'!J306 -> 30.4 | K12: ='MEMO COM e SEM - ALEX'!N306 -> 31.59 | M12: ADASA
M13: PMSP
XEE14: SUDECAP
A15: EQUIPAMENTO
A16: E9526 | B16: SICRO | C16: Equipamento | D16: {=IFERROR(_xlfn.IFS(AND(B16="SINAPI",C16="Equipamento"),INDEX([1]planilhanull!$H$7:$K$7539,MATCH(A16,[1]planilhanull!$G:$G,0),1),AND(B16="SICRO",C16="Equipamento"),INDEX([5]Sheet1!$B$4:$K$533,MATCH(A16,[5]Sheet1!$A$4:$A$533,0),1)),"Item não encontrado, verifique fórmula")} -> Retroescavadeira de pneus - capacidade da caçamba da pá-carregadeira de 0,76 m³ e da retroescavadeira de 0,29 m³ - 58 kW | F16: {=_xlfn.IFS(AND(B16="SICRO",C16="Equipamento"),INDEX([5]Sheet1!$B$4:$K$533,MATCH(A16,[5]Sheet1!$A$4:$A$533,0),9))} -> 140.4608 | G16: {=_xlfn.IFS(AND(B16="SICRO",C16="Equipamento"),INDEX([5]Sheet1!$B$4:$K$533,MATCH(A16,[5]Sheet1!$A$4:$A$533,0),10))} -> 68.1514 | H16: {=IFERROR(_xlfn.IFS(AND(B16="SINAPI",C16="Equipamento"),INDEX([1]planilhanull!$H$7:$L$7539,MATCH(A16,[1]planilhanull!$G$7:$G$7539,0),4)),"-")} -> - | I16: {=_xlfn.IFS(AND(B16="SICRO",C16="Equipamento"),INDEX([6]Sheet1!$B$4:$K$533,MATCH(A16,[6]Sheet1!$A$4:$A$533,0),9))} -> 143.7848 | J16: {=_xlfn.IFS(AND(B16="SICRO",C16="Equipamento"),INDEX([6]Sheet1!$B$4:$K$533,MATCH(A16,[6]Sheet1!$A$4:$A$533,0),10))} -> 71.4754 | K16: {=IFERROR(_xlfn.IFS(AND(B16="SINAPI",C16="Equipamento"),INDEX([3]sheet1!$H$7:$L$7539,MATCH(A16,[3]sheet1!$G$7:$G$7539,0),4)),"-")} -> -
A17: E9506 | B17: SICRO | C17: Equipamento | D17: {=IFERROR(_xlfn.IFS(AND(B17="SINAPI",C17="Equipamento"),INDEX([1]planilhanull!$H$7:$K$7539,MATCH(A17,[1]planilhanull!$G:$G,0),1),AND(B17="SICRO",C17="Equipamento"),INDEX([5]Sheet1!$B$4:$K$533,MATCH(A17,[5]Sheet1!$A$4:$A$533,0),1)),"Item não encontrado, verifique fórmula")} -> Caminhão basculante com capacidade de 6 m³ - 136 kW | F17: {=_xlfn.IFS(AND(B17="SICRO",C17="Equipamento"),INDEX([5]Sheet1!$B$4:$K$533,MATCH(A17,[5]Sheet1!$A$4:$A$533,0),9))} -> 170.4206 | G17: {=_xlfn.IFS(AND(B17="SICRO",C17="Equipamento"),INDEX([5]Sheet1!$B$4:$K$533,MATCH(A17,[5]Sheet1!$A$4:$A$533,0),10))} -> 62.3473 | H17: {=IFERROR(_xlfn.IFS(AND(B17="SINAPI",C17="Equipamento"),INDEX([1]planilhanull!$H$7:$L$7539,MATCH(A17,[1]planilhanull!$G$7:$G$7539,0),4)),"-")} -> - | I17: {=_xlfn.IFS(AND(B17="SICRO",C17="Equipamento"),INDEX([6]Sheet1!$B$4:$K$533,MATCH(A17,[6]Sheet1!$A$4:$A$533,0),9))} -> 173.3003 | J17: {=_xlfn.IFS(AND(B17="SICRO",C17="Equipamento"),INDEX([6]Sheet1!$B$4:$K$533,MATCH(A17,[6]Sheet1!$A$4:$A$533,0),10))} -> 65.227 | K17: {=IFERROR(_xlfn.IFS(AND(B17="SINAPI",C17="Equipamento"),INDEX([3]sheet1!$H$7:$L$7539,MATCH(A17,[3]sheet1!$G$7:$G$7539,0),4)),"-")} -> -
A18: E9571 | B18: SICRO | C18: Equipamento | D18: {=IFERROR(_xlfn.IFS(AND(B18="SINAPI",C18="Equipamento"),INDEX([1]planilhanull!$H$7:$K$7539,MATCH(A18,[1]planilhanull!$G:$G,0),1),AND(B18="SICRO",C18="Equipamento"),INDEX([5]Sheet1!$B$4:$K$533,MATCH(A18,[5]Sheet1!$A$4:$A$533,0),1)),"Item não encontrado, verifique fórmula")} -> Caminhão tanque com capacidade de 10.000 l - 188 kW | F18: {=_xlfn.IFS(AND(B18="SICRO",C18="Equipamento"),INDEX([5]Sheet1!$B$4:$K$533,MATCH(A18,[5]Sheet1!$A$4:$A$533,0),9))} -> 313.1762 | G18: {=_xlfn.IFS(AND(B18="SICRO",C18="Equipamento"),INDEX([5]Sheet1!$B$4:$K$533,MATCH(A18,[5]Sheet1!$A$4:$A$533,0),10))} -> 75.5697 | H18: {=IFERROR(_xlfn.IFS(AND(B18="SINAPI",C18="Equipamento"),INDEX([1]planilhanull!$H$7:$L$7539,MATCH(A18,[1]planilhanull!$G$7:$G$7539,0),4)),"-")} -> - | I18: {=_xlfn.IFS(AND(B18="SICRO",C18="Equipamento"),INDEX([6]Sheet1!$B$4:$K$533,MATCH(A18,[6]Sheet1!$A$4:$A$533,0),9))} -> 316.0559 | J18: {=_xlfn.IFS(AND(B18="SICRO",C18="Equipamento"),INDEX([6]Sheet1!$B$4:$K$533,MATCH(A18,[6]Sheet1!$A$4:$A$533,0),10))} -> 78.4494 | K18: {=IFERROR(_xlfn.IFS(AND(B18="SINAPI",C18="Equipamento"),INDEX([3]sheet1!$H$7:$L$7539,MATCH(A18,[3]sheet1!$G$7:$G$7539,0),4)),"-")} -> -
A19: E9089 | B19: SICRO | C19: Equipamento | D19: {=IFERROR(_xlfn.IFS(AND(B19="SINAPI",C19="Equipamento"),INDEX([1]planilhanull!$H$7:$K$7539,MATCH(A19,[1]planilhanull!$G:$G,0),1),AND(B19="SICRO",C19="Equipamento"),INDEX([5]Sheet1!$B$4:$K$533,MATCH(A19,[5]Sheet1!$A$4:$A$533,0),1)),"Item não encontrado, verifique fórmula")} -> Roçadeira costal - 1,40 kW | F19: {=_xlfn.IFS(AND(B19="SICRO",C19="Equipamento"),INDEX([5]Sheet1!$B$4:$K$533,MATCH(A19,[5]Sheet1!$A$4:$A$533,0),9))} -> 8.9156 | G19: {=_xlfn.IFS(AND(B19="SICRO",C19="Equipamento"),INDEX([5]Sheet1!$B$4:$K$533,MATCH(A19,[5]Sheet1!$A$4:$A$533,0),10))} -> 0.486 | H19: {=IFERROR(_xlfn.IFS(AND(B19="SINAPI",C19="Equipamento"),INDEX([1]planilhanull!$H$7:$L$7539,MATCH(A19,[1]planilhanull!$G$7:$G$7539,0),4)),"-")} -> - | I19: {=_xlfn.IFS(AND(B19="SICRO",C19="Equipamento"),INDEX([6]Sheet1!$B$4:$K$533,MATCH(A19,[6]Sheet1!$A$4:$A$533,0),9))} -> 8.9156 | J19: {=_xlfn.IFS(AND(B19="SICRO",C19="Equipamento"),INDEX([6]Sheet1!$B$4:$K$533,MATCH(A19,[6]Sheet1!$A$4:$A$533,0),10))} -> 0.486 | K19: {=IFERROR(_xlfn.IFS(AND(B19="SINAPI",C19="Equipamento"),INDEX([3]sheet1!$H$7:$L$7539,MATCH(A19,[3]sheet1!$G$7:$G$7539,0),4)),"-")} -> -
A20: E9764 | B20: SICRO | C20: Equipamento | D20: {=IFERROR(_xlfn.IFS(AND(B20="SINAPI",C20="Equipamento"),INDEX([1]planilhanull!$H$7:$K$7539,MATCH(A20,[1]planilhanull!$G:$G,0),1),AND(B20="SICRO",C20="Equipamento"),INDEX([5]Sheet1!$B$4:$K$533,MATCH(A20,[5]Sheet1!$A$4:$A$533,0),1)),"Item não encontrado, verifique fórmula")} -> Grupo gerador - 7,2 kVA | F20: {=_xlfn.IFS(AND(B20="SICRO",C20="Equipamento"),INDEX([5]Sheet1!$B$4:$K$533,MATCH(A20,[5]Sheet1!$A$4:$A$533,0),9))} -> 10.5757 | G20: {=_xlfn.IFS(AND(B20="SICRO",C20="Equipamento"),INDEX([5]Sheet1!$B$4:$K$533,MATCH(A20,[5]Sheet1!$A$4:$A$533,0),10))} -> 0.4796 | H20: {=IFERROR(_xlfn.IFS(AND(B20="SINAPI",C20="Equipamento"),INDEX([1]planilhanull!$H$7:$L$7539,MATCH(A20,[1]planilhanull!$G$7:$G$7539,0),4)),"-")} -> - | I20: {=_xlfn.IFS(AND(B20="SICRO",C20="Equipamento"),INDEX([6]Sheet1!$B$4:$K$533,MATCH(A20,[6]Sheet1!$A$4:$A$533,0),9))} -> 10.5757 | J20: {=_xlfn.IFS(AND(B20="SICRO",C20="Equipamento"),INDEX([6]Sheet1!$B$4:$K$533,MATCH(A20,[6]Sheet1!$A$4:$A$533,0),10))} -> 0.4796 | K20: {=IFERROR(_xlfn.IFS(AND(B20="SINAPI",C20="Equipamento"),INDEX([3]sheet1!$H$7:$L$7539,MATCH(A20,[3]sheet1!$G$7:$G$7539,0),4)),"-")} -> -
A21: E9717 | B21: SICRO | C21: Equipamento | D21: {=IFERROR(_xlfn.IFS(AND(B21="SINAPI",C21="Equipamento"),INDEX([1]planilhanull!$H$7:$K$7539,MATCH(A21,[1]planilhanull!$G:$G,0),1),AND(B21="SICRO",C21="Equipamento"),INDEX([5]Sheet1!$B$4:$K$533,MATCH(A21,[5]Sheet1!$A$4:$A$533,0),1)),"Item não encontrado, verifique fórmula")} -> Máquina policorte - 2,20 kW | F21: {=_xlfn.IFS(AND(B21="SICRO",C21="Equipamento"),INDEX([5]Sheet1!$B$4:$K$533,MATCH(A21,[5]Sheet1!$A$4:$A$533,0),9))} -> 0.1491 | G21: {=_xlfn.IFS(AND(B21="SICRO",C21="Equipamento"),INDEX([5]Sheet1!$B$4:$K$533,MATCH(A21,[5]Sheet1!$A$4:$A$533,0),10))} -> 0.1021 | H21: {=IFERROR(_xlfn.IFS(AND(B21="SINAPI",C21="Equipamento"),INDEX([1]planilhanull!$H$7:$L$7539,MATCH(A21,[1]planilhanull!$G$7:$G$7539,0),4)),"-")} -> - | I21: {=_xlfn.IFS(AND(B21="SICRO",C21="Equipamento"),INDEX([6]Sheet1!$B$4:$K$533,MATCH(A21,[6]Sheet1!$A$4:$A$533,0),9))} -> 0.1491 | J21: {=_xlfn.IFS(AND(B21="SICRO",C21="Equipamento"),INDEX([6]Sheet1!$B$4:$K$533,MATCH(A21,[6]Sheet1!$A$4:$A$533,0),10))} -> 0.1021 | K21: {=IFERROR(_xlfn.IFS(AND(B21="SINAPI",C21="Equipamento"),INDEX([3]sheet1!$H$7:$L$7539,MATCH(A21,[3]sheet1!$G$7:$G$7539,0),4)),"-")} -> -
A22: E9753 | B22: SICRO | C22: Equipamento | D22: {=IFERROR(_xlfn.IFS(AND(B22="SINAPI",C22="Equipamento"),INDEX([1]planilhanull!$H$7:$K$7539,MATCH(A22,[1]planilhanull!$G:$G,0),1),AND(B22="SICRO",C22="Equipamento"),INDEX([5]Sheet1!$B$4:$K$533,MATCH(A22,[5]Sheet1!$A$4:$A$533,0),1)),"Item não encontrado, verifique fórmula")} -> Grupo gerador - 23 kVA | F22: {=_xlfn.IFS(AND(B22="SICRO",C22="Equipamento"),INDEX([5]Sheet1!$B$4:$K$533,MATCH(A22,[5]Sheet1!$A$4:$A$533,0),9))} -> 26.6225 | G22: {=_xlfn.IFS(AND(B22="SICRO",C22="Equipamento"),INDEX([5]Sheet1!$B$4:$K$533,MATCH(A22,[5]Sheet1!$A$4:$A$533,0),10))} -> 5.4653 | H22: {=IFERROR(_xlfn.IFS(AND(B22="SINAPI",C22="Equipamento"),INDEX([1]planilhanull!$H$7:$L$7539,MATCH(A22,[1]planilhanull!$G$7:$G$7539,0),4)),"-")} -> - | I22: {=_xlfn.IFS(AND(B22="SICRO",C22="Equipamento"),INDEX([6]Sheet1!$B$4:$K$533,MATCH(A22,[6]Sheet1!$A$4:$A$533,0),9))} -> 26.6225 | J22: {=_xlfn.IFS(AND(B22="SICRO",C22="Equipamento"),INDEX([6]Sheet1!$B$4:$K$533,MATCH(A22,[6]Sheet1!$A$4:$A$533,0),10))} -> 5.4653 | K22: {=IFERROR(_xlfn.IFS(AND(B22="SINAPI",C22="Equipamento"),INDEX([3]sheet1!$H$7:$L$7539,MATCH(A22,[3]sheet1!$G$7:$G$7539,0),4)),"-")} -> -
A23: E9547 | B23: SICRO | C23: Equipamento | D23: {=IFERROR(_xlfn.IFS(AND(B23="SINAPI",C23="Equipamento"),INDEX([1]planilhanull!$H$7:$K$7539,MATCH(A23,[1]planilhanull!$G:$G,0),1),AND(B23="SICRO",C23="Equipamento"),INDEX([5]Sheet1!$B$4:$K$533,MATCH(A23,[5]Sheet1!$A$4:$A$533,0),1)),"Item não encontrado, verifique fórmula")} -> Máquina de solda elétrica transformadora 250 A - 9,20 kW | F23: {=_xlfn.IFS(AND(B23="SICRO",C23="Equipamento"),INDEX([5]Sheet1!$B$4:$K$533,MATCH(A23,[5]Sheet1!$A$4:$A$533,0),9))} -> 0.2443 | G23: {=_xlfn.IFS(AND(B23="SICRO",C23="Equipamento"),INDEX([5]Sheet1!$B$4:$K$533,MATCH(A23,[5]Sheet1!$A$4:$A$533,0),10))} -> 0.1348 | H23: {=IFERROR(_xlfn.IFS(AND(B23="SINAPI",C23="Equipamento"),INDEX([1]planilhanull!$H$7:$L$7539,MATCH(A23,[1]planilhanull!$G$7:$G$7539,0),4)),"-")} -> - | I23: {=_xlfn.IFS(AND(B23="SICRO",C23="Equipamento"),INDEX([6]Sheet1!$B$4:$K$533,MATCH(A23,[6]Sheet1!$A$4:$A$533,0),9))} -> 0.2443 | J23: {=_xlfn.IFS(AND(B23="SICRO",C23="Equipamento"),INDEX([6]Sheet1!$B$4:$K$533,MATCH(A23,[6]Sheet1!$A$4:$A$533,0),10))} -> 0.1348 | K23: {=IFERROR(_xlfn.IFS(AND(B23="SINAPI",C23="Equipamento"),INDEX([3]sheet1!$H$7:$L$7539,MATCH(A23,[3]sheet1!$G$7:$G$7539,0),4)),"-")} -> -
A24: E9680 | B24: SICRO | C24: Equipamento | D24: {=IFERROR(_xlfn.IFS(AND(B24="SINAPI",C24="Equipamento"),INDEX([1]planilhanull!$H$7:$K$7539,MATCH(A24,[1]planilhanull!$G:$G,0),1),AND(B24="SICRO",C24="Equipamento"),INDEX([5]Sheet1!$B$4:$K$533,MATCH(A24,[5]Sheet1!$A$4:$A$533,0),1)),"Item não encontrado, verifique fórmula")} -> Caminhão tanque com capacidade de 13.000 l - 188 kW | F24: {=_xlfn.IFS(AND(B24="SICRO",C24="Equipamento"),INDEX([5]Sheet1!$B$4:$K$533,MATCH(A24,[5]Sheet1!$A$4:$A$533,0),9))} -> 315.6801 | G24: {=_xlfn.IFS(AND(B24="SICRO",C24="Equipamento"),INDEX([5]Sheet1!$B$4:$K$533,MATCH(A24,[5]Sheet1!$A$4:$A$533,0),10))} -> 76.9668 | H24: {=IFERROR(_xlfn.IFS(AND(B24="SINAPI",C24="Equipamento"),INDEX([1]planilhanull!$H$7:$L$7539,MATCH(A24,[1]planilhanull!$G$7:$G$7539,0),4)),"-")} -> - | I24: {=_xlfn.IFS(AND(B24="SICRO",C24="Equipamento"),INDEX([6]Sheet1!$B$4:$K$533,MATCH(A24,[6]Sheet1!$A$4:$A$533,0),9))} -> 318.5598 | J24: {=_xlfn.IFS(AND(B24="SICRO",C24="Equipamento"),INDEX([6]Sheet1!$B$4:$K$533,MATCH(A24,[6]Sheet1!$A$4:$A$533,0),10))} -> 79.8465 | K24: {=IFERROR(_xlfn.IFS(AND(B24="SINAPI",C24="Equipamento"),INDEX([3]sheet1!$H$7:$L$7539,MATCH(A24,[3]sheet1!$G$7:$G$7539,0),4)),"-")} -> -
A25: E9093 | B25: SICRO | C25: Equipamento | D25: {=IFERROR(_xlfn.IFS(AND(B25="SINAPI",C25="Equipamento"),INDEX([1]planilhanull!$H$7:$K$7539,MATCH(A25,[1]planilhanull!$G:$G,0),1),AND(B25="SICRO",C25="Equipamento"),INDEX([5]Sheet1!$B$4:$K$533,MATCH(A25,[5]Sheet1!$A$4:$A$533,0),1)),"Item não encontrado, verifique fórmula")} -> Veículo leve - 53 kW (sem motorista) | F25: {=_xlfn.IFS(AND(B25="SICRO",C25="Equipamento"),INDEX([5]Sheet1!$B$4:$K$533,MATCH(A25,[5]Sheet1!$A$4:$A$533,0),9))} -> 35.2863 | G25: {=_xlfn.IFS(AND(B25="SICRO",C25="Equipamento"),INDEX([5]Sheet1!$B$4:$K$533,MATCH(A25,[5]Sheet1!$A$4:$A$533,0),10))} -> 6.0121 | H25: {=IFERROR(_xlfn.IFS(AND(B25="SINAPI",C25="Equipamento"),INDEX([1]planilhanull!$H$7:$L$7539,MATCH(A25,[1]planilhanull!$G$7:$G$7539,0),4)),"-")} -> - | I25: {=_xlfn.IFS(AND(B25="SICRO",C25="Equipamento"),INDEX([6]Sheet1!$B$4:$K$533,MATCH(A25,[6]Sheet1!$A$4:$A$533,0),9))} -> 35.2863 | J25: {=_xlfn.IFS(AND(B25="SICRO",C25="Equipamento"),INDEX([6]Sheet1!$B$4:$K$533,MATCH(A25,[6]Sheet1!$A$4:$A$533,0),10))} -> 6.0121 | K25: {=IFERROR(_xlfn.IFS(AND(B25="SINAPI",C25="Equipamento"),INDEX([3]sheet1!$H$7:$L$7539,MATCH(A25,[3]sheet1!$G$7:$G$7539,0),4)),"-")} -> -
A26: E9592 | B26: SICRO | C26: Equipamento | D26: {=IFERROR(_xlfn.IFS(AND(B26="SINAPI",C26="Equipamento"),INDEX([1]planilhanull!$H$7:$K$7539,MATCH(A26,[1]planilhanull!$G:$G,0),1),AND(B26="SICRO",C26="Equipamento"),INDEX([5]Sheet1!$B$4:$K$533,MATCH(A26,[5]Sheet1!$A$4:$A$533,0),1)),"Item não encontrado, verifique fórmula")} -> Caminhão carroceria com capacidade de 15 t - 188 kW | F26: {=_xlfn.IFS(AND(B26="SICRO",C26="Equipamento"),INDEX([5]Sheet1!$B$4:$K$533,MATCH(A26,[5]Sheet1!$A$4:$A$533,0),9))} -> 247.3369 | G26: {=_xlfn.IFS(AND(B26="SICRO",C26="Equipamento"),INDEX([5]Sheet1!$B$4:$K$533,MATCH(A26,[5]Sheet1!$A$4:$A$533,0),10))} -> 67.122 | H26: {=IFERROR(_xlfn.IFS(AND(B26="SINAPI",C26="Equipamento"),INDEX([1]planilhanull!$H$7:$L$7539,MATCH(A26,[1]planilhanull!$G$7:$G$7539,0),4)),"-")} -> - | I26: {=_xlfn.IFS(AND(B26="SICRO",C26="Equipamento"),INDEX([6]Sheet1!$B$4:$K$533,MATCH(A26,[6]Sheet1!$A$4:$A$533,0),9))} -> 250.2166 | J26: {=_xlfn.IFS(AND(B26="SICRO",C26="Equipamento"),INDEX([6]Sheet1!$B$4:$K$533,MATCH(A26,[6]Sheet1!$A$4:$A$533,0),10))} -> 70.0017 | K26: {=IFERROR(_xlfn.IFS(AND(B26="SINAPI",C26="Equipamento"),INDEX([3]sheet1!$H$7:$L$7539,MATCH(A26,[3]sheet1!$G$7:$G$7539,0),4)),"-")} -> -
A27: E9125M | B27: SICRO | C27: Equipamento | D27: ='MEMO COM e SEM - ALEX'!#REF! -> #REF! | F27: ='MEMO COM e SEM - ALEX'!#REF! -> #REF! | G27: ='MEMO COM e SEM - ALEX'!#REF! -> #REF! | H27: {=IFERROR(_xlfn.IFS(AND(B27="SINAPI",C27="Equipamento"),INDEX([1]planilhanull!$H$7:$L$7539,MATCH(A27,[1]planilhanull!$G$7:$G$7539,0),4)),"-")} -> - | I27: =F27 -> #REF! | J27: =G27 -> #REF! | K27: {=IFERROR(_xlfn.IFS(AND(B27="SINAPI",C27="Equipamento"),INDEX([3]sheet1!$H$7:$L$7539,MATCH(A27,[3]sheet1!$G$7:$G$7539,0),4)),"-")} -> -
A28: E9125 | B28: SICRO | C28: Equipamento | D28: {=IFERROR(_xlfn.IFS(AND(B28="SINAPI",C28="Equipamento"),INDEX([1]planilhanull!$H$7:$K$7539,MATCH(A28,[1]planilhanull!$G:$G,0),1),AND(B28="SICRO",C28="Equipamento"),INDEX([5]Sheet1!$B$4:$K$533,MATCH(A28,[5]Sheet1!$A$4:$A$533,0),1)),"Item não encontrado, verifique fórmula")} -> Veículo tipo van furgão com capacidade de 1,54 t - 93 kW | F28: {=_xlfn.IFS(AND(B28="SICRO",C28="Equipamento"),INDEX([5]Sheet1!$B$4:$K$533,MATCH(A28,[5]Sheet1!$A$4:$A$533,0),9))} -> 77.7115 | G28: {=_xlfn.IFS(AND(B28="SICRO",C28="Equipamento"),INDEX([5]Sheet1!$B$4:$K$533,MATCH(A28,[5]Sheet1!$A$4:$A$533,0),10))} -> 41.5537 | H28: {=IFERROR(_xlfn.IFS(AND(B28="SINAPI",C28="Equipamento"),INDEX([1]planilhanull!$H$7:$L$7539,MATCH(A28,[1]planilhanull!$G$7:$G$7539,0),4)),"-")} -> - | I28: {=_xlfn.IFS(AND(B28="SICRO",C28="Equipamento"),INDEX([6]Sheet1!$B$4:$K$533,MATCH(A28,[6]Sheet1!$A$4:$A$533,0),9))} -> 80.5993 | J28: {=_xlfn.IFS(AND(B28="SICRO",C28="Equipamento"),INDEX([6]Sheet1!$B$4:$K$533,MATCH(A28,[6]Sheet1!$A$4:$A$533,0),10))} -> 44.4415 | K28: {=IFERROR(_xlfn.IFS(AND(B28="SINAPI",C28="Equipamento"),INDEX([3]sheet1!$H$7:$L$7539,MATCH(A28,[3]sheet1!$G$7:$G$7539,0),4)),"-")} -> -
A29: E9540 | B29: SICRO | C29: Equipamento | D29: {=IFERROR(_xlfn.IFS(AND(B29="SINAPI",C29="Equipamento"),INDEX([1]planilhanull!$H$7:$K$7539,MATCH(A29,[1]planilhanull!$G:$G,0),1),AND(B29="SICRO",C29="Equipamento"),INDEX([5]Sheet1!$B$4:$K$533,MATCH(A29,[5]Sheet1!$A$4:$A$533,0),1)),"Item não encontrado, verifique fórmula")} -> Trator sobre esteiras com lâmina - 127 kW | F29: {=_xlfn.IFS(AND(B29="SICRO",C29="Equipamento"),INDEX([5]Sheet1!$B$4:$K$533,MATCH(A29,[5]Sheet1!$A$4:$A$533,0),9))} -> 313.1325 | G29: {=_xlfn.IFS(AND(B29="SICRO",C29="Equipamento"),INDEX([5]Sheet1!$B$4:$K$533,MATCH(A29,[5]Sheet1!$A$4:$A$533,0),10))} -> 123.3027 | H29: {=IFERROR(_xlfn.IFS(AND(B29="SINAPI",C29="Equipamento"),INDEX([1]planilhanull!$H$7:$L$7539,MATCH(A29,[1]planilhanull!$G$7:$G$7539,0),4)),"-")} -> - | I29: {=_xlfn.IFS(AND(B29="SICRO",C29="Equipamento"),INDEX([6]Sheet1!$B$4:$K$533,MATCH(A29,[6]Sheet1!$A$4:$A$533,0),9))} -> 316.4565 | J29: {=_xlfn.IFS(AND(B29="SICRO",C29="Equipamento"),INDEX([6]Sheet1!$B$4:$K$533,MATCH(A29,[6]Sheet1!$A$4:$A$533,0),10))} -> 126.6267 | K29: {=IFERROR(_xlfn.IFS(AND(B29="SINAPI",C29="Equipamento"),INDEX([3]sheet1!$H$7:$L$7539,MATCH(A29,[3]sheet1!$G$7:$G$7539,0),4)),"-")} -> -
A30: E9584 | B30: SICRO | C30: Equipamento | D30: {=IFERROR(_xlfn.IFS(AND(B30="SINAPI",C30="Equipamento"),INDEX([1]planilhanull!$H$7:$K$7539,MATCH(A30,[1]planilhanull!$G:$G,0),1),AND(B30="SICRO",C30="Equipamento"),INDEX([5]Sheet1!$B$4:$K$533,MATCH(A30,[5]Sheet1!$A$4:$A$533,0),1)),"Item não encontrado, verifique fórmula")} -> Carregadeira de pneus com capacidade de 1,72 m³ - 113 kW | F30: {=_xlfn.IFS(AND(B30="SICRO",C30="Equipamento"),INDEX([5]Sheet1!$B$4:$K$533,MATCH(A30,[5]Sheet1!$A$4:$A$533,0),9))} -> 192.2889 | G30: {=_xlfn.IFS(AND(B30="SICRO",C30="Equipamento"),INDEX([5]Sheet1!$B$4:$K$533,MATCH(A30,[5]Sheet1!$A$4:$A$533,0),10))} -> 92.6169 | H30: {=IFERROR(_xlfn.IFS(AND(B30="SINAPI",C30="Equipamento"),INDEX([1]planilhanull!$H$7:$L$7539,MATCH(A30,[1]planilhanull!$G$7:$G$7539,0),4)),"-")} -> - | I30: {=_xlfn.IFS(AND(B30="SICRO",C30="Equipamento"),INDEX([6]Sheet1!$B$4:$K$533,MATCH(A30,[6]Sheet1!$A$4:$A$533,0),9))} -> 195.6129 | J30: {=_xlfn.IFS(AND(B30="SICRO",C30="Equipamento"),INDEX([6]Sheet1!$B$4:$K$533,MATCH(A30,[6]Sheet1!$A$4:$A$533,0),10))} -> 95.9409 | K30: {=IFERROR(_xlfn.IFS(AND(B30="SINAPI",C30="Equipamento"),INDEX([3]sheet1!$H$7:$L$7539,MATCH(A30,[3]sheet1!$G$7:$G$7539,0),4)),"-")} -> -
A31: E9687 | B31: SICRO | C31: Equipamento | D31: {=IFERROR(_xlfn.IFS(AND(B31="SINAPI",C31="Equipamento"),INDEX([1]planilhanull!$H$7:$K$7539,MATCH(A31,[1]planilhanull!$G:$G,0),1),AND(B31="SICRO",C31="Equipamento"),INDEX([5]Sheet1!$B$4:$K$533,MATCH(A31,[5]Sheet1!$A$4:$A$533,0),1)),"Item não encontrado, verifique fórmula")} -> Caminhão carroceria com capacidade de 5 t - 115 kW | F31: {=_xlfn.IFS(AND(B31="SICRO",C31="Equipamento"),INDEX([5]Sheet1!$B$4:$K$533,MATCH(A31,[5]Sheet1!$A$4:$A$533,0),9))} -> 139.0082 | G31: {=_xlfn.IFS(AND(B31="SICRO",C31="Equipamento"),INDEX([5]Sheet1!$B$4:$K$533,MATCH(A31,[5]Sheet1!$A$4:$A$533,0),10))} -> 52.055 | H31: {=IFERROR(_xlfn.IFS(AND(B31="SINAPI",C31="Equipamento"),INDEX([1]planilhanull!$H$7:$L$7539,MATCH(A31,[1]planilhanull!$G$7:$G$7539,0),4)),"-")} -> - | I31: {=_xlfn.IFS(AND(B31="SICRO",C31="Equipamento"),INDEX([6]Sheet1!$B$4:$K$533,MATCH(A31,[6]Sheet1!$A$4:$A$533,0),9))} -> 141.8879 | J31: {=_xlfn.IFS(AND(B31="SICRO",C31="Equipamento"),INDEX([6]Sheet1!$B$4:$K$533,MATCH(A31,[6]Sheet1!$A$4:$A$533,0),10))} -> 54.9347 | K31: {=IFERROR(_xlfn.IFS(AND(B31="SINAPI",C31="Equipamento"),INDEX([3]sheet1!$H$7:$L$7539,MATCH(A31,[3]sheet1!$G$7:$G$7539,0),4)),"-")} -> -
A33: MAO DE OBRA
A34: P9824 | B34: SICRO | C34: Mão de obra | D34: {=IFERROR(_xlfn.IFS(AND(B34="SINAPI",C34="Mão de Obra"),INDEX([1]planilhanull!$H$7:$L$7539,MATCH(A34,[1]planilhanull!$G$7:$G$7539,0),1),AND(B34="SICRO",C34="Mão de Obra"),INDEX('[7]Distrito Federal'!$B$6:$G$118,MATCH(A34,'[7]Distrito Federal'!$A$6:$A$118,0),1)),"Item não encontrado, verifique fórmula")} -> Servente | E34: h | H34: {=IFERROR(_xlfn.IFS(AND(B34="SINAPI",C34="Mão de obra"),INDEX([1]planilhanull!$H$7:$L$7539,MATCH(A34,[1]planilhanull!$G$7:$G$7539,0),4),AND(B34="SICRO",C34="Mão de obra"),INDEX('[7]Distrito Federal'!$B$6:$G$118,MATCH(A34,'[7]Distrito Federal'!$A$6:$A$118,0),5)), "Item não encontrado, verificar fórmula")} -> 18.768 | K34: {=IFERROR(_xlfn.IFS(AND(B34="SINAPI",C34="Mão de obra"),INDEX([3]sheet1!$H$7:$L$7539,MATCH(A34,[3]sheet1!$G$7:$G$7539,0),4),AND(B34="SICRO",C34="Mão de obra"),INDEX('[8]Distrito Federal'!$B$6:$G$118,MATCH(A34,'[8]Distrito Federal'!$A$6:$A$118,0),5)),"Item não encontrado, verificar fórmula")} -> 20.6422
A35: P9840 | B35: SICRO | C35: Mão de obra | D35: {=IFERROR(_xlfn.IFS(AND(B35="SINAPI",C35="Mão de Obra"),INDEX([1]planilhanull!$H$7:$L$7539,MATCH(A35,[1]planilhanull!$G$7:$G$7539,0),1),AND(B35="SICRO",C35="Mão de Obra"),INDEX('[7]Distrito Federal'!$B$6:$G$118,MATCH(A35,'[7]Distrito Federal'!$A$6:$A$118,0),1)),"Item não encontrado, verifique fórmula")} -> Encarregado geral | E35: mês | H35: {=IFERROR(_xlfn.IFS(AND(B35="SINAPI",C35="Mão de obra"),INDEX([1]planilhanull!$H$7:$L$7539,MATCH(A35,[1]planilhanull!$G$7:$G$7539,0),4),AND(B35="SICRO",C35="Mão de obra"),INDEX('[7]Distrito Federal'!$B$6:$G$118,MATCH(A35,'[7]Distrito Federal'!$A$6:$A$118,0),5)), "Item não encontrado, verificar fórmula")} -> 10657.89 | K35: {=IFERROR(_xlfn.IFS(AND(B35="SINAPI",C35="Mão de obra"),INDEX([3]sheet1!$H$7:$L$7539,MATCH(A35,[3]sheet1!$G$7:$G$7539,0),4),AND(B35="SICRO",C35="Mão de obra"),INDEX('[8]Distrito Federal'!$B$6:$G$118,MATCH(A35,'[8]Distrito Federal'!$A$6:$A$118,0),5)),"Item não encontrado, verificar fórmula")} -> 12143.31
A36: P9812 | B36: SICRO | C36: Mão de obra | D36: {=IFERROR(_xlfn.IFS(AND(B36="SINAPI",C36="Mão de Obra"),INDEX([1]planilhanull!$H$7:$L$7539,MATCH(A36,[1]planilhanull!$G$7:$G$7539,0),1),AND(B36="SICRO",C36="Mão de Obra"),INDEX('[7]Distrito Federal'!$B$6:$G$118,MATCH(A36,'[7]Distrito Federal'!$A$6:$A$118,0),1)),"Item não encontrado, verifique fórmula")} -> Engenheiro | E36: mês | H36: {=IFERROR(_xlfn.IFS(AND(B36="SINAPI",C36="Mão de obra"),INDEX([1]planilhanull!$H$7:$L$7539,MATCH(A36,[1]planilhanull!$G$7:$G$7539,0),4),AND(B36="SICRO",C36="Mão de obra"),INDEX('[7]Distrito Federal'!$B$6:$G$118,MATCH(A36,'[7]Distrito Federal'!$A$6:$A$118,0),5)), "Item não encontrado, verificar fórmula")} -> 20729.573 | K36: {=IFERROR(_xlfn.IFS(AND(B36="SINAPI",C36="Mão de obra"),INDEX([3]sheet1!$H$7:$L$7539,MATCH(A36,[3]sheet1!$G$7:$G$7539,0),4),AND(B36="SICRO",C36="Mão de obra"),INDEX('[8]Distrito Federal'!$B$6:$G$118,MATCH(A36,'[8]Distrito Federal'!$A$6:$A$118,0),5)),"Item não encontrado, verificar fórmula")} -> 23751.987
A37: P9823 | B37: SICRO | C37: Mão de obra | D37: {=IFERROR(_xlfn.IFS(AND(B37="SINAPI",C37="Mão de Obra"),INDEX([1]planilhanull!$H$7:$L$7539,MATCH(A37,[1]planilhanull!$G$7:$G$7539,0),1),AND(B37="SICRO",C37="Mão de Obra"),INDEX('[7]Distrito Federal'!$B$6:$G$118,MATCH(A37,'[7]Distrito Federal'!$A$6:$A$118,0),1)),"Item não encontrado, verifique fórmula")} -> Serralheiro | E37: h | H37: {=IFERROR(_xlfn.IFS(AND(B37="SINAPI",C37="Mão de obra"),INDEX([1]planilhanull!$H$7:$L$7539,MATCH(A37,[1]planilhanull!$G$7:$G$7539,0),4),AND(B37="SICRO",C37="Mão de obra"),INDEX('[7]Distrito Federal'!$B$6:$G$118,MATCH(A37,'[7]Distrito Federal'!$A$6:$A$118,0),5)), "Item não encontrado, verificar fórmula")} -> 27.0863 | K37: {=IFERROR(_xlfn.IFS(AND(B37="SINAPI",C37="Mão de obra"),INDEX([3]sheet1!$H$7:$L$7539,MATCH(A37,[3]sheet1!$G$7:$G$7539,0),4),AND(B37="SICRO",C37="Mão de obra"),INDEX('[8]Distrito Federal'!$B$6:$G$118,MATCH(A37,'[8]Distrito Federal'!$A$6:$A$118,0),5)),"Item não encontrado, verificar fórmula")} -> 30.311
A38: P9801 | B38: SICRO | C38: Mão de obra | D38: {=IFERROR(_xlfn.IFS(AND(B38="SINAPI",C38="Mão de Obra"),INDEX([1]planilhanull!$H$7:$L$7539,MATCH(A38,[1]planilhanull!$G$7:$G$7539,0),1),AND(B38="SICRO",C38="Mão de Obra"),INDEX('[7]Distrito Federal'!$B$6:$G$118,MATCH(A38,'[7]Distrito Federal'!$A$6:$A$118,0),1)),"Item não encontrado, verifique fórmula")} -> Ajudante | E38: h | H38: {=IFERROR(_xlfn.IFS(AND(B38="SINAPI",C38="Mão de obra"),INDEX([1]planilhanull!$H$7:$L$7539,MATCH(A38,[1]planilhanull!$G$7:$G$7539,0),4),AND(B38="SICRO",C38="Mão de obra"),INDEX('[7]Distrito Federal'!$B$6:$G$118,MATCH(A38,'[7]Distrito Federal'!$A$6:$A$118,0),5)), "Item não encontrado, verificar fórmula")} -> 19.5502 | K38: {=IFERROR(_xlfn.IFS(AND(B38="SINAPI",C38="Mão de obra"),INDEX([3]sheet1!$H$7:$L$7539,MATCH(A38,[3]sheet1!$G$7:$G$7539,0),4),AND(B38="SICRO",C38="Mão de obra"),INDEX('[8]Distrito Federal'!$B$6:$G$118,MATCH(A38,'[8]Distrito Federal'!$A$6:$A$118,0),5)),"Item não encontrado, verificar fórmula")} -> 21.5373
A39: P9825 | B39: SICRO | C39: Mão de obra | D39: {=IFERROR(_xlfn.IFS(AND(B39="SINAPI",C39="Mão de Obra"),INDEX([1]planilhanull!$H$7:$L$7539,MATCH(A39,[1]planilhanull!$G$7:$G$7539,0),1),AND(B39="SICRO",C39="Mão de Obra"),INDEX('[7]Distrito Federal'!$B$6:$G$118,MATCH(A39,'[7]Distrito Federal'!$A$6:$A$118,0),1)),"Item não encontrado, verifique fórmula")} -> Soldador | E39: h | H39: {=IFERROR(_xlfn.IFS(AND(B39="SINAPI",C39="Mão de obra"),INDEX([1]planilhanull!$H$7:$L$7539,MATCH(A39,[1]planilhanull!$G$7:$G$7539,0),4),AND(B39="SICRO",C39="Mão de obra"),INDEX('[7]Distrito Federal'!$B$6:$G$118,MATCH(A39,'[7]Distrito Federal'!$A$6:$A$118,0),5)), "Item não encontrado, verificar fórmula")} -> 32.6158 | K39: {=IFERROR(_xlfn.IFS(AND(B39="SINAPI",C39="Mão de obra"),INDEX([3]sheet1!$H$7:$L$7539,MATCH(A39,[3]sheet1!$G$7:$G$7539,0),4),AND(B39="SICRO",C39="Mão de obra"),INDEX('[8]Distrito Federal'!$B$6:$G$118,MATCH(A39,'[8]Distrito Federal'!$A$6:$A$118,0),5)),"Item não encontrado, verificar fórmula")} -> 36.5825
A40: 88316 | B40: SINAPI | C40: Mão de obra | D40: {=IFERROR(_xlfn.IFS(AND(B40="SINAPI",C40="Mão de Obra"),INDEX([1]planilhanull!$H$7:$L$7539,MATCH(A40,[1]planilhanull!$G$7:$G$7539,0),1),AND(B40="SICRO",C40="Mão de Obra"),INDEX('[7]Distrito Federal'!$B$6:$G$118,MATCH(A40,'[7]Distrito Federal'!$A$6:$A$118,0),1)),"Item não encontrado, verifique fórmula")} -> SERVENTE COM ENCARGOS COMPLEMENTARES | E40: h | H40: 21.38 | K40: 23.4
A41: 88441 | B41: SINAPI | C41: Mão de obra | D41: {=IFERROR(_xlfn.IFS(AND(B41="SINAPI",C41="Mão de Obra"),INDEX([1]planilhanull!$H$7:$L$7539,MATCH(A41,[1]planilhanull!$G$7:$G$7539,0),1),AND(B41="SICRO",C41="Mão de Obra"),INDEX('[7]Distrito Federal'!$B$6:$G$118,MATCH(A41,'[7]Distrito Federal'!$A$6:$A$118,0),1)),"Item não encontrado, verifique fórmula")} -> JARDINEIRO COM ENCARGOS COMPLEMENTARES | E41: h | H41: 25.05 | K41: 27.63
...

Sheet CAPA COM ALEX
B5: CAPA DA PLANILHA ESTIMATIVA
B7: INTERESSADO: | C7: Departamento de Parques e Jardins - DPJ/DU/NOVACAP
B8: OBJETO: | C8: Contratação de empresa especializada para implantação e posterior manutenção de 35.000,00 m² (trinta e cinco mil metros quadrados) de novos canteiros e manutenção e substituição, quando necessário, de 97.310,18 m² de canteiros públicos urbanos já existentes no âmbito do Distrito Federal, incluindo os serviços de análise de solo, capina, adubação, aplicação de composto, calagem, escarificação, destorroamento, incorporação, nivelamento, plantio, transporte de mudas e composto, capina, controle fitossanitário, replantio, correção de borda de canteiro, replantio e irrigação.
B9: ESTIMATIVA: | C9: DPJ 008/2024
B10: LOCAL: | C10: Distrito Federal
B11: PRAZO (Dias Corridos): | C11: 360 (trezentos e sessenta) dias corridos
B12: PROCESSO SEI-GDF Nº: | C12: 00112-000264772024-61
B13: DATA: | C13: 45607
B14: ORÇAMENTISTA(S): | C14: Téc. Edif. Alexsander de Oliveira Barbosa
B15: TABELAS REFERÊNCIA: | C15: SINAPI-09/2024
C16: SICRO-07/2024
C17: SCO-09/2024
C18: SEINFRA-028/028.1
C19: ADASA: Taxa SLU 2024
B20: ENCARGOS SOCIAIS: | C20: COM DESONERAÇÃO
B21: BDI de SERVIÇOS: | C21: 0.3158
C22: Conforme Instrução Normativa nº 283/2023-NOVACAP/PRES
B23: OBS: | C23: Estimativa de preços elaborada com base no Estudo Técnico Preliminar NOVACAP/PRES/DU/DPJ (SEI nº 155817930)
B25: Lotes | E25: Valor Total com BDI
B26: Lote 01 ............................................................................................................................................................................................................................. | E26: ='RESUMO COM'!B16 -> 5207473.2
B27: Lote 02 .............................................................................................................................................................................. | E27: ='RESUMO COM'!C16 -> 2686215.3
B28: Lote 03 .................................................................................................................................................................................... | E28: ='RESUMO COM'!D16 -> 3008437.2
B29: Lote 04 .............................................................................................................................................................................. | E29: ='RESUMO COM'!E16 -> 2190909.5
B30: Lote 05 .................................................................................................................................................................................... | E30: ='RESUMO COM'!F16 -> 1278907.8
B31: Lote 06 .............................................................................................................................................................................. | E31: ='RESUMO COM'!G16 -> 1438362.4
B32: Lote 07 .............................................................................................................................................................................. | E32: ='RESUMO COM'!H16 -> 1144562.2
B33: Lote 08 .............................................................................................................................................................................. | E33: ='RESUMO COM'!I16 -> 1198242.9
B34: Lote 09 .............................................................................................................................................................................. | E34: ='RESUMO COM'!J16 -> 1167195.8
B35: Lote 10 .............................................................................................................................................................................. | E35: ='RESUMO COM'!K16 -> 873629.5
B36: Lote 11 .............................................................................................................................................................................. | E36: ='RESUMO COM'!L16 -> 1157041.7
B37: Total Anual ............................................................................................................................................................................... | E37: =SUM(E26:E36) -> 21350977
B39: NOTAS:
B40: Esta planilha é apenas orientativa, sendo de inteira responsabilidade do contratado as quantidades e valores necessários a completa execução dos serviços.
B41: Havendo irregularidades neste instrumento, entre em contato com a Ouvidoria de Combate a Corrupção, no telefone 0800-6449060

Sheet RESUMO COM
A2: Nº da estimativa: | B2: ='CAPA COM ALEX'!C9 -> DPJ 008/2024 | L2: Data: | M2: ='CAPA COM ALEX'!C13 -> 45607
A3: Interessado: | B3: ='CAPA COM ALEX'!C7 -> Departamento de Parques e Jardins - DPJ/DU/NOVACAP | L3: B.D.I. | M3: ='CAPA COM ALEX'!C21 -> 0.3158
A4: Processo: | B4: ='CAPA COM ALEX'!C12 -> 00112-000264772024-61 | L4: Encargos: | M4: ='CAPA COM ALEX'!C20 -> COM DESONERAÇÃO
A5: Objeto: | B5: Contratação de empresa especializada para implantação e posterior manutenção de 35.000,00 m² (trinta e cinco mil metros quadrados) de novos canteiros e manutenção e substituição, quando necessário, de 97.310,18 m² de canteiros públicos urbanos já existentes no âmbito do Distrito Federal, incluindo os serviços de análise de solo, capina, adubação, aplicação de composto, calagem, escarificação, destorroamento, incorporação, nivelamento, plantio, transporte de mudas e composto, capina, controle fitossanitário, replantio, correção de borda de canteiro, replantio e irrigação.
A6: Locais: | B6: Distrito Federal
A8: TABELA RESUMO REFERENCIAL TOTAIS ATIVIDADES LOTES 01 A 11
B9: LOTE 01 | C9: LOTE 02 | D9: LOTE 03 | E9: LOTE 04 | F9: LOTE 05 | G9: LOTE 06 | H9: LOTE 07 | I9: LOTE 08 | J9: LOTE 09 | K9: LOTE 10 | L9: LOTE 11 | M9: TOTAL ATIVIDADE
A10: IMPLANTAÇÃO | B10: ='IMPLANT NOVOS CANT COM'!I721 -> 82095.78 | C10: ='IMPLANT NOVOS CANT COM'!I722 -> 33032.85 | D10: ='IMPLANT NOVOS CANT COM'!I723 -> 114803.55 | E10: ='IMPLANT NOVOS CANT COM'!I724 -> 143605.89 | F10: ='IMPLANT NOVOS CANT COM'!I725 -> 192505.89 | G10: ='IMPLANT NOVOS CANT COM'!I726 -> 97139.75 | H10: ='IMPLANT NOVOS CANT COM'!I727 -> 122280.25 | I10: ='IMPLANT NOVOS CANT COM'!I728 -> 149913.39 | J10: ='IMPLANT NOVOS CANT COM'!I729 -> 158231.66 | K10: ='IMPLANT NOVOS CANT COM'!I730 -> 79985.19 | L10: ='IMPLANT NOVOS CANT COM'!I731 -> 101400.52 | M10: =SUM(B10:L10) -> 1274994.7
A11: MANUTENÇÃO | B11: ='MANUTENÇÃO TOTAL COM'!I369 -> 1394344.8 | C11: ='MANUTENÇÃO TOTAL COM'!I370 -> 641383.39 | D11: ='MANUTENÇÃO TOTAL COM'!I371 -> 640698.56 | E11: ='MANUTENÇÃO TOTAL COM'!I372 -> 435670.25 | F11: ='MANUTENÇÃO TOTAL COM'!I373 -> 156311.52 | G11: ='MANUTENÇÃO TOTAL COM'!I374 -> 237375.13 | H11: ='MANUTENÇÃO TOTAL COM'!I375 -> 141769.76 | I11: ='MANUTENÇÃO TOTAL COM'!I376 -> 139303 | J11: ='MANUTENÇÃO TOTAL COM'!I377 -> 124853.21 | K11: ='MANUTENÇÃO TOTAL COM'!I378 -> 62514.69 | L11: ='MANUTENÇÃO TOTAL COM'!I379 -> 151268.75 | M11: =SUM(B11:L11) -> 4125493
A12: SUBSTITUIÇÃO | B12: ='SUBSTITUICAO TOTAL COM'!I589 -> 2333003.8 | C12: ='SUBSTITUICAO TOTAL COM'!I590 -> 1029572 | D12: ='SUBSTITUICAO TOTAL COM'!I591 -> 1271234.2 | E12: ='SUBSTITUICAO TOTAL COM'!I592 -> 778392.38 | F12: ='SUBSTITUICAO TOTAL COM'!I593 -> 305155.94 | G12: ='SUBSTITUICAO TOTAL COM'!I594 -> 414736.56 | H12: ='SUBSTITUICAO TOTAL COM'!I595 -> 262397.71 | I12: ='SUBSTITUICAO TOTAL COM'!I596 -> 292284.31 | J12: ='SUBSTITUICAO TOTAL COM'!I597 -> 274246.33 | K12: ='SUBSTITUICAO TOTAL COM'!I598 -> 136392.25 | L12: ='SUBSTITUICAO TOTAL COM'!I599 -> 281732.66 | M12: =SUM(B12:L12) -> 7379148.2
A13: IRRIGAÇÃO | B13: ='IRRIGAÇÃO-TOTAL COM'!H256 -> 848443.82 | C13: ='IRRIGAÇÃO-TOTAL COM'!H257 -> 432642.03 | D13: ='IRRIGAÇÃO-TOTAL COM'!H258 -> 432115.97 | E13: ='IRRIGAÇÃO-TOTAL COM'!H259 -> 283656.06 | F13: ='IRRIGAÇÃO-TOTAL COM'!H260 -> 75349.5 | G13: ='IRRIGAÇÃO-TOTAL COM'!H261 -> 139526.01 | H13: ='IRRIGAÇÃO-TOTAL COM'!H262 -> 68529.466 | I13: ='IRRIGAÇÃO-TOTAL COM'!H263 -> 67157.201 | J13: ='IRRIGAÇÃO-TOTAL COM'!H264 -> 60279.6 | K13: ='IRRIGAÇÃO-TOTAL COM'!H265 -> 45152.4 | L13: ='IRRIGAÇÃO-TOTAL COM'!H266 -> 73054.806 | M13: =SUM(B13:L13) -> 2525906.9
A14: ADM. LOCAL | B14: ='ADMINISTRAÇÃO TOTAL COM'!I125 -> 549584.97 | C14: ='ADMINISTRAÇÃO TOTAL COM'!I126 -> 549584.97 | D14: ='ADMINISTRAÇÃO TOTAL COM'!I127 -> 549584.97 | E14: ='ADMINISTRAÇÃO TOTAL COM'!I128 -> 549584.97 | F14: ='ADMINISTRAÇÃO TOTAL COM'!I129 -> 549584.97 | G14: ='ADMINISTRAÇÃO TOTAL COM'!I130 -> 549584.97 | H14: ='ADMINISTRAÇÃO TOTAL COM'!I131 -> 549584.97 | I14: ='ADMINISTRAÇÃO TOTAL COM'!I132 -> 549584.97 | J14: ='ADMINISTRAÇÃO TOTAL COM'!I133 -> 549584.97 | K14: ='ADMINISTRAÇÃO TOTAL COM'!I134 -> 549584.97 | L14: ='ADMINISTRAÇÃO TOTAL COM'!I135 -> 549584.97 | M14: =SUM(B14:L14) -> 6045434.7
A16: SOMATÓRIO PARCIAL | B16: =SUM(B10:B14) -> 5207473.2 | C16: =SUM(C10:C14) -> 2686215.3 | D16: =SUM(D10:D14) -> 3008437.2 | E16: =SUM(E10:E14) -> 2190909.5 | F16: =SUM(F10:F14) -> 1278907.8 | G16: =SUM(G10:G14) -> 1438362.4 | H16: =SUM(H10:H14) -> 1144562.2 | I16: =SUM(I10:I14) -> 1198242.9 | ... L16: =SUM(L10:L14) -> 1157041.7
A18: TOTAL | B18: =SUM(B16:L16) -> 21350977

Sheet IMPLANT NOVOS CANT COM
Q4: IMPLANTAÇÃO | T4: TIPO EMBALAGEM | U4: Quant. Mudas | V4: Peso unit. (kg) | W4: Peso unit. (t)
A5: Nº da estimativa: | D5: ='CAPA COM ALEX'!C9 -> DPJ 008/2024 | N5: Data: | O5: ='CAPA COM ALEX'!C13 -> 45607 | Q5: LOTE 1 | T5: CAIXA 8X8 | U5: 48 | V5: 6.88 | W5: =ROUNDUP((V5/$V$10),4) -> 0.0069
A6: Interessado: | D6: ='CAPA COM ALEX'!C7 -> Departamento de Parques e Jardins - DPJ/DU/NOVACAP | N6: B.D.I.: | O6: ='CAPA COM ALEX'!C21 -> 0.3158 | Q6: AMPLA | R6: RESERVA | T6: BANDEJA 162 CELULAS | U6: 162 | V6: 6.6 | W6: =ROUNDUP((V6/$V$10),4) -> 0.0066
A7: Processo: | D7: ='CAPA COM ALEX'!C12 -> 00112-000264772024-61 | N7: Encargos: | O7: ='CAPA COM ALEX'!C20 -> COM DESONERAÇÃO
A8: Objeto: | D8: Contratação de empresa especializada para implantação e posterior manutenção de 35.000,00 m² (trinta e cinco mil metros quadrados) de novos canteiros e manutenção e substituição, quando necessário, de 97.310,18 m² de canteiros públicos urbanos já existentes no âmbito do Distrito Federal, incluindo os serviços de análise de solo, capina, adubação, aplicação de composto, calagem, escarificação, destorroamento, incorporação, nivelamento, plantio, transporte de mudas e composto, capina, controle fitossanitário, replantio, correção de borda de canteiro, replantio e irrigação. | N8: Data Base: | O8: ='CAPA COM ALEX'!C15 -> SINAPI-09/2024 | Q8: =#REF! -> #REF! | R8: =#REF! -> #REF! | T8: EMBALAGEM ATÉ 7 LITROS | U8: 1 | V8: 5.17 | W8: =ROUNDUP((V8/$V$10),4) -> 0.0052
O9: ='CAPA COM ALEX'!C16 -> SICRO-07/2024
O10: ='CAPA COM ALEX'!C17 -> SCO-09/2024 | Q10: CONSERVAÇÃO | T10: TONELADA | V10: 1000
O11: ='CAPA COM ALEX'!C18 -> SEINFRA-028/028.1 | Q11: LOTE 1
O12: ='CAPA COM ALEX'!C19 -> ADASA: Taxa SLU 2024 | Q12: AMPLA | R12: RESERVA
A13: Locais: | D13: ='CAPA COM ALEX'!C10 -> Distrito Federal | Q13: há | R13: 10000
A14: LOTE 01 | K14: ='DMTs RAS CONSIDERADOS'!F6 -> DMT Viveiro I (155619066) | M14: ='DMTs RAS CONSIDERADOS'!C9 -> 12.9 | N14: ='DMTs RAS CONSIDERADOS'!F7 -> DMT Viveiro II (155619066) | O14: ='DMTs RAS CONSIDERADOS'!D9 -> 9.8 | T14: kg/m2 | U14: t/m2 | V14: m2 caminhão toco (5824) | X14: t
A15: Locais: | B15: Plano Piloto (PP)1, Cruzeiro (CRUZ) e Sudoeste/Octogonal (SUDO). Compreende a Asa Sul, toda área Sul, a partir da Via N1. | K15: ='DMTs RAS CONSIDERADOS'!F8 -> DMT URE (155619066) | M15: ='DMTs RAS CONSIDERADOS'!E9 -> 15.3 | N15: Área canteiros | O15: 2500 | T15: 51.54 | U15: =T15/V10 -> 0.05154 | V15: 2,5 x 7 = | W15: =2.5*7 -> 17.5 | X15: =TRUNC((U15*W15),4) -> 0.9019
A16: 1.00 | B16: IMPLANTAÇÃO CANTEIROS ORNAMENTAIS | T16: metragem média canteiro | U16: 183.2
A17: Item | B17: Código | C17: Origem | D17: Descrição | E17: Unid. | F17: Frequência anual | G17: Espessura (m) | H17: DMT | I17: Coeficiente | J17: Quant. | K17: Quant. Total | L17: Custo unit. s/ BDI | M17: Custo unit. c/ BDI | N17: Custo Total s/ BDI | O17: Custo Total c/ BDI
A19: 1.01 | B19: Limpeza superficial
B20: 5502985M | C20: =VLOOKUP(B20,'Custos unitarios Alex'!$A$3:$K$92,2,0) -> SICRO | D20: =VLOOKUP(B20,'Custos unitarios Alex'!$A$3:$K$92,4,0) -> Limpeza mecanizada da camada vegetal (substituição do Trator sobre esteiras com lâmina - 127 kW pela Retroescavadeira de pneus - capacidade da caçamba da pá-carregadeira de 0,76 m³ e da retroescavadeira de 0,29 m³ - 58 kW) | E20: =VLOOKUP(B20,'Custos unitarios Alex'!$A$3:$K$92,5,0) -> m2 | F20: - | G20: 0.1 | H20: - | I20: - | J20: =TRUNC((O15),4) -> 2500 | K20: =TRUNC((G20*J20),4) -> 250 | L20: =TRUNC((VLOOKUP(B20,'Custos unitarios Alex'!$A$3:$K$92,8,0)),4) -> 0.26 | M20: =TRUNC(L20*(1+$O$6),4) -> 0.3421 | N20: =TRUNC((K20*L20),4) -> 65 | O20: =TRUNC((K20*M20),4) -> 85.525
A21: 1 | B21: O valor 0,1 se refere a espessura estiamada de 10cm (dez centímetros) (0,1 m) da camada vegetal a ser retirada conforme quesito 2 do Despacho NOVACAP/PRES/DU/DPJ/DIAVE (SEI nº 142598875)
B23: 5915456M | C23: =VLOOKUP(B23,'Custos unitarios Alex'!$A$3:$K$92,2,0) -> SICRO | D23: =VLOOKUP(B23,'Custos unitarios Alex'!$A$3:$K$92,4,0) -> Carga, manobra e descarga de agregados ou solos em caminhão basculante de 6 m³ - carga com carregadeira de 1,72 m³ e descarga livre (substituição da carregadeira de 1,72 m³ pela Retroescavadeira de pneus - capacidade da caçamba da pá-carregadeira de 0,76 m³ e da retroescavadeira de 0,29 m³ - 58 kW) | E23: =VLOOKUP(B23,'Custos unitarios Alex'!$A$3:$K$92,5,0) -> t | F23: =F20 -> - | G23: - | H23: - | I23: 1.5 | J23: =K20 -> 250 | K23: =TRUNC((I23*J23),4) -> 375 | L23: =TRUNC((VLOOKUP(B23,'Custos unitarios Alex'!$A$3:$K$92,8,0)),4) -> 3.24 | M23: =TRUNC(L23*(1+$O$6),4) -> 4.2631 | N23: =TRUNC((K23*L23),4) -> 1215 | O23: =TRUNC((K23*M23),4) -> 1598.6625
A24: 2 | B24: O valor 1,5 se refere a massa específica de 1,5 t/m3 do material de bota fora, conforme Tabela 09 - Massas específicas referenciais dos materiais mais representativos, fl.21 do Conteúdo 11, Volume 10 do Departamento Nacional de Infraestrutura de Transportes-DNIT, em acordo com o exposto no quesito 5 do Despacho NOVACAP-PRES-DU-DPJ-DIAVE (SEI nº 142598875).
A26: 1.02 | B26: Transporte material decorrente da limpeza superficial
B27: 5914344 | C27: =VLOOKUP(B27,'Custos unitarios Alex'!$A$3:$K$92,2,0) -> SICRO | D27: =VLOOKUP(B27,'Custos unitarios Alex'!$A$3:$K$92,4,0) -> Transporte com caminhão basculante de 6 m³ - rodovia pavimentada | E27: =VLOOKUP(B27,'Custos unitarios Alex'!$A$3:$K$92,5,0) -> tkm | F27: - | G27: - | H27: =M15 -> 15.3 | I27: - | J27: =K23 -> 375 | K27: =TRUNC((H27*J27),4) -> 5737.5 | L27: =TRUNC((VLOOKUP(B27,'Custos unitarios Alex'!$A$3:$K$92,8,0)),4) -> 0.76 | M27: =TRUNC(L27*(1+$O$6),4) -> 1 | N27: =TRUNC((K27*L27),4) -> 4360.5 | O27: =TRUNC((K27*M27),4) -> 5737.5
A29: 1.03 | B29: Taxa de Limpeza Urbana (SLU / ADASA)
B30: Taxa SLU | C30: =VLOOKUP(B30,'Custos unitarios Alex'!$A$3:$K$92,2,0) -> ADASA | D30: =VLOOKUP(B30,'Custos unitarios Alex'!$A$3:$K$92,4,0) -> Taxa SLU - Adasa - (URE) | E30: =VLOOKUP(B30,'Custos unitarios Alex'!$A$3:$K$92,5,0) -> t | F30: - | G30: - | H30: - | I30: - | J30: =K23 -> 375 | K30: =TRUNC((J30),4) -> 375 | L30: =TRUNC((VLOOKUP(B30,'Custos unitarios Alex'!$A$3:$K$92,8,0)),4) -> 22.75 | M30: =TRUNC(L30*(1+$O$6),4) -> 29.9344 | N30: =TRUNC((K30*L30),4) -> 8531.25 | O30: =TRUNC((K30*M30),4) -> 11225.4
A32: 1.04 | B32: Análise de solo
B33: SE 39.05.0050 (/) | C33: =VLOOKUP(B33,'Custos unitarios Alex'!$A$3:$K$92,2,0) -> SCO | D33: =VLOOKUP(B33,'Custos unitarios Alex'!$A$3:$K$92,4,0) -> Analise laboratorial de solo de arvores.(desonerado) | E33: =VLOOKUP(B33,'Custos unitarios Alex'!$A$3:$K$92,5,0) -> und | F33: - | G33: - | H33: - | I33: - | J33: =TRUNC((ROUNDUP((O15/$U$16),0)),4) -> 14 | K33: =TRUNC((J33),4) -> 14 | L33: =TRUNC((VLOOKUP(B33,'Custos unitarios Alex'!$A$3:$K$92,8,0)),4) -> 250 | M33: =TRUNC(L33*(1+$O$6),4) -> 328.95 | N33: =TRUNC((K33*L33),4) -> 3500 | O33: =TRUNC((K33*M33),4) -> 4605.3
A34: 3 | B34: O valor 14 foi estabelecido pela divisão da área total do lote pela área do canteiro médio, conforme item 6.2.2.1 do Estudo Técnico Preliminar NOVACAP-PRES-DU-DPJ (SEI nº 155817930), isto é: 2500 (m2)/183,2 (m2) = 13,64629 (ensaios). Arredondamos para cima entendendo que não seria possível aplicação de valor fracionário à quantidade de ensaios a serem executados.
A36: 1.05 | B36: Transporte do composto
B37: =B27 -> 5914344 | C37: =C27 -> SICRO | D37: =D27 -> Transporte com caminhão basculante de 6 m³ - rodovia pavimentada | E37: =VLOOKUP(B37,'Custos unitarios Alex'!$A$3:$K$92,5,0) -> tkm | F37: - | G37: - | H37: =O14 -> 9.8 | I37: - | J37: =K23 -> 375 | K37: =TRUNC((H37*J37),4) -> 3675 | L37: =L27 -> 0.76 | M37: =M27 -> 1 | N37: =TRUNC((K37*L37),4) -> 2793 | O37: =TRUNC((K37*M37),4) -> 3675
A39: 1.06 | B39: Aplicação NPK 5-25-15
B40: 4413022M1 | C40: =VLOOKUP(B40,'Custos unitarios Alex'!$A$3:$K$92,2,0) -> SICRO | D40: =VLOOKUP(B40,'Custos unitarios Alex'!$A$3:$K$92,4,0) -> Adubação manual de cobertura em areas de semeadura via seca ou de hidrossemeadura (somente adubação com NPK) | E40: =VLOOKUP(B40,'Custos unitarios Alex'!$A$3:$K$92,5,0) -> m2 | F40: - | G40: - | H40: - | I40: - | J40: =O15 -> 2500 | K40: =TRUNC((J40),4) -> 2500 | L40: =TRUNC((VLOOKUP(B40,'Custos unitarios Alex'!$A$3:$K$92,8,0)),4) -> 0.55 | M40: =TRUNC(L40*(1+$O$6),4) -> 0.7236 | N40: =TRUNC((K40*L40),4) -> 1375 | O40: =TRUNC((K40*M40),4) -> 1809
A42: 1.07 | B42: Aplicação NPK 20-00-20 (adubação química de cobertura)
B43: 4413022M2 | C43: =VLOOKUP(B43,'Custos unitarios Alex'!$A$3:$K$92,2,0) -> SICRO | D43: =VLOOKUP(B43,'Custos unitarios Alex'!$A$3:$K$92,4,0) -> Adubação manual de cobertura em areas de semeadura via seca ou de hidrossemeadura (somente adubação com NPK) | E43: =VLOOKUP(B43,'Custos unitarios Alex'!$A$3:$K$92,5,0) -> m2 | F43: - | G43: - | H43: - | I43: - | J43: =O15 -> 2500 | K43: =TRUNC((J43),4) -> 2500 | L43: =TRUNC((VLOOKUP(B43,'Custos unitarios Alex'!$A$3:$K$92,8,0)),4) -> 0.27 | M43: =TRUNC(L43*(1+$O$6),4) -> 0.3552 | N43: =TRUNC((K43*L43),4) -> 675 | O43: =TRUNC((K43*M43),4) -> 888
A45: 1.08 | B45: Aplicação pó calcáreo dolomítico
B46: 4413022M6 | C46: =VLOOKUP(B46,'Custos unitarios Alex'!$A$3:$K$92,2,0) -> SICRO | D46: =VLOOKUP(B46,'Custos unitarios Alex'!$A$3:$K$92,4,0) -> Adubação manual de cobertura em areas de semeadura via seca ou de hidrossemeadura (somente adubação com Pó Calcáreo Dolomítico) | E46: =VLOOKUP(B46,'Custos unitarios Alex'!$A$3:$K$92,5,0) -> m2 | F46: - | G46: - | H46: - | I46: - | J46: =O15 -> 2500 | K46: =TRUNC((J46),4) -> 2500 | L46: =TRUNC((VLOOKUP(B46,'Custos unitarios Alex'!$A$3:$K$92,8,0)),4) -> 0.25 | M46: =TRUNC(L46*(1+$O$6),4) -> 0.3289 | N46: =TRUNC((K46*L46),4) -> 625 | O46: =TRUNC((K46*M46),4) -> 822.25
A48: 1.09 | B48: Aplicação adubo orgânico composto
B49: 4413022M3 | C49: =VLOOKUP(B49,'Custos unitarios Alex'!$A$3:$K$92,2,0) -> SICRO | D49: =VLOOKUP(B49,'Custos unitarios Alex'!$A$3:$K$92,4,0) -> Adubação manual de cobertura em areas de semeadura via seca ou de hidrossemeadura (somente adubação com adubo orgânico) | E49: =VLOOKUP(B49,'Custos unitarios Alex'!$A$3:$K$92,5,0) -> m2 | F49: - | G49: - | H49: - | I49: - | J49: =O15 -> 2500 | K49: =TRUNC((J49),4) -> 2500 | L49: =VLOOKUP(B49,'Custos unitarios Alex'!$A$3:$K$92,8,0) -> 0.27 | M49: =TRUNC(L49*(1+$O$6),4) -> 0.3552 | N49: =TRUNC((K49*L49),4) -> 675 | O49: =TRUNC((K49*M49),4) -> 888
A51: 1.10 | B51: Aplicação gesso agrícola
B52: 4413022M4 | C52: =VLOOKUP(B52,'Custos unitarios Alex'!$A$3:$K$92,2,0) -> SICRO | D52: =VLOOKUP(B52,'Custos unitarios Alex'!$A$3:$K$92,4,0) -> Adubação manual de cobertura em areas de semeadura via seca ou de hidrossemeadura (somente adubação com gesso agrícola) | E52: =VLOOKUP(B52,'Custos unitarios Alex'!$A$3:$K$92,5,0) -> m2 | F52: - | G52: - | H52: - | I52: - | J52: =O15 -> 2500 | K52: =TRUNC((J52),4) -> 2500 | L52: =VLOOKUP(B52,'Custos unitarios Alex'!$A$3:$K$92,8,0) -> 0.68 | M52: =TRUNC(L52*(1+$O$6),4) -> 0.8947 | N52: =TRUNC((K52*L52),4) -> 1700 | O52: =TRUNC((K52*M52),4) -> 2236.75
A54: 1.11 | B54: Aplicação fósforo + nutrientes (yoorin ou similar)
B55: 4413022M5 | C55: =VLOOKUP(B55,'Custos unitarios Alex'!$A$3:$K$92,2,0) -> SICRO | D55: =VLOOKUP(B55,'Custos unitarios Alex'!$A$3:$K$92,4,0) -> Adubação manual de cobertura em areas de semeadura via seca ou de hidrossemeadura (somente adubação com fósforo + nutrientes - yoorin ou similar) | E55: =VLOOKUP(B55,'Custos unitarios Alex'!$A$3:$K$92,5,0) -> m2 | F55: - | G55: - | H55: - | I55: - | J55: =O15 -> 2500 | K55: =TRUNC((J55),4) -> 2500 | L55: =VLOOKUP(B55,'Custos unitarios Alex'!$A$3:$K$92,8,0) -> 0.73 | M55: =TRUNC(L55*(1+$O$6),4) -> 0.9605 | N55: =TRUNC((K55*L55),4) -> 1825 | O55: =TRUNC((K55*M55),4) -> 2401.25
...

Sheet MANUTENÇÃO TOTAL COM
A5: Nº da estimativa: | D5: ='CAPA COM ALEX'!C9 -> DPJ 008/2024 | N5: Data: | O5: ='CAPA COM ALEX'!C13 -> 45607
A6: Interessado: | D6: ='CAPA COM ALEX'!C7 -> Departamento de Parques e Jardins - DPJ/DU/NOVACAP | N6: B.D.I.: | O6: ='CAPA COM ALEX'!C21 -> 0.3158 | Q6: 0.3158 | R6: 0.251
A7: Processo: | D7: ='CAPA COM ALEX'!C12 -> 00112-000264772024-61 | N7: Encargos: | O7: ='CAPA COM ALEX'!C20 -> COM DESONERAÇÃO
