Workbook
Name ABC: #REF!
Name ABC: #REF!
Name ABC: #REF!
Name ABC: #REF!
Name ABC: #REF!
Name ABC: #REF!
Name DADOS: #REF!
Name DADOS: #REF!
Name DADOS: #REF!
Name DADOS: #REF!
Name DADOS: #REF!
Name DADOS: #REF!
Name DADOS: #REF!
Name DADOS: #REF!
Name DADOS: #REF!
Name DADOS_01: [1]PISO!$J$1:$L$1302
Name DADOS_01: [1]PISO!$J$1:$L$1302
Name DADOS_01: [1]PISO!$J$1:$L$1302
Name DRN: #REF!
Name DRN: #REF!
Name DRN: #REF!
Name DRN: #REF!
Name DRN: #REF!
Name DRN: #REF!
Name DRN: #REF!
Name DRN: #REF!
Name DRN: #REF!
Name DRN_dados: #REF!
Name DRN_dados: #REF!
Name DRN_dados: #REF!
Name DRN_dados: #REF!
Name DRN_dados: #REF!
Name DRN_dados: #REF!
Name DRN_dados: #REF!
Name DRN_dados: #REF!
Name DRN_dados: #REF!
Name DRN_FUNDO: #REF!
Name DRN_FUNDO: #REF!
Name DRN_FUNDO: #REF!
Name DRN_FUNDO: #REF!
Name DRN_FUNDO: #REF!
Name DRN_FUNDO: #REF!
Name DRN_FUNDO: #REF!
Name DRN_FUNDO: #REF!
Name DRN_FUNDO: #REF!
Name DRN_GALERIA: #REF!
Name DRN_GALERIA: #REF!
Name DRN_GALERIA: #REF!
Name DRN_GALERIA: #REF!
Name DRN_GALERIA: #REF!
Name DRN_GALERIA: #REF!
Name DRN_GALERIA: #REF!
Name DRN_GALERIA: #REF!
Name DRN_GALERIA: #REF!
Name DRN_PAVIMENTO: #REF!
Name DRN_PAVIMENTO: #REF!
Name DRN_PAVIMENTO: #REF!
Name DRN_PAVIMENTO: #REF!
Name DRN_PAVIMENTO: #REF!
Name DRN_PAVIMENTO: #REF!

Sheet CAPA
B2: GOVERNO DO DISTRITO FEDERAL
B3: COMPANHIA URBANIZADORA DA NOVA CAPITAL DO BRASIL - NOVACAP
B4: DIRETORIA DE URBANIZAÇÃO
B13: DADOS DA OBRA:
B14: RECONSTRUÇÃO E IMPLANTAÇÃO DE CALÇADAS
B15: GAMA
B17: INTERESSADO: PROCESSO 00112-00004957/2025-51
B19: SEM DESONERAÇÃO
B20: TABELA DE REFERÊNCIA - SINAPI ABRIL/25 - SICRO JAN/25 - PMSP JAN/25
B21: RESPONSÁVEL TECNICO DO ORÇAMENTO:
B22: FABIO ROSSIGNOLI MARQUES
B23: CREA: 83382/D-MG
B26: VALOR DA OBRA:
B27: 7072842.5
B32: MODIFICAÇÃO | C32: DATA
B33: 02 | C33: 45798

Sheet GAMA
B1: ESTIMATIVA DE PREÇOS
B2: SEM DESONERAÇÃO | H2: 7072842.5
B3: INTERESSADO: PROCESSO 00112-00004957/2025-51
B4: RECONSTRUÇÃO E IMPLANTAÇÃO DE CALÇADAS
B5: TABELA DE REFERÊNCIA - SINAPI ABRIL/25 - SICRO JAN/25 - PMSP JAN/25
D7: Distância Média de Transporte DMT (km)
D8: CASCALHEIRA | E8: NOVACAP | F8: BOTA FORA ESTRUTURAL
B9: 0.63 | C9: Calçada Ruim | D9: 0 | E9: 28 | F9: 41
B10: 0 | C10: Calçada Regular
A11: TAB REFERÊNCIA | C11: DESCRIÇÃO DO ITEM | D11: UNIDADE | E11: QUANTIDADE | F11: CUSTO UNI | G11: CUSTO TOTAL | H11: ÁREA DE DEMOLIÇÃO DE PAVIMENTO
H12: Comprimento da calçada | I12: 17139.043 | J12: m
B13: GRUPO 01 | C13: Demolição de calçadas | D13: 34278.086 | E13: m2 | H13: largura da calçada | I13: 2 | J13: m
A14: SINAPI | B14: 97636 | C14: DEMOLIÇÃO PARCIAL DE PAVIMENTO, DE FORMA MECANIZADA, SEM REAPROVEITAMENTO. AF_09/2023 | D14: M2 | E14: 34278.086 | F14: 23.51 | G14: 805877.8 | H14: ESPESSURA DE CONCRETO | I14: 0.05
C15: Carga e transporte do material demolido | I15: m3 | J15: t
A16: SINAPI | B16: 100989 | C16: CARGA, MANOBRA E DESCARGA DE SOLOS E MATERIAIS GRANULARES EM CAMINHÃO BASCULANTE 6 M³ - CARGA COM PÁ CARREGADEIRA (CAÇAMBA DE 1,7 A 2,8 M³ / 128 HP) E DESCARGA LIVRE (UNIDADE: T). AF_07/2020 | D16: T | E16: 2570.8564 | F16: 6.05 | G16: 15553.681 | H16: Estimado espessura de demolição de 5 cm 1,5 t/m3 | I16: 1713.9043 | J16: =I16*1.5 -> 2570.8564
A17: SINAPI | B17: 95879 | C17: TRANSPORTE COM CAMINHÃO BASCULANTE DE 14 M³, EM VIA URBANA PAVIMENTADA, DMT ATÉ 30 KM (UNIDADE: TXKM). AF_07/2020 | D17: TXKM | E17: 71983.98 | F17: 1.53 | G17: 110135.49 | H17: Transporte para o Bota Fora, até a distância de 30,0 km
A18: SINAPI | B18: 93599 | C18: TRANSPORTE COM CAMINHÃO BASCULANTE DE 14 M³, EM VIA URBANA PAVIMENTADA, ADICIONAL PARA DMT EXCEDENTE A 30 KM (UNIDADE: TXKM). AF_07/2020 | D18: TXKM | E18: 0 | F18: 0.61 | G18: 0 | H18: Transporte excedente a 30 km, com DMT NOVACAP
F19: SOMA PARCIAL | G19: 931566.97
I20: MF RUIM | J20: MF REGULAR
B21: GRUPO 02 | C21: Demolição de meio fio | D21: 8321 | E21: m | H21: Quantidade Extraida do SGPU (Meio fio ruim e /ou regular) | I21: 0.5 | J21: 0
A22: SINAPI | B22: 104790 | C22: DEMOLIÇÃO DE PISO DE CONCRETO SIMPLES, DE FORMA MECANIZADA COM MARTELETE, SEM REAPROVEITAMENTO. AF_09/2023 | D22: M3 | E22: 357.803 | F22: 115.71 | G22: 41401.385 | H22: Cada meio fio possui 0,043 m3
C23: Carga e transporte do material demolido
A24: SINAPI | B24: 100989 | C24: CARGA, MANOBRA E DESCARGA DE SOLOS E MATERIAIS GRANULARES EM CAMINHÃO BASCULANTE 6 M³ - CARGA COM PÁ CARREGADEIRA (CAÇAMBA DE 1,7 A 2,8 M³ / 128 HP) E DESCARGA LIVRE (UNIDADE: T). AF_07/2020 | D24: T | E24: 536.7045 | F24: 6.05 | G24: 3247.0622 | H24: Volume demolido x 1,5 t/m3
A25: SINAPI | B25: 95879 | C25: TRANSPORTE COM CAMINHÃO BASCULANTE DE 14 M³, EM VIA URBANA PAVIMENTADA, DMT ATÉ 30 KM (UNIDADE: TXKM). AF_07/2020 | D25: TXKM | E25: 15027.726 | F25: 1.53 | G25: 22992.421 | H25: Transporte para o Bota Fora, até a distância de 30,0 km, com DMT da Novacap até a obra
A26: SINAPI | B26: 93599 | C26: TRANSPORTE COM CAMINHÃO BASCULANTE DE 14 M³, EM VIA URBANA PAVIMENTADA, ADICIONAL PARA DMT EXCEDENTE A 30 KM (UNIDADE: TXKM). AF_07/2020 | D26: TXKM | E26: 0 | F26: 0.61 | G26: 0 | H26: Transporte excedente a 30 km, com DMT da Novacap até a obra
F27: SOMA PARCIAL | G27: 67640.868
B29: GRUPO 03 | C29: Limpeza de camada vegetal | D29: 1713.9043 | E29: m2 | H29: Estimado igual a 5% da área de calçada a demolir
A30: SICRO | B30: 5502985 | C30: Limpeza mecanizada da camada vegetal | D30: m² | E30: 1713.9043 | F30: 0.56 | G30: 959.7864 | H30: ESPESSURA DE LIMPEZA | I30: 0.1 | J30: m
C31: Carga e transporte da limpeza vegetal
A32: SINAPI | B32: 100995 | C32: CARGA, MANOBRA E DESCARGA DE SOLOS E MATERIAIS GRANULARES EM CAMINHÃO BASCULANTE 14 M³ - CARGA COM ESCAVADEIRA HIDRÁULICA (CAÇAMBA DE 1,20 M³ / 155 HP) E DESCARGA LIVRE (UNIDADE: T). AF_07/2020 | D32: T | E32: 257.08564 | F32: 4.66 | G32: 1198.0191 | H32: Estimado espessura de limpeza de 10 cm, multiplicado por 1,5 t/m3
A33: SINAPI | B33: 95879 | C33: TRANSPORTE COM CAMINHÃO BASCULANTE DE 14 M³, EM VIA URBANA PAVIMENTADA, DMT ATÉ 30 KM (UNIDADE: TXKM). AF_07/2020 | D33: TXKM | E33: 7712.5693 | F33: 1.53 | G33: 11800.231 | H33: Transporte para o Bota Fora, até a distância de 30,0 km
A34: SINAPI | B34: 93599 | C34: TRANSPORTE COM CAMINHÃO BASCULANTE DE 14 M³, EM VIA URBANA PAVIMENTADA, ADICIONAL PARA DMT EXCEDENTE A 30 KM (UNIDADE: TXKM). AF_07/2020 | D34: TXKM | E34: 2827.9421 | F34: 0.61 | G34: 1725.0447 | H34: Transporte excedente a 30 km, com DMT BOTA FORA
A35: NOVACAP | B35: Item 3 | C35: DISPOSIÇÃO FINAL DE RESÍDUOS DA CONSTRUÇÃO CIVIL SEGREGADOS (RESOLUÇÃO Nº 45, DE 27 DE NOVEMBRO DE 2024) - Atualizado em ABRIL/2025 (https://www.sinj.df.gov.br/sinj/Norma/0098bc504bf84700928dd5d4a9dc6efc/adasa_res_45_2024_rep.html) | D35: T | E35: 231.37708 | F35: 17.13 | G35: 3963.4894 | H35: estimado que 90% do material demolido está segregado, esta quantidade deve ser aferida em campo.
A36: NOVACAP | B36: Item 4 | C36: DISPOSIÇÃO FINAL DE RESÍDUOS DA CONSTRUÇÃO CIVIL NÃO SEGREGADOS (RESOLUÇÃO Nº 45, DE 27 DE NOVEMBRO DE 2024) - Atualizado em ABRIL/2025 (https://www.sinj.df.gov.br/sinj/Norma/0098bc504bf84700928dd5d4a9dc6efc/adasa_res_45_2024_rep.html) | D36: T | E36: 25.708564 | F36: 28.42 | G36: 730.6374 | H36: estimado que 10% do material demolido NÃO está segregado, esta quantidade deve ser aferida em campo.
F37: SOMA PARCIAL | G37: 20377.208
B39: GRUPO 04 | C39: Nivelamento de PV | D39: 740 | E39: und. | I39: 1
A40: NOVACAP | B40: 06-21-00M/PMSP | C40: LEVANTAMENTO OU REBAIXAMENTO DE TAMPÃO DE POÇO DE VISITA | D40: UNID. | E40: 740 | F40: 184.11327 | G40: 136243.82 | H40: Quantidade Extraida do SGPU (PV saliente ou rebaixado)
F41: SOMA PARCIAL | G41: 136243.82
B43: GRUPO 05 | C43: EXECUÇÃO CALÇADA E RAMPAS DE ACESSIBILIDADE | D43: 25708.564 | E43: m2 | H43: Soma da área de demolição de calçadas, com a área de limpeza de camada vegetal, excluído a área de calçada armada.
C44: ATERRO
...

Sheet RESUMO
A5: RESUMO DA ESTIMATIVA DE PREÇOS
A6: SEM DESONERAÇÃO
A7: INTERESSADO: PROCESSO 00112-00004957/2025-51
A8: RECONSTRUÇÃO E IMPLANTAÇÃO DE CALÇADAS | F8: 1000
A9: TABELA DE REFERÊNCIA - SINAPI ABRIL/25 - SICRO JAN/25 - PMSP JAN/25
H10: COMPRIMENTO | I10: LARGURA
F11: BDI
A12: ITEM | B12: DESCRIÇÃO DO ITEM | C12: CUSTO TOTAL (com BDI) | D12: % DO TOTAL DA OBRA | F12: 0.2122
A13: GRUPO 01 | B13: Demolição de calçadas | C13: 1129245.5 | D13: 0.15965936 | F13: 931566.97
A14: GRUPO 02 | B14: Demolição de meio fio | C14: 81994.26 | D14: 0.01159283 | F14: 67640.868
A15: GRUPO 03 | B15: Limpeza de camada vegetal | C15: 24701.252 | D15: 0.003492408 | F15: 20377.208
A16: GRUPO 04 | B16: Nivelamento de PV | C16: 165154.76 | D16: 0.023350549 | F16: 136243.82
A17: GRUPO 05 | B17: EXECUÇÃO CALÇADA E RAMPAS DE ACESSIBILIDADE | C17: 1748507.3 | D17: 0.24721422 | F17: 1442424.7
A18: GRUPO 06 | B18: EXECUÇÃO CALÇADA ARMADA E RAMPAS DE ACESSIBILIDADE | C18: 1359666.2 | D18: 0.19223758 | F18: 1121651.7
A19: GRUPO 07 | B19: EXECUÇÃO DE MEIO-FIO | C19: 503627.92 | D19: 0.071205873 | F19: 415466.03
A20: GRUPO 08 | B20: EXECUÇÃO DE CORDÃO DE CONCRETO | C20: 43415.985 | D20: 0.0061384069 | E20: 3 | F20: 35815.86
A21: GRUPO 09 | B21: EXECUÇÃO BOCA DE LOBO DUPLA | C21: 589848.05 | D21: 0.083396181 | F21: 486593.01 | G21: 0
A22: GRUPO 10 | B22: EXECUÇÃO BOCA DE LOBO SIMPLES | C22: 351263.14 | D22: 0.049663645 | F22: 289773.26
A23: GRUPO 11 | B23: SINALIZAÇÃO DE OBRA | C23: 7823.9496 | D23: 0.0011061959 | F23: 6454.3389
A24: GRUPO 12 | B24: PEÇAS DE REPOSIÇÃO | C24: 277831.67 | D24: 0.039281473 | F24: 229196.23
A25: GRUPO 13 | B25: REGISTRO (AS BUILT) E CONTROLE TÉCNICO DA OBRA | C25: 434996.08 | D25: 0.0615023 | F25: 358848.44
A26: GRUPO 14 | B26: ADM LOCAL | C26: 354766.54 | D26: 0.050158976 | F26: 292663.37
A27: GRUPO 19 | C27: 0 | D27: 0
A28: GRUPO 20 | C28: 0 | D28: 0
A29: GRUPO 21 | C29: 0 | D29: 0
A30: GRUPO 22 | C30: 0 | D30: 0
A31: GRUPO 23 | C31: 0 | D31: 0
A32: GRUPO 24 | C32: 0 | D32: 0
A33: GRUPO 25 | C33: 0 | D33: 0
A34: GRUPO 26 | D34: 0
A35: GRUPO 27 | C35: 0 | D35: 0
A36: GRUPO 28 | C36: 0 | D36: 0
A37: GRUPO 29 | C37: 0 | D37: 0
A38: GRUPO 30 | C38: 0 | D38: 0
A39: GRUPO 31 | C39: 0 | D39: 0
A40: GRUPO 32 | C40: 0 | D40: 0
A41: GRUPO 33 | C41: 0 | D41: 0
A42: GRUPO 35 | C42: 0 | D42: 0
A43: GRUPO 36 | C43: 0 | D43: 0
A44: GRUPO 37 | C44: 0 | D44: 0
...

Sheet PADRÃO ATA
B1: PREÇO PARA ATA
B2: =CAPA!B14 -> RECONSTRUÇÃO E IMPLANTAÇÃO DE CALÇADAS
B3: =CAPA!B19 -> SEM DESONERAÇÃO
B4: =CAPA!B17 -> INTERESSADO: PROCESSO 00112-00004957/2025-51
G6: R$ com BDI | H6: R$ com BDI
B7: ITEM | C7: CÓDIGO | D7: DESCRIÇÃO DO ITEM | E7: UNIDADE | F7: QUANTIDADE | G7: PREÇO UNI | H7: PREÇO TOTAL | I7: % | J7: % ACUMULADA | K7: CLASSIFICAÇÃO
B8: 1 | C8: 94995M | D8: EXECUÇÃO DE PASSEIO (CALÇADA) OU PISO DE CONCRETO COM CONCRETO MOLDADO IN LOCO, USINADO, ACABAMENTO CONVENCIONAL, ESPESSURA 8 CM, ARMADO. AF_07/2016 - EXCLUINDO O SARRAFO E LONA PLÁSTICA | E8: M2 | F8: 10283.426 | G8: 102.87885 | H8: 1057947 | I8: 0.14957876 | J8: 0.14957876 | K8: A
B9: 2 | C9: 97636 | D9: DEMOLIÇÃO PARCIAL DE PAVIMENTO, DE FORMA MECANIZADA, SEM REAPROVEITAMENTO. AF_09/2023 | E9: M2 | F9: 35159.366 | G9: 28.498822 | H9: 1002000.5 | I9: 0.14166871 | J9: 0.29124748 | K9: A
B10: 3 | C10: 94991M | D10: EXECUÇÃO DE PASSEIO (CALÇADA) OU PISO DE CONCRETO COM CONCRETO MOLDADO IN LOCO, USINADO, ACABAMENTO CONVENCIONAL, NÃO ARMADO. AF_07/2016 - EXCLUINDO O SARRAFO | E10: M3 | F10: 1285.4282 | G10: 773.44612 | H10: 994209.47 | I10: 0.14056717 | J10: 0.43181465 | K10: A
B11: 4 | C11: 94273 | D11: ASSENTAMENTO DE GUIA (MEIO-FIO) EM TRECHO RETO, CONFECCIONADA EM CONCRETO PRÉ-FABRICADO, DIMENSÕES 100X15X13X30 CM (COMPRIMENTO X BASE INFERIOR X BASE SUPERIOR X ALTURA). AF_01/2024 | E11: M | F11: 8321 | G11: 59.979656 | H11: 499090.72 | I11: 0.070564376 | J11: 0.50237903 | K11: B
B12: 5 | C12: 97957 | D12: CAIXA PARA BOCA DE LOBO DUPLA RETANGULAR, EM ALVENARIA COM BLOCOS DE CONCRETO, DIMENSÕES INTERNAS: 0,6X2,2X1,2 M. AF_12/2020 | E12: UN | F12: 136 | G12: 3589.4575 | H12: 488166.23 | I12: 0.069019807 | J12: 0.57139883 | K12: B
B13: 6 | C13: 95879 | D13: TRANSPORTE COM CAMINHÃO BASCULANTE DE 14 M³, EM VIA URBANA PAVIMENTADA, DMT ATÉ 30 KM (UNIDADE: TXKM). AF_07/2020 | E13: TXKM | F13: 223900.7 | G13: 1.854666 | H13: 415261.02 | I13: 0.058712041 | J13: 0.63011087 | K13: B
B14: 7 | C14: 4718 | D14: PEDRA BRITADA N. 2 (19 A 38 MM) POSTO PEDREIRA/FORNECEDOR, SEM FRETE | E14: M3 | F14: 1799.5995 | G14: 225.63891 | H14: 406059.67 | I14: 0.0574111 | J14: 0.68752197 | K14: B
B15: 8 | C15: 4915703M | D15: Espalhamento de material de preenchimento e compactação com rolo compactador de 1,6 t | E15: M3 | F15: 2879.3592 | G15: 126.50519 | H15: 364253.89 | I15: 0.051500353 | J15: 0.73902233 | K15: B
B16: 9 | C16: ADM LOCAL | D16: Administração Local (específica para o Lote) | E16: unid. | F16: 1 | G16: 354766.54 | H16: 354766.54 | I16: 0.050158976 | J16: 0.7891813 | K16: B
B17: 10 | C17: 97956 | D17: CAIXA PARA BOCA DE LOBO SIMPLES RETANGULAR, EM ALVENARIA COM BLOCOS DE CONCRETO, DIMENSÕES INTERNAS: 0,6X1X1,2 M. AF_12/2020 | E17: UN | F17: 136 | G17: 2017.5129 | H17: 274381.76 | I17: 0.038793704 | J17: 0.82797501 | K17: C
B18: 11 | C18: 2006022 | D18: CONTROLE TECNOLÓGICO DE CONCRETO - ENSAIO DE ESCLEROMETRIA EM 10 PONTOS COM 16 TIROS POR PONTO | E18: ENS. | F18: 115 | G18: 2337.1095 | H18: 268767.59 | I18: 0.03799994 | J18: 0.86597495 | K18: C
B19: 12 | C19: 98114 | D19: TAMPA CIRCULAR PARA ESGOTO E DRENAGEM, EM FERRO FUNDIDO, DIÂMETRO INTERNO = 0,6 M. AF_12/2020 | E19: UN | F19: 272 | G19: 742.6907 | H19: 202011.87 | I19: 0.028561624 | J19: 0.89453657 | K19: C
B20: 13 | C20: 06-21-00M/PMSP | D20: LEVANTAMENTO OU REBAIXAMENTO DE TAMPÃO DE POÇO DE VISITA | E20: UNID. | F20: 740 | G20: 223.18211 | H20: 165154.76 | I20: 0.023350549 | J20: 0.91788712 | K20: C
B21: 14 | C21: 94283 | D21: EXECUÇÃO DE SARJETA DE CONCRETO USINADO, MOLDADA IN LOCO EM TRECHO RETO, 45 CM BASE X 15 CM ALTURA. AF_01/2024 | E21: M | F21: 1958.4 | G21: 73.09566 | H21: 143150.54 | I21: 0.020239464 | J21: 0.93812659 | K21: C
B22: 15 | C22: 94296 | D22: TOPOGRAFO COM ENCARGOS COMPLEMENTARES | E22: MES | F22: 12 | G22: 5272.3306 | H22: 63267.967 | I22: 0.0089451966 | J22: 0.94707178 | K22: C
B23: 16 | C23: 6077 | D23: ARGILA OU BARRO PARA ATERRO/REATERRO (RETIRADO NA JAZIDA, SEM TRANSPORTE) | E23: M3 | F23: 1079.7597 | G23: 46.984872 | H23: 50732.371 | I23: 0.0071728405 | J23: 0.95424462 | K23: C
B24: 17 | C24: 104790 | D24: DEMOLIÇÃO DE PISO DE CONCRETO SIMPLES, DE FORMA MECANIZADA COM MARTELETE, SEM REAPROVEITAMENTO. AF_09/2023 | E24: M3 | F24: 357.803 | G24: 140.26366 | H24: 50186.759 | I24: 0.0070956986 | J24: 0.96134032 | K24: C
B25: 18 | C25: 94273M1/SINAPI | D25: ASSENTAMENTO DE GUIA (MEIO-FIO) TIPO CORDÃO E VIGA P/ BOCA DE LOBO, EM TRECHO RETO, CONFECCIONADA EM CONCRETO PRÉ-FABRICADO, DIMENSÕES 100X8X10X17 CM (COMPRIMENTO X BASE SUPERIOR X BASE INFERIOR X ALTURA) OU SIMILAR PARA VIAS URBANAS (USO VIÁRIO)(FORNECIMENTO E INSTALAÇÃO) | E25: M | F25: 833 | G25: 51.574758 | H25: 42961.774 | I25: 0.0060741878 | J25: 0.96741451 | K25: C
B26: 19 | C26: 3002000 | D26: PROJETO EM PLANTA PARA PROJETO DE CALÇADAS E ACESSIBILIDADE | E26: M | F26: 17139.043 | G26: 1.951642 | H26: 33449.276 | I26: 0.004729255 | J26: 0.97214376 | K26: C
B27: 20 | C27: 4493/NOVACAP | D27: FORNECIMENTO DE TAMPA ADUELA PONTA E BOLSA 600MM EM CONCRETO ARMADO PARA POÇO DE VISITA DN=Ø0,70M, E=0,08M | E27: UNID. | F27: 272 | G27: 113.3407 | H27: 30828.67 | I27: 0.0043587384 | J27: 0.9765025 | K27: C
B28: 21 | C28: 1009000 | D28: LEVANTAMENTO PLANIMÉTRICO CADASTRAL | E28: M2 | F28: 34278.086 | G28: 0.824296 | H28: 28255.289 | I28: 0.0039948987 | J28: 0.9804974 | K28: C
B29: 22 | C29: 41093 | D29: AUXILIAR DE TOPOGRAFO (MENSALISTA) | E29: MES | F29: 12 | G29: 2122.1864 | H29: 25466.237 | I29: 0.0036005661 | J29: 0.98409797 | K29: C
B30: 23 | C30: 98114M/SINAPI | D30: TAMPAO FOFO SIMPLES COM BASE, CLASSE D400 CARGA MAX 40 T, REDONDO, TAMPA 600 MM, REDE PLUVIAL/ESGOTO (COM INSCRICAO EM RELEVO DO TIPO DE REDE) - FORNECIMENTO E ASSENTAMENTO. | E30: UNID. | F30: 272 | G30: 88.883982 | H30: 24176.443 | I30: 0.0034182075 | J30: 0.98751617 | K30: C
B31: 24 | C31: 100989 | D31: CARGA, MANOBRA E DESCARGA DE SOLOS E MATERIAIS GRANULARES EM CAMINHÃO BASCULANTE 6 M³ - CARGA COM PÁ CARREGADEIRA (CAÇAMBA DE 1,7 A 2,8 M³ / 128 HP) E DESCARGA LIVRE (UNIDADE: T). AF_07/2020 | E31: T | F31: 3107.5609 | G31: 7.33381 | H31: 22790.261 | I31: 0.003222221 | J31: 0.9907384 | K31: C
B32: 25 | C32: 98050 | D32: CHAMINÉ CIRCULAR PARA POÇO DE VISITA PARA ESGOTO, EM CONCRETO PRÉ-MOLDADO, DIÂMETRO INTERNO = 0,6 M. AF_12/2020 | E32: M | F32: 55 | G32: 378.44884 | H32: 20814.686 | I32: 0.0029429025 | J32: 0.9936813 | K32: C
B33: 26 | C33: 3003000 | D33: PROJETO EM PERFIL PARA PROJETO DE CALÇADAS E ACESSIBILIDADE | E33: M | F33: 17139.043 | G33: 0.921272 | H33: 15789.72 | I33: 0.0022324434 | J33: 0.99591374 | K33: C
B34: 27 | C34: 95606M | D34: UMIDIFICAÇÃO DE MATERIAL PARA VALAS COM CAMINHÃO PIPA 10000L. AF_11/2016 | E34: M3 | F34: 3599.199 | G34: 2.9674656 | H34: 10680.499 | I34: 0.0015100717 | J34: 0.99742381 | K34: C
B35: 28 | C35: Item 3 | D35: DISPOSIÇÃO FINAL DE RESÍDUOS DA CONSTRUÇÃO CIVIL SEGREGADOS (RESOLUÇÃO Nº 45, DE 27 DE NOVEMBRO DE 2024) - Atualizado em ABRIL/2025 (https://www.sinj.df.gov.br/sinj/Norma/0098bc504bf84700928dd5d4a9dc6efc/adasa_res_45_2024_rep.html) | E35: T | F35: 231.37708 | G35: 20.764986 | H35: 4804.5418 | I35: 0.00067929433 | J35: 0.99810311 | K35: C
B36: 29 | C36: AD24.05.0500M (/) AD25.05.0500M (/) SCO-RIO | D36: PROTEÇÃO DE CANTEIRO DE OBRA EM ÁREAS PÚBLICAS, COMPREENDENDO TELA PLÁSTICA, ESTRUTURA DE MADEIRA A CADA 3M DE DISTÂNCIA COM BASE DE CONCRETO, UTILIZAÇÃO 2 VEZES. | E36: M | F36: 103 | G36: 46.207124 | H36: 4759.3338 | I36: 0.00067290256 | J36: 0.99877601 | K36: C
B37: 30 | C37: 4780/NOVACAP | D37: ISOLAMENTO DE OBRA COM TELA PLASTICA COM MALHA DE 5 MM (BASEADO NO CÓDIGO DESATIVADO 85423/SINAPI) | E37: M2 | F37: 206 | G37: 12.411981 | H37: 2556.8681 | I37: 0.00036150503 | J37: 0.99913752 | K37: C
B38: 31 | C38: 93599 | D38: TRANSPORTE COM CAMINHÃO BASCULANTE DE 14 M³, EM VIA URBANA PAVIMENTADA, ADICIONAL PARA DMT EXCEDENTE A 30 KM (UNIDADE: TXKM). AF_07/2020 | E38: TXKM | F38: 2827.9421 | G38: 0.739442 | H38: 2091.0991 | I38: 0.00029565187 | J38: 0.99943317 | K38: C
B39: 32 | C39: 100995 | D39: CARGA, MANOBRA E DESCARGA DE SOLOS E MATERIAIS GRANULARES EM CAMINHÃO BASCULANTE 14 M³ - CARGA COM ESCAVADEIRA HIDRÁULICA (CAÇAMBA DE 1,20 M³ / 155 HP) E DESCARGA LIVRE (UNIDADE: T). AF_07/2020 | E39: T | F39: 257.08564 | G39: 5.648852 | H39: 1452.2388 | I39: 0.00020532604 | J39: 0.99963849 | K39: C
B40: 33 | C40: 5502985 | D40: Limpeza mecanizada da camada vegetal | E40: m² | F40: 1713.9043 | G40: 0.678832 | H40: 1163.4531 | I40: 0.00016449583 | J40: 0.99980299 | K40: C
B41: 34 | C41: Item 4 | D41: DISPOSIÇÃO FINAL DE RESÍDUOS DA CONSTRUÇÃO CIVIL NÃO SEGREGADOS (RESOLUÇÃO Nº 45, DE 27 DE NOVEMBRO DE 2024) - Atualizado em ABRIL/2025 (https://www.sinj.df.gov.br/sinj/Norma/0098bc504bf84700928dd5d4a9dc6efc/adasa_res_45_2024_rep.html) | E41: T | F41: 25.708564 | G41: 34.450724 | H41: 885.67865 | I41: 0.00012522245 | J41: 0.99992821 | K41: C
...

Sheet CURVA ABC
B1: CURVA ABC
B2: =CAPA!B14 -> RECONSTRUÇÃO E IMPLANTAÇÃO DE CALÇADAS
B3: =CAPA!B19 -> SEM DESONERAÇÃO
B4: =CAPA!B17 -> INTERESSADO: PROCESSO 00112-00004957/2025-51
B7: ITEM | C7: CÓDIGO | D7: DESCRIÇÃO DO ITEM | E7: UNIDADE | F7: QUANTIDADE | G7: CUSTO UNI | H7: CUSTO TOTAL | I7: % | J7: % ACUMULADA | K7: CLASSIFICAÇÃO
B8: 1 | C8: 94995M | D8: EXECUÇÃO DE PASSEIO (CALÇADA) OU PISO DE CONCRETO COM CONCRETO MOLDADO IN LOCO, USINADO, ACABAMENTO CONVENCIONAL, ESPESSURA 8 CM, ARMADO. AF_07/2016 - EXCLUINDO O SARRAFO E LONA PLÁSTICA | E8: M2 | F8: 10283.426 | G8: 84.869537 | H8: 872749.58 | I8: 0.14957876 | J8: 0.14957876 | K8: A
B9: 2 | C9: 97636 | D9: DEMOLIÇÃO PARCIAL DE PAVIMENTO, DE FORMA MECANIZADA, SEM REAPROVEITAMENTO. AF_09/2023 | E9: M2 | F9: 35159.366 | G9: 23.51 | H9: 826596.69 | I9: 0.14166871 | J9: 0.29124748 | K9: A
B10: 3 | C10: 94991M | D10: EXECUÇÃO DE PASSEIO (CALÇADA) OU PISO DE CONCRETO COM CONCRETO MOLDADO IN LOCO, USINADO, ACABAMENTO CONVENCIONAL, NÃO ARMADO. AF_07/2016 - EXCLUINDO O SARRAFO | E10: M3 | F10: 1285.4282 | G10: 638.05158 | H10: 820169.5 | I10: 0.14056717 | J10: 0.43181465 | K10: A
B11: 4 | C11: 94273 | D11: ASSENTAMENTO DE GUIA (MEIO-FIO) EM TRECHO RETO, CONFECCIONADA EM CONCRETO PRÉ-FABRICADO, DIMENSÕES 100X15X13X30 CM (COMPRIMENTO X BASE INFERIOR X BASE SUPERIOR X ALTURA). AF_01/2024 | E11: M | F11: 8321 | G11: 49.48 | H11: 411723.08 | I11: 0.070564376 | J11: 0.50237903 | K11: B
B12: 5 | C12: 97957 | D12: CAIXA PARA BOCA DE LOBO DUPLA RETANGULAR, EM ALVENARIA COM BLOCOS DE CONCRETO, DIMENSÕES INTERNAS: 0,6X2,2X1,2 M. AF_12/2020 | E12: UN | F12: 136 | G12: 2961.11 | H12: 402710.96 | I12: 0.069019807 | J12: 0.57139883 | K12: B
B13: 6 | C13: 95879 | D13: TRANSPORTE COM CAMINHÃO BASCULANTE DE 14 M³, EM VIA URBANA PAVIMENTADA, DMT ATÉ 30 KM (UNIDADE: TXKM). AF_07/2020 | E13: TXKM | F13: 223900.7 | G13: 1.53 | H13: 342568.07 | I13: 0.058712041 | J13: 0.63011087 | K13: B
B14: 7 | C14: 4718 | D14: PEDRA BRITADA N. 2 (19 A 38 MM) POSTO PEDREIRA/FORNECEDOR, SEM FRETE | E14: M3 | F14: 1799.5995 | G14: 186.14 | H14: 334977.45 | I14: 0.0574111 | J14: 0.68752197 | K14: B
B15: 8 | C15: 4915703M | D15: Espalhamento de material de preenchimento e compactação com rolo compactador de 1,6 t | E15: M3 | F15: 2879.3592 | G15: 104.36 | H15: 300489.93 | I15: 0.051500353 | J15: 0.73902233 | K15: B
B16: 9 | C16: ADM LOCAL | D16: Administração Local (específica para o Lote) | E16: unid. | F16: 1 | G16: 292663.37 | H16: 292663.37 | I16: 0.050158976 | J16: 0.7891813 | K16: B
B17: 10 | C17: 97956 | D17: CAIXA PARA BOCA DE LOBO SIMPLES RETANGULAR, EM ALVENARIA COM BLOCOS DE CONCRETO, DIMENSÕES INTERNAS: 0,6X1X1,2 M. AF_12/2020 | E17: UN | F17: 136 | G17: 1664.34 | H17: 226350.24 | I17: 0.038793704 | J17: 0.82797501 | K17: C
B18: 11 | C18: 2006022 | D18: CONTROLE TECNOLÓGICO DE CONCRETO - ENSAIO DE ESCLEROMETRIA EM 10 PONTOS COM 16 TIROS POR PONTO | E18: ENS. | F18: 115 | G18: 1927.99 | H18: 221718.85 | I18: 0.03799994 | J18: 0.86597495 | K18: C
B19: 12 | C19: 98114 | D19: TAMPA CIRCULAR PARA ESGOTO E DRENAGEM, EM FERRO FUNDIDO, DIÂMETRO INTERNO = 0,6 M. AF_12/2020 | E19: UN | F19: 272 | G19: 612.68 | H19: 166648.96 | I19: 0.028561624 | J19: 0.89453657 | K19: C
B20: 13 | C20: 06-21-00M/PMSP | D20: LEVANTAMENTO OU REBAIXAMENTO DE TAMPÃO DE POÇO DE VISITA | E20: UNID. | F20: 740 | G20: 184.11327 | H20: 136243.82 | I20: 0.023350549 | J20: 0.91788712 | K20: C
B21: 14 | C21: 94283 | D21: EXECUÇÃO DE SARJETA DE CONCRETO USINADO, MOLDADA IN LOCO EM TRECHO RETO, 45 CM BASE X 15 CM ALTURA. AF_01/2024 | E21: M | F21: 1958.4 | G21: 60.3 | H21: 118091.52 | I21: 0.020239464 | J21: 0.93812659 | K21: C
B22: 15 | C22: 94296 | D22: TOPOGRAFO COM ENCARGOS COMPLEMENTARES | E22: MES | F22: 12 | G22: 4349.39 | H22: 52192.68 | I22: 0.0089451966 | J22: 0.94707178 | K22: C
B23: 16 | C23: 6077 | D23: ARGILA OU BARRO PARA ATERRO/REATERRO (RETIRADO NA JAZIDA, SEM TRANSPORTE) | E23: M3 | F23: 1079.7597 | G23: 38.76 | H23: 41851.486 | I23: 0.0071728405 | J23: 0.95424462 | K23: C
B24: 17 | C24: 104790 | D24: DEMOLIÇÃO DE PISO DE CONCRETO SIMPLES, DE FORMA MECANIZADA COM MARTELETE, SEM REAPROVEITAMENTO. AF_09/2023 | E24: M3 | F24: 357.803 | G24: 115.71 | H24: 41401.385 | I24: 0.0070956986 | J24: 0.96134032 | K24: C
B25: 18 | C25: 94273M1/SINAPI | D25: ASSENTAMENTO DE GUIA (MEIO-FIO) TIPO CORDÃO E VIGA P/ BOCA DE LOBO, EM TRECHO RETO, CONFECCIONADA EM CONCRETO PRÉ-FABRICADO, DIMENSÕES 100X8X10X17 CM (COMPRIMENTO X BASE SUPERIOR X BASE INFERIOR X ALTURA) OU SIMILAR PARA VIAS URBANAS (USO VIÁRIO)(FORNECIMENTO E INSTALAÇÃO) | E25: M | F25: 833 | G25: 42.54641 | H25: 35441.16 | I25: 0.0060741878 | J25: 0.96741451 | K25: C
B26: 19 | C26: 3002000 | D26: PROJETO EM PLANTA PARA PROJETO DE CALÇADAS E ACESSIBILIDADE | E26: M | F26: 17139.043 | G26: 1.61 | H26: 27593.859 | I26: 0.004729255 | J26: 0.97214376 | K26: C
B27: 20 | C27: 4493/NOVACAP | D27: FORNECIMENTO DE TAMPA ADUELA PONTA E BOLSA 600MM EM CONCRETO ARMADO PARA POÇO DE VISITA DN=Ø0,70M, E=0,08M | E27: UNID. | F27: 272 | G27: 93.5 | H27: 25432 | I27: 0.0043587384 | J27: 0.9765025 | K27: C
B28: 21 | C28: 1009000 | D28: LEVANTAMENTO PLANIMÉTRICO CADASTRAL | E28: M2 | F28: 34278.086 | G28: 0.68 | H28: 23309.098 | I28: 0.0039948987 | J28: 0.9804974 | K28: C
B29: 22 | C29: 41093 | D29: AUXILIAR DE TOPOGRAFO (MENSALISTA) | E29: MES | F29: 12 | G29: 1750.69 | H29: 21008.28 | I29: 0.0036005661 | J29: 0.98409797 | K29: C
B30: 23 | C30: 98114M/SINAPI | D30: TAMPAO FOFO SIMPLES COM BASE, CLASSE D400 CARGA MAX 40 T, REDONDO, TAMPA 600 MM, REDE PLUVIAL/ESGOTO (COM INSCRICAO EM RELEVO DO TIPO DE REDE) - FORNECIMENTO E ASSENTAMENTO. | E30: UNID. | F30: 272 | G30: 73.324519 | H30: 19944.269 | I30: 0.0034182075 | J30: 0.98751617 | K30: C
B31: 24 | C31: 100989 | D31: CARGA, MANOBRA E DESCARGA DE SOLOS E MATERIAIS GRANULARES EM CAMINHÃO BASCULANTE 6 M³ - CARGA COM PÁ CARREGADEIRA (CAÇAMBA DE 1,7 A 2,8 M³ / 128 HP) E DESCARGA LIVRE (UNIDADE: T). AF_07/2020 | E31: T | F31: 3107.5609 | G31: 6.05 | H31: 18800.744 | I31: 0.003222221 | J31: 0.9907384 | K31: C
B32: 25 | C32: 98050 | D32: CHAMINÉ CIRCULAR PARA POÇO DE VISITA PARA ESGOTO, EM CONCRETO PRÉ-MOLDADO, DIÂMETRO INTERNO = 0,6 M. AF_12/2020 | E32: M | F32: 55 | G32: 312.2 | H32: 17171 | I32: 0.0029429025 | J32: 0.9936813 | K32: C
B33: 26 | C33: 3003000 | D33: PROJETO EM PERFIL PARA PROJETO DE CALÇADAS E ACESSIBILIDADE | E33: M | F33: 17139.043 | G33: 0.76 | H33: 13025.673 | I33: 0.0022324434 | J33: 0.99591374 | K33: C
B34: 27 | C34: 95606M | D34: UMIDIFICAÇÃO DE MATERIAL PARA VALAS COM CAMINHÃO PIPA 10000L. AF_11/2016 | E34: M3 | F34: 3599.199 | G34: 2.448 | H34: 8810.8392 | I34: 0.0015100717 | J34: 0.99742381 | K34: C
B35: 28 | C35: Item 3 | D35: DISPOSIÇÃO FINAL DE RESÍDUOS DA CONSTRUÇÃO CIVIL SEGREGADOS (RESOLUÇÃO Nº 45, DE 27 DE NOVEMBRO DE 2024) - Atualizado em ABRIL/2025 (https://www.sinj.df.gov.br/sinj/Norma/0098bc504bf84700928dd5d4a9dc6efc/adasa_res_45_2024_rep.html) | E35: T | F35: 231.37708 | G35: 17.13 | H35: 3963.4894 | I35: 0.00067929433 | J35: 0.99810311 | K35: C
B36: 29 | C36: AD24.05.0500M (/) AD25.05.0500M (/) SCO-RIO | D36: PROTEÇÃO DE CANTEIRO DE OBRA EM ÁREAS PÚBLICAS, COMPREENDENDO TELA PLÁSTICA, ESTRUTURA DE MADEIRA A CADA 3M DE DISTÂNCIA COM BASE DE CONCRETO, UTILIZAÇÃO 2 VEZES. | E36: M | F36: 103 | G36: 38.1184 | H36: 3926.1952 | I36: 0.00067290256 | J36: 0.99877601 | K36: C
B37: 30 | C37: 4780/NOVACAP | D37: ISOLAMENTO DE OBRA COM TELA PLASTICA COM MALHA DE 5 MM (BASEADO NO CÓDIGO DESATIVADO 85423/SINAPI) | E37: M2 | F37: 206 | G37: 10.239219 | H37: 2109.2791 | I37: 0.00036150503 | J37: 0.99913752 | K37: C
B38: 31 | C38: 93599 | D38: TRANSPORTE COM CAMINHÃO BASCULANTE DE 14 M³, EM VIA URBANA PAVIMENTADA, ADICIONAL PARA DMT EXCEDENTE A 30 KM (UNIDADE: TXKM). AF_07/2020 | E38: TXKM | F38: 2827.9421 | G38: 0.61 | H38: 1725.0447 | I38: 0.00029565187 | J38: 0.99943317 | K38: C
B39: 32 | C39: 100995 | D39: CARGA, MANOBRA E DESCARGA DE SOLOS E MATERIAIS GRANULARES EM CAMINHÃO BASCULANTE 14 M³ - CARGA COM ESCAVADEIRA HIDRÁULICA (CAÇAMBA DE 1,20 M³ / 155 HP) E DESCARGA LIVRE (UNIDADE: T). AF_07/2020 | E39: T | F39: 257.08564 | G39: 4.66 | H39: 1198.0191 | I39: 0.00020532604 | J39: 0.99963849 | K39: C
B40: 33 | C40: 5502985 | D40: Limpeza mecanizada da camada vegetal | E40: m² | F40: 1713.9043 | G40: 0.56 | H40: 959.7864 | I40: 0.00016449583 | J40: 0.99980299 | K40: C
B41: 34 | C41: Item 4 | D41: DISPOSIÇÃO FINAL DE RESÍDUOS DA CONSTRUÇÃO CIVIL NÃO SEGREGADOS (RESOLUÇÃO Nº 45, DE 27 DE NOVEMBRO DE 2024) - Atualizado em ABRIL/2025 (https://www.sinj.df.gov.br/sinj/Norma/0098bc504bf84700928dd5d4a9dc6efc/adasa_res_45_2024_rep.html) | E41: T | F41: 25.708564 | G41: 28.42 | H41: 730.6374 | I41: 0.00012522245 | J41: 0.99992821 | K41: C
B42: 35 | C42: 1.8.6 C2949M/SEINFRA | D42: SINALIZAÇÃO DE TRÂNSITO NOTURNA | E42: M | F42: 103 | G42: 4.0666464 | H42: 418.86458 | I42: 7.1788343e-05 | J42: 1 | K42: C
...

Sheet ADM LOCAL
B5: ADMINISTRAÇÃO LOCAL
B6: SEM DESONERAÇÃO
B7: INTERESSADO: PROCESSO 00112-00004957/2025-51
B8: RECONSTRUÇÃO E IMPLANTAÇÃO DE CALÇADAS
B9: TABELA DE REFERÊNCIA - SINAPI ABRIL/25 - SICRO JAN/25 - PMSP JAN/25
B10: GAMA
C11: QUANTIDADE DE R.A. | D11: 1 | E11: PERÍODO DA OBRA | F11: 12 | G11: Meses
B12: GRUPO 28 | C12: ADM LOCAL
B13: SICRO/ SINAPI | C13: DESCRIÇÃO DO ITEM | D13: UNIDADE | E13: QUANTIDADE | F13: CUSTO UNI | G13: CUSTO TOTAL
B14: 93565 | C14: ENGENHEIRO CIVIL DE OBRA JUNIOR COM ENCARGOS COMPLEMENTARES | D14: MES | E14: 12 | F14: 22638.12 | G14: 271657.44 | H14: um profissional pelo período da obra
B15: 10775 | C15: LOCACAO DE CONTAINER 2,30 X 6,00 M, ALT. 2,50 M, COM 1 SANITARIO, PARA ESCRITORIO, COMPLETO, SEM DIVISORIAS INTERNAS (NAO INCLUI MOBILIZACAO/DESMOBILIZACAO) | D15: MES | E15: 12 | F15: 1500 | G15: 18000 | H15: Pelo período da obra, para cada Região Administrativa
B16: 100952 | C16: TRANSPORTE COM CAMINHÃO CARROCERIA COM GUINDAUTO (MUNCK), MOMENTO MÁXIMO DE CARGA 11,7 TM, EM VIA URBANA PAVIMENTADA, DMT ATÉ 30KM (UNIDADE: TXKM). AF_07/2020 | D16: TXKM | E16: 128.8 | F16: 2.98 | G16: 383.824 | H16: transporte do Container, estimado 2,3 t x 2 x DMT Novacap
B17: ART - CREA/DF | C17: ANOTAÇÃO DE RESPONSABILIDADE TÉCNICA (Conforme Resolução 1067/2015, do CONFEA (art. 2º, §2º e §3º ) https://www.creadf.org.br/valores-taxas | D17: UNID. | E17: 3 | F17: 271.47 | G17: 814.41 | H17: ART para execução da obra, dimensionamento de pavimento e readequação de projetos, por R.A
B18: 5213417M/SICRO | C18: CONFECÇÃO DE PLACA EM AÇO Nº 16 GALVANIZADO, COM PELÍCULA RETRORREFLETIVA TIPO I + III | D18: M2 | E18: 0.72 | F18: 452.34353 | G18: 325.68734 | H18: Estimado 1 placa de 0,60 x 1,20 m2, para cada R.A
B19: CCU - 02.008/NOVACAP | C19: PLACA DE OBRA EM CHAPA DE ACO GALVANIZADO ADESIVADA - FORNECIMENTO E INSTALAÇÃO (REF: 74209/1 SINAPI JAN 2020) | D19: M2 | E19: 12 | F19: 123.5008 | G19: 1482.0096 | H19: Uma placa de 12 m2, para cada R.A.
F20: TOTAL DO GRUPO | G20: 292663.37
C22: Valor da obra, com o BDI | F22: 7072842.5
C23: Valor da ADM LOCAL com BDI | F23: 354766.54
C25: % da Adm. Local, com relação ao valor da obra | G25: 0.050158976

Sheet CRONOGRAMA
B1: CRONOGRAMA FÍFICO FINANCEIRO
B6: RECONSTRUÇÃO E IMPLANTAÇÃO DE CALÇADAS
B7: SEM DESONERAÇÃO
B8: INTERESSADO: PROCESSO 00112-00004957/2025-51
B9: DESCRIÇÃO | C9: % | D9: CUSTO TOTAL | E9: MÊS 1 | F9: MÊS 2 | G9: MÊS 3 | H9: MÊS 4 | I9: MÊS 5 | J9: MÊS 6 | K9: MÊS 7 | L9: MÊS 8 | M9: MÊS 9 | N9: MÊS 10 | O9: MÊS 11 | P9: MÊS 12
B10: Demolição de calçadas | C10: 0.15965936 | D10: 1129245.5 | E10: 0.07 | F10: 0.07 | G10: 0.07 | H10: 0.08 | I10: 0.08 | J10: 0.08 | K10: 0.1 | L10: 0.1 | M10: 0.1 | N10: 0.09 | O10: 0.08 | P10: 0.08 | Q10: 1
E11: 79047.184 | F11: 79047.184 | G11: 79047.184 | H11: 90339.638 | I11: 90339.638 | J11: 90339.638 | K11: 112924.55 | L11: 112924.55 | M11: 112924.55 | N11: 101632.09 | O11: 90339.638 | P11: 90339.638
E12: 0.07 | F12: 0.14 | G12: 0.21 | H12: 0.29 | I12: 0.37 | J12: 0.45 | K12: 0.55 | L12: 0.65 | M12: 0.75 | N12: 0.84 | O12: 0.92 | P12: 1
B13: Demolição de meio fio | C13: 0.01159283 | D13: 81994.26 | E13: 0.07 | F13: 0.07 | G13: 0.07 | H13: 0.08 | I13: 0.08 | J13: 0.08 | K13: 0.1 | L13: 0.1 | M13: 0.1 | N13: 0.09 | O13: 0.08 | P13: 0.08 | Q13: 1
E14: 5739.5982 | F14: 5739.5982 | G14: 5739.5982 | H14: 6559.5408 | I14: 6559.5408 | J14: 6559.5408 | K14: 8199.426 | L14: 8199.426 | M14: 8199.426 | N14: 7379.4834 | O14: 6559.5408 | P14: 6559.5408
E15: 0.07 | F15: 0.14 | G15: 0.21 | H15: 0.29 | I15: 0.37 | J15: 0.45 | K15: 0.55 | L15: 0.65 | M15: 0.75 | N15: 0.84 | O15: 0.92 | P15: 1
B16: Limpeza de camada vegetal | C16: 0.003492408 | D16: 24701.252 | E16: 0.07 | F16: 0.07 | G16: 0.07 | H16: 0.08 | I16: 0.08 | J16: 0.08 | K16: 0.1 | L16: 0.1 | M16: 0.1 | N16: 0.09 | O16: 0.08 | P16: 0.08 | Q16: 1
E17: 1729.0876 | F17: 1729.0876 | G17: 1729.0876 | H17: 1976.1001 | I17: 1976.1001 | J17: 1976.1001 | K17: 2470.1252 | L17: 2470.1252 | M17: 2470.1252 | N17: 2223.1126 | O17: 1976.1001 | P17: 1976.1001
E18: 0.07 | F18: 0.14 | G18: 0.21 | H18: 0.29 | I18: 0.37 | J18: 0.45 | K18: 0.55 | L18: 0.65 | M18: 0.75 | N18: 0.84 | O18: 0.92 | P18: 1
B19: Nivelamento de PV | C19: 0.023350549 | D19: 165154.76 | E19: 0.07 | F19: 0.07 | G19: 0.07 | H19: 0.08 | I19: 0.08 | J19: 0.08 | K19: 0.1 | L19: 0.1 | M19: 0.1 | N19: 0.09 | O19: 0.08 | P19: 0.08 | Q19: 1
E20: 11560.833 | F20: 11560.833 | G20: 11560.833 | H20: 13212.381 | I20: 13212.381 | J20: 13212.381 | K20: 16515.476 | L20: 16515.476 | M20: 16515.476 | N20: 14863.928 | O20: 13212.381 | P20: 13212.381
E21: 0.07 | F21: 0.14 | G21: 0.21 | H21: 0.29 | I21: 0.37 | J21: 0.45 | K21: 0.55 | L21: 0.65 | M21: 0.75 | N21: 0.84 | O21: 0.92 | P21: 1
B22: EXECUÇÃO CALÇADA E RAMPAS DE ACESSIBILIDADE | C22: 0.24721422 | D22: 1748507.3 | E22: 0.07 | F22: 0.07 | G22: 0.07 | H22: 0.08 | I22: 0.08 | J22: 0.08 | K22: 0.1 | L22: 0.1 | M22: 0.1 | N22: 0.09 | O22: 0.08 | P22: 0.08 | Q22: 1
E23: 122395.51 | F23: 122395.51 | G23: 122395.51 | H23: 139880.58 | I23: 139880.58 | J23: 139880.58 | K23: 174850.73 | L23: 174850.73 | M23: 174850.73 | N23: 157365.65 | O23: 139880.58 | P23: 139880.58
E24: 0.07 | F24: 0.14 | G24: 0.21 | H24: 0.29 | I24: 0.37 | J24: 0.45 | K24: 0.55 | L24: 0.65 | M24: 0.75 | N24: 0.84 | O24: 0.92 | P24: 1
B25: EXECUÇÃO CALÇADA ARMADA E RAMPAS DE ACESSIBILIDADE | C25: 0.19223758 | D25: 1359666.2 | E25: 0.07 | F25: 0.07 | G25: 0.07 | H25: 0.08 | I25: 0.08 | J25: 0.08 | K25: 0.1 | L25: 0.1 | M25: 0.1 | N25: 0.09 | O25: 0.08 | P25: 0.08 | Q25: 1
E26: 95176.631 | F26: 95176.631 | G26: 95176.631 | H26: 108773.29 | I26: 108773.29 | J26: 108773.29 | K26: 135966.62 | L26: 135966.62 | M26: 135966.62 | N26: 122369.95 | O26: 108773.29 | P26: 108773.29
E27: 0.07 | F27: 0.14 | G27: 0.21 | H27: 0.29 | I27: 0.37 | J27: 0.45 | K27: 0.55 | L27: 0.65 | M27: 0.75 | N27: 0.84 | O27: 0.92 | P27: 1
B28: EXECUÇÃO DE MEIO-FIO | C28: 0.071205873 | D28: 503627.92 | E28: 0.07 | F28: 0.07 | G28: 0.07 | H28: 0.08 | I28: 0.08 | J28: 0.08 | K28: 0.1 | L28: 0.1 | M28: 0.1 | N28: 0.09 | O28: 0.08 | P28: 0.08 | Q28: 1
E29: 35253.955 | F29: 35253.955 | G29: 35253.955 | H29: 40290.234 | I29: 40290.234 | J29: 40290.234 | K29: 50362.792 | L29: 50362.792 | M29: 50362.792 | N29: 45326.513 | O29: 40290.234 | P29: 40290.234
E30: 0.07 | F30: 0.14 | G30: 0.21 | H30: 0.29 | I30: 0.37 | J30: 0.45 | K30: 0.55 | L30: 0.65 | M30: 0.75 | N30: 0.84 | O30: 0.92 | P30: 1
B31: EXECUÇÃO DE CORDÃO DE CONCRETO | C31: 0.0061384069 | D31: 43415.985 | E31: 0.07 | F31: 0.07 | G31: 0.07 | H31: 0.08 | I31: 0.08 | J31: 0.08 | K31: 0.1 | L31: 0.1 | M31: 0.1 | N31: 0.09 | O31: 0.08 | P31: 0.08 | Q31: 1
E32: 3039.1189 | F32: 3039.1189 | G32: 3039.1189 | H32: 3473.2788 | I32: 3473.2788 | J32: 3473.2788 | K32: 4341.5985 | L32: 4341.5985 | M32: 4341.5985 | N32: 3907.4386 | O32: 3473.2788 | P32: 3473.2788
E33: 0.07 | F33: 0.14 | G33: 0.21 | H33: 0.29 | I33: 0.37 | J33: 0.45 | K33: 0.55 | L33: 0.65 | M33: 0.75 | N33: 0.84 | O33: 0.92 | P33: 1
B34: EXECUÇÃO BOCA DE LOBO DUPLA | C34: 0.083396181 | D34: 589848.05 | E34: 0.07 | F34: 0.07 | G34: 0.07 | H34: 0.08 | I34: 0.08 | J34: 0.08 | K34: 0.1 | L34: 0.1 | M34: 0.1 | N34: 0.09 | O34: 0.08 | P34: 0.08 | Q34: 1
E35: 41289.364 | F35: 41289.364 | G35: 41289.364 | H35: 47187.844 | I35: 47187.844 | J35: 47187.844 | K35: 58984.805 | L35: 58984.805 | M35: 58984.805 | N35: 53086.325 | O35: 47187.844 | P35: 47187.844
E36: 0.8 | F36: 0.1 | G36: 0.1 | H36: 0 | I36: 0 | J36: 0 | K36: 0 | L36: 0 | M36: 0 | N36: 0 | O36: 0 | P36: 0
B37: EXECUÇÃO BOCA DE LOBO SIMPLES | C37: 0.049663645 | D37: 351263.14 | E37: 0.07 | F37: 0.07 | G37: 0.07 | H37: 0.08 | I37: 0.08 | J37: 0.08 | K37: 0.1 | L37: 0.1 | M37: 0.1 | N37: 0.09 | O37: 0.08 | P37: 0.08 | Q37: 1
E38: 24588.42 | F38: 24588.42 | G38: 24588.42 | H38: 28101.051 | I38: 28101.051 | J38: 28101.051 | K38: 35126.314 | L38: 35126.314 | M38: 35126.314 | N38: 31613.683 | O38: 28101.051 | P38: 28101.051
E39: 0.07 | F39: 0.14 | G39: 0.21 | H39: 0.29 | I39: 0.37 | J39: 0.45 | K39: 0.55 | L39: 0.65 | M39: 0.75 | N39: 0.84 | O39: 0.92 | P39: 1
B40: SINALIZAÇÃO DE OBRA | C40: 0.0011061959 | D40: 7823.9496 | E40: 0.07 | F40: 0.07 | G40: 0.07 | H40: 0.08 | I40: 0.08 | J40: 0.08 | K40: 0.1 | L40: 0.1 | M40: 0.1 | N40: 0.09 | O40: 0.08 | P40: 0.08 | Q40: 1
E41: 547.67647 | F41: 547.67647 | G41: 547.67647 | H41: 625.91597 | I41: 625.91597 | J41: 625.91597 | K41: 782.39496 | L41: 782.39496 | M41: 782.39496 | N41: 704.15546 | O41: 625.91597 | P41: 625.91597
E42: 0.07 | F42: 0.14 | G42: 0.21 | H42: 0.29 | I42: 0.37 | J42: 0.45 | K42: 0.55 | L42: 0.65 | M42: 0.75 | N42: 0.84 | O42: 0.92 | P42: 1
B43: PEÇAS DE REPOSIÇÃO | C43: 0.039281473 | D43: 277831.67 | E43: 0.07 | F43: 0.07 | G43: 0.07 | H43: 0.08 | I43: 0.08 | J43: 0.08 | K43: 0.1 | L43: 0.1 | M43: 0.1 | N43: 0.09 | O43: 0.08 | P43: 0.08 | Q43: 1
E44: 19448.217 | F44: 19448.217 | G44: 19448.217 | H44: 22226.534 | I44: 22226.534 | J44: 22226.534 | K44: 27783.167 | L44: 27783.167 | M44: 27783.167 | N44: 25004.85 | O44: 22226.534 | P44: 22226.534
...

Sheet CAPA DESCRITIVA
B2: GOVERNO DO DISTRITO FEDERAL
B3: COMPANHIA URBANIZADORA DA NOVA CAPITAL DO BRASIL - NOVACAP
B4: DIRETORIA DE URBANIZAÇÃO
B13: DADOS DA OBRA:
B14: RECONSTRUÇÃO E IMPLANTAÇÃO DE CALÇADAS
B15: GAMA
B16: INTERESSADO: PROCESSO 00112-00004957/2025-51
B18: SEM DESONERAÇÃO
B20: RESPONSÁVEL TECNICO DO ORÇAMENTO:
B21: FABIO ROSSIGNOLI MARQUES
B22: CREA: 83382/D-MG
B26: MEMÓRIA DESCRITIVA

Sheet MEMÓRIA DESCRITIVA
B1: ESTIMATIVA DE PREÇOS
B2: =CAPA!B19 -> SEM DESONERAÇÃO
B3: =CAPA!B17 -> INTERESSADO: PROCESSO 00112-00004957/2025-51
B4: =CAPA!B14 -> RECONSTRUÇÃO E IMPLANTAÇÃO DE CALÇADAS
B5: =#REF! -> #REF!
B9: 0.63 | C9: Calçada Ruim
B10: 0 | C10: Calçada Regular
A11: TAB REFERÊNCIA | C11: DESCRIÇÃO DO ITEM | D11: UNIDADE
E12: Comprimento da calçada | F12: 0 | G12: m
B13: GRUPO 01 | C13: Demolição de calçadas | D13: 34278.086 | E13: largura da calçada | F13: 2 | G13: m
A14: SINAPI | B14: 97636 | C14: DEMOLIÇÃO PARCIAL DE PAVIMENTO, DE FORMA MECANIZADA, SEM REAPROVEITAMENTO. AF_09/2023 | D14: M2 | E14: ESPESSURA DE CONCRETO | F14: 0.05
C15: Carga e transporte do material demolido | F15: m3 | G15: t
A16: SINAPI | B16: 100989 | C16: CARGA, MANOBRA E DESCARGA DE SOLOS E MATERIAIS GRANULARES EM CAMINHÃO BASCULANTE 6 M³ - CARGA COM PÁ CARREGADEIRA (CAÇAMBA DE 1,7 A 2,8 M³ / 128 HP) E DESCARGA LIVRE (UNIDADE: T). AF_07/2020 | D16: T | E16: Estimado espessura de demolição de 5 cm 1,5 t/m3 | F16: 1713.9043 | G16: 2570.8564
A17: SINAPI | B17: 95879 | C17: TRANSPORTE COM CAMINHÃO BASCULANTE DE 14 M³, EM VIA URBANA PAVIMENTADA, DMT ATÉ 30 KM (UNIDADE: TXKM). AF_07/2020 | D17: TXKM | E17: Transporte para o Bota Fora, até a distância de 30,0 km
A18: SINAPI | B18: 93599 | C18: TRANSPORTE COM CAMINHÃO BASCULANTE DE 14 M³, EM VIA URBANA PAVIMENTADA, ADICIONAL PARA DMT EXCEDENTE A 30 KM (UNIDADE: TXKM). AF_07/2020 | D18: TXKM | E18: Transporte excedente a 30 km, com DMT NOVACAP
F20: MF RUIM | G20: MF REGULAR
B21: GRUPO 02 | C21: Demolição de meio fio | D21: 8321 | E21: Quantidade Extraida do SGPU (Meio fio ruim e /ou regular) | F21: 0.5 | G21: 0
A22: SINAPI | B22: 104790 | C22: DEMOLIÇÃO DE PISO DE CONCRETO SIMPLES, DE FORMA MECANIZADA COM MARTELETE, SEM REAPROVEITAMENTO. AF_09/2023 | D22: M3 | E22: Cada meio fio possui 0,043 m3
C23: Carga e transporte do material demolido
A24: SINAPI | B24: 100989 | C24: CARGA, MANOBRA E DESCARGA DE SOLOS E MATERIAIS GRANULARES EM CAMINHÃO BASCULANTE 6 M³ - CARGA COM PÁ CARREGADEIRA (CAÇAMBA DE 1,7 A 2,8 M³ / 128 HP) E DESCARGA LIVRE (UNIDADE: T). AF_07/2020 | D24: T | E24: Volume demolido x 1,5 t/m3
A25: SINAPI | B25: 95879 | C25: TRANSPORTE COM CAMINHÃO BASCULANTE DE 14 M³, EM VIA URBANA PAVIMENTADA, DMT ATÉ 30 KM (UNIDADE: TXKM). AF_07/2020 | D25: TXKM | E25: Transporte para o Bota Fora, até a distância de 30,0 km, com DMT da Novacap até a obra
A26: SINAPI | B26: 93599 | C26: TRANSPORTE COM CAMINHÃO BASCULANTE DE 14 M³, EM VIA URBANA PAVIMENTADA, ADICIONAL PARA DMT EXCEDENTE A 30 KM (UNIDADE: TXKM). AF_07/2020 | D26: TXKM | E26: Transporte excedente a 30 km, com DMT da Novacap até a obra
B29: GRUPO 03 | C29: Limpeza de camada vegetal | D29: 1713.9043 | E29: Estimado igual a 5% da área de calçada a demolir
A30: SICRO | B30: 5502985 | C30: Limpeza mecanizada da camada vegetal | D30: m² | E30: ESPESSURA DE LIMPEZA | F30: 0.1 | G30: m
C31: Carga e transporte da limpeza vegetal
A32: SINAPI | B32: 100995 | C32: CARGA, MANOBRA E DESCARGA DE SOLOS E MATERIAIS GRANULARES EM CAMINHÃO BASCULANTE 14 M³ - CARGA COM ESCAVADEIRA HIDRÁULICA (CAÇAMBA DE 1,20 M³ / 155 HP) E DESCARGA LIVRE (UNIDADE: T). AF_07/2020 | D32: T | E32: Estimado espessura de limpeza de 10 cm, multiplicado por 1,5 t/m3
A33: SINAPI | B33: 95879 | C33: TRANSPORTE COM CAMINHÃO BASCULANTE DE 14 M³, EM VIA URBANA PAVIMENTADA, DMT ATÉ 30 KM (UNIDADE: TXKM). AF_07/2020 | D33: TXKM | E33: Transporte para o Bota Fora, até a distância de 30,0 km
A34: SINAPI | B34: 93599 | C34: TRANSPORTE COM CAMINHÃO BASCULANTE DE 14 M³, EM VIA URBANA PAVIMENTADA, ADICIONAL PARA DMT EXCEDENTE A 30 KM (UNIDADE: TXKM). AF_07/2020 | D34: TXKM | E34: Transporte excedente a 30 km, com DMT BOTA FORA
A35: NOVACAP | B35: Item 3 | C35: DISPOSIÇÃO FINAL DE RESÍDUOS DA CONSTRUÇÃO CIVIL SEGREGADOS (RESOLUÇÃO Nº 11, DE 18 DE NOVEMBRO DE 2022) Tarifas e preços públicos regulados - Atualizado em JAN/2024 (https://www.adasa.df.gov.br/estudos-economicos-e-fiscalizacao-financeira/tarifas-vigentes?show_menu=1&menu_name=estudos-econo-fisc-finan) | D35: T | E35: estimado que 90% do material demolido está segregado, esta quantidade deve ser aferida em campo.
A36: NOVACAP | B36: Item 4 | C36: DISPOSIÇÃO FINAL DE RESÍDUOS DA CONSTRUÇÃO CIVIL NÃO SEGREGADOS (RESOLUÇÃO Nº 11, DE 18 DE NOVEMBRO DE 2022) Tarifas e preços públicos regulados - Atualizado em JAN/2024 (https://www.adasa.df.gov.br/estudos-economicos-e-fiscalizacao-financeira/tarifas-vigentes?show_menu=1&menu_name=estudos-econo-fisc-finan) | D36: T | E36: estimado que 10% do material demolido NÃO está segregado, esta quantidade deve ser aferida em campo.
B39: GRUPO 04 | C39: Nivelamento de PV | D39: 740 | F39: 1
A40: NOVACAP | B40: 06-21-00M/PMSP | C40: LEVANTAMENTO OU REBAIXAMENTO DE TAMPÃO DE POÇO DE VISITA | D40: UNID. | E40: Quantidade Extraida do SGPU (PV saliente ou rebaixado)
B43: GRUPO 05 | C43: EXECUÇÃO CALÇADA E RAMPAS DE ACESSIBILIDADE | D43: 25708.564 | E43: Soma da área de demolição de calçadas, com a área de limpeza de camada vegetal, excluído a área de calçada armada.
C44: ATERRO E LASTRO DE BRITA
A45: SINAPI | B45: 6077 | C45: ARGILA OU BARRO PARA ATERRO/REATERRO (RETIRADO NA JAZIDA, SEM TRANSPORTE) | D45: m³ | E45: Estimado 3,0 cm de aterro, devendo ser aferido em campo a necessidade de efetuar o aterro, bem como a quantidade de material a ser empregado.
A46: SINAPI | B46: 97084 | C46: COMPACTAÇÃO MECÂNICA DE SOLO PARA EXECUÇÃO DE RADIER, PISO DE CONCRETO OU LAJE SOBRE SOLO, COM COMPACTADOR DE SOLOS TIPO PLACA VIBRATÓRIA. AF_09/2021 | D46: M2 | E46: Igual a área a pavimentar
A47: SINAPI | B47: 96622 | C47: LASTRO COM MATERIAL GRANULAR, APLICADO EM PISOS OU LAJES SOBRE SOLO, ESPESSURA DE *5 CM*. AF_01/2024 | D47: M3 | E47: Lastro de 5 cm
A48: NOVACAP | B48: 94991M | C48: EXECUÇÃO DE PASSEIO (CALÇADA) OU PISO DE CONCRETO COM CONCRETO MOLDADO IN LOCO, USINADO, ACABAMENTO CONVENCIONAL, NÃO ARMADO. AF_07/2016 - EXCLUINDO O SARRAFO | D48: M3 | E48: Calçada de 5,0 cm
C49: TRANSPORTE DA ARGILA E DA BRITA (LASTRO)
A50: SINAPI | B50: 95879 | C50: TRANSPORTE COM CAMINHÃO BASCULANTE DE 14 M³, EM VIA URBANA PAVIMENTADA, DMT ATÉ 30 KM (UNIDADE: TXKM). AF_07/2020 | D50: TXKM | E50: Transporte até 30 km, com DMT NOVACAP
...

Sheet CAPA MEMO GERAL
B2: GOVERNO DO DISTRITO FEDERAL
B3: COMPANHIA URBANIZADORA DA NOVA CAPITAL DO BRASIL - NOVACAP
B4: DIRETORIA DE URBANIZAÇÃO
B26: MEMÓRIA DE CÁLCULOS
B27: COMPOSIÇÃO DE PREÇOS DE APOIO PARA CÁLCULOS
B28: COMPOSIÇÃO DE PREÇOS UNITÁRIOS
B29: APONTAMENTOS E REFERÊNCIAS

Sheet CCU - ROLO COMP
A3: Custo Unitário de Referência | D3: TABELA DE REFERÊNCIA - SINAPI ABRIL/25 - SICRO JAN/25 - PMSP JAN/25 | G3: Produção da equipe | H3: 2.25 | I3: m³
A4: 4915703M | B4: Espalhamento de material de preenchimento e compactação com rolo compactador de 1,6 t | H4: Valores em reais (R$)
A5: A - EQUIPAMENTOS | C5: Quantidade | D5: Utilização | F5: Custo Horário | I5: Custo
D6: Operativa | E6: Improdutiva | F6: Produtivo | G6: Improdutivo | I6: Horário Total
A7: E9682 | B7: Rolo compactador liso autopropelido vibratório de 1,6 t - 18 kW | C7: 1 | D7: 0.17 | E7: 0.83 | F7: 102.9183 | G7: 56.5953 | I7: 64.47021
G8: Custo horário total de equipamentos
A9: B - MÃO DE OBRA | C9: Quantidade | D9: Unidade | E9: Custo Horário | G9: Custo Horário Total
A10: P9824 | B10: Servente | C10: 8 | D10: h | F10: 21.292 | I10: 170.336
C11: Custo horário total de mão de obra | H11: 170.336
C12: Custo horário total de execução | I12: 234.80621
C13: Custo unitário de execução | I13: 104.35832
G14: Custo do FIC | I14: -
G15: Custo do FIT | I15: -
A16: C - MATERIAL | C16: Quantidade | D16: Unidade | E16: Preço Unitário | G16: Custo Unitário
C17: Custo unitário total de material
A18: D - ATIVIDADES AUXILIARES | C18: Quantidade | D18: Unidade | E18: Custo Unitário | G18: Custo Unitário
A19: 4915801 | B19: Mistura betuminosa | C19: 1 | D19: m³
C20: Custo total de atividades auxiliares
G21: Subtotal
A22: E - TEMPO FIXO | C22: Código | D22: Quantidade | E22: Unidade | F22: Custo Unitário | H22: Custo Unitário
A23: 4915801 | B23: Mistura betuminosa - Caminhão basculante 6 m³ | C23: 5914328 | D23: 2.4 | E23: t
C24: Custo unitário total de tempo fixo
A25: F - MOMENTO DE TRANSPORTE | C25: Quantidade | D25: Unidade | E25: DMT | I25: Custo Unitário
E26: LN | F26: RP | G26: P
A27: 4915801 | B27: Mistura betuminosa - Caminhão basculante 6 m³ | C27: 2.4 | D27: tkm | E27: 5914314 | F27: 5914329 | G27: 5914344
C28: Custo unitário total de transporte | I28: -
E29: Custo unitário direto total | I29: 104.36
A30: Obs.

Sheet COMPOSIÇÕES
A1: 03.PISO.PASS.021/01 | B1: 94991 | C1: EXECUÇÃO DE PASSEIO (CALÇADA) OU PISO DE CONCRETO COM CONCRETO MOLDADO IN LOCO, USINADO, ACABAMENTO CONVENCIONAL, NÃO ARMADO. AF_07/2016 | D1: M3 | F1: Passeios de concreto
A2: INSUMO | B2: 4460 | C2: SARRAFO NAO APARELHADO *2,5 X 10* CM, EM MACARANDUBA, ANGELIM OU EQUIVALENTE DA REGIAO - BRUTA | D2: M | E2: 2.5
A3: INSUMO | B3: 4517 | C3: SARRAFO *2,5 X 7,5* CM EM PINUS, MISTA OU EQUIVALENTE DA REGIAO - BRUTA | D3: M | E3: 2
A4: INSUMO | B4: 34492 | C4: CONCRETO USINADO BOMBEAVEL, CLASSE DE RESISTENCIA C20, COM BRITA 0 E 1, SLUMP = 100 +/- 20 MM, EXCLUI SERVICO DE BOMBEAMENTO (NBR 8953) | D4: M3 | E4: 1.213
A5: COMPOSICAO | B5: 88262 | C5: CARPINTEIRO DE FORMAS COM ENCARGOS COMPLEMENTARES | D5: H | E5: 2.256
A6: COMPOSICAO | B6: 88309 | C6: PEDREIRO COM ENCARGOS COMPLEMENTARES | D6: H | E6: 0.26
A7: COMPOSICAO | B7: 88316 | C7: SERVENTE COM ENCARGOS COMPLEMENTARES | D7: H | E7: 2.516
B9: 94991M | C9: EXECUÇÃO DE PASSEIO (CALÇADA) OU PISO DE CONCRETO COM CONCRETO MOLDADO IN LOCO, USINADO, ACABAMENTO CONVENCIONAL, NÃO ARMADO. AF_07/2016 - EXCLUINDO O SARRAFO | D9: M3 | F9: CUSTO UNI | G9: CUSTO TOTAL
B10: 34492 | C10: CONCRETO USINADO BOMBEAVEL, CLASSE DE RESISTENCIA C20, COM BRITA 0 E 1, SLUMP = 100 +/- 20 MM, EXCLUI SERVICO DE BOMBEAMENTO (NBR 8953) | D10: M3 | E10: 1.213 | F10: 470 | G10: 570.11
B11: 88309 | C11: PEDREIRO COM ENCARGOS COMPLEMENTARES | D11: H | E11: 0.26 | F11: 31.34 | G11: 8.1484
B12: 88316 | C12: SERVENTE COM ENCARGOS COMPLEMENTARES | D12: H | E12: 2.516 | F12: 23.75 | G12: 59.755
B13: 97114 | C13: EXECUÇÃO DE JUNTAS DE CONTRAÇÃO PARA PAVIMENTOS DE CONCRETO. AF_04/2022 | D13: M | E13: 0.0909 | F13: 0.42 | G13: 0.038178
G14: 638.05158
A16: 03.PISO.PASS.017/01 | B16: 94990 | C16: EXECUÇÃO DE PASSEIO (CALÇADA) OU PISO DE CONCRETO COM CONCRETO MOLDADO IN LOCO, FEITO EM OBRA, ACABAMENTO CONVENCIONAL, NÃO ARMADO. AF_07/2016 | D16: M3 | F16: Passeios de concreto | G16: 0
A17: INSUMO | B17: 4460 | C17: SARRAFO NAO APARELHADO *2,5 X 10* CM, EM MACARANDUBA, ANGELIM OU EQUIVALENTE DA REGIAO - BRUTA | D17: M | E17: 2.5
A18: INSUMO | B18: 4517 | C18: SARRAFO *2,5 X 7,5* CM EM PINUS, MISTA OU EQUIVALENTE DA REGIAO - BRUTA | D18: M | E18: 2
A19: COMPOSICAO | B19: 88262 | C19: CARPINTEIRO DE FORMAS COM ENCARGOS COMPLEMENTARES | D19: H | E19: 2.256
A20: COMPOSICAO | B20: 88309 | C20: PEDREIRO COM ENCARGOS COMPLEMENTARES | D20: H | E20: 1.983
A21: COMPOSICAO | B21: 88316 | C21: SERVENTE COM ENCARGOS COMPLEMENTARES | D21: H | E21: 4.239
A22: COMPOSICAO | B22: 94964 | C22: CONCRETO FCK = 20MPA, TRAÇO 1:2,7:3 (EM MASSA SECA DE CIMENTO/ AREIA MÉDIA/ BRITA 1) - PREPARO MECÂNICO COM BETONEIRA 400 L. AF_05/2021 | D22: M3 | E22: 1.213
B24: 94990M | C24: EXECUÇÃO DE PASSEIO (CALÇADA) OU PISO DE CONCRETO COM CONCRETO MOLDADO IN LOCO, FEITO EM OBRA, ACABAMENTO CONVENCIONAL, NÃO ARMADO. AF_07/2016 - EXCLUINDO O SARRAFO | D24: M3 | F24: CUSTO UNI | G24: CUSTO TOTAL
B25: 88309 | C25: PEDREIRO COM ENCARGOS COMPLEMENTARES | D25: H | E25: 1.983 | F25: 31.34 | G25: 62.14722
B26: 88316 | C26: SERVENTE COM ENCARGOS COMPLEMENTARES | D26: H | E26: 4.239 | F26: 23.75 | G26: 100.67625
B27: 94964 | C27: CONCRETO FCK = 20MPA, TRAÇO 1:2,7:3 (EM MASSA SECA DE CIMENTO/ AREIA MÉDIA/ BRITA 1) - PREPARO MECÂNICO COM BETONEIRA 400 L. AF_05/2021 | D27: M3 | E27: 1.213 | F27: 580.75 | G27: 704.44975
B28: 97114 | C28: EXECUÇÃO DE JUNTAS DE CONTRAÇÃO PARA PAVIMENTOS DE CONCRETO. AF_04/2022 | D28: M | E28: 0.0909 | F28: 0.42 | G28: 0.038178
G29: 867.3114
A31: 03.PISO.PASS.010/01 | B31: 94994 | C31: EXECUÇÃO DE PASSEIO (CALÇADA) OU PISO DE CONCRETO COM CONCRETO MOLDADO IN LOCO, FEITO EM OBRA, ACABAMENTO CONVENCIONAL, ESPESSURA 8 CM, ARMADO. AF_07/2016 | D31: M2 | F31: Passeios de concreto
A32: INSUMO | B32: 3777 | C32: LONA PLASTICA PESADA PRETA, E = 150 MICRA | D32: M2 | E32: 1.128 | F32: 2 | G32: 2.256
A33: INSUMO | B33: 4460 | C33: SARRAFO NAO APARELHADO *2,5 X 10* CM, EM MACARANDUBA, ANGELIM OU EQUIVALENTE DA REGIAO - BRUTA | D33: M | E33: 0.25 | F33: 9.15 | G33: 2.2875
A34: INSUMO | B34: 4517 | C34: SARRAFO *2,5 X 7,5* CM EM PINUS, MISTA OU EQUIVALENTE DA REGIAO - BRUTA | D34: M | E34: 0.2 | F34: 2.69 | G34: 0.538
A35: INSUMO | B35: 7156 | C35: TELA DE ACO SOLDADA NERVURADA, CA-60, Q-196, (3,11 KG/M2), DIAMETRO DO FIO = 5,0 MM, LARGURA = 2,45 M, ESPACAMENTO DA MALHA = 10 X 10 CM | D35: M2 | E35: 1.1224 | F35: 24.33 | G35: 27.307992
A36: COMPOSICAO | B36: 88262 | C36: CARPINTEIRO DE FORMAS COM ENCARGOS COMPLEMENTARES | D36: H | E36: 0.1805 | F36: 30.91 | G36: 5.579255
A37: COMPOSICAO | B37: 88309 | C37: PEDREIRO COM ENCARGOS COMPLEMENTARES | D37: H | E37: 0.2767 | F37: 31.34 | G37: 8.671778
A38: COMPOSICAO | B38: 88316 | C38: SERVENTE COM ENCARGOS COMPLEMENTARES | D38: H | E38: 0.4572 | F38: 23.75 | G38: 10.8585
A39: COMPOSICAO | B39: 94964 | C39: CONCRETO FCK = 20MPA, TRAÇO 1:2,7:3 (EM MASSA SECA DE CIMENTO/ AREIA MÉDIA/ BRITA 1) - PREPARO MECÂNICO COM BETONEIRA 400 L. AF_05/2021 | D39: M3 | E39: 0.097 | F39: 580.75 | G39: 56.33275
G40: 113.83177
B42: 94994M | C42: EXECUÇÃO DE PASSEIO (CALÇADA) OU PISO DE CONCRETO COM CONCRETO MOLDADO IN LOCO, FEITO EM OBRA, ACABAMENTO CONVENCIONAL, ESPESSURA 8 CM, ARMADO. AF_07/2016 - EXCLUINDO O SARRAFO E LONA PLÁSTICA | D42: M2 | F42: CUSTO UNI | G42: CUSTO TOTAL
B43: 7156 | C43: TELA DE ACO SOLDADA NERVURADA, CA-60, Q-196, (3,11 KG/M2), DIAMETRO DO FIO = 5,0 MM, LARGURA = 2,45 M, ESPACAMENTO DA MALHA = 10 X 10 CM | D43: M2 | E43: 1.1224 | F43: 24.33 | G43: 27.307992
B44: 88309 | C44: PEDREIRO COM ENCARGOS COMPLEMENTARES | D44: H | E44: 0.2767 | F44: 31.34 | G44: 8.671778
B45: 88316 | C45: SERVENTE COM ENCARGOS COMPLEMENTARES | D45: H | E45: 0.4572 | F45: 23.75 | G45: 10.8585
...

Sheet DMT
C7: Distância Média de Transporte
C10: LOCALIDADES | D10: NOVACAP | E10: BOTA-FORA
C11: RAI - BRASÍLIA | D11: - | E11: -
C12: ASA SUL | D12: 10 | E12: 21
C13: ASA NORTE | D13: 15 | E13: 21
D14: 12.5 | E14: 21
C15: VILA PLANALTO | D15: 18 | E15: 29
C16: SAAN | D16: 7 | E16: 11
C17: RA II - GAMA | D17: 28 | E17: 41
C18: RA III - TAGUATINGA | D18: 13 | E18: 13
C19: RA IV - BRAZLÂNDIA | D19: 44 | E19: 29
C20: RA V - SOBRADINHO | D20: 28 | E20: 32
C21: RA VI - PLANALTINA | D21: 47 | E21: 49
C22: RA VII - PARANOÁ | D22: 32 | E22: 35
C23: RA VIII - NÚCLEO BANDEIRANTE | D23: 8 | E23: 22
C24: RA IX - CEILÂNDIA | D24: 21 | E24: 17
C25: RA X - GUARÁ | D25: 7 | E25: 12
C26: RA XI - CRUZEIRO | D26: 6 | E26: 16
... C30: RA XV - RECANTO DAS EMAS | D30: 23 | E30: 28
C31: RA XVI - LAGO SUL | D31: - | E31: -
C32: BALÃO DO AEROP. / P. PRESID MEDICI | D32: 14 | E32: 25
C33: PONTE PRES. MEDICI / P. COSTA E SILVA | D33: 13 | E33: 29
C34: PONTE COSTA E SILVA / BARR. PARANOÁ | D34: 21 | E34: 31
D35: 16 | E35: 28.333333
C36: RA XVII - RIACHO FUNDO I | D36: 14 | E36: 21
C38: RA XVIII - LAGO NORTE | D38: 20 | E38: 22
C39: MANSÕES LAGO NORTE | D39: 26 | E39: 27
D40: 23 | E40: 24.5
C41: RA XIX - CANDANGOLÂNDIA | D41: 7 | E41: 19
C42: RA XX - ÁGUAS CLARAS | D42: 13 | E42: 14
C43: RA XXI - RIACHO FUNDO II | D43: 20 | E43: 25
C44: RA XXII - SUDOESTE | D44: 5 | E44: 16
C45: RA XXIII - VARJÃO | D45: 19 | E45: 21
C46: RA XXIV - PARK WAY | D46: - | E46: -
C47: QUADRA - 18 | D47: 12 | E47: 25
C48: QUADRA - 05 | D48: 11 | E48: 11
D49: 11.5 | E49: 18
C50: RA XXV - SCIA | D50: 13 | E50: 4
C51: RA XXVI - SOBRADINHO II | D51: 31 | E51: 33
C52: RA XXVII - JARDIM BOTÂNICO | D52: 31 | E52: 24
...

Sheet CALÇADAS
B6: MEMÓRIA DE CÁLCULO
A10: Sigla Regional | B10: Código RA | C10: Região Administrativa | D10: Ativo | E10: Tipo Ativo | F10: Material | G10: Condição | H10: Unidade | I10: Valor
A11: DRNO | B11: 5 | C11: SOBRADINHO | D11: Calçada | E11: Pública | F11: Concreto | G11: Ruim | H11: m | I11: 7477.32
A12: DRNO | B12: 5 | C12: SOBRADINHO | D12: Calçada | E12: Pública | F12: Bloco Intertravado | G12: Ruim | H12: m | I12: 58.95
A13: DRNO | B13: 5 | C13: SOBRADINHO | D13: Calçada | E13: Pública | F13: Concreto | G13: Regular | H13: m | I13: 221054.8
A14: DRNO | B14: 5 | C14: SOBRADINHO | D14: Calçada | E14: Pública | F14: Bloco Intertravado | G14: Regular | H14: m | I14: 1589.62
A15: DRNO | B15: 5 | C15: SOBRADINHO | D15: Calçada | E15: Pública | F15: Concreto | G15: Bom | H15: m | I15: 14076.52
A16: DRNO | B16: 5 | C16: SOBRADINHO | D16: Calçada | E16: Pública | F16: Bloco Intertravado | G16: Bom | H16: m | I16: 309.38
A17: DRNO | B17: 6 | C17: PLANALTINA | D17: Calçada | E17: Pública | F17: Concreto | G17: Ruim | H17: m | I17: 17098.67
A18: DRNO | B18: 6 | C18: PLANALTINA | D18: Calçada | E18: Pública | F18: Concreto | G18: Regular | H18: m | I18: 301180.12
A19: DRNO | B19: 6 | C19: PLANALTINA | D19: Calçada | E19: Pública | F19: Bloco Intertravado | G19: Regular | H19: m | I19: 540.48
A20: DRNO | B20: 6 | C20: PLANALTINA | D20: Calçada | E20: Pública | F20: Concreto | G20: Bom | H20: m | I20: 143914.8
A21: DRNO | B21: 6 | C21: PLANALTINA | D21: Calçada | E21: Pública | F21: Bloco Intertravado | G21: Bom | H21: m | I21: 2931.12
A22: DRNO | B22: 6 | C22: PLANALTINA | D22: Calçada | E22: Pública | F22: Pedra Portugues | G22: Bom | H22: m | I22: 15.13
... A243: DRCS | B243: 32 | C243: SOL NASCENTE E POR DO SOL | D243: Calçada | E243: Pública | F243: Bloco Intertravado | G243: Bom | H243: m | I243: 48.99
F245: Ruim | G245: =I56 -> 27204.83 | H245: =GAMA!B9 -> 0.63 | I245: =H245*G245 -> 17139.043
F246: Regular | G246: =I58 -> 332190.55 | H246: =GAMA!B10 -> 0 | I246: =H246*G246 -> 0

Sheet MEIO FIO
A1: Código Regional | B1: Regional | C1: Sigla Regional | D1: Código RA | E1: Região Administrativa | F1: Ativo | G1: Tipo Ativo | H1: Material | I1: Condição | J1: Unidade | K1: Valor
A2: 1 | B2: Divisão Regional Norte | C2: DRNO | D2: 5 | E2: SOBRADINHO | F2: Meio Fio | G2: Concreto | H2: 0 | I2: Ruim | J2: m | K2: 292.95
A3: 1 | B3: Divisão Regional Norte | C3: DRNO | D3: 5 | E3: SOBRADINHO | F3: Meio Fio | G3: Concreto | H3: 0 | I3: Regular | J3: m | K3: 170731.99
A4: 1 | B4: Divisão Regional Norte | C4: DRNO | D4: 5 | E4: SOBRADINHO | F4: Meio Fio | G4: Concreto | H4: 0 | I4: Bom | J4: m | K4: 150117.66
A5: 1 | B5: Divisão Regional Norte | C5: DRNO | D5: 5 | E5: SOBRADINHO | F5: Meio Fio | G5: Pedra | H5: 0 | I5: Regular | J5: m | K5: 47.65
A6: 1 | B6: Divisão Regional Norte | C6: DRNO | D6: 5 | E6: SOBRADINHO | F6: Meio Fio | G6: Pedra | H6: 0 | I6: Bom | J6: m | K6: 34.47
A7: 1 | B7: Divisão Regional Norte | C7: DRNO | D7: 6 | E7: PLANALTINA | F7: Meio Fio | G7: Concreto | H7: 0 | I7: Ruim | J7: m | K7: 6284.2
A8: 1 | B8: Divisão Regional Norte | C8: DRNO | D8: 6 | E8: PLANALTINA | F8: Meio Fio | G8: Concreto | H8: 0 | I8: Regular | J8: m | K8: 301697.28
A9: 1 | B9: Divisão Regional Norte | C9: DRNO | D9: 6 | E9: PLANALTINA | F9: Meio Fio | G9: Concreto | H9: 0 | I9: Bom | J9: m | K9: 336414.76
A10: 1 | B10: Divisão Regional Norte | C10: DRNO | D10: 6 | E10: PLANALTINA | F10: Meio Fio | G10: Concreto | H10: 0 | I10: Regular | J10: m | K10: 3225.69
A11: 1 | B11: Divisão Regional Norte | C11: DRNO | D11: 6 | E11: PLANALTINA | F11: Meio Fio | G11: Pedra | H11: 0 | I11: Regular | J11: m | K11: 74.68
A12: 1 | B12: Divisão Regional Norte | C12: DRNO | D12: 18 | E12: LAGO NORTE | F12: Meio Fio | G12: Concreto | H12: 0 | I12: Ruim | J12: m | K12: 511.95
A13: 1 | B13: Divisão Regional Norte | C13: DRNO | D13: 18 | E13: LAGO NORTE | F13: Meio Fio | G13: Concreto | H13: 0 | I13: Regular | J13: m | K13: 284431.15
... A152: 6 | B152: Divisão Regional Ceilândia/Sol Nascente | C152: DRCS | D152: 32 | E152: SOL NASCENTE E POR DO SOL | F152: Meio Fio | G152: Pedra | H152: 0 | I152: Bom | J152: m | K152: 34.11
G155: Ruim | H155: =K31 -> 16640.42 | I155: =GAMA!I21 -> 0.5 | J155: =H155*I155 -> 8320.21
G156: Regular | H156: =K32+K34 -> 339899.91 | I156: =GAMA!J21 -> 0 | J156: =I156*H156 -> 0

Sheet PV
A1: Código Regional | B1: Regional | C1: Sigla Regional | D1: Código RA | E1: Região Administrativa | F1: Ativo | G1: Tipo Ativo | H1: Material | I1: Condição | J1: Unidade | K1: Valor
A2: 1 | B2: Divisão Regional Norte | C2: DRNO | D2: 5 | E2: SOBRADINHO | F2: Poço de Visita | G2: Saliente | H2: 0 | I2: Ruim | J2: Un | K2: 46
A3: 1 | B3: Divisão Regional Norte | C3: DRNO | D3: 5 | E3: SOBRADINHO | F3: Poço de Visita | G3: Saliente | H3: 0 | I3: Regular | J3: Un | K3: 253
A4: 1 | B4: Divisão Regional Norte | C4: DRNO | D4: 5 | E4: SOBRADINHO | F4: Poço de Visita | G4: Saliente | H4: 0 | I4: Bom | J4: Un | K4: 8
A5: 1 | B5: Divisão Regional Norte | C5: DRNO | D5: 5 | E5: SOBRADINHO | F5: Poço de Visita | G5: Rebaixado | H5: 0 | I5: Ruim | J5: Un | K5: 11
A6: 1 | B6: Divisão Regional Norte | C6: DRNO | D6: 5 | E6: SOBRADINHO | F6: Poço de Visita | G6: Rebaixado | H6: 0 | I6: Regular | J6: Un | K6: 114
A7: 1 | B7: Divisão Regional Norte | C7: DRNO | D7: 5 | E7: SOBRADINHO | F7: Poço de Visita | G7: Rebaixado | H7: 0 | I7: Bom | J7: Un | K7: 4
A8: 1 | B8: Divisão Regional Norte | C8: DRNO | D8: 5 | E8: SOBRADINHO | F8: Poço de Visita | G8: Normal | H8: 0 | I8: Ruim | J8: Un | K8: 4
A9: 1 | B9: Divisão Regional Norte | C9: DRNO | D9: 5 | E9: SOBRADINHO | F9: Poço de Visita | G9: Normal | H9: 0 | I9: Regular | J9: Un | K9: 313
A10: 1 | B10: Divisão Regional Norte | C10: DRNO | D10: 5 | E10: SOBRADINHO | F10: Poço de Visita | G10: Normal | H10: 0 | I10: Bom | J10: Un | K10: 373
A11: 1 | B11: Divisão Regional Norte | C11: DRNO | D11: 6 | E11: PLANALTINA | F11: Poço de Visita | G11: Saliente | H11: 0 | I11: Ruim | J11: Un | K11: 159
A12: 1 | B12: Divisão Regional Norte | C12: DRNO | D12: 6 | E12: PLANALTINA | F12: Poço de Visita | G12: Saliente | H12: 0 | I12: Regular | J12: Un | K12: 519
A13: 1 | B13: Divisão Regional Norte | C13: DRNO | D13: 6 | E13: PLANALTINA | F13: Poço de Visita | G13: Saliente | H13: 0 | I13: Bom | J13: Un | K13: 33
