Workbook
Name DISPOSIÇÃO_FINAL___AREA_LICENCIADA: "QT+'CURVA ABC'!$F$9:$F$59"
Name NCOMPOSICOES: 21
Name NCOTACOES: 15
Name NEMPRESAS: 15
Name NINDICES: 3
Name QuadroResumoTotal: "Grupo 326"
Name QuadroTotaisGamaProduto: "Grupo 350"
Name TotaisGamaProduto: "Grupo 350"

Sheet RESUMO
B1: Obra | C1: Bancos | E1: B.D.I. | G1: Encargos Sociais
B2: REVISÃO E READEQUAÇÃO DOS PROJETOS EXECUTIVOS DE DRENAGEM NO SETOR HABITACIONAL MESTRE D'ARMAS, REGIÃO ADMINISTRATIVA DE PLANATINA - RA-PLAN, PELA SODF, NO DISTRITO FEDERAL - BLOCO 1 - LOTE 2 (ÁREA 5 E 6) CONTRATO: 21/2021- SODF - SEM DESONERAÇÃO | C2: SINAPI - 12/2024 - Distrito Federal SBC - 01/2025 - Distrito Federal SICRO3 - 10/2024 - Distrito Federal ORSE - 11/2024 - Sergipe SEINFRA - 028 - Ceará SIURB INFRA - 07/2024 - São Paulo AGESUL - 06/2024 - Mato Grosso do Sul EMBASA - 05/2024 - Bahia COMPESA - 07/2024 - Pernambuco EMOP - 12/2024 - Rio de Janeiro | E2: Padrão - 21,22% Material - 11,10% | G2: Sem Desoneração: Horista: 110,14% Mensalista: 70,04%
A3: PLANILHA ORÇAMENTÁRIA RESUMIDA
A4: ITEM | B4: DESCRIÇÃO | G4: TOTAL | I4: (%)
A5: 1 | B5: ADMINISTRAÇÃO | G5: 1454666.7 | I5: 0.097815261
A6: 2 | B6: MOBILIZAÇÃO E DESMOBILIZAÇÃO | G6: 36998.72 | I6: 0.0024878822
A7: 3 | B7: CANTEIRO DE OBRAS | G7: 296160.42 | I7: 0.019914533
A8: 4 | B8: REDE DE DRENAGEM ÁREA 5 - 0,75 KM | G8: 2824568.5 | I8: 0.18993072
A9: 5 | B9: REDE DE DRENAGEM ÁREA 6 - 2,66 KM | G9: 10259178 | I9: 0.6898516
E11: Total sem BDI | G11: 12455208
E12: Total do BDI | G12: 2416363.7
E13: Total Geral | G13: 14871572 | J13: 13416905
J14: 0.10842043

Sheet ORÇAMENTO
D1: Obra | E1: Bancos | H1: B.D.I. | J1: Encargos Sociais
D2: REVISÃO E READEQUAÇÃO DOS PROJETOS EXECUTIVOS DE DRENAGEM NO SETOR HABITACIONAL MESTRE D'ARMAS, REGIÃO ADMINISTRATIVA DE PLANATINA - RA-PLAN, PELA SODF, NO DISTRITO FEDERAL - BLOCO 1 - LOTE 2 (ÁREA 5 E 6) CONTRATO: 21/2021- SODF - SEM DESONERAÇÃO | E2: SINAPI - 12/2024 - Distrito Federal SBC - 01/2025 - Distrito Federal SICRO3 - 10/2024 - Distrito Federal ORSE - 11/2024 - Sergipe SEINFRA - 028 - Ceará SIURB INFRA - 07/2024 - São Paulo AGESUL - 06/2024 - Mato Grosso do Sul EMBASA - 05/2024 - Bahia COMPESA - 07/2024 - Pernambuco EMOP - 12/2024 - Rio de Janeiro | H2: Padrão - 21,22% Material - 11,10% | J2: Sem Desoneração: Horista: 110,14% Mensalista: 70,04%
A4: Item | B4: Código | C4: Banco | D4: Descrição | E4: Und | F4: Quant. | G4: Valor Unit | H4: BDI | I4: Valor Unit com BDI | J4: Total | K4: Peso (%)
A5: 1 | D5: ADMINISTRAÇÃO | J5: 1454666.7 | K5: 0.097815261
A6: 1.1 | D6: EQUIPE TÉCNICA GERENCIAL | J6: 502832.83 | K6: 0.033811679
A7: 1.1.1 | D7: MÃO DE OBRA EQUIPE TÉCNICA GERENCIAL | J7: 473074.06 | K7: 0.031810629
A8: 1.1.1.1 | B8: 93568 | C8: SINAPI | D8: ENGENHEIRO CIVIL DE OBRA SENIOR COM ENCARGOS COMPLEMENTARES | E8: MES | F8: 3 | G8: 34812.77 | H8: 0.2122 | I8: 42200.04 | J8: 126600.12 | K8: 0.0085128942
A9: 1.1.1.2 | B9: 93567 | C9: SINAPI | D9: ENGENHEIRO CIVIL DE OBRA PLENO COM ENCARGOS COMPLEMENTARES | E9: MES | F9: 9 | G9: 24859.48 | H9: 0.2122 | I9: 30134.66 | J9: 271211.94 | K9: 0.018236938
A10: 1.1.1.3 | B10: 100534 | C10: SINAPI | D10: TECNICO DE EDIFICACOES COM ENCARGOS COMPLEMENTARES | E10: MES | F10: 9 | G10: 3536.93 | H10: 0.2122 | I10: 4287.47 | J10: 38587.23 | K10: 0.0025946974
A11: 1.1.1.4 | B11: COMP-TEC-020 | C11: PRÓPRIO | D11: TÉCNICO DE MEIO AMBIENTE COM ENCARGOS COMPLEMENTARES E ENCARGOS SOCIAIS E.S 70,04% | E11: MÊS | F11: 4.5 | G11: 6723.27 | H11: 0.2122 | I11: 8149.95 | J11: 36674.77 | K11: 0.0024660991
A12: 1.1.2 | D12: VEICULOS EQUIPE TÉCNICA | J12: 29758.77 | K12: 0.0020010507
A13: 1.1.2.1 | B13: E9093 MÊS | C13: PRÓPRIO | D13: VEICULO LEVE - 53 KW (SEM MOTORISTA) | E13: MÊS | F13: 9 | G13: 2727.71 | H13: 0.2122 | I13: 3306.53 | J13: 29758.77 | K13: 0.0020010507
A14: 1.2 | D14: EQUIPE GERENCIAL ADMINISTRATIVA | J14: 224633.52 | K14: 0.015104894
A15: 1.2.1 | B15: 93566 | C15: SINAPI | D15: AUXILIAR DE ESCRITORIO COM ENCARGOS COMPLEMENTARES | E15: MES | F15: 9 | G15: 5032.17 | H15: 0.2122 | I15: 6100 | J15: 54900 | K15: 0.003691607
A16: 1.2.2 | B16: VIGIA ADM | C16: PRÓPRIO | D16: VIGIA NOTURNO COM ENCARGOS COMPLEMENTARES (MENSALISTA) COM ADICIONAL DE PERICULOSIDADE | E16: MÊS | F16: 18 | G16: 5590.7 | H16: 0.2122 | I16: 6777.05 | J16: 121986.9 | K16: 0.0082026903
A17: 1.2.3 | B17: 101460 | C17: SINAPI | D17: VIGIA DIURNO COM ENCARGOS COMPLEMENTARES | E17: MES | F17: 9 | G17: 4376.49 | H17: 0.2122 | I17: 5305.18 | J17: 47746.62 | K17: 0.0032105967
A18: 1.3 | D18: EQUIPE DE PRODUÇÃO | J18: 274049.01 | K18: 0.018427709
A19: 1.3.1 | B19: 93572 | C19: SINAPI | D19: ENCARREGADO GERAL DE OBRAS COM ENCARGOS COMPLEMENTARES | E19: MES | F19: 18 | G19: 4472.02 | H19: 0.2122 | I19: 5420.98 | J19: 97577.64 | K19: 0.0065613534
A20: 1.3.2 | B20: 93564 | C20: SINAPI | D20: APONTADOR OU APROPRIADOR COM ENCARGOS COMPLEMENTARES | E20: MES | F20: 9 | G20: 6409.08 | H20: 0.2122 | I20: 7769.09 | J20: 69921.81 | K20: 0.0047017094
A21: 1.3.3 | B21: 93563 | C21: SINAPI | D21: ALMOXARIFE COM ENCARGOS COMPLEMENTARES | E21: MES | F21: 9 | G21: 6625.31 | H21: 0.2122 | I21: 8031.2 | J21: 72280.8 | K21: 0.0048603335
A22: 1.3.4 | B22: 100316 | C22: SINAPI | D22: AUXILIAR DE ALMOXARIFE COM ENCARGOS COMPLEMENTARES | E22: MES | F22: 9 | G22: 3141.1 | H22: 0.2122 | I22: 3807.64 | J22: 34268.76 | K22: 0.0023043132
A23: 1.4 | D23: EQUIPE DE TOPOGRAFIA | J23: 196790.58 | K23: 0.013232668
A24: 1.4.1 | D24: MÃO DE OBRA EQUIPE DE TOPOGRAFIA | J24: 70766.01 | K24: 0.0047584754
A25: 1.4.1.1 | B25: 94296 | C25: SINAPI | D25: TOPOGRAFO COM ENCARGOS COMPLEMENTARES | E25: MES | F25: 9 | G25: 4319.69 | H25: 0.2122 | I25: 5236.33 | J25: 47126.97 | K25: 0.0031689299
A26: 1.4.1.2 | B26: 101389 | C26: SINAPI | D26: AUXILIAR DE TOPÓGRAFO COM ENCARGOS COMPLEMENTARES | E26: MES | F26: 9 | G26: 2166.77 | H26: 0.2122 | I26: 2626.56 | J26: 23639.04 | K26: 0.0015895455
A27: 1.4.2 | D27: VEICULOS EQUIPE TOPOGRAFIA | J27: 126024.57 | K27: 0.0084741928
A28: 1.4.2.1 | B28: E9125-MÊS | C28: PRÓPRIO | D28: VAN FURGÃO - 93KW | E28: MÊS | F28: 9 | G28: 11551.5 | H28: 0.2122 | I28: 14002.73 | J28: 126024.57 | K28: 0.0084741928
A29: 1.5 | D29: DETALHAMENTO PROJETO DRENAGEM | J29: 46758.67 | K29: 0.0031441646
A30: 1.5.1 | B30: 93568 | C30: SINAPI | D30: ENGENHEIRO CIVIL DE OBRA SENIOR COM ENCARGOS COMPLEMENTARES | E30: MES | F30: 1 | G30: 34812.77 | H30: 0.2122 | I30: 42200.04 | J30: 42200.04 | K30: 0.0028376314
A31: 1.5.2 | B31: 93559 | C31: SINAPI | D31: DESENHISTA DETALHISTA COM ENCARGOS COMPLEMENTARES | E31: MES | F31: 1 | G31: 3263.02 | H31: 0.2122 | I31: 3955.43 | J31: 3955.43 | K31: 0.00026597255
A32: 1.5.3 | B32: ART-DF | C32: PRÓPRIO | D32: RELATORIO E ART DOS SERVIÇOS | E32: UN | F32: 2 | G32: 271.47 | H32: 0.111 | I32: 301.6 | J32: 603.2 | K32: 4.0560607e-05
A33: 1.6 | D33: CONSUMOS MENSAIS ESTIMADOS | J33: 32910.09 | K33: 0.002212953
A34: 1.6.1 | B34: CPU-01 | C34: PRÓPRIO | D34: CONSUMO MENSAL DE ENERGIA ELÉTRICA- ESTIMADO | E34: MÊS | F34: 7 | G34: 2096.44 | H34: 0.2122 | I34: 2541.3 | J34: 17789.1 | K34: 0.0011961815
A35: 1.6.2 | B35: CPU-02 | C35: PRÓPRIO | D35: CONSUMO MENSAL DE ÁGUA E ESGOTO - ESTIMADO | E35: MÊS | F35: 9 | G35: 1386 | H35: 0.2122 | I35: 1680.11 | J35: 15120.99 | K35: 0.0010167715
A36: 1.7 | D36: DIVERSOS EQUIPAMENTOS | J36: 138226.44 | K36: 0.0092946757
A37: 1.7.1 | B37: 6259 | C37: SINAPI | D37: CAMINHÃO PIPA 6.000 L, PESO BRUTO TOTAL 13.000 KG, DISTÂNCIA ENTRE EIXOS 4,80 M, POTÊNCIA 189 CV INCLUSIVE TANQUE DE AÇO PARA TRANSPORTE DE ÁGUA, CAPACIDADE 6 M3 - CHP DIURNO. AF_06/2014 | E37: CHP | F37: 396 | G37: 241.54 | H37: 0.2122 | I37: 292.79 | J37: 115944.84 | K37: 0.0077964077
A38: 1.7.2 | B38: 73417 | C38: SINAPI | D38: GRUPO GERADOR ESTACIONÁRIO, MOTOR DIESEL POTÊNCIA 170 KVA - CHP DIURNO. AF_02/2016 | E38: CHP | F38: 88 | G38: 174.49 | H38: 0.2122 | I38: 211.52 | J38: 18613.76 | K38: 0.0012516336
A39: 1.7.3 | B39: 93428 | C39: SINAPI | D39: GRUPO GERADOR ESTACIONÁRIO, POTÊNCIA 150 KVA, MOTOR A DIESEL- CHI DIURNO. AF_03/2016 | E39: CHI | F39: 352 | G39: 8.6 | H39: 0.2122 | I39: 10.42 | J39: 3667.84 | K39: 0.00024663431
A40: 1.8 | D40: RECUPERAÇÃO DA ÁREA DE CANTEIRO DE OBRAS - PRINCIPAL | J40: 38465.57 | K40: 0.0025865167
A41: 1.8.1 | B41: 97637 | C41: SINAPI | D41: REMOÇÃO DE TAPUME/ CHAPAS METÁLICAS E DE MADEIRA, DE FORMA MANUAL, SEM REAPROVEITAMENTO. AF_09/2023 | E41: M² | F41: 388 | G41: 3.07 | H41: 0.2122 | I41: 3.72 | J41: 1443.36 | K41: 9.7054971e-05
...

Sheet CLASSIFICAÇÃO ABC
E1: Obra | F1: Bancos | I1: B.D.I. | J1: Encargos Sociais | L1: CLASSIFICAÇÃO DA CURVA ABC
E2: REVISÃO E READEQUAÇÃO DOS PROJETOS EXECUTIVOS DE DRENAGEM NO SETOR HABITACIONAL MESTRE D'ARMAS, REGIÃO ADMINISTRATIVA DE PLANATINA - RA-PLAN, PELA SODF, NO DISTRITO FEDERAL - BLOCO 1 - LOTE 2 (ÁREA 5 E 6) CONTRATO: 21/2021- SODF - SEM DESONERAÇÃO | F2: SINAPI - 12/2024 - Distrito Federal SBC - 01/2025 - Distrito Federal SICRO3 - 10/2024 - Distrito Federal ORSE - 11/2024 - Sergipe SEINFRA - 028 - Ceará SIURB INFRA - 07/2024 - São Paulo AGESUL - 06/2024 - Mato Grosso do Sul EMBASA - 05/2024 - Bahia COMPESA - 07/2024 - Pernambuco EMOP - 12/2024 - Rio de Janeiro | I2: Padrão - 21,22% Material - 11,10% | J2: Sem Desoneração: Horista: 110,14% Mensalista: 70,04% | L2: A | M2: 0.49740719 | N2: 6507949.5
L3: B | M3: 0.2956484 | N3: 3868188.6
L4: C | M4: 0.20694441 | N4: 2707608.1
L5: TOTAL | M5: 1 | N5: 13083746
A6: ITEM | B6: CÓD. ABC | C6: Código | D6: Banco | E6: DESCRIÇÃO | F6: UNID. | G6: QUANT. | H6: UNIT. S/ BDI (R$) | I6: UNIT. C/ BDI (R$) | J6: BDI | K6: TOTAL C/ BDI (R$) | L6: % PARCIAL | M6: % ACUM. | N6: CLASSIF.
A7: 1 | B7: 112 | C7: 95876 | D7: SINAPI | E7: TRANSPORTE COM CAMINHÃO BASCULANTE DE 14 M³, EM VIA URBANA PAVIMENTADA, DMT ATÉ 30 KM (UNIDADE: M3XKM). AF_07/2020 | F7: M3XKM | G7: 512343.39 | H7: 2.1 | I7: 2.55 | J7: 0.2122 | K7: 1306475.5 | L7: 0.09985485 | M7: 0.09985485 | N7: A
A8: 2 | B8: 120 | C8: 00007767 | D8: SINAPI | E8: TUBO DE CONCRETO ARMADO PARA AGUAS PLUVIAIS, CLASSE PA-2, COM ENCAIXE PONTA E BOLSA, DIAMETRO NOMINAL DE 1500 MM | F8: M | G8: 467.4 | H8: 1089.02 | I8: 1209.9 | J8: 0.111 | K8: 565507.25 | L8: 0.04322212 | M8: 0.14307697 | N8: A
A9: 3 | B9: 12 | C9: 4011276 | D9: SICRO3 | E9: BASE OU SUB-BASE DE BRITA GRADUADA COM BRITA COMERCIAL | F9: M³ | G9: 2223.3887 | H9: 208.42 | I9: 252.65 | J9: 0.2122 | K9: 561739.12 | L9: 0.042934119 | M9: 0.18601109 | N9: A
A10: 4 | B10: 25 | C10: ANP-CAP 50/70 | D10: PRÓPRIO | E10: CIMENTO ASFÁLTICO DE PETRÓLEO - CAP 50/70 FORNECIMENTO E TRANSPORTE | F10: T | G10: 74.537258 | H10: 5274.22 | I10: 5859.66 | J10: 0.111 | K10: 436762.97 | L10: 0.033382103 | M10: 0.21939319 | N10: A
A11: 5 | B11: 2 | C11: 0407819 | D11: SICRO3 | E11: ARMAÇÃO EM AÇO CA-50 - FORNECIMENTO, PREPARO E COLOCAÇÃO | F11: KG | G11: 28712.23 | H11: 12.15 | I11: 14.73 | J11: 0.2122 | K11: 422931.13 | L11: 0.032324926 | M11: 0.25171812 | N11: A
A12: 6 | B12: 80 | C12: 3108000 | D12: SICRO3 | E12: FÔRMAS DE COMPENSADO RESINADO 12 MM - USO GERAL - UTILIZAÇÃO DE 2 VEZES - CONFECÇÃO, INSTALAÇÃO E RETIRADA | F12: M² | G12: 3492.05 | H12: 93.65 | I12: 113.52 | J12: 0.2122 | K12: 396417.51 | L12: 0.030298471 | M12: 0.28201659 | N12: A
A13: 7 | B13: 111 | C13: 93593 | D13: SINAPI | E13: TRANSPORTE COM CAMINHÃO BASCULANTE DE 14 M³, EM VIA URBANA PAVIMENTADA, ADICIONAL PARA DMT EXCEDENTE A 30 KM (UNIDADE: M3XKM). AF_07/2020 | F13: M3XKM | G13: 375753.58 | H13: 0.85 | I13: 1.03 | J13: 0.2122 | K13: 387026.07 | L13: 0.029580677 | M13: 0.31159727 | N13: A
A14: 8 | B14: 119 | C14: 00007766 | D14: SINAPI | E14: TUBO DE CONCRETO ARMADO PARA AGUAS PLUVIAIS, CLASSE PA-2, COM ENCAIXE PONTA E BOLSA, DIAMETRO NOMINAL DE 1200 MM | F14: M | G14: 457.39 | H14: 758.46 | I14: 842.65 | J14: 0.111 | K14: 385419.67 | L14: 0.029457898 | M14: 0.34105516 | N14: A
A15: 9 | B15: 28 | C15: 94971 | D15: SINAPI | E15: CONCRETO FCK = 25MPA, TRAÇO 1:2,3:2,7 (EM MASSA SECA DE CIMENTO/ AREIA MÉDIA/ BRITA 1) - PREPARO MECÂNICO COM BETONEIRA 600 L. AF_05/2021 | F15: M³ | G15: 667.01 | H15: 470.06 | I15: 569.81 | J15: 0.2122 | K15: 380068.93 | L15: 0.029048938 | M15: 0.3701041 | N15: A
A16: 10 | B16: 103 | C16: 0401001113 | D16: AGESUL | E16: REATERRO MANUAL APILOADO COM SOQUETE | F16: M³ | G16: 5356.7615 | H16: 56.12 | I16: 68.03 | J16: 0.2122 | K16: 364420.46 | L16: 0.027852914 | M16: 0.39795702 | N16: A
A17: 11 | B17: 113 | C17: 100952 | D17: SINAPI | E17: TRANSPORTE COM CAMINHÃO CARROCERIA COM GUINDAUTO (MUNCK), MOMENTO MÁXIMO DE CARGA 11,7 TM, EM VIA URBANA PAVIMENTADA, DMT ATÉ 30KM (UNIDADE: TXKM). AF_07/2020 | F17: TXKM | G17: 107011.21 | H17: 2.71 | I17: 3.29 | J17: 0.2122 | K17: 352066.86 | L17: 0.02690872 | M17: 0.42486574 | N17: A
A18: 12 | B18: 1 | C18: 103320 | D18: SINAPI | E18: ALVENARIA DE VEDAÇÃO DE BLOCOS VAZADOS DE CONCRETO DE 19X19X39 CM (ESPESSURA 19 CM) E ARGAMASSA DE ASSENTAMENTO COM PREPARO EM BETONEIRA. AF_12/2021 | F18: M² | G18: 2038.39 | H18: 133.38 | I18: 161.68 | J18: 0.2122 | K18: 329566.88 | L18: 0.02518903 | M18: 0.45005477 | N18: A
... A131: 125 | B131: 33 | C131: 97622 | D131: SINAPI | E131: DEMOLIÇÃO DE ALVENARIA DE BLOCO FURADO, DE FORMA MANUAL, SEM REAPROVEITAMENTO. AF_09/2023 | F131: M³ | G131: 2.6965232 | H131: 62.38 | I131: 75.62 | J131: 0.2122 | K131: 203.9 | L131: 1.5584221e-05 | M131: 1 | N131: C
A132: TOTAL | K132: 13083746

Sheet CPUs
C1: Composições Analíticas com Preço Unitário | E1: Bancos | G1: B.D.I. | I1: Encargos Sociais
C2: REVISÃO E READEQUAÇÃO DOS PROJETOS EXECUTIVOS DE DRENAGEM NO SETOR HABITACIONAL MESTRE D'ARMAS, REGIÃO ADMINISTRATIVA DE PLANATINA - RA-PLAN, PELA SODF, NO DISTRITO FEDERAL - BLOCO 1 - LOTE 2 (ÁREA 5 E 6) CONTRATO: 21/2021- SODF - SEM DESONERAÇÃO | E2: SINAPI - 12/2024 - Distrito Federal SBC - 01/2025 - Distrito Federal SICRO3 - 10/2024 - Distrito Federal ORSE - 11/2024 - Sergipe SEINFRA - 028 - Ceará SIURB INFRA - 07/2024 - São Paulo AGESUL - 06/2024 - Mato Grosso do Sul EMBASA - 05/2024 - Bahia COMPESA - 07/2024 - Pernambuco EMOP - 12/2024 - Rio de Janeiro | G2: Padrão - 21,22% Material - 11,10% | I2: Sem Desoneração: Horista: 110,14% Mensalista: 70,04%
A4: Composições Principais
B5: Código | C5: Banco | D5: Descrição | E5: Tipo | G5: Und | H5: Quant. | I5: Valor Unit | J5: Total
A6: Composição | B6: 93568 | C6: SINAPI | D6: ENGENHEIRO CIVIL DE OBRA SENIOR COM ENCARGOS COMPLEMENTARES | E6: SEDI - SERVIÇOS DIVERSOS | G6: MES | H6: 1 | I6: 34812.77 | J6: 34812.77
A7: Composição Auxiliar | B7: 95418 | C7: SINAPI | D7: CURSO DE CAPACITAÇÃO PARA ENGENHEIRO CIVIL DE OBRA SÊNIOR (ENCARGOS COMPLEMENTARES) - MENSALISTA | E7: SEDI - SERVIÇOS DIVERSOS | G7: MES | H7: 1 | I7: 431.87 | J7: 431.87
A8: Insumo | B8: 00040814 | C8: SINAPI | D8: ENGENHEIRO CIVIL DE OBRA SENIOR (MENSALISTA) | E8: Mão de Obra | G8: MES | H8: 1 | I8: 33978.99 | J8: 33978.99
A9: Insumo | B9: 00040863 | C9: SINAPI | D9: EXAMES - MENSALISTA (COLETADO CAIXA - ENCARGOS COMPLEMENTARES) | E9: Material | G9: MES | H9: 1 | I9: 252.08 | J9: 252.08
A10: Insumo | B10: 00040864 | C10: SINAPI | D10: SEGURO - MENSALISTA (COLETADO CAIXA - ENCARGOS COMPLEMENTARES) | E10: Material | G10: MES | H10: 1 | I10: 7.31 | J10: 7.31
A11: Insumo | B11: 00043474 | C11: SINAPI | D11: FERRAMENTAS - FAMILIA ENGENHEIRO CIVIL - MENSALISTA (ENCARGOS COMPLEMENTARES - COLETADO CAIXA) | E11: Equipamento | G11: MES | H11: 1 | I11: 2.29 | J11: 2.29
A12: Insumo | B12: 00043498 | C12: SINAPI | D12: EPI - FAMILIA ENGENHEIRO CIVIL - MENSALISTA (ENCARGOS COMPLEMENTARES - COLETADO CAIXA) | E12: Equipamento | G12: MES | H12: 1 | I12: 140.23 | J12: 140.23
B14: Código | C14: Banco | D14: Descrição | E14: Tipo | G14: Und | H14: Quant. | I14: Valor Unit | J14: Total
A15: Composição | B15: 93567 | C15: SINAPI | D15: ENGENHEIRO CIVIL DE OBRA PLENO COM ENCARGOS COMPLEMENTARES | E15: SEDI - SERVIÇOS DIVERSOS | G15: MES | H15: 1 | I15: 24859.48 | J15: 24859.48
A16: Composição Auxiliar | B16: 95417 | C16: SINAPI | D16: CURSO DE CAPACITAÇÃO PARA ENGENHEIRO CIVIL DE OBRA PLENO (ENCARGOS COMPLEMENTARES) - MENSALISTA | E16: SEDI - SERVIÇOS DIVERSOS | G16: MES | H16: 1 | I16: 306.95 | J16: 306.95
A17: Insumo | B17: 00040813 | C17: SINAPI | D17: ENGENHEIRO CIVIL DE OBRA PLENO (MENSALISTA) | E17: Mão de Obra | G17: MES | H17: 1 | I17: 24150.62 | J17: 24150.62
A18: Insumo | B18: 00040863 | C18: SINAPI | D18: EXAMES - MENSALISTA (COLETADO CAIXA - ENCARGOS COMPLEMENTARES) | E18: Material | G18: MES | H18: 1 | I18: 252.08 | J18: 252.08
A19: Insumo | B19: 00040864 | C19: SINAPI | D19: SEGURO - MENSALISTA (COLETADO CAIXA - ENCARGOS COMPLEMENTARES) | E19: Material | G19: MES | H19: 1 | I19: 7.31 | J19: 7.31
A20: Insumo | B20: 00043474 | C20: SINAPI | D20: FERRAMENTAS - FAMILIA ENGENHEIRO CIVIL - MENSALISTA (ENCARGOS COMPLEMENTARES - COLETADO CAIXA) | E20: Equipamento | G20: MES | H20: 1 | I20: 2.29 | J20: 2.29
A21: Insumo | B21: 00043498 | C21: SINAPI | D21: EPI - FAMILIA ENGENHEIRO CIVIL - MENSALISTA (ENCARGOS COMPLEMENTARES - COLETADO CAIXA) | E21: Equipamento | G21: MES | H21: 1 | I21: 140.23 | J21: 140.23
B23: Código | C23: Banco | D23: Descrição | E23: Tipo | G23: Und | H23: Quant. | I23: Valor Unit | J23: Total
A24: Composição | B24: 100534 | C24: SINAPI | D24: TECNICO DE EDIFICACOES COM ENCARGOS COMPLEMENTARES | E24: SEDI - SERVIÇOS DIVERSOS | G24: MES | H24: 1 | I24: 3536.93 | J24: 3536.93
A25: Composição Auxiliar | B25: 100536 | C25: SINAPI | D25: CURSO DE CAPACITAÇÃO PARA TECNICO DE EDIFICACOES (ENCARGOS COMPLEMENTARES) - MENSALISTA | E25: SEDI - SERVIÇOS DIVERSOS | G25: MES | H25: 1 | I25: 47.57 | J25: 47.57
A26: Insumo | B26: 00040863 | C26: SINAPI | D26: EXAMES - MENSALISTA (COLETADO CAIXA - ENCARGOS COMPLEMENTARES) | E26: Material | G26: MES | H26: 1 | I26: 252.08 | J26: 252.08
A27: Insumo | B27: 00040864 | C27: SINAPI | D27: SEGURO - MENSALISTA (COLETADO CAIXA - ENCARGOS COMPLEMENTARES) | E27: Material | G27: MES | H27: 1 | I27: 7.31 | J27: 7.31
A28: Insumo | B28: 00040946 | C28: SINAPI | D28: TECNICO DE EDIFICACOES (MENSALISTA) | E28: Mão de Obra | G28: MES | H28: 1 | I28: 3071.04 | J28: 3071.04
A29: Insumo | B29: 00043470 | C29: SINAPI | D29: FERRAMENTAS - FAMILIA ALMOXARIFE - MENSALISTA (ENCARGOS COMPLEMENTARES - COLETADO CAIXA) | E29: Equipamento | G29: MES | H29: 1 | I29: 10.89 | J29: 10.89
A30: Insumo | B30: 00043494 | C30: SINAPI | D30: EPI - FAMILIA ALMOXARIFE - MENSALISTA (ENCARGOS COMPLEMENTARES - COLETADO CAIXA) | E30: Equipamento | G30: MES | H30: 1 | I30: 148.04 | J30: 148.04
B32: Código | C32: Banco | D32: Descrição | E32: Tipo | G32: Und | H32: Quant. | I32: Valor Unit | J32: Total
A33: Composição | B33: COMP-TEC-020 | C33: Próprio | D33: TÉCNICO DE MEIO AMBIENTE COM ENCARGOS COMPLEMENTARES E ENCARGOS SOCIAIS E.S 70,04% | E33: SEDI - SERVIÇOS DIVERSOS | G33: MÊS | H33: 1 | I33: 6723.27 | J33: 6723.27
A34: Insumo | B34: 00043481 | C34: SINAPI | D34: FERRAMENTAS - FAMILIA TOPOGRAFO - MENSALISTA (ENCARGOS COMPLEMENTARES - COLETADO CAIXA) | E34: Equipamento | G34: MES | H34: 1 | I34: 12.77 | J34: 12.77
A35: Insumo | B35: 00043505 | C35: SINAPI | D35: EPI - FAMILIA TOPOGRAFO - MENSALISTA (ENCARGOS COMPLEMENTARES - COLETADO CAIXA) | E35: Equipamento | G35: MES | H35: 1 | I35: 132.94 | J35: 132.94
A36: Insumo | B36: 00040863 | C36: SINAPI | D36: EXAMES - MENSALISTA (COLETADO CAIXA - ENCARGOS COMPLEMENTARES) | E36: Material | G36: MES | H36: 1 | I36: 252.08 | J36: 252.08
A37: Insumo | B37: 00040864 | C37: SINAPI | D37: SEGURO - MENSALISTA (COLETADO CAIXA - ENCARGOS COMPLEMENTARES) | E37: Material | G37: MES | H37: 1 | I37: 7.31 | J37: 7.31
A38: Insumo | B38: P9897 OUT/24 | C38: Próprio | D38: TÉCNICO DE MEIO AMBIENTE SEM ENCARGOS | E38: Mão de Obra | G38: MÊS | H38: 1 | I38: 3682.16 | J38: 3682.16
A39: Insumo | B39: P9897 OUT/24 | C39: Próprio | D39: TÉCNICO DE MEIO AMBIENTE SEM ENCARGOS | E39: Mão de Obra | G39: MÊS | H39: 0.01549 | I39: 3682.16 | J39: 57.03
A40: Insumo | B40: P9897 OUT/24 | C40: Próprio | D40: TÉCNICO DE MEIO AMBIENTE SEM ENCARGOS | E40: Mão de Obra | G40: MÊS | H40: 0.7004 | I40: 3682.16 | J40: 2578.98
B42: Código | C42: Banco | D42: Descrição | E42: Tipo | G42: Und | H42: Quant. | I42: Valor Unit | J42: Total
A43: Composição | B43: E9093 MÊS | C43: Próprio | D43: VEICULO LEVE - 53 KW (SEM MOTORISTA) | E43: CHOR - CUSTOS HORÁRIOS DE MÁQUINAS E EQUIPAMENTOS | G43: MÊS | H43: 1 | I43: 2727.71 | J43: 2727.71
A44: A | B44: Código | C44: Banco | D44: Equipamentos | E44: Quantidade | F44: Utilização | H44: Custo Operacional | J44: Custo Horário
F45: Operativa | G45: Improdutiva | H45: Operativa | I45: Improdutiva
...

Sheet CRONOGRAMA
B1: Obra | C1: Bancos | D1: B.D.I. | F1: Encargos Sociais
B2: REVISÃO E READEQUAÇÃO DOS PROJETOS EXECUTIVOS DE DRENAGEM NO SETOR HABITACIONAL MESTRE D'ARMAS, REGIÃO ADMINISTRATIVA DE PLANATINA - RA-PLAN, PELA SODF, NO DISTRITO FEDERAL - BLOCO 1 - LOTE 2 (ÁREA 5 E 6) CONTRATO: 21/2021- SODF - SEM DESONERAÇÃO | C2: SINAPI - 12/2024 - Distrito Federal SBC - 01/2025 - Distrito Federal SICRO3 - 10/2024 - Distrito Federal ORSE - 11/2024 - Sergipe SEINFRA - 028 - Ceará SIURB INFRA - 07/2024 - São Paulo AGESUL - 06/2024 - Mato Grosso do Sul EMBASA - 05/2024 - Bahia COMPESA - 07/2024 - Pernambuco EMOP - 12/2024 - Rio de Janeiro | D2: Padrão - 21,22% Material - 11,10% | F2: Sem Desoneração: Horista: 110,14% Mensalista: 70,04%
A3: Cronograma Físico e Financeiro
A4: Item | B4: Descrição | C4: Total Por Etapa | D4: 30 DIAS | E4: 60 DIAS | F4: 90 DIAS | G4: 120 DIAS | H4: 150 DIAS | I4: 180 DIAS | J4: 210 DIAS | K4: 240 DIAS | L4: 270 DIAS
C5: 1 | D5: 0.0211 | E5: 0.0418 | F5: 0.0627 | G5: 0.0627 | H5: 0.2011 | I5: 0.1897 | J5: 0.1897 | K5: 0.1518 | L5: 0.0794
A6: 1 | B6: ADMINISTRAÇÃO | C6: 1454666.7 | D6: 30693.468 | E6: 60805.068 | F6: 91207.603 | G6: 91207.603 | H6: 292533.48 | I6: 275950.27 | J6: 275950.27 | K6: 220818.41 | L6: 115500.54
C7: 1 | D7: 0.5 | L7: 0.5
A8: 2 | B8: MOBILIZAÇÃO E DESMOBILIZAÇÃO | C8: 36998.72 | D8: 18499.36 | L8: 18499.36
C9: 1 | D9: 0.9 | L9: 0.1
A10: 3 | B10: CANTEIRO DE OBRAS | C10: 296160.42 | D10: 266544.38 | L10: 29616.042
C11: 1 | E11: 0.2 | F11: 0.3 | G11: 0.3 | H11: 0.2
A12: 4 | B12: REDE DE DRENAGEM ÁREA 5 - 0,75 KM | C12: 2824568.5 | E12: 564913.7 | F12: 847370.54 | G12: 847370.54 | H12: 564913.7
C13: 1 | H13: 0.2 | I13: 0.25 | J13: 0.25 | K13: 0.2 | L13: 0.1
A14: 5 | B14: REDE DE DRENAGEM ÁREA 6 - 2,66 KM | C14: 10259178 | F14: 0 | G14: 0 | H14: 2051835.6 | I14: 2564794.5 | J14: 2564794.5 | K14: 2051835.6 | L14: 1025917.8
A16: Porcentagem | D16: 0.021230923 | E16: 0.042074823 | F16: 0.063112234 | G16: 0.063112234 | H16: 0.19562711 | I16: 0.19101845 | J16: 0.19101845 | K16: 0.15281868 | L16: 0.079987086
A17: Custo | D17: 315737.21 | E17: 625718.76 | F17: 938578.15 | G17: 938578.15 | H17: 2909282.7 | I17: 2840744.7 | J17: 2840744.7 | K17: 2272654 | L17: 1189533.7
A18: Porcentagem Acumulado | D18: 0.021230923 | E18: 0.063305746 | F18: 0.12641798 | G18: 0.18953021 | H18: 0.38515733 | I18: 0.57617578 | J18: 0.76719424 | K18: 0.92001291 | L18: 1
A19: Custo Acumulado | D19: 315737.21 | E19: 941455.97 | F19: 1880034.1 | G19: 2818612.3 | H19: 5727895 | I19: 8568639.7 | J19: 11409384 | K19: 13682038 | L19: 14871572

Sheet Plan2
B1: 1 | C1: =ORÇAMENTO!A241 -> 4.1.2.6.43 | D1: =ORÇAMENTO!B241 -> 103320 | E1: =ORÇAMENTO!C241 -> SINAPI | F1: =ORÇAMENTO!D241 -> ALVENARIA DE VEDAÇÃO DE BLOCOS VAZADOS DE CONCRETO DE 19X19X39 CM (ESPESSURA 19 CM) E ARGAMASSA DE ASSENTAMENTO COM PREPARO EM BETONEIRA. AF_12/2021 | G1: =ORÇAMENTO!E241 -> M² | H1: =ORÇAMENTO!F241 -> 547.41 | I1: =ORÇAMENTO!G241 -> 133.38 | J1: =ORÇAMENTO!H241 -> 0.2122 | ... L1: =ORÇAMENTO!J241 -> 88505.24
B2: =IF(EXACT(F1,F2),B1,B1+1) -> 1 | C2: =ORÇAMENTO!A251 -> 4.1.2.7.3 | D2: =ORÇAMENTO!B251 -> 103320 | E2: =ORÇAMENTO!C251 -> SINAPI | F2: =ORÇAMENTO!D251 -> ALVENARIA DE VEDAÇÃO DE BLOCOS VAZADOS DE CONCRETO DE 19X19X39 CM (ESPESSURA 19 CM) E ARGAMASSA DE ASSENTAMENTO COM PREPARO EM BETONEIRA. AF_12/2021 | G2: =ORÇAMENTO!E251 -> M² | H2: =ORÇAMENTO!F251 -> 38.81 | I2: =ORÇAMENTO!G251 -> 133.38 | J2: =ORÇAMENTO!H251 -> 0.2122 | ... L2: =ORÇAMENTO!J251 -> 6274.8 | N2: =IF(F2=F1,IF(G2=G1,"OK!","ERRADO"),"DIFERENTE") -> OK! | O2: =IF(F2=F1,IF(I2=I1,"OK!","ERRADO"),"DIFERENTE") -> OK! | P2: =IF(F2=F1,IF(D2=D1,"OK!","ERRADO"),"DIFERENTE") -> OK!
B3: =IF(EXACT(F2,F3),B2,B2+1) -> 1 | C3: =ORÇAMENTO!A451 -> 5.1.2.7.43 | D3: =ORÇAMENTO!B451 -> 103320 | E3: =ORÇAMENTO!C451 -> SINAPI | F3: =ORÇAMENTO!D451 -> ALVENARIA DE VEDAÇÃO DE BLOCOS VAZADOS DE CONCRETO DE 19X19X39 CM (ESPESSURA 19 CM) E ARGAMASSA DE ASSENTAMENTO COM PREPARO EM BETONEIRA. AF_12/2021 | G3: =ORÇAMENTO!E451 -> M² | H3: =ORÇAMENTO!F451 -> 1318.39 | I3: =ORÇAMENTO!G451 -> 133.38 | J3: =ORÇAMENTO!H451 -> 0.2122 | ... L3: =ORÇAMENTO!J451 -> 213157.29 | N3: =IF(F3=F2,IF(G3=G2,"OK!","ERRADO"),"DIFERENTE") -> OK! | O3: =IF(F3=F2,IF(I3=I2,"OK!","ERRADO"),"DIFERENTE") -> OK! | P3: =IF(F3=F2,IF(D3=D2,"OK!","ERRADO"),"DIFERENTE") -> OK!
B4: =IF(EXACT(F3,F4),B3,B3+1) -> 1 | C4: =ORÇAMENTO!A461 -> 5.1.2.8.3 | D4: =ORÇAMENTO!B461 -> 103320 | E4: =ORÇAMENTO!C461 -> SINAPI | F4: =ORÇAMENTO!D461 -> ALVENARIA DE VEDAÇÃO DE BLOCOS VAZADOS DE CONCRETO DE 19X19X39 CM (ESPESSURA 19 CM) E ARGAMASSA DE ASSENTAMENTO COM PREPARO EM BETONEIRA. AF_12/2021 | G4: =ORÇAMENTO!E461 -> M² | H4: =ORÇAMENTO!F461 -> 133.78 | I4: =ORÇAMENTO!G461 -> 133.38 | J4: =ORÇAMENTO!H461 -> 0.2122 | ... L4: =ORÇAMENTO!J461 -> 21629.55 | N4: =IF(F4=F3,IF(G4=G3,"OK!","ERRADO"),"DIFERENTE") -> OK! | O4: =IF(F4=F3,IF(I4=I3,"OK!","ERRADO"),"DIFERENTE") -> OK! | P4: =IF(F4=F3,IF(D4=D3,"OK!","ERRADO"),"DIFERENTE") -> OK!
B5: =IF(EXACT(F4,F5),B4,B4+1) -> 2 | C5: =ORÇAMENTO!A240 -> 4.1.2.6.42 | D5: =ORÇAMENTO!B240 -> 0407819 | E5: =ORÇAMENTO!C240 -> SICRO3 | F5: =ORÇAMENTO!D240 -> ARMAÇÃO EM AÇO CA-50 - FORNECIMENTO, PREPARO E COLOCAÇÃO | G5: =ORÇAMENTO!E240 -> KG | H5: =ORÇAMENTO!F240 -> 1632 | I5: =ORÇAMENTO!G240 -> 12.15 | J5: =ORÇAMENTO!H240 -> 0.2122 | ... L5: =ORÇAMENTO!J240 -> 24039.36 | N5: =IF(F5=F4,IF(G5=G4,"OK!","ERRADO"),"DIFERENTE") -> DIFERENTE | O5: =IF(F5=F4,IF(I5=I4,"OK!","ERRADO"),"DIFERENTE") -> DIFERENTE | P5: =IF(F5=F4,IF(D5=D4,"OK!","ERRADO"),"DIFERENTE") -> DIFERENTE
B6: =IF(EXACT(F5,F6),B5,B5+1) -> 2 | C6: =ORÇAMENTO!A256 -> 4.1.2.7.8 | D6: =ORÇAMENTO!B256 -> 0407819 | E6: =ORÇAMENTO!C256 -> SICRO3 | F6: =ORÇAMENTO!D256 -> ARMAÇÃO EM AÇO CA-50 - FORNECIMENTO, PREPARO E COLOCAÇÃO | G6: =ORÇAMENTO!E256 -> KG | H6: =ORÇAMENTO!F256 -> 2742.83 | I6: =ORÇAMENTO!G256 -> 12.15 | J6: =ORÇAMENTO!H256 -> 0.2122 | ... L6: =ORÇAMENTO!J256 -> 40401.88 | N6: =IF(F6=F5,IF(G6=G5,"OK!","ERRADO"),"DIFERENTE") -> OK! | O6: =IF(F6=F5,IF(I6=I5,"OK!","ERRADO"),"DIFERENTE") -> OK! | P6: =IF(F6=F5,IF(D6=D5,"OK!","ERRADO"),"DIFERENTE") -> OK!
B7: =IF(EXACT(F6,F7),B6,B6+1) -> 2 | C7: =ORÇAMENTO!A450 -> 5.1.2.7.42 | D7: =ORÇAMENTO!B450 -> 0407819 | E7: =ORÇAMENTO!C450 -> SICRO3 | F7: =ORÇAMENTO!D450 -> ARMAÇÃO EM AÇO CA-50 - FORNECIMENTO, PREPARO E COLOCAÇÃO | G7: =ORÇAMENTO!E450 -> KG | H7: =ORÇAMENTO!F450 -> 3200 | I7: =ORÇAMENTO!G450 -> 12.15 | J7: =ORÇAMENTO!H450 -> 0.2122 | ... L7: =ORÇAMENTO!J450 -> 47136 | N7: =IF(F7=F6,IF(G7=G6,"OK!","ERRADO"),"DIFERENTE") -> OK! | O7: =IF(F7=F6,IF(I7=I6,"OK!","ERRADO"),"DIFERENTE") -> OK! | P7: =IF(F7=F6,IF(D7=D6,"OK!","ERRADO"),"DIFERENTE") -> OK!
B8: =IF(EXACT(F7,F8),B7,B7+1) -> 2 | C8: =ORÇAMENTO!A466 -> 5.1.2.8.8 | D8: =ORÇAMENTO!B466 -> 0407819 | E8: =ORÇAMENTO!C466 -> SICRO3 | F8: =ORÇAMENTO!D466 -> ARMAÇÃO EM AÇO CA-50 - FORNECIMENTO, PREPARO E COLOCAÇÃO | G8: =ORÇAMENTO!E466 -> KG | H8: =ORÇAMENTO!F466 -> 3687.01 | I8: =ORÇAMENTO!G466 -> 12.15 | J8: =ORÇAMENTO!H466 -> 0.2122 | ... L8: =ORÇAMENTO!J466 -> 54309.65 | N8: =IF(F8=F7,IF(G8=G7,"OK!","ERRADO"),"DIFERENTE") -> OK! | O8: =IF(F8=F7,IF(I8=I7,"OK!","ERRADO"),"DIFERENTE") -> OK! | P8: =IF(F8=F7,IF(D8=D7,"OK!","ERRADO"),"DIFERENTE") -> OK!
B9: =IF(EXACT(F8,F9),B8,B8+1) -> 2 | C9: =ORÇAMENTO!A473 -> 5.1.2.9.5 | D9: =ORÇAMENTO!B473 -> 0407819 | E9: =ORÇAMENTO!C473 -> SICRO3 | F9: =ORÇAMENTO!D473 -> ARMAÇÃO EM AÇO CA-50 - FORNECIMENTO, PREPARO E COLOCAÇÃO | G9: =ORÇAMENTO!E473 -> KG | H9: =ORÇAMENTO!F473 -> 14935 | I9: =ORÇAMENTO!G473 -> 12.15 | J9: =ORÇAMENTO!H473 -> 0.2122 | ... L9: =ORÇAMENTO!J473 -> 219992.55 | N9: =IF(F9=F8,IF(G9=G8,"OK!","ERRADO"),"DIFERENTE") -> OK! | O9: =IF(F9=F8,IF(I9=I8,"OK!","ERRADO"),"DIFERENTE") -> OK! | P9: =IF(F9=F8,IF(D9=D8,"OK!","ERRADO"),"DIFERENTE") -> OK!
B10: =IF(EXACT(F9,F10),B9,B9+1) -> 2 | C10: =ORÇAMENTO!A482 -> 5.1.2.10.7 | D10: =ORÇAMENTO!B482 -> 0407819 | E10: =ORÇAMENTO!C482 -> SICRO3 | F10: =ORÇAMENTO!D482 -> ARMAÇÃO EM AÇO CA-50 - FORNECIMENTO, PREPARO E COLOCAÇÃO | G10: =ORÇAMENTO!E482 -> KG | H10: =ORÇAMENTO!F482 -> 2515.39 | I10: =ORÇAMENTO!G482 -> 12.15 | J10: =ORÇAMENTO!H482 -> 0.2122 | ... L10: =ORÇAMENTO!J482 -> 37051.69 | N10: =IF(F10=F9,IF(G10=G9,"OK!","ERRADO"),"DIFERENTE") -> OK! | O10: =IF(F10=F9,IF(I10=I9,"OK!","ERRADO"),"DIFERENTE") -> OK! | P10: =IF(F10=F9,IF(D10=D9,"OK!","ERRADO"),"DIFERENTE") -> OK!
B11: =IF(EXACT(F10,F11),B10,B10+1) -> 3 | C11: =ORÇAMENTO!A522 -> 5.4.4.14 | D11: =ORÇAMENTO!B522 -> 94273 | E11: =ORÇAMENTO!C522 -> SINAPI | F11: =ORÇAMENTO!D522 -> ASSENTAMENTO DE GUIA (MEIO-FIO) EM TRECHO RETO, CONFECCIONADA EM CONCRETO PRÉ-FABRICADO, DIMENSÕES 100X15X13X30 CM (COMPRIMENTO X BASE INFERIOR X BASE SUPERIOR X ALTURA). AF_01/2024 | G11: =ORÇAMENTO!E522 -> M | H11: =ORÇAMENTO!F522 -> 2607.6 | I11: =ORÇAMENTO!G522 -> 48.36 | J11: =ORÇAMENTO!H522 -> 0.2122 | ... L11: =ORÇAMENTO!J522 -> 152857.51 | N11: =IF(F11=F10,IF(G11=G10,"OK!","ERRADO"),"DIFERENTE") -> DIFERENTE | O11: =IF(F11=F10,IF(I11=I10,"OK!","ERRADO"),"DIFERENTE") -> DIFERENTE | P11: =IF(F11=F10,IF(D11=D10,"OK!","ERRADO"),"DIFERENTE") -> DIFERENTE
B12: =IF(EXACT(F11,F12),B11,B11+1) -> 4 | C12: =ORÇAMENTO!A184 -> 4.1.2.4.18 | D12: =ORÇAMENTO!B184 -> 92828 | E12: =ORÇAMENTO!C184 -> SINAPI | F12: =ORÇAMENTO!D184 -> ASSENTAMENTO DE TUBO DE CONCRETO PARA REDES COLETORAS DE ÁGUAS PLUVIAIS, DIÂMETRO DE 1000 MM, JUNTA RÍGIDA, INSTALADO EM LOCAL COM ALTO NÍVEL DE INTERFERÊNCIAS (NÃO INCLUI FORNECIMENTO). AF_03/2024 | G12: =ORÇAMENTO!E184 -> M | H12: =ORÇAMENTO!F184 -> 73.617147 | I12: =ORÇAMENTO!G184 -> 108 | J12: =ORÇAMENTO!H184 -> 0.2122 | ... L12: =ORÇAMENTO!J184 -> 9637.95 | N12: =IF(F12=F11,IF(G12=G11,"OK!","ERRADO"),"DIFERENTE") -> DIFERENTE | O12: =IF(F12=F11,IF(I12=I11,"OK!","ERRADO"),"DIFERENTE") -> DIFERENTE | P12: =IF(F12=F11,IF(D12=D11,"OK!","ERRADO"),"DIFERENTE") -> DIFERENTE
B13: =IF(EXACT(F12,F13),B12,B12+1) -> 4 | C13: =ORÇAMENTO!A385 -> 5.1.2.4.20 | D13: =ORÇAMENTO!B385 -> 92828 | E13: =ORÇAMENTO!C385 -> SINAPI | F13: =ORÇAMENTO!D385 -> ASSENTAMENTO DE TUBO DE CONCRETO PARA REDES COLETORAS DE ÁGUAS PLUVIAIS, DIÂMETRO DE 1000 MM, JUNTA RÍGIDA, INSTALADO EM LOCAL COM ALTO NÍVEL DE INTERFERÊNCIAS (NÃO INCLUI FORNECIMENTO). AF_03/2024 | G13: =ORÇAMENTO!E385 -> M | H13: =ORÇAMENTO!F385 -> 382.63 | I13: =ORÇAMENTO!G385 -> 108 | J13: =ORÇAMENTO!H385 -> 0.2122 | ... L13: =ORÇAMENTO!J385 -> 50093.91 | N13: =IF(F13=F12,IF(G13=G12,"OK!","ERRADO"),"DIFERENTE") -> OK! | O13: =IF(F13=F12,IF(I13=I12,"OK!","ERRADO"),"DIFERENTE") -> OK! | P13: =IF(F13=F12,IF(D13=D12,"OK!","ERRADO"),"DIFERENTE") -> OK!
B14: =IF(EXACT(F13,F14),B13,B13+1) -> 5 | C14: =ORÇAMENTO!A185 -> 4.1.2.4.19 | D14: =ORÇAMENTO!B185 -> 92830 | E14: =ORÇAMENTO!C185 -> SINAPI | F14: =ORÇAMENTO!D185 -> ASSENTAMENTO DE TUBO DE CONCRETO PARA REDES COLETORAS DE ÁGUAS PLUVIAIS, DIÂMETRO DE 1200 MM, JUNTA RÍGIDA, INSTALADO EM LOCAL COM ALTO NÍVEL DE INTERFERÊNCIAS (NÃO INCLUI FORNECIMENTO). AF_03/2024 | G14: =ORÇAMENTO!E185 -> M | H14: =ORÇAMENTO!F185 -> 144.87 | I14: =ORÇAMENTO!G185 -> 133.19 | J14: =ORÇAMENTO!H185 -> 0.2122 | ... L14: =ORÇAMENTO!J185 -> 23389.26 | N14: =IF(F14=F13,IF(G14=G13,"OK!","ERRADO"),"DIFERENTE") -> DIFERENTE | O14: =IF(F14=F13,IF(I14=I13,"OK!","ERRADO"),"DIFERENTE") -> DIFERENTE | P14: =IF(F14=F13,IF(D14=D13,"OK!","ERRADO"),"DIFERENTE") -> DIFERENTE
B15: =IF(EXACT(F14,F15),B14,B14+1) -> 5 | C15: =ORÇAMENTO!A386 -> 5.1.2.4.21 | D15: =ORÇAMENTO!B386 -> 92830 | E15: =ORÇAMENTO!C386 -> SINAPI | F15: =ORÇAMENTO!D386 -> ASSENTAMENTO DE TUBO DE CONCRETO PARA REDES COLETORAS DE ÁGUAS PLUVIAIS, DIÂMETRO DE 1200 MM, JUNTA RÍGIDA, INSTALADO EM LOCAL COM ALTO NÍVEL DE INTERFERÊNCIAS (NÃO INCLUI FORNECIMENTO). AF_03/2024 | G15: =ORÇAMENTO!E386 -> M | H15: =ORÇAMENTO!F386 -> 312.52 | I15: =ORÇAMENTO!G386 -> 133.19 | J15: =ORÇAMENTO!H386 -> 0.2122 | ... L15: =ORÇAMENTO!J386 -> 50456.35 | N15: =IF(F15=F14,IF(G15=G14,"OK!","ERRADO"),"DIFERENTE") -> OK! | O15: =IF(F15=F14,IF(I15=I14,"OK!","ERRADO"),"DIFERENTE") -> OK! | P15: =IF(F15=F14,IF(D15=D14,"OK!","ERRADO"),"DIFERENTE") -> OK!
B16: =IF(EXACT(F15,F16),B15,B15+1) -> 6 | C16: =ORÇAMENTO!A186 -> 4.1.2.4.20 | D16: =ORÇAMENTO!B186 -> 92832 | E16: =ORÇAMENTO!C186 -> SINAPI | F16: =ORÇAMENTO!D186 -> ASSENTAMENTO DE TUBO DE CONCRETO PARA REDES COLETORAS DE ÁGUAS PLUVIAIS, DIÂMETRO DE 1500 MM, JUNTA RÍGIDA, INSTALADO EM LOCAL COM ALTO NÍVEL DE INTERFERÊNCIAS (NÃO INCLUI FORNECIMENTO). AF_03/2024 | G16: =ORÇAMENTO!E186 -> M | H16: =ORÇAMENTO!F186 -> 287.68 | I16: =ORÇAMENTO!G186 -> 172.74 | J16: =ORÇAMENTO!H186 -> 0.2122 | ... L16: =ORÇAMENTO!J186 -> 60240.19 | N16: =IF(F16=F15,IF(G16=G15,"OK!","ERRADO"),"DIFERENTE") -> DIFERENTE | O16: =IF(F16=F15,IF(I16=I15,"OK!","ERRADO"),"DIFERENTE") -> DIFERENTE | P16: =IF(F16=F15,IF(D16=D15,"OK!","ERRADO"),"DIFERENTE") -> DIFERENTE
B17: =IF(EXACT(F16,F17),B16,B16+1) -> 6 | C17: =ORÇAMENTO!A387 -> 5.1.2.4.22 | D17: =ORÇAMENTO!B387 -> 92832 | E17: =ORÇAMENTO!C387 -> SINAPI | F17: =ORÇAMENTO!D387 -> ASSENTAMENTO DE TUBO DE CONCRETO PARA REDES COLETORAS DE ÁGUAS PLUVIAIS, DIÂMETRO DE 1500 MM, JUNTA RÍGIDA, INSTALADO EM LOCAL COM ALTO NÍVEL DE INTERFERÊNCIAS (NÃO INCLUI FORNECIMENTO). AF_03/2024 | G17: =ORÇAMENTO!E387 -> M | H17: =ORÇAMENTO!F387 -> 218.81 | I17: =ORÇAMENTO!G387 -> 172.74 | J17: =ORÇAMENTO!H387 -> 0.2122 | ... L17: =ORÇAMENTO!J387 -> 45818.81 | N17: =IF(F17=F16,IF(G17=G16,"OK!","ERRADO"),"DIFERENTE") -> OK! | O17: =IF(F17=F16,IF(I17=I16,"OK!","ERRADO"),"DIFERENTE") -> OK! | P17: =IF(F17=F16,IF(D17=D16,"OK!","ERRADO"),"DIFERENTE") -> OK!
B18: =IF(EXACT(F17,F18),B17,B17+1) -> 7 | C18: =ORÇAMENTO!A247 -> 4.1.2.6.49 | D18: =ORÇAMENTO!B247 -> 92821 | E18: =ORÇAMENTO!C247 -> SINAPI | F18: =ORÇAMENTO!D247 -> ASSENTAMENTO DE TUBO DE CONCRETO PARA REDES COLETORAS DE ÁGUAS PLUVIAIS, DIÂMETRO DE 400 MM, JUNTA RÍGIDA, INSTALADO EM LOCAL COM ALTO NÍVEL DE INTERFERÊNCIAS (NÃO INCLUI FORNECIMENTO). AF_03/2024 | G18: =ORÇAMENTO!E247 -> M | H18: =ORÇAMENTO!F247 -> 343.46 | I18: =ORÇAMENTO!G247 -> 38.11 | J18: =ORÇAMENTO!H247 -> 0.2122 | ... L18: =ORÇAMENTO!J247 -> 15867.85 | N18: =IF(F18=F17,IF(G18=G17,"OK!","ERRADO"),"DIFERENTE") -> DIFERENTE | O18: =IF(F18=F17,IF(I18=I17,"OK!","ERRADO"),"DIFERENTE") -> DIFERENTE | P18: =IF(F18=F17,IF(D18=D17,"OK!","ERRADO"),"DIFERENTE") -> DIFERENTE
B19: =IF(EXACT(F18,F19),B18,B18+1) -> 7 | C19: =ORÇAMENTO!A382 -> 5.1.2.4.17 | D19: =ORÇAMENTO!B382 -> 92821 | E19: =ORÇAMENTO!C382 -> SINAPI | F19: =ORÇAMENTO!D382 -> ASSENTAMENTO DE TUBO DE CONCRETO PARA REDES COLETORAS DE ÁGUAS PLUVIAIS, DIÂMETRO DE 400 MM, JUNTA RÍGIDA, INSTALADO EM LOCAL COM ALTO NÍVEL DE INTERFERÊNCIAS (NÃO INCLUI FORNECIMENTO). AF_03/2024 | G19: =ORÇAMENTO!E382 -> M | H19: =ORÇAMENTO!F382 -> 410.77 | I19: =ORÇAMENTO!G382 -> 38.11 | J19: =ORÇAMENTO!H382 -> 0.2122 | ... L19: =ORÇAMENTO!J382 -> 18977.57 | N19: =IF(F19=F18,IF(G19=G18,"OK!","ERRADO"),"DIFERENTE") -> OK! | O19: =IF(F19=F18,IF(I19=I18,"OK!","ERRADO"),"DIFERENTE") -> OK! | P19: =IF(F19=F18,IF(D19=D18,"OK!","ERRADO"),"DIFERENTE") -> OK!
B20: =IF(EXACT(F19,F20),B19,B19+1) -> 7 | C20: =ORÇAMENTO!A457 -> 5.1.2.7.49 | D20: =ORÇAMENTO!B457 -> 92821 | E20: =ORÇAMENTO!C457 -> SINAPI | F20: =ORÇAMENTO!D457 -> ASSENTAMENTO DE TUBO DE CONCRETO PARA REDES COLETORAS DE ÁGUAS PLUVIAIS, DIÂMETRO DE 400 MM, JUNTA RÍGIDA, INSTALADO EM LOCAL COM ALTO NÍVEL DE INTERFERÊNCIAS (NÃO INCLUI FORNECIMENTO). AF_03/2024 | G20: =ORÇAMENTO!E457 -> M | H20: =ORÇAMENTO!F457 -> 659.74 | I20: =ORÇAMENTO!G457 -> 38.11 | J20: =ORÇAMENTO!H457 -> 0.2122 | ... L20: =ORÇAMENTO!J457 -> 30479.98 | N20: =IF(F20=F19,IF(G20=G19,"OK!","ERRADO"),"DIFERENTE") -> OK! | O20: =IF(F20=F19,IF(I20=I19,"OK!","ERRADO"),"DIFERENTE") -> OK! | P20: =IF(F20=F19,IF(D20=D19,"OK!","ERRADO"),"DIFERENTE") -> OK!
B21: =IF(EXACT(F20,F21),B20,B20+1) -> 8 | C21: =ORÇAMENTO!A183 -> 4.1.2.4.17 | D21: =ORÇAMENTO!B183 -> 92824 | E21: =ORÇAMENTO!C183 -> SINAPI | F21: =ORÇAMENTO!D183 -> ASSENTAMENTO DE TUBO DE CONCRETO PARA REDES COLETORAS DE ÁGUAS PLUVIAIS, DIÂMETRO DE 600 MM, JUNTA RÍGIDA, INSTALADO EM LOCAL COM ALTO NÍVEL DE INTERFERÊNCIAS (NÃO INCLUI FORNECIMENTO). AF_03/2024 | G21: =ORÇAMENTO!E183 -> M | H21: =ORÇAMENTO!F183 -> 245.99641 | I21: =ORÇAMENTO!G183 -> 60.45 | J21: =ORÇAMENTO!H183 -> 0.2122 | ... L21: =ORÇAMENTO!J183 -> 18026.61 | N21: =IF(F21=F20,IF(G21=G20,"OK!","ERRADO"),"DIFERENTE") -> DIFERENTE | O21: =IF(F21=F20,IF(I21=I20,"OK!","ERRADO"),"DIFERENTE") -> DIFERENTE | P21: =IF(F21=F20,IF(D21=D20,"OK!","ERRADO"),"DIFERENTE") -> DIFERENTE
B22: =IF(EXACT(F21,F22),B21,B21+1) -> 8 | C22: =ORÇAMENTO!A383 -> 5.1.2.4.18 | D22: =ORÇAMENTO!B383 -> 92824 | E22: =ORÇAMENTO!C383 -> SINAPI | F22: =ORÇAMENTO!D383 -> ASSENTAMENTO DE TUBO DE CONCRETO PARA REDES COLETORAS DE ÁGUAS PLUVIAIS, DIÂMETRO DE 600 MM, JUNTA RÍGIDA, INSTALADO EM LOCAL COM ALTO NÍVEL DE INTERFERÊNCIAS (NÃO INCLUI FORNECIMENTO). AF_03/2024 | G22: =ORÇAMENTO!E383 -> M | H22: =ORÇAMENTO!F383 -> 557.31 | I22: =ORÇAMENTO!G383 -> 60.45 | J22: =ORÇAMENTO!H383 -> 0.2122 | ... L22: =ORÇAMENTO!J383 -> 40839.67 | N22: =IF(F22=F21,IF(G22=G21,"OK!","ERRADO"),"DIFERENTE") -> OK! | O22: =IF(F22=F21,IF(I22=I21,"OK!","ERRADO"),"DIFERENTE") -> OK! | P22: =IF(F22=F21,IF(D22=D21,"OK!","ERRADO"),"DIFERENTE") -> OK!
B23: =IF(EXACT(F22,F23),B22,B22+1) -> 9 | C23: =ORÇAMENTO!A384 -> 5.1.2.4.19 | D23: =ORÇAMENTO!B384 -> 92826 | E23: =ORÇAMENTO!C384 -> SINAPI | F23: =ORÇAMENTO!D384 -> ASSENTAMENTO DE TUBO DE CONCRETO PARA REDES COLETORAS DE ÁGUAS PLUVIAIS, DIÂMETRO DE 800 MM, JUNTA RÍGIDA, INSTALADO EM LOCAL COM ALTO NÍVEL DE INTERFERÊNCIAS (NÃO INCLUI FORNECIMENTO). AF_03/2024 | G23: =ORÇAMENTO!E384 -> M | H23: =ORÇAMENTO!F384 -> 495.53 | I23: =ORÇAMENTO!G384 -> 83.73 | J23: =ORÇAMENTO!H384 -> 0.2122 | ... L23: =ORÇAMENTO!J384 -> 50296.29 | N23: =IF(F23=F22,IF(G23=G22,"OK!","ERRADO"),"DIFERENTE") -> DIFERENTE | O23: =IF(F23=F22,IF(I23=I22,"OK!","ERRADO"),"DIFERENTE") -> DIFERENTE | P23: =IF(F23=F22,IF(D23=D22,"OK!","ERRADO"),"DIFERENTE") -> DIFERENTE
B24: =IF(EXACT(F23,F24),B23,B23+1) -> 10 | C24: =ORÇAMENTO!A100 -> 4.1.1.1.11 | D24: =ORÇAMENTO!B100 -> 5213836 | E24: =ORÇAMENTO!C100 -> SICRO3 | F24: =ORÇAMENTO!D100 -> BALIZADOR CÔNICO REFLETIVO EM POLIETILENO SEMIFLEXÍVEL DE 114 X 11 X 40 CM - UTILIZAÇÃO DE 150 CICLOS - FORNECIMENTO, 01 IMPLANTAÇÃO E 01 RETIRADA DIÁRIA | G24: =ORÇAMENTO!E100 -> UN.DIA | H24: =ORÇAMENTO!F100 -> 837 | I24: =ORÇAMENTO!G100 -> 1.25 | J24: =ORÇAMENTO!H100 -> 0.2122 | ... L24: =ORÇAMENTO!J100 -> 1272.24 | N24: =IF(F24=F23,IF(G24=G23,"OK!","ERRADO"),"DIFERENTE") -> DIFERENTE | O24: =IF(F24=F23,IF(I24=I23,"OK!","ERRADO"),"DIFERENTE") -> DIFERENTE | P24: =IF(F24=F23,IF(D24=D23,"OK!","ERRADO"),"DIFERENTE") -> DIFERENTE
B25: =IF(EXACT(F24,F25),B24,B24+1) -> 10 | C25: =ORÇAMENTO!A302 -> 5.1.1.1.11 | D25: =ORÇAMENTO!B302 -> 5213836 | E25: =ORÇAMENTO!C302 -> SICRO3 | F25: =ORÇAMENTO!D302 -> BALIZADOR CÔNICO REFLETIVO EM POLIETILENO SEMIFLEXÍVEL DE 114 X 11 X 40 CM - UTILIZAÇÃO DE 150 CICLOS - FORNECIMENTO, 01 IMPLANTAÇÃO E 01 RETIRADA DIÁRIA | G25: =ORÇAMENTO!E302 -> UN.DIA | H25: =ORÇAMENTO!F302 -> 3078 | I25: =ORÇAMENTO!G302 -> 1.25 | J25: =ORÇAMENTO!H302 -> 0.2122 | ... L25: =ORÇAMENTO!J302 -> 4678.56 | N25: =IF(F25=F24,IF(G25=G24,"OK!","ERRADO"),"DIFERENTE") -> OK! | O25: =IF(F25=F24,IF(I25=I24,"OK!","ERRADO"),"DIFERENTE") -> OK! | P25: =IF(F25=F24,IF(D25=D24,"OK!","ERRADO"),"DIFERENTE") -> OK!
B26: =IF(EXACT(F25,F26),B25,B25+1) -> 11 | C26: =ORÇAMENTO!A98 -> 4.1.1.1.9 | D26: =ORÇAMENTO!B98 -> 5213346 | E26: =ORÇAMENTO!C98 -> SICRO3 | F26: =ORÇAMENTO!D98 -> BARREIRA DE SINALIZAÇÃO TIPO III DE DIRECIONAMENTO OU BLOQUEIO - UTILIZAÇÃO DE 150 CICLOS - FORNECIMENTO, 01 IMPLANTAÇÃO E 01 RETIRADA DIÁRIA | G26: =ORÇAMENTO!E98 -> UN.DIA | H26: =ORÇAMENTO!F98 -> 167 | I26: =ORÇAMENTO!G98 -> 8.06 | J26: =ORÇAMENTO!H98 -> 0.2122 | ... L26: =ORÇAMENTO!J98 -> 1631.59 | N26: =IF(F26=F25,IF(G26=G25,"OK!","ERRADO"),"DIFERENTE") -> DIFERENTE | O26: =IF(F26=F25,IF(I26=I25,"OK!","ERRADO"),"DIFERENTE") -> DIFERENTE | P26: =IF(F26=F25,IF(D26=D25,"OK!","ERRADO"),"DIFERENTE") -> DIFERENTE
B27: =IF(EXACT(F26,F27),B26,B26+1) -> 11 | C27: =ORÇAMENTO!A300 -> 5.1.1.1.9 | D27: =ORÇAMENTO!B300 -> 5213346 | E27: =ORÇAMENTO!C300 -> SICRO3 | F27: =ORÇAMENTO!D300 -> BARREIRA DE SINALIZAÇÃO TIPO III DE DIRECIONAMENTO OU BLOQUEIO - UTILIZAÇÃO DE 150 CICLOS - FORNECIMENTO, 01 IMPLANTAÇÃO E 01 RETIRADA DIÁRIA | G27: =ORÇAMENTO!E300 -> UN.DIA | H27: =ORÇAMENTO!F300 -> 616 | I27: =ORÇAMENTO!G300 -> 8.06 | J27: =ORÇAMENTO!H300 -> 0.2122 | ... L27: =ORÇAMENTO!J300 -> 6018.32 | N27: =IF(F27=F26,IF(G27=G26,"OK!","ERRADO"),"DIFERENTE") -> OK! | O27: =IF(F27=F26,IF(I27=I26,"OK!","ERRADO"),"DIFERENTE") -> OK! | P27: =IF(F27=F26,IF(D27=D26,"OK!","ERRADO"),"DIFERENTE") -> OK!
B28: =IF(EXACT(F27,F28),B27,B27+1) -> 12 | C28: =ORÇAMENTO!A170 -> 4.1.2.4.4 | D28: =ORÇAMENTO!B170 -> 4011276 | E28: =ORÇAMENTO!C170 -> SICRO3 | F28: =ORÇAMENTO!D170 -> BASE OU SUB-BASE DE BRITA GRADUADA COM BRITA COMERCIAL | G28: =ORÇAMENTO!E170 -> M³ | H28: =ORÇAMENTO!F170 -> 233.74669 | I28: =ORÇAMENTO!G170 -> 208.42 | J28: =ORÇAMENTO!H170 -> 0.2122 | ... L28: =ORÇAMENTO!J170 -> 59056.1 | N28: =IF(F28=F27,IF(G28=G27,"OK!","ERRADO"),"DIFERENTE") -> DIFERENTE | O28: =IF(F28=F27,IF(I28=I27,"OK!","ERRADO"),"DIFERENTE") -> DIFERENTE | P28: =IF(F28=F27,IF(D28=D27,"OK!","ERRADO"),"DIFERENTE") -> DIFERENTE
B29: =IF(EXACT(F28,F29),B28,B28+1) -> 12 | C29: =ORÇAMENTO!A230 -> 4.1.2.6.32 | D29: =ORÇAMENTO!B230 -> 4011276 | E29: =ORÇAMENTO!C230 -> SICRO3 | F29: =ORÇAMENTO!D230 -> BASE OU SUB-BASE DE BRITA GRADUADA COM BRITA COMERCIAL | G29: =ORÇAMENTO!E230 -> M³ | H29: =ORÇAMENTO!F230 -> 64.79 | I29: =ORÇAMENTO!G230 -> 208.42 | J29: =ORÇAMENTO!H230 -> 0.2122 | ... L29: =ORÇAMENTO!J230 -> 16369.19 | N29: =IF(F29=F28,IF(G29=G28,"OK!","ERRADO"),"DIFERENTE") -> OK! | O29: =IF(F29=F28,IF(I29=I28,"OK!","ERRADO"),"DIFERENTE") -> OK! | P29: =IF(F29=F28,IF(D29=D28,"OK!","ERRADO"),"DIFERENTE") -> OK!
B30: =IF(EXACT(F29,F30),B29,B29+1) -> 12 | C30: =ORÇAMENTO!A275 -> 4.3.9 | D30: =ORÇAMENTO!B275 -> 4011276 | E30: =ORÇAMENTO!C275 -> SICRO3 | F30: =ORÇAMENTO!D275 -> BASE OU SUB-BASE DE BRITA GRADUADA COM BRITA COMERCIAL | G30: =ORÇAMENTO!E275 -> M³ | H30: =ORÇAMENTO!F275 -> 15.377735 | I30: =ORÇAMENTO!G275 -> 208.42 | J30: =ORÇAMENTO!H275 -> 0.2122 | ... L30: =ORÇAMENTO!J275 -> 3885.18 | N30: =IF(F30=F29,IF(G30=G29,"OK!","ERRADO"),"DIFERENTE") -> OK! | O30: =IF(F30=F29,IF(I30=I29,"OK!","ERRADO"),"DIFERENTE") -> OK! | P30: =IF(F30=F29,IF(D30=D29,"OK!","ERRADO"),"DIFERENTE") -> OK!
B31: =IF(EXACT(F30,F31),B30,B30+1) -> 12 | C31: =ORÇAMENTO!A369 -> 5.1.2.4.4 | D31: =ORÇAMENTO!B369 -> 4011276 | E31: =ORÇAMENTO!C369 -> SICRO3 | F31: =ORÇAMENTO!D369 -> BASE OU SUB-BASE DE BRITA GRADUADA COM BRITA COMERCIAL | G31: =ORÇAMENTO!E369 -> M³ | H31: =ORÇAMENTO!F369 -> 376.5192 | I31: =ORÇAMENTO!G369 -> 208.42 | J31: =ORÇAMENTO!H369 -> 0.2122 | ... L31: =ORÇAMENTO!J369 -> 95127.57 | N31: =IF(F31=F30,IF(G31=G30,"OK!","ERRADO"),"DIFERENTE") -> OK! | O31: =IF(F31=F30,IF(I31=I30,"OK!","ERRADO"),"DIFERENTE") -> OK! | P31: =IF(F31=F30,IF(D31=D30,"OK!","ERRADO"),"DIFERENTE") -> OK!
B32: =IF(EXACT(F31,F32),B31,B31+1) -> 12 | C32: =ORÇAMENTO!A440 -> 5.1.2.7.32 | D32: =ORÇAMENTO!B440 -> 4011276 | E32: =ORÇAMENTO!C440 -> SICRO3 | F32: =ORÇAMENTO!D440 -> BASE OU SUB-BASE DE BRITA GRADUADA COM BRITA COMERCIAL | G32: =ORÇAMENTO!E440 -> M³ | H32: =ORÇAMENTO!F440 -> 124.67 | I32: =ORÇAMENTO!G440 -> 208.42 | J32: =ORÇAMENTO!H440 -> 0.2122 | ... L32: =ORÇAMENTO!J440 -> 31497.87 | N32: =IF(F32=F31,IF(G32=G31,"OK!","ERRADO"),"DIFERENTE") -> OK! | O32: =IF(F32=F31,IF(I32=I31,"OK!","ERRADO"),"DIFERENTE") -> OK! | P32: =IF(F32=F31,IF(D32=D31,"OK!","ERRADO"),"DIFERENTE") -> OK!
B33: =IF(EXACT(F32,F33),B32,B32+1) -> 12 | C33: =ORÇAMENTO!A512 -> 5.4.4.4 | D33: =ORÇAMENTO!B512 -> 4011276 | E33: =ORÇAMENTO!C512 -> SICRO3 | F33: =ORÇAMENTO!D512 -> BASE OU SUB-BASE DE BRITA GRADUADA COM BRITA COMERCIAL | G33: =ORÇAMENTO!E512 -> M³ | H33: =ORÇAMENTO!F512 -> 1382.69 | I33: =ORÇAMENTO!G512 -> 208.42 | J33: =ORÇAMENTO!H512 -> 0.2122 | ... L33: =ORÇAMENTO!J512 -> 349336.62 | N33: =IF(F33=F32,IF(G33=G32,"OK!","ERRADO"),"DIFERENTE") -> OK! | O33: =IF(F33=F32,IF(I33=I32,"OK!","ERRADO"),"DIFERENTE") -> OK! | P33: =IF(F33=F32,IF(D33=D32,"OK!","ERRADO"),"DIFERENTE") -> OK!
B34: =IF(EXACT(F33,F34),B33,B33+1) -> 12 | C34: =ORÇAMENTO!A537 -> 5.5.10 | D34: =ORÇAMENTO!B537 -> 4011276 | E34: =ORÇAMENTO!C537 -> SICRO3 | F34: =ORÇAMENTO!D537 -> BASE OU SUB-BASE DE BRITA GRADUADA COM BRITA COMERCIAL | G34: =ORÇAMENTO!E537 -> M³ | H34: =ORÇAMENTO!F537 -> 25.595056 | I34: =ORÇAMENTO!G537 -> 208.42 | J34: =ORÇAMENTO!H537 -> 0.2122 | ... L34: =ORÇAMENTO!J537 -> 6466.59 | N34: =IF(F34=F33,IF(G34=G33,"OK!","ERRADO"),"DIFERENTE") -> OK! | O34: =IF(F34=F33,IF(I34=I33,"OK!","ERRADO"),"DIFERENTE") -> OK! | P34: =IF(F34=F33,IF(D34=D33,"OK!","ERRADO"),"DIFERENTE") -> OK!
B35: =IF(EXACT(F34,F35),B34,B34+1) -> 13 | C35: =ORÇAMENTO!A264 -> 4.2.2.1 | D35: =ORÇAMENTO!B264 -> 25.14.01 | E35: =ORÇAMENTO!C264 -> EMBASA | F35: =ORÇAMENTO!D264 -> BOMBEAMENTO DE POCO DE VISITA | G35: =ORÇAMENTO!E264 -> UN | H35: =ORÇAMENTO!F264 -> 54 | I35: =ORÇAMENTO!G264 -> 165.13 | J35: =ORÇAMENTO!H264 -> 0.2122 | ... L35: =ORÇAMENTO!J264 -> 10809.18 | N35: =IF(F35=F34,IF(G35=G34,"OK!","ERRADO"),"DIFERENTE") -> DIFERENTE | O35: =IF(F35=F34,IF(I35=I34,"OK!","ERRADO"),"DIFERENTE") -> DIFERENTE | P35: =IF(F35=F34,IF(D35=D34,"OK!","ERRADO"),"DIFERENTE") -> DIFERENTE
B36: =IF(EXACT(F35,F36),B35,B35+1) -> 13 | C36: =ORÇAMENTO!A492 -> 5.3.2.1 | D36: =ORÇAMENTO!B492 -> 25.14.01 | E36: =ORÇAMENTO!C492 -> EMBASA | F36: =ORÇAMENTO!D492 -> BOMBEAMENTO DE POCO DE VISITA | G36: =ORÇAMENTO!E492 -> UN | H36: =ORÇAMENTO!F492 -> 75 | I36: =ORÇAMENTO!G492 -> 165.13 | J36: =ORÇAMENTO!H492 -> 0.2122 | ... L36: =ORÇAMENTO!J492 -> 15012.75 | N36: =IF(F36=F35,IF(G36=G35,"OK!","ERRADO"),"DIFERENTE") -> OK! | O36: =IF(F36=F35,IF(I36=I35,"OK!","ERRADO"),"DIFERENTE") -> OK! | P36: =IF(F36=F35,IF(D36=D35,"OK!","ERRADO"),"DIFERENTE") -> OK!
B37: =IF(EXACT(F36,F37),B36,B36+1) -> 14 | C37: =ORÇAMENTO!A407 -> 5.1.2.6.1 | D37: =ORÇAMENTO!B407 -> 0605507-M | E37: =ORÇAMENTO!C407 -> PRÓPRIO | F37: =ORÇAMENTO!D407 -> BUEIRO METÁLICO SEM INTERRUPÇÃO DE TRÁFEGO COM D = 1,80 M - CHAPA GALVANIZADA - ESCAVADO EM MATERIAL DE 1ª CATEGORIA - ATERRO RODOVIÁRIO MÁXIMO = 6 M, COM REVESTIMENTO INTERNO DE 360º COM COCNRETO, ESP. 10 CM - DIÂMETRO ACABADO = 1,60 M. | G37: =ORÇAMENTO!E407 -> M | H37: =ORÇAMENTO!F407 -> 20.79 | I37: =ORÇAMENTO!G407 -> 11292.61 | J37: =ORÇAMENTO!H407 -> 0.2122 | ... L37: =ORÇAMENTO!J407 -> 284592.23 | N37: =IF(F37=F36,IF(G37=G36,"OK!","ERRADO"),"DIFERENTE") -> DIFERENTE | O37: =IF(F37=F36,IF(I37=I36,"OK!","ERRADO"),"DIFERENTE") -> DIFERENTE | P37: =IF(F37=F36,IF(D37=D36,"OK!","ERRADO"),"DIFERENTE") -> DIFERENTE
B38: =IF(EXACT(F37,F38),B37,B37+1) -> 15 | C38: =ORÇAMENTO!A175 -> 4.1.2.4.9 | D38: =ORÇAMENTO!B175 -> M0344 | E38: =ORÇAMENTO!C175 -> SICRO3 | F38: =ORÇAMENTO!D175 -> CAL HIDRATADA - A GRANEL | G38: =ORÇAMENTO!E175 -> KG | H38: =ORÇAMENTO!F175 -> 30656.566 | I38: =ORÇAMENTO!G175 -> 0.54 | J38: =ORÇAMENTO!H175 -> 0.111 | ... L38: =ORÇAMENTO!J175 -> 18393.93 | N38: =IF(F38=F37,IF(G38=G37,"OK!","ERRADO"),"DIFERENTE") -> DIFERENTE | O38: =IF(F38=F37,IF(I38=I37,"OK!","ERRADO"),"DIFERENTE") -> DIFERENTE | P38: =IF(F38=F37,IF(D38=D37,"OK!","ERRADO"),"DIFERENTE") -> DIFERENTE
B39: =IF(EXACT(F38,F39),B38,B38+1) -> 15 | C39: =ORÇAMENTO!A231 -> 4.1.2.6.33 | D39: =ORÇAMENTO!B231 -> M0344 | E39: =ORÇAMENTO!C231 -> SICRO3 | F39: =ORÇAMENTO!D231 -> CAL HIDRATADA - A GRANEL | G39: =ORÇAMENTO!E231 -> KG | H39: =ORÇAMENTO!F231 -> 11060.35 | I39: =ORÇAMENTO!G231 -> 0.54 | J39: =ORÇAMENTO!H231 -> 0.111 | ... L39: =ORÇAMENTO!J231 -> 6636.21 | N39: =IF(F39=F38,IF(G39=G38,"OK!","ERRADO"),"DIFERENTE") -> OK! | O39: =IF(F39=F38,IF(I39=I38,"OK!","ERRADO"),"DIFERENTE") -> OK! | P39: =IF(F39=F38,IF(D39=D38,"OK!","ERRADO"),"DIFERENTE") -> OK!
B40: =IF(EXACT(F39,F40),B39,B39+1) -> 15 | C40: =ORÇAMENTO!A287 -> 4.3.21 | D40: =ORÇAMENTO!B287 -> M0344 | E40: =ORÇAMENTO!C287 -> SICRO3 | F40: =ORÇAMENTO!D287 -> CAL HIDRATADA - A GRANEL | G40: =ORÇAMENTO!E287 -> KG | H40: =ORÇAMENTO!F287 -> 4.1194585 | I40: =ORÇAMENTO!G287 -> 0.54 | J40: =ORÇAMENTO!H287 -> 0.111 | ... L40: =ORÇAMENTO!J287 -> 2.47 | N40: =IF(F40=F39,IF(G40=G39,"OK!","ERRADO"),"DIFERENTE") -> OK! | O40: =IF(F40=F39,IF(I40=I39,"OK!","ERRADO"),"DIFERENTE") -> OK! | P40: =IF(F40=F39,IF(D40=D39,"OK!","ERRADO"),"DIFERENTE") -> OK!
...

Sheet ANEXO I - MEM. CÁLC
C1: =ORÇAMENTO!D2 -> REVISÃO E READEQUAÇÃO DOS PROJETOS EXECUTIVOS DE DRENAGEM NO SETOR HABITACIONAL MESTRE D'ARMAS, REGIÃO ADMINISTRATIVA DE PLANATINA - RA-PLAN, PELA SODF, NO DISTRITO FEDERAL - BLOCO 1 - LOTE 2 (ÁREA 5 E 6) CONTRATO: 21/2021- SODF - SEM DESONERAÇÃO
A2: MEMÓRIA DE CÁLCULO
A3: SERVIÇO: | C3: =ORÇAMENTO!D2 -> REVISÃO E READEQUAÇÃO DOS PROJETOS EXECUTIVOS DE DRENAGEM NO SETOR HABITACIONAL MESTRE D'ARMAS, REGIÃO ADMINISTRATIVA DE PLANATINA - RA-PLAN, PELA SODF, NO DISTRITO FEDERAL - BLOCO 1 - LOTE 2 (ÁREA 5 E 6) CONTRATO: 21/2021- SODF - SEM DESONERAÇÃO
A4: LOCALIDADE: | C4: BRASÍLIA-DF
A5: ITEM | B5: DISCRIMINAÇÃO | C5: UN.
A6: =ORÇAMENTO!A5 -> 1 | B6: =VLOOKUP(A6,ORÇAMENTO!A:K,4,0) -> ADMINISTRAÇÃO | D6: DURAÇÃO DA OBRA (MÊS): | E6: =COUNTA(CRONOGRAMA!D4:L4) -> 9
A7: =ORÇAMENTO!A6 -> 1.1 | B7: =VLOOKUP(A7,ORÇAMENTO!A:K,4,0) -> EQUIPE TÉCNICA GERENCIAL
A8: =ORÇAMENTO!A7 -> 1.1.1 | B8: =VLOOKUP(A8,ORÇAMENTO!A:K,4,0) -> MÃO DE OBRA EQUIPE TÉCNICA GERENCIAL
A9: =ORÇAMENTO!A8 -> 1.1.1.1 | B9: =VLOOKUP(A9,ORÇAMENTO!A:K,4,0) -> ENGENHEIRO CIVIL DE OBRA SENIOR COM ENCARGOS COMPLEMENTARES | C9: =VLOOKUP(A9,ORÇAMENTO!A:K,5,0) -> MES | D9: =SUM(E12:O12) -> 3 | E9: COMP. (M) | F9: LARG. (M) | G9: ALTURA (M) | H9: ESPES. (M) | I9: PERÍM. (M) | J9: DIÂM. (M) | K9: PESO (KG) | L9: % | M9: QUANT. | N9: ÁREA (M²) | O9: VOLUME (M³)
B10: Permanência 1 Profissional 1/3 PERIODO | M10: =E6/3 -> 3
B12: TOTAL | M12: =SUM(M10:M11) -> 3
A13: =ORÇAMENTO!A9 -> 1.1.1.2 | B13: =VLOOKUP(A13,ORÇAMENTO!A:K,4,0) -> ENGENHEIRO CIVIL DE OBRA PLENO COM ENCARGOS COMPLEMENTARES | C13: =VLOOKUP(A13,ORÇAMENTO!A:K,5,0) -> MES | D13: =SUM(E16:O16) -> 9 | E13: COMP. (M) | F13: LARG. (M) | G13: ALTURA (M) | H13: ESPES. (M) | I13: PERÍM. (M) | J13: DIÂM. (M) | K13: PESO (KG) | L13: % | M13: QUANT. | N13: ÁREA (M²) | O13: VOLUME (M³)
B14: Permanência 1 Profissional periodo integral | M14: =E6 -> 9
B16: TOTAL | M16: =SUM(M14:M15) -> 9
A17: =ORÇAMENTO!A10 -> 1.1.1.3 | B17: =VLOOKUP(A17,ORÇAMENTO!A:K,4,0) -> TECNICO DE EDIFICACOES COM ENCARGOS COMPLEMENTARES | C17: =VLOOKUP(A17,ORÇAMENTO!A:K,5,0) -> MES | D17: =SUM(E20:O20) -> 9 | E17: COMP. (M) | F17: LARG. (M) | G17: ALTURA (M) | H17: ESPES. (M) | I17: PERÍM. (M) | J17: DIÂM. (M) | K17: PESO (KG) | L17: % | M17: QUANT. | N17: ÁREA (M²) | O17: VOLUME (M³)
B18: Permanência 1 Profissional periodo integral | M18: =M14 -> 9
B20: TOTAL | M20: =SUM(M18:M19) -> 9
A21: =ORÇAMENTO!A11 -> 1.1.1.4 | B21: =VLOOKUP(A21,ORÇAMENTO!A:K,4,0) -> TÉCNICO DE MEIO AMBIENTE COM ENCARGOS COMPLEMENTARES E ENCARGOS SOCIAIS E.S 70,04% | C21: =VLOOKUP(A21,ORÇAMENTO!A:K,5,0) -> MÊS | D21: =SUM(E24:O24) -> 4.5 | E21: COMP. (M) | F21: LARG. (M) | G21: ALTURA (M) | H21: ESPES. (M) | I21: PERÍM. (M) | J21: DIÂM. (M) | K21: PESO (KG) | L21: % | M21: QUANT. | N21: ÁREA (M²) | O21: VOLUME (M³)
B22: Permanência 1 Profissional Meio Periodo | M22: =M18/2 -> 4.5
B24: TOTAL | M24: =SUM(M22:M23) -> 4.5
A25: =ORÇAMENTO!A12 -> 1.1.2 | B25: =VLOOKUP(A25,ORÇAMENTO!A:K,4,0) -> VEICULOS EQUIPE TÉCNICA
A26: =ORÇAMENTO!A13 -> 1.1.2.1 | B26: =VLOOKUP(A26,ORÇAMENTO!A:K,4,0) -> VEICULO LEVE - 53 KW (SEM MOTORISTA) | C26: =VLOOKUP(A26,ORÇAMENTO!A:K,5,0) -> MÊS | D26: =SUM(E29:O29) -> 9 | E26: COMP. (M) | F26: LARG. (M) | G26: ALTURA (M) | H26: ESPES. (M) | I26: PERÍM. (M) | J26: DIÂM. (M) | K26: PESO (KG) | L26: % | M26: QUANT. | N26: ÁREA (M²) | O26: VOLUME (M³)
B27: PERÍODO INTEGRAL | M27: =M18 -> 9
B29: TOTAL | M29: =SUM(M27:M28) -> 9
A30: =ORÇAMENTO!A14 -> 1.2 | B30: =VLOOKUP(A30,ORÇAMENTO!A:K,4,0) -> EQUIPE GERENCIAL ADMINISTRATIVA
A31: =ORÇAMENTO!A15 -> 1.2.1 | B31: =VLOOKUP(A31,ORÇAMENTO!A:K,4,0) -> AUXILIAR DE ESCRITORIO COM ENCARGOS COMPLEMENTARES | C31: =VLOOKUP(A31,ORÇAMENTO!A:K,5,0) -> MES | D31: =SUM(E34:O34) -> 9 | E31: COMP. (M) | F31: LARG. (M) | G31: ALTURA (M) | H31: ESPES. (M) | I31: PERÍM. (M) | J31: DIÂM. (M) | K31: PESO (KG) | L31: % | M31: QUANT. | N31: ÁREA (M²) | O31: VOLUME (M³)
B32: Consideramos 1 profissionais | M32: =M27 -> 9
B34: TOTAL | M34: =SUM(M32:M33) -> 9
A35: =ORÇAMENTO!A16 -> 1.2.2 | B35: =VLOOKUP(A35,ORÇAMENTO!A:K,4,0) -> VIGIA NOTURNO COM ENCARGOS COMPLEMENTARES (MENSALISTA) COM ADICIONAL DE PERICULOSIDADE | C35: =VLOOKUP(A35,ORÇAMENTO!A:K,5,0) -> MÊS | D35: =SUM(E38:O38) -> 18 | E35: COMP. (M) | F35: LARG. (M) | G35: ALTURA (M) | H35: ESPES. (M) | I35: PERÍM. (M) | J35: DIÂM. (M) | K35: PESO (KG) | L35: % | M35: QUANT. | N35: ÁREA (M²) | O35: VOLUME (M³)
B36: Permanência 2 Profissionais por Periodo | M36: =M32*2 -> 18
B38: TOTAL | M38: =SUM(M36:M37) -> 18
A39: =ORÇAMENTO!A17 -> 1.2.3 | B39: =VLOOKUP(A39,ORÇAMENTO!A:K,4,0) -> VIGIA DIURNO COM ENCARGOS COMPLEMENTARES | C39: =VLOOKUP(A39,ORÇAMENTO!A:K,5,0) -> MES | D39: =SUM(E42:O42) -> 9 | E39: COMP. (M) | F39: LARG. (M) | G39: ALTURA (M) | H39: ESPES. (M) | I39: PERÍM. (M) | J39: DIÂM. (M) | K39: PESO (KG) | L39: % | M39: QUANT. | N39: ÁREA (M²) | O39: VOLUME (M³)
B40: Permanência 1 Profissional periodo integral | M40: =M32 -> 9
B42: TOTAL | M42: =SUM(M40:M41) -> 9
A43: =ORÇAMENTO!A18 -> 1.3 | B43: =VLOOKUP(A43,ORÇAMENTO!A:K,4,0) -> EQUIPE DE PRODUÇÃO
A44: =ORÇAMENTO!A19 -> 1.3.1 | B44: =VLOOKUP(A44,ORÇAMENTO!A:K,4,0) -> ENCARREGADO GERAL DE OBRAS COM ENCARGOS COMPLEMENTARES | C44: =VLOOKUP(A44,ORÇAMENTO!A:K,5,0) -> MES | D44: =SUM(E47:O47) -> 18 | E44: COMP. (M) | F44: LARG. (M) | G44: ALTURA (M) | H44: ESPES. (M) | I44: PERÍM. (M) | J44: DIÂM. (M) | K44: PESO (KG) | L44: % | M44: QUANT. | N44: ÁREA (M²) | O44: VOLUME (M³)
B45: Permanência 2 Profissional Periodo Integral - 1 p/a cada frente de trabalho | M45: =M40*2 -> 18
B47: TOTAL | M47: =SUM(M45:M46) -> 18
A48: =ORÇAMENTO!A20 -> 1.3.2 | B48: =VLOOKUP(A48,ORÇAMENTO!A:K,4,0) -> APONTADOR OU APROPRIADOR COM ENCARGOS COMPLEMENTARES | C48: =VLOOKUP(A48,ORÇAMENTO!A:K,5,0) -> MES | D48: =SUM(E51:O51) -> 9 | E48: COMP. (M) | F48: LARG. (M) | G48: ALTURA (M) | H48: ESPES. (M) | I48: PERÍM. (M) | J48: DIÂM. (M) | K48: PESO (KG) | L48: % | M48: QUANT. | N48: ÁREA (M²) | O48: VOLUME (M³)
B49: Consideramos 1 profissional | M49: =M40 -> 9
...

Sheet ANEXO II - MOVIMENTAÇÃO DE SOLO
A2: GOVERNO DO DISTRITO FEDERAL Secretaria de Estado de Obras e Infraestrutura do Distrito Federal - SODF
A3: REVISÃO E READEQUAÇÃO DOS PROJETOS EXECUTIVOS DE DRENAGEM NO SETOR HABITACIONAL MESTRE D'ARMAS, REGIÃO ADMINISTRATIVA DE PLANATINA - RA VI, PELA SODF, NO DISTRITO FEDERAL
A4: SODF / BRASÍLIA-DF | I4: 45352
A6: ANEXO II - MOVIMENTAÇÃO DE SOLO
A8: ÁREA 5
A9: LOCAL | B9: MOVIMENTO DE SOLO | H9: BOTA FORA
B10: 1 CAT | C10: SOLO MOLE | D10: ROCHA | E10: REAPROVEITAMENTO | F10: EMPRESTIMO | G10: SOLO REMANESCENTE P/ REAPROVEITAMENTO | H10: BOTA FORA ATERRO SAMAMBAIA | I10: BOTA FORA ATERRO ESTRUTURAL
A11: REDE ÁREA 5 | B11: 4986.8221 | C11: 137.75799 | D11: 1.96 | E11: 4243.5894 | F11: 0 | G11: 743.23273 | H11: 1.96 | I11: 766.77458
A12: LIGAÇÕES PV-BL | B12: 813.06435 | C12: 239.98231 | D12: 0 | E12: 813.06435 | F12: 99.318382 | G12: 0 | H12: 0 | I12: 239.98231
A13: BOCA DE LOBO | B13: 666.31975 | C13: 179.56741 | D13: 7.26376 | E13: 484.60982 | F13: 0 | G13: 181.70993 | H13: 7.26376 | I13: 361.27734
A14: TOTAL | B14: 6466.2062 | C14: 557.30771 | D14: 9.22376 | E14: 5541.2635 | F14: 99.318382 | G14: 825.62427 | H14: 9.22376 | I14: 1368.0342
A15: SALDO | G15: 711.40813
A16: OBS: UTLIZADO VOLUME DA REDE PARA EMPRESTIMO DAS LIGAÇÕES PV-BL , CONSIDERANDO FHV DE 1,15M³
A18: ÁREA 6
A19: LOCAL | B19: MOVIMENTO DE SOLO | H19: BOTA FORA
B20: 1 CAT | C20: SOLO MOLE | D20: ROCHA | E20: REAPROVEITAMENTO | F20: EMPRESTIMO | G20: SOLO REMANESCENTE P/ REAPROVEITAMENTO | H20: BOTA FORA ATERRO SAMAMBAIA | I20: BOTA FORA ATERRO ESTRUTURAL
A21: REDE ÁREA 6 | B21: 12649.152 | C21: 387.5776 | D21: 663.17471 | E21: 12312.126 | F21: 0 | G21: 337.02545 | H21: 663.17471 | I21: 724.60305
A22: LIGAÇÕES PV-BL | B22: 1153.1586 | C22: 932.66026 | D22: 12.931116 | E22: 1153.1586 | F22: 674.9225 | G22: 0 | H22: 12.931116 | I22: 932.66026
A23: BOCA DE LOBO | B23: 1193.1576 | C23: 778.85685 | D23: 27.016989 | E23: 1090.8877 | F23: 0 | G23: 102.26992 | H23: 27.016989 | I23: 881.12677
A24: VIA 9 | B24: 3647.3 | C24: 0 | D24: 0 | E24: 43.66 | F24: 0 | G24: 3603.64 | H24: 0 | I24: 2827.4791
A25: VIA 11 | B25: 3581.46 | C25: 0 | D25: 0 | E25: 24.77 | F25: 0 | G25: 3556.69 | H25: 0 | I25: 3556.69
A26: TOTAL | B26: 22224.228 | C26: 2099.0947 | D26: 703.12282 | E26: 14624.603 | F26: 674.9225 | G26: 6924.7029 | H26: 703.12282 | I26: 8922.5592
A27: SALDO | G27: 6148.542
A28: OBS: UTLIZADO VOLUME DA VIA 9 PARA EMPRESTIMO DA REDE E DAS LIGAÇÕES, CONSIDERANDO FHV DE 1,15M³

Sheet Quantitativos
A3: ÁREA 5 | V3: ESCAVAÇÃO | BO3: TUBO | CV3: CAIXA DE PASSAGEM | DB3: PV´s | DG3: ESCORAMENTO
