Workbook
Name NCOMPOSICOES: 21
Name NCOTACOES: 15
Name NEMPRESAS: 15
Name NINDICES: 3
Name QuadroResumoTotal: "Grupo 326"
Name QuadroTotaisGamaProduto: "Grupo 350"
Name TotaisGamaProduto: "Grupo 350"

Sheet RESUMO
B1: Obra | C1: Bancos | E1: B.D.I. | G1: Encargos Sociais
B2: REVISÃO E READEQUAÇÃO DOS PROJETOS EXECUTIVOS DE DRENAGEM NO SETOR HABITACIONAL MESTRE D'ARMAS, REGIÃO ADMINISTRATIVA DE PLANATINA - RA-PLAN, PELA SODF, NO DISTRITO FEDERAL - BLOCO 1 - LOTE 1 (ÁREA 1, 2, 3 E 4) CONTRATO: 21/2021- SODF - SEM DESONERAÇÃO | C2: SINAPI - 12/2024 - Distrito Federal SBC - 01/2025 - Distrito Federal SICRO3 - 10/2024 - Distrito Federal ORSE - 11/2024 - Sergipe SEINFRA - 028 - Ceará SIURB INFRA - 07/2024 - São Paulo AGESUL - 06/2024 - Mato Grosso do Sul EMBASA - 05/2024 - Bahia COMPESA - 07/2024 - Pernambuco EMOP - 12/2024 - Rio de Janeiro | E2: Padrão - 21,22% Material - 11,10% | G2: Sem Desoneração: Horista: 110,14% Mensalista: 70,04%
A3: PLANILHA ORÇAMENTÁRIA RESUMIDA
A4: ITEM | B4: DESCRIÇÃO | G4: TOTAL | I4: (%)
A5: ESTUDOS PRELIMINARES
A6: - | B6: ELABORAÇÃO PCA E PGRS | G6: 47434.53 | I6: 0.0016741453
A7: OBRAS
A8: 1 | B8: ADMINISTRAÇÃO | G8: 1905414.5 | I8: 0.067249341
A9: 2 | B9: MOBILIZAÇÃO E DESMOBILIZAÇÃO | G9: 36999.16 | I9: 0.0013058414
A10: 3 | B10: CANTEIRO DE OBRAS | G10: 268402.72 | I10: 0.0094729549
A11: 4 | B11: REDE DE DRENAGEM ÁREA 1 - 0,94 KM | G11: 4665326.6 | I11: 0.16465716
A12: 5 | B12: REDE DE DRENAGEM ÁREA 2 - 1,89 KM | G12: 4893242.7 | I12: 0.17270118
A13: 6 | B13: REDE DE DRENAGEM ÁREA 3 - 0,64 KM | G13: 2204000.6 | I13: 0.077787582
A14: 7 | B14: REDE DE DRENAGEM ÁREA 4 - 1,85 KM | G14: 8416180.5 | I14: 0.29703909
A15: 8 | B15: BACIA DE DETENÇÃO - ÁREA 4 | G15: 5896577.9 | I15: 0.20811271
E17: Total sem BDI | G17: 23684307
E18: Total do BDI | G18: 4649272.3 | J18: 26428165
E19: Total Geral | G19: 28333579 | J19: 0.072097876

Sheet ORÇAMENTO
D1: Obra | E1: Bancos | H1: B.D.I. | J1: Encargos Sociais
D2: REVISÃO E READEQUAÇÃO DOS PROJETOS EXECUTIVOS DE DRENAGEM NO SETOR HABITACIONAL MESTRE D'ARMAS, REGIÃO ADMINISTRATIVA DE PLANATINA - RA-PLAN, PELA SODF, NO DISTRITO FEDERAL - BLOCO 1 - LOTE 1 (ÁREA 1, 2, 3 E 4) CONTRATO: 21/2021- SODF - SEM DESONERAÇÃO | E2: SINAPI - 12/2024 - Distrito Federal SBC - 01/2025 - Distrito Federal SICRO3 - 10/2024 - Distrito Federal ORSE - 11/2024 - Sergipe SEINFRA - 028 - Ceará SIURB INFRA - 07/2024 - São Paulo AGESUL - 06/2024 - Mato Grosso do Sul EMBASA - 05/2024 - Bahia COMPESA - 07/2024 - Pernambuco EMOP - 12/2024 - Rio de Janeiro | H2: Padrão - 21,22% Material - 11,10% | J2: Sem Desoneração: Horista: 110,14% Mensalista: 70,04%
A3: Orçamento Sintético
A4: Item | B4: Código | C4: Banco | D4: Descrição | E4: Und | F4: Quant. | G4: Valor Unit | H4: BDI | I4: Valor Unit com BDI | J4: Total | K4: Peso (%)
A5: 1 | D5: ADMINISTRAÇÃO | J5: 1905414.5 | K5: 0.067362115
A6: 1.1 | D6: EQUIPE TÉCNICA GERENCIAL | J6: 670443.78 | K6: 0.023702197
A7: 1.1.1 | D7: MÃO DE OBRA EQUIPE TÉCNICA GERENCIAL | J7: 630765.42 | K7: 0.022299448
A8: 1.1.1.1 | B8: 93568 | C8: SINAPI | D8: ENGENHEIRO CIVIL DE OBRA SENIOR COM ENCARGOS COMPLEMENTARES | E8: MES | F8: 4 | G8: 34812.77 | H8: 0.2122 | I8: 42200.04 | J8: 168800.16 | K8: 0.0059675916
A9: 1.1.1.2 | B9: 93567 | C9: SINAPI | D9: ENGENHEIRO CIVIL DE OBRA PLENO COM ENCARGOS COMPLEMENTARES | E9: MES | F9: 12 | G9: 24859.48 | H9: 0.2122 | I9: 30134.66 | J9: 361615.92 | K9: 0.012784207
A10: 1.1.1.3 | B10: 100534 | C10: SINAPI | D10: TECNICO DE EDIFICACOES COM ENCARGOS COMPLEMENTARES | E10: MES | F10: 12 | G10: 3536.93 | H10: 0.2122 | I10: 4287.47 | J10: 51449.64 | K10: 0.001818899
A11: 1.1.1.4 | B11: COMP-TEC-020 | C11: PRÓPRIO | D11: TÉCNICO DE MEIO AMBIENTE COM ENCARGOS COMPLEMENTARES E ENCARGOS SOCIAIS E.S 70,04% | E11: MÊS | F11: 6 | G11: 6723.27 | H11: 0.2122 | I11: 8149.95 | J11: 48899.7 | K11: 0.001728751
A12: 1.1.2 | D12: VEICULOS EQUIPE TÉCNICA | J12: 39678.36 | K12: 0.001402749
A13: 1.1.2.1 | B13: E9093 MÊS | C13: PRÓPRIO | D13: VEICULO LEVE - 53 KW (SEM MOTORISTA) | E13: MÊS | F13: 12 | G13: 2727.71 | H13: 0.2122 | I13: 3306.53 | J13: 39678.36 | K13: 0.001402749
A14: 1.2 | D14: EQUIPE GERENCIAL ADMINISTRATIVA | J14: 299511.36 | K14: 0.010588624
A15: 1.2.1 | B15: 93566 | C15: SINAPI | D15: AUXILIAR DE ESCRITORIO COM ENCARGOS COMPLEMENTARES | E15: MES | F15: 12 | G15: 5032.17 | H15: 0.2122 | I15: 6100 | J15: 73200 | K15: 0.0025878394
A16: 1.2.2 | B16: VIGIA ADM | C16: PRÓPRIO | D16: VIGIA NOTURNO COM ENCARGOS COMPLEMENTARES (MENSALISTA) COM ADICIONAL DE PERICULOSIDADE | E16: MÊS | F16: 24 | G16: 5590.7 | H16: 0.2122 | I16: 6777.05 | J16: 162649.2 | K16: 0.0057501367
A17: 1.2.3 | B17: 101460 | C17: SINAPI | D17: VIGIA DIURNO COM ENCARGOS COMPLEMENTARES | E17: MES | F17: 12 | G17: 4376.49 | H17: 0.2122 | I17: 5305.18 | J17: 63662.16 | K17: 0.0022506482
A18: 1.3 | D18: EQUIPE DE PRODUÇÃO | J18: 365398.68 | K18: 0.012917939
A19: 1.3.1 | B19: 93572 | C19: SINAPI | D19: ENCARREGADO GERAL DE OBRAS COM ENCARGOS COMPLEMENTARES | E19: MES | F19: 24 | G19: 4472.02 | H19: 0.2122 | I19: 5420.98 | J19: 130103.52 | K19: 0.0045995494
A20: 1.3.2 | B20: 93564 | C20: SINAPI | D20: APONTADOR OU APROPRIADOR COM ENCARGOS COMPLEMENTARES | E20: MES | F20: 12 | G20: 6409.08 | H20: 0.2122 | I20: 7769.09 | J20: 93229.08 | K20: 0.0032959274
A21: 1.3.3 | B21: 93563 | C21: SINAPI | D21: ALMOXARIFE COM ENCARGOS COMPLEMENTARES | E21: MES | F21: 12 | G21: 6625.31 | H21: 0.2122 | I21: 8031.2 | J21: 96374.4 | K21: 0.0034071239
A22: 1.3.4 | B22: 100316 | C22: SINAPI | D22: AUXILIAR DE ALMOXARIFE COM ENCARGOS COMPLEMENTARES | E22: MES | F22: 12 | G22: 3141.1 | H22: 0.2122 | I22: 3807.64 | J22: 45691.68 | K22: 0.0016153378
A23: 1.4 | D23: EQUIPE DE TOPOGRAFIA | J23: 262387.44 | K23: 0.0092761824
A24: 1.4.1 | D24: MÃO DE OBRA EQUIPE DE TOPOGRAFIA | J24: 94354.68 | K24: 0.0033357207
A25: 1.4.1.1 | B25: 94296 | C25: SINAPI | D25: TOPOGRAFO COM ENCARGOS COMPLEMENTARES | E25: MES | F25: 12 | G25: 4319.69 | H25: 0.2122 | I25: 5236.33 | J25: 62835.96 | K25: 0.0022214395
A26: 1.4.1.2 | B26: 101389 | C26: SINAPI | D26: AUXILIAR DE TOPÓGRAFO COM ENCARGOS COMPLEMENTARES | E26: MES | F26: 12 | G26: 2166.77 | H26: 0.2122 | I26: 2626.56 | J26: 31518.72 | K26: 0.0011142812
A27: 1.4.2 | D27: VEICULOS EQUIPE TOPOGRAFIA | J27: 168032.76 | K27: 0.0059404617
A28: 1.4.2.1 | B28: E9125-MÊS | C28: PRÓPRIO | D28: VAN FURGÃO - 93KW | E28: MÊS | F28: 12 | G28: 11551.5 | H28: 0.2122 | I28: 14002.73 | J28: 168032.76 | K28: 0.0059404617
A29: 1.5 | D29: DETALHAMENTO PROJETO DRENAGEM | J29: 46758.67 | K29: 0.0016530591
A30: 1.5.1 | B30: 93568 | C30: SINAPI | D30: ENGENHEIRO CIVIL DE OBRA SENIOR COM ENCARGOS COMPLEMENTARES | E30: MES | F30: 1 | G30: 34812.77 | H30: 0.2122 | I30: 42200.04 | J30: 42200.04 | K30: 0.0014918979
A31: 1.5.2 | B31: 93559 | C31: SINAPI | D31: DESENHISTA DETALHISTA COM ENCARGOS COMPLEMENTARES | E31: MES | F31: 1 | G31: 3263.02 | H31: 0.2122 | I31: 3955.43 | J31: 3955.43 | K31: 0.00013983631
A32: 1.5.3 | B32: ART-DF | C32: PRÓPRIO | D32: RELATORIO E ART DOS SERVIÇOS | E32: UN | F32: 2 | G32: 271.47 | H32: 0.111 | I32: 301.6 | J32: 603.2 | K32: 2.1324928e-05
A33: 1.6 | D33: CONSUMOS MENSAIS ESTIMADOS | J33: 45574.32 | K33: 0.0016111888
A34: 1.6.1 | B34: CPU-01 | C34: PRÓPRIO | D34: CONSUMO MENSAL DE ENERGIA ELÉTRICA- ESTIMADO | E34: MÊS | F34: 10 | G34: 2096.44 | H34: 0.2122 | I34: 2541.3 | J34: 25413 | K34: 0.00089842572
A35: 1.6.2 | B35: CPU-02 | C35: PRÓPRIO | D35: CONSUMO MENSAL DE ÁGUA E ESGOTO - ESTIMADO | E35: MÊS | F35: 12 | G35: 1386 | H35: 0.2122 | I35: 1680.11 | J35: 20161.32 | K35: 0.00071276309
A36: 1.7 | D36: DIVERSOS EQUIPAMENTOS | J36: 176874.72 | K36: 0.0062530515
A37: 1.7.1 | B37: 6259 | C37: SINAPI | D37: CAMINHÃO PIPA 6.000 L, PESO BRUTO TOTAL 13.000 KG, DISTÂNCIA ENTRE EIXOS 4,80 M, POTÊNCIA 189 CV INCLUSIVE TANQUE DE AÇO PARA TRANSPORTE DE ÁGUA, CAPACIDADE 6 M3 - CHP DIURNO. AF_06/2014 | E37: CHP | F37: 528 | G37: 241.54 | H37: 0.2122 | I37: 292.79 | J37: 154593.12 | K37: 0.0054653301
A38: 1.7.2 | B38: 73417 | C38: SINAPI | D38: GRUPO GERADOR ESTACIONÁRIO, MOTOR DIESEL POTÊNCIA 170 KVA - CHP DIURNO. AF_02/2016 | E38: CHP | F38: 88 | G38: 174.49 | H38: 0.2122 | I38: 211.52 | J38: 18613.76 | K38: 0.00065805221
A39: 1.7.3 | B39: 93428 | C39: SINAPI | D39: GRUPO GERADOR ESTACIONÁRIO, POTÊNCIA 150 KVA, MOTOR A DIESEL- CHI DIURNO. AF_03/2016 | E39: CHI | F39: 352 | G39: 8.6 | H39: 0.2122 | I39: 10.42 | J39: 3667.84 | K39: 0.00012966914
A40: 1.8 | D40: RECUPERAÇÃO DA ÁREA DE CANTEIRO DE OBRAS - PRINCIPAL | J40: 38465.57 | K40: 0.0013598732
...

Sheet ORÇAMENTO AMBIENTAL
A1: GOVERNO DO DISTRITO FEDERAL
A2: SECRETARIA DE ESTADO DE OBRAS E INFRAESTRUTURA DO DISTRITO FEDERAL
A3: SUBSECRETARIA DE PROJETOS , ORÇAMENTO E PLANEJAMENTO DE OBRAS
A5: PROCESSO SEI Nº 00110-00000752/2024-72
A6: DADOS DA CONTRATAÇÃO
A7: CONTRATAÇÃO DE EMPRESA ESPECIALIZADA PARA A ELABORAÇÃO DE PLANO DE CONTROLE AMBIENTAL (PCA E PLANO DE GERENCIAMENTO DE RESÍDUOS SÓLIDOS (PGRS) - SETOR HABITACIONAL MESTRE D'ARMAS
A9: PRAZO ESTIMADO: 4 MESES
F11: Encargos Sociais Horista: | H11: 1.1069
F12: Encargos Sociais Mensalista: | H12: 0.704
F13: BDI (%): | H13: 0.2122
F14: BDI - DIF. (%): | H14: 0.1345
F15: BDI - CONSULTORIA (%): | H15: 0.3146
A16: ORÇAMENTO DETALHADO
A18: TABELA REFERÊNCIA: COTAÇÃO SET/2024
A19: SEM DESONERAÇÃO
A20: Item | B20: Fonte | C20: Código | D20: Descrição | E20: Unidade | F20: Quantidade | G20: Preço Unitário | H20: Preço Total S/ BDI | I20: Preço Total C/ BDI | J20: OBSERVAÇÕES
A21: 1 | B21: RENOVAÇÃO DE LICENÇA AMBIENTAL
A22: 1.1 | B22: COT01 | C22: COT-PCA/PGRS 01 | D22: ELABORAÇÃO PCA E PGRS | E22: HA | F22: 138.39 | G22: 260.73319 | H22: 36082.866 | I22: 47434.53 | J22: -
G23: ITEM | H23: 36082.866 | I23: 47434.53
A25: ORÇAMENTO PREÇO TOTAL COM BDI

Sheet Planilha1
A1: 97141 | B1: ASSENTAMENTO DE TUBO DE FERRO FUNDIDO PARA REDE DE ÁGUA, DN 80 MM, JUNTA ELÁSTICA, INSTALADO EM LOCAL COM NÍVEL ALTO DE INTERFERÊNCIAS (NÃO INCLUI FORNECIMENTO). AF_05/2024 | C1: M | D1: 4.86
A2: 97142 | B2: ASSENTAMENTO DE TUBO DE FERRO FUNDIDO PARA REDE DE ÁGUA, DN 100 MM, JUNTA ELÁSTICA, INSTALADO EM LOCAL COM NÍVEL ALTO DE INTERFERÊNCIAS (NÃO INCLUI FORNECIMENTO). AF_05/2024 | C2: M | D2: 5.64
A3: 97143 | B3: ASSENTAMENTO DE TUBO DE FERRO FUNDIDO PARA REDE DE ÁGUA, DN 150 MM, JUNTA ELÁSTICA, INSTALADO EM LOCAL COM NÍVEL ALTO DE INTERFERÊNCIAS (NÃO INCLUI FORNECIMENTO). AF_05/2024 | C3: M | D3: 7.55
A4: 97144 | B4: ASSENTAMENTO DE TUBO DE FERRO FUNDIDO PARA REDE DE ÁGUA, DN 200 MM, JUNTA ELÁSTICA, INSTALADO EM LOCAL COM NÍVEL ALTO DE INTERFERÊNCIAS (NÃO INCLUI FORNECIMENTO). AF_05/2024 | C4: M | D4: 9.46
A5: 97145 | B5: ASSENTAMENTO DE TUBO DE FERRO FUNDIDO PARA REDE DE ÁGUA, DN 250 MM, JUNTA ELÁSTICA, INSTALADO EM LOCAL COM NÍVEL ALTO DE INTERFERÊNCIAS (NÃO INCLUI FORNECIMENTO). AF_05/2024 | C5: M | D5: 11.39
A6: 97146 | B6: ASSENTAMENTO DE TUBO DE FERRO FUNDIDO PARA REDE DE ÁGUA, DN 300 MM, JUNTA ELÁSTICA, INSTALADO EM LOCAL COM NÍVEL ALTO DE INTERFERÊNCIAS (NÃO INCLUI FORNECIMENTO). AF_05/2024 | C6: M | D6: 13.32
A7: 97147 | B7: ASSENTAMENTO DE TUBO DE FERRO FUNDIDO PARA REDE DE ÁGUA, DN 350 MM, JUNTA ELÁSTICA, INSTALADO EM LOCAL COM NÍVEL ALTO DE INTERFERÊNCIAS (NÃO INCLUI FORNECIMENTO). AF_05/2024 | C7: M | D7: 15.26
A8: 97148 | B8: ASSENTAMENTO DE TUBO DE FERRO FUNDIDO PARA REDE DE ÁGUA, DN 400 MM, JUNTA ELÁSTICA, INSTALADO EM LOCAL COM NÍVEL ALTO DE INTERFERÊNCIAS (NÃO INCLUI FORNECIMENTO). AF_05/2024 | C8: M | D8: 17.18
A9: 97149 | B9: ASSENTAMENTO DE TUBO DE FERRO FUNDIDO PARA REDE DE ÁGUA, DN 450 MM, JUNTA ELÁSTICA, INSTALADO EM LOCAL COM NÍVEL ALTO DE INTERFERÊNCIAS (NÃO INCLUI FORNECIMENTO). AF_05/2024 | C9: M | D9: 19.15
A10: 97150 | B10: ASSENTAMENTO DE TUBO DE FERRO FUNDIDO PARA REDE DE ÁGUA, DN 500 MM, JUNTA ELÁSTICA, INSTALADO EM LOCAL COM NÍVEL ALTO DE INTERFERÊNCIAS (NÃO INCLUI FORNECIMENTO). AF_05/2024 | C10: M | D10: 24.39
A11: 97151 | B11: ASSENTAMENTO DE TUBO DE FERRO FUNDIDO PARA REDE DE ÁGUA, DN 600 MM, JUNTA ELÁSTICA, INSTALADO EM LOCAL COM NÍVEL ALTO DE INTERFERÊNCIAS (NÃO INCLUI FORNECIMENTO). AF_05/2024 | C11: M | D11: 28.82
A12: 97152 | B12: ASSENTAMENTO DE TUBO DE FERRO FUNDIDO PARA REDE DE ÁGUA, DN 700 MM, JUNTA ELÁSTICA, INSTALADO EM LOCAL COM NÍVEL ALTO DE INTERFERÊNCIAS (NÃO INCLUI FORNECIMENTO). AF_05/2024 | C12: M | D12: 32.92
... A12668: 41096 | B12668: VIGIA DIURNO (MENSALISTA) | C12668: MES | D12668: 2741.53

Sheet CLASSIFICAÇÃO ABC
E1: Obra | F1: Bancos | I1: B.D.I. | J1: Encargos Sociais | L1: CLASSIFICAÇÃO DA CURVA ABC
E2: REVISÃO E READEQUAÇÃO DOS PROJETOS EXECUTIVOS DE DRENAGEM NO SETOR HABITACIONAL MESTRE D'ARMAS, REGIÃO ADMINISTRATIVA DE PLANATINA - RA-PLAN, PELA SODF, NO DISTRITO FEDERAL - BLOCO 1 - LOTE 1 (ÁREA 1, 2, 3 E 4) CONTRATO: 21/2021- SODF - SEM DESONERAÇÃO | F2: SINAPI - 12/2024 - Distrito Federal SBC - 01/2025 - Distrito Federal SICRO3 - 10/2024 - Distrito Federal ORSE - 11/2024 - Sergipe SEINFRA - 028 - Ceará SIURB INFRA - 07/2024 - São Paulo AGESUL - 06/2024 - Mato Grosso do Sul EMBASA - 05/2024 - Bahia COMPESA - 07/2024 - Pernambuco EMOP - 12/2024 - Rio de Janeiro | I2: Padrão - 21,22% Material - 11,10% | J2: Sem Desoneração: Horista: 110,14% Mensalista: 70,04% | L2: A | M2: 0.44941159 | N2: 11546317
L3: B | M3: 0.33964608 | N3: 8726212.9
L4: C | M4: 0.21094232 | N4: 5419546.1
L5: TOTAL | M5: 1 | N5: 25692076
A6: ITEM | B6: CÓD. ABC | C6: Código | D6: Banco | E6: DESCRIÇÃO | F6: UNID. | G6: QUANT. | H6: UNIT. S/ BDI (R$) | I6: UNIT. C/ BDI (R$) | J6: BDI | K6: TOTAL C/ BDI (R$) | L6: % PARCIAL | M6: % ACUM. | N6: CLASSIF.
A7: 1 | B7: 129 | C7: 01.03.12U | D7: COMPESA | E7: TELA TAPUME, COR LARANJA, COM SUPORTE A CADA 2M (FORNECIMENTO E INSTALAÇÃO) | F7: M | G7: 12555.629 | H7: 3.25 | I7: 3.94 | J7: 0.2122 | K7: 49469.15 | L7: 0.0019254633 | M7: 0.0019254633 | N7: A
A8: 2 | B8: 138 | C8: 00007765 | D8: SINAPI | E8: TUBO DE CONCRETO ARMADO PARA AGUAS PLUVIAIS, CLASSE PA-2, COM ENCAIXE PONTA E BOLSA, DIAMETRO NOMINAL DE 1000 MM | F8: M | G8: 709.99284 | H8: 517.13 | I8: 574.53 | J8: 0.111 | K8: 407912.17 | L8: 0.015876964 | M8: 0.017802428 | N8: A
A9: 3 | B9: 94 | C9: 33.02.03U | D9: COMPESA | E9: FORNECIMENTO E COLOCAÇÃO DE GRADE DE FERRO PARA PROTEÇÃO EM PISO. | F9: M² | G9: 10.3 | H9: 578.89 | I9: 701.73 | J9: 0.2122 | K9: 7227.81 | L9: 0.00028132449 | M9: 0.018083752 | N9: A
A10: 4 | B10: 128 | C10: 5213865 | D10: SICRO3 | E10: SUPORTE METÁLICO GALVANIZADO PARA PLACA DE ADVERTÊNCIA OU REGULAMENTAÇÃO - LADO OU DIÂMETRO DE 1,00 M - FORNECIMENTO E IMPLANTAÇÃO | F10: UN | G10: 13 | H10: 509.43 | I10: 617.53 | J10: 0.2122 | K10: 8027.89 | L10: 0.00031246561 | M10: 0.018396218 | N10: A
A11: 5 | B11: 14 | C11: 4011276 | D11: SICRO3 | E11: BASE OU SUB-BASE DE BRITA GRADUADA COM BRITA COMERCIAL | F11: M³ | G11: 2979.7809 | H11: 208.42 | I11: 252.65 | J11: 0.2122 | K11: 752841.59 | L11: 0.029302482 | M11: 0.0476987 | N11: A
A12: 6 | B12: 40 | C12: 072200 | D12: SIURB INFRA | E12: DESASSOREAMENTO, LIMPEZA E REMOÇÃO DE MATERIAL DE GALERIA MOLDADA | F12: M³ | G12: 2772.57 | H12: 223.83 | I12: 271.33 | J12: 0.2122 | K12: 752281.4 | L12: 0.029280678 | M12: 0.076979378 | N12: A
A13: 7 | B13: 119 | C13: 101623 | D13: SINAPI | E13: PREPARO DE FUNDO DE VALA COM LARGURA MENOR QUE 1,5 M, COM CAMADA DE BRITA, LANÇAMENTO MECANIZADO. AF_08/2020 | F13: M³ | G13: 227.53073 | H13: 271.92 | I13: 329.62 | J13: 0.2122 | K13: 74998.64 | L13: 0.0029191351 | M13: 0.079898513 | N13: A
A14: 8 | B14: 99 | C14: 4011352 M | D14: PRÓPRIO | E14: IMPRIMAÇÃO COM EMULSÃO ASFÁLTICA (SEM MATERIAL) | F14: M² | G14: 19914.808 | H14: 0.4 | I14: 0.48 | J14: 0.2122 | K14: 9559.04 | L14: 0.0003720618 | M14: 0.080270575 | N14: A
A15: 9 | B15: 130 | C15: 93593 | D15: SINAPI | E15: TRANSPORTE COM CAMINHÃO BASCULANTE DE 14 M³, EM VIA URBANA PAVIMENTADA, ADICIONAL PARA DMT EXCEDENTE A 30 KM (UNIDADE: M3XKM). AF_07/2020 | F15: M3XKM | G15: 883923.09 | H15: 0.85 | I15: 1.03 | J15: 0.2122 | K15: 910440.6 | L15: 0.035436631 | M15: 0.11570721 | N15: A
A16: 10 | B16: 3 | C16: 0407819 | D16: SICRO3 | E16: ARMAÇÃO EM AÇO CA-50 - FORNECIMENTO, PREPARO E COLOCAÇÃO | F16: KG | G16: 46132.03 | H16: 12.15 | I16: 14.73 | J16: 0.2122 | K16: 679524.78 | L16: 0.026448808 | M16: 0.14215601 | N16: A
A17: 11 | B17: 29 | C17: 94971 | D17: SINAPI | E17: CONCRETO FCK = 25MPA, TRAÇO 1:2,3:2,7 (EM MASSA SECA DE CIMENTO/ AREIA MÉDIA/ BRITA 1) - PREPARO MECÂNICO COM BETONEIRA 600 L. AF_05/2021 | F17: M³ | G17: 982.01 | H17: 470.06 | I17: 569.81 | J17: 0.2122 | K17: 559559.06 | L17: 0.021779441 | M17: 0.16393546 | N17: A
A18: 12 | B18: 26 | C18: ANP-CAP 50/70 | D18: PRÓPRIO | E18: CIMENTO ASFÁLTICO DE PETRÓLEO - CAP 50/70 FORNECIMENTO E TRANSPORTE | F18: T | G18: 90.932093 | H18: 5274.22 | I18: 5859.66 | J18: 0.111 | K18: 532831.06 | L18: 0.020739121 | M18: 0.18467458 | N18: A
... A104: 98 | B104: 93 | C104: 6380 | D104: ORSE | E104: FORNECIMENTO E ASSENTAMENTO DE TAMPÃO CIRCULAR PARA DRENAGEM, EM FERRO FUNDIDO, DIÂMETRO = 0,6 M | F104: UN | G104: 35 | H104: 541.14 | I104: 655.97 | J104: 0.2122 | K104: 22958.95 | L104: 0.00089361989 | M104: 0.87004722 | N104: C
A105: 99 | B105: 51 | C105: 90082 | D105: SINAPI | E105: ESCAVAÇÃO MECANIZADA DE VALA COM PROF. ATÉ 1,5 M (MÉDIA MONTANTE E JUSANTE/UMA COMPOSIÇÃO POR TRECHO), ESCAVADEIRA (0,8 M3), LARG. DE 1,5 M A 2,5 M, EM SOLO DE 1A CATEGORIA, EM LOCAIS COM ALTO NÍVEL DE INTERFERÊNCIA. AF_09/2024 | F105: M³ | G105: 11.1456 | H105: 9.31 | I105: 11.29 | J105: 0.2122 | K105: 125.83 | L105: 4.8976191e-06 | M105: 0.87005212 | N105: C
A106: 100 | B106: 101 | C106: 2003868 | D106: SICRO3 | E106: LASTRO DE PEDRA DE MÃO OU RACHÃO - ESPALHAMENTO MANUAL | F106: M³ | G106: 4285.5358 | H106: 130.54 | I106: 158.24 | J106: 0.2122 | K106: 678143.19 | L106: 0.026395033 | M106: 0.89644715 | N106: C
A107: 101 | B107: 68 | C107: 00000004 | D107: PRÓPRIO | E107: ESCAVAÇÃO MECANIZADA DE VALAS EM MATERIAL DE 1ª E/OU 2ª CATEGORIAS, LARGURA MAIOR QUE 2,5M EACIMA DE 2,00 M E ATÉ 4,00 M DE PROFUNDIDADE. | F107: M³ | G107: 5017.2822 | H107: 17.96 | I107: 21.77 | J107: 0.2122 | K107: 109226.22 | L107: 0.0042513583 | M107: 0.90069851 | N107: C
A108: 102 | B108: 115 | C108: 5213571 | D108: SICRO3 | E108: PLACA EM AÇO - PELÍCULA I + III - FORNECIMENTO E IMPLANTAÇÃO | F108: M² | G108: 2.88 | H108: 501.28 | I108: 607.65 | J108: 0.2122 | K108: 1750.03 | L108: 6.8115555e-05 | M108: 0.90076662 | N108: C
A109: 103 | B109: 35 | C109: 05.002.0014-0 | D109: EMOP | E109: DEMOLICAO COM EQUIPAMENTO DE AR COMPRIMIDO,DE PASSEIO CIMENT ADO COM ESPESSURA ATE 10CM,INCLUSIVE EMPILHAMENTO LATERAL DE NTRO DO CANTEIRO DE SERVICO 3%-DESGASTE DE FERRAMENTAS E EPI | F109: M2 | G109: 1130.2032 | H109: 11.96 | I109: 14.5 | J109: 0.2122 | K109: 16387.92 | L109: 0.00063785893 | M109: 0.90140448 | N109: C
A110: 104 | B110: 64 | C110: 90086 | D110: SINAPI | E110: ESCAVAÇÃO MECANIZADA DE VALA COM PROF. MAIOR QUE 3,0 M ATÉ 4,5 M(MÉDIA MONTANTE E JUSANTE/UMA COMPOSIÇÃO POR TRECHO), ESCAVADEIRA (0,8 M3), LARG. MENOR QUE 1,5 M, EM SOLO DE 1A CATEGORIA, EM LOCAIS COM ALTO NÍVEL DE INTERFERÊNCIA. AF_09/2024 | F110: M³ | G110: 19.15 | H110: 8.53 | I110: 10.34 | J110: 0.2122 | K110: 198 | L110: 7.7066564e-06 | M110: 0.90141219 | N110: C
A111: 105 | B111: 120 | C111: 02.05.04U | D111: COMPESA | E111: REATERRO COMPACTADO MECANICAMENTE EM CAMADAS DE 0,20 M COM APROVEITAMENTO DO MATERIAL ESCAVADO. | F111: M³ | G111: 20676.415 | H111: 11.09 | I111: 13.44 | J111: 0.2122 | K111: 277890.97 | L111: 0.010816213 | M111: 0.9122284 | N111: C
A112: 106 | B112: 20 | C112: 101468 | D112: SINAPI | E112: CARGA, MANOBRA E DESCARGA DE TUBOS DE CONCRETO, DN 1200 MM, EM CAMINHÃO CARROCERIA COM GUINDAUTO (MUNCK) 11,7 TM. AF_07/2020 | F112: T | G112: 723.44085 | H112: 16.19 | I112: 19.63 | J112: 0.2122 | K112: 14201.12 | L112: 0.00055274319 | M112: 0.91278115 | N112: C
A113: 107 | B113: 41 | C113: 9068 | D113: ORSE | E113: DESOBSTRUÇÃO E LIMPEZA DE BOCA-DE-LOBO | F113: UN | G113: 353 | H113: 35.1 | I113: 42.55 | J113: 0.2122 | K113: 15020.15 | L113: 0.0005846219 | M113: 0.91336577 | N113: C
A114: 108 | B114: 121 | C114: 0401001113 | D114: AGESUL | E114: REATERRO MANUAL APILOADO COM SOQUETE | F114: M³ | G114: 10875.056 | H114: 56.12 | I114: 68.03 | J114: 0.2122 | K114: 739829.97 | L114: 0.028796037 | M114: 0.94216181 | N114: C
A115: 109 | B115: 141 | C115: 00007762 | D115: SINAPI | E115: TUBO DE CONCRETO ARMADO PARA AGUAS PLUVIAIS, CLASSE PA-2, COM ENCAIXE PONTA E BOLSA, DIAMETRO NOMINAL DE 600 MM | F115: M | G115: 407.66 | H115: 209.38 | I115: 232.62 | J115: 0.111 | K115: 94829.86 | L115: 0.0036910159 | M115: 0.94585282 | N115: C
A116: 110 | B116: 54 | C116: 102276 | D116: SINAPI | E116: ESCAVAÇÃO MECANIZADA DE VALA COM PROF. ATÉ 1,5 M (MÉDIA MONTANTE E JUSANTE/UMA COMPOSIÇÃO POR TRECHO), ESCAVADEIRA (0,8 M3), LARG. MENOR QUE 1,5 M, EM SOLO DE 1A CATEGORIA, EM LOCAIS COM ALTO NÍVEL DE INTERFERÊNCIA. AF_09/2024 | F116: M³ | G116: 3745.531 | H116: 10.49 | I116: 12.72 | J116: 0.2122 | K116: 47643.11 | L116: 0.0018543893 | M116: 0.94770721 | N116: C
A117: 111 | B117: 36 | C117: 97622 | D117: SINAPI | E117: DEMOLIÇÃO DE ALVENARIA DE BLOCO FURADO, DE FORMA MANUAL, SEM REAPROVEITAMENTO. AF_09/2023 | F117: M³ | G117: 172.16362 | H117: 62.38 | I117: 75.62 | J117: 0.2122 | K117: 13018.97 | L117: 0.00050673095 | M117: 0.94821394 | N117: C
... A149: 143 | B149: 58 | C149: 90084 | D149: SINAPI | E149: ESCAVAÇÃO MECANIZADA DE VALA COM PROF. MAIOR QUE 1,5 M ATÉ 3,0 M (MÉDIA MONTANTE E JUSANTE/UMA COMPOSIÇÃO POR TRECHO), ESCAVADEIRA (0,8 M3), LARGURA ATÉ 1,5 M, EM SOLO DE 1A CATEGORIA, EM LOCAIS COM ALTO NÍVEL DE INTERFERÊNCIA. AF_09/2024 | F149: M³ | G149: 1974.5092 | H149: 9.01 | I149: 10.92 | J149: 0.2122 | K149: 21561.61 | L149: 0.00083923192 | M149: 1 | N149: C
A150: TOTAL | K150: 25692076

Sheet APOIO ABC
B1: 1 | C1: =ORÇAMENTO!A1045 -> 8.8.9 | D1: =ORÇAMENTO!B1045 -> 98522 | E1: =ORÇAMENTO!C1045 -> SINAPI | F1: =ORÇAMENTO!D1045 -> ALAMBRADO EM MOURÕES DE CONCRETO, COM TELA DE ARAME GALVANIZADO (INCLUSIVE MURETA EM CONCRETO). AF_05/2018 | G1: =ORÇAMENTO!E1045 -> M | H1: =ORÇAMENTO!F1045 -> 411.3 | I1: =ORÇAMENTO!G1045 -> 160.28 | J1: =ORÇAMENTO!H1045 -> 0.2122 | ... M1: =ORÇAMENTO!K1045 -> 0.00282511
B2: =IF(EXACT(D1,D2),B1,B1+1) -> 2 | C2: =ORÇAMENTO!A245 -> 4.1.2.6.43 | D2: =ORÇAMENTO!B245 -> 103320 | E2: =ORÇAMENTO!C245 -> SINAPI | F2: =ORÇAMENTO!D245 -> ALVENARIA DE VEDAÇÃO DE BLOCOS VAZADOS DE CONCRETO DE 19X19X39 CM (ESPESSURA 19 CM) E ARGAMASSA DE ASSENTAMENTO COM PREPARO EM BETONEIRA. AF_12/2021 | G2: =ORÇAMENTO!E245 -> M² | H2: =ORÇAMENTO!F245 -> 542.49 | I2: =ORÇAMENTO!G245 -> 133.38 | J2: =ORÇAMENTO!H245 -> 0.2122 | ... M2: =ORÇAMENTO!K245 -> 0.0031008036 | N2: =IF(F2=F1,IF(G2=G1,"OK!","ERRADO"),"DIFERENTE") -> DIFERENTE | O2: =IF(F2=F1,IF(I2=I1,"OK!","ERRADO"),"DIFERENTE") -> DIFERENTE | P2: =IF(F2=F1,IF(D2=D1,"OK!","ERRADO"),"DIFERENTE") -> DIFERENTE
B3: =IF(EXACT(D2,D3),B2,B2+1) -> 2 | C3: =ORÇAMENTO!A255 -> 4.1.2.7.3 | D3: =ORÇAMENTO!B255 -> 103320 | E3: =ORÇAMENTO!C255 -> SINAPI | F3: =ORÇAMENTO!D255 -> ALVENARIA DE VEDAÇÃO DE BLOCOS VAZADOS DE CONCRETO DE 19X19X39 CM (ESPESSURA 19 CM) E ARGAMASSA DE ASSENTAMENTO COM PREPARO EM BETONEIRA. AF_12/2021 | G3: =ORÇAMENTO!E255 -> M² | H3: =ORÇAMENTO!F255 -> 42.28 | I3: =ORÇAMENTO!G255 -> 133.38 | J3: =ORÇAMENTO!H255 -> 0.2122 | ... M3: =ORÇAMENTO!K255 -> 0.00024166708 | N3: =IF(F3=F2,IF(G3=G2,"OK!","ERRADO"),"DIFERENTE") -> OK! | O3: =IF(F3=F2,IF(I3=I2,"OK!","ERRADO"),"DIFERENTE") -> OK! | P3: =IF(F3=F2,IF(D3=D2,"OK!","ERRADO"),"DIFERENTE") -> OK!
B4: =IF(EXACT(D3,D4),B3,B3+1) -> 2 | C4: =ORÇAMENTO!A488 -> 5.1.2.6.44 | D4: =ORÇAMENTO!B488 -> 103320 | E4: =ORÇAMENTO!C488 -> SINAPI | F4: =ORÇAMENTO!D488 -> ALVENARIA DE VEDAÇÃO DE BLOCOS VAZADOS DE CONCRETO DE 19X19X39 CM (ESPESSURA 19 CM) E ARGAMASSA DE ASSENTAMENTO COM PREPARO EM BETONEIRA. AF_12/2021 | G4: =ORÇAMENTO!E488 -> M² | H4: =ORÇAMENTO!F488 -> 643 | I4: =ORÇAMENTO!G488 -> 133.38 | J4: =ORÇAMENTO!H488 -> 0.2122 | ... M4: =ORÇAMENTO!K488 -> 0.0036753061 | N4: =IF(F4=F3,IF(G4=G3,"OK!","ERRADO"),"DIFERENTE") -> OK! | O4: =IF(F4=F3,IF(I4=I3,"OK!","ERRADO"),"DIFERENTE") -> OK! | P4: =IF(F4=F3,IF(D4=D3,"OK!","ERRADO"),"DIFERENTE") -> OK!
B5: =IF(EXACT(D4,D5),B4,B4+1) -> 2 | C5: =ORÇAMENTO!A498 -> 5.1.2.7.3 | D5: =ORÇAMENTO!B498 -> 103320 | E5: =ORÇAMENTO!C498 -> SINAPI | F5: =ORÇAMENTO!D498 -> ALVENARIA DE VEDAÇÃO DE BLOCOS VAZADOS DE CONCRETO DE 19X19X39 CM (ESPESSURA 19 CM) E ARGAMASSA DE ASSENTAMENTO COM PREPARO EM BETONEIRA. AF_12/2021 | G5: =ORÇAMENTO!E498 -> M² | H5: =ORÇAMENTO!F498 -> 101.19 | I5: =ORÇAMENTO!G498 -> 133.38 | J5: =ORÇAMENTO!H498 -> 0.2122 | ... M5: =ORÇAMENTO!K498 -> 0.00057838882 | N5: =IF(F5=F4,IF(G5=G4,"OK!","ERRADO"),"DIFERENTE") -> OK! | O5: =IF(F5=F4,IF(I5=I4,"OK!","ERRADO"),"DIFERENTE") -> OK! | P5: =IF(F5=F4,IF(D5=D4,"OK!","ERRADO"),"DIFERENTE") -> OK!
B6: =IF(EXACT(D5,D6),B5,B5+1) -> 2 | C6: =ORÇAMENTO!A683 -> 6.1.2.6.36 | D6: =ORÇAMENTO!B683 -> 103320 | E6: =ORÇAMENTO!C683 -> SINAPI | F6: =ORÇAMENTO!D683 -> ALVENARIA DE VEDAÇÃO DE BLOCOS VAZADOS DE CONCRETO DE 19X19X39 CM (ESPESSURA 19 CM) E ARGAMASSA DE ASSENTAMENTO COM PREPARO EM BETONEIRA. AF_12/2021 | G6: =ORÇAMENTO!E683 -> M² | H6: =ORÇAMENTO!F683 -> 316.33 | I6: =ORÇAMENTO!G683 -> 133.38 | J6: =ORÇAMENTO!H683 -> 0.2122 | ... M6: =ORÇAMENTO!K683 -> 0.0018081018 | N6: =IF(F6=F5,IF(G6=G5,"OK!","ERRADO"),"DIFERENTE") -> OK! | O6: =IF(F6=F5,IF(I6=I5,"OK!","ERRADO"),"DIFERENTE") -> OK! | P6: =IF(F6=F5,IF(D6=D5,"OK!","ERRADO"),"DIFERENTE") -> OK!
B7: =IF(EXACT(D6,D7),B6,B6+1) -> 2 | C7: =ORÇAMENTO!A693 -> 6.1.2.7.3 | D7: =ORÇAMENTO!B693 -> 103320 | E7: =ORÇAMENTO!C693 -> SINAPI | F7: =ORÇAMENTO!D693 -> ALVENARIA DE VEDAÇÃO DE BLOCOS VAZADOS DE CONCRETO DE 19X19X39 CM (ESPESSURA 19 CM) E ARGAMASSA DE ASSENTAMENTO COM PREPARO EM BETONEIRA. AF_12/2021 | G7: =ORÇAMENTO!E693 -> M² | H7: =ORÇAMENTO!F693 -> 60.98 | I7: =ORÇAMENTO!G693 -> 133.38 | J7: =ORÇAMENTO!H693 -> 0.2122 | ... M7: =ORÇAMENTO!K693 -> 0.00034855368 | N7: =IF(F7=F6,IF(G7=G6,"OK!","ERRADO"),"DIFERENTE") -> OK! | O7: =IF(F7=F6,IF(I7=I6,"OK!","ERRADO"),"DIFERENTE") -> OK! | P7: =IF(F7=F6,IF(D7=D6,"OK!","ERRADO"),"DIFERENTE") -> OK!
B8: =IF(EXACT(D7,D8),B7,B7+1) -> 2 | C8: =ORÇAMENTO!A896 -> 7.1.2.6.43 | D8: =ORÇAMENTO!B896 -> 103320 | E8: =ORÇAMENTO!C896 -> SINAPI | F8: =ORÇAMENTO!D896 -> ALVENARIA DE VEDAÇÃO DE BLOCOS VAZADOS DE CONCRETO DE 19X19X39 CM (ESPESSURA 19 CM) E ARGAMASSA DE ASSENTAMENTO COM PREPARO EM BETONEIRA. AF_12/2021 | G8: =ORÇAMENTO!E896 -> M² | H8: =ORÇAMENTO!F896 -> 545.64 | I8: =ORÇAMENTO!G896 -> 133.38 | J8: =ORÇAMENTO!H896 -> 0.2122 | ... M8: =ORÇAMENTO!K896 -> 0.0031188085 | N8: =IF(F8=F7,IF(G8=G7,"OK!","ERRADO"),"DIFERENTE") -> OK! | O8: =IF(F8=F7,IF(I8=I7,"OK!","ERRADO"),"DIFERENTE") -> OK! | P8: =IF(F8=F7,IF(D8=D7,"OK!","ERRADO"),"DIFERENTE") -> OK!
B9: =IF(EXACT(D8,D9),B8,B8+1) -> 2 | C9: =ORÇAMENTO!A906 -> 7.1.2.7.3 | D9: =ORÇAMENTO!B906 -> 103320 | E9: =ORÇAMENTO!C906 -> SINAPI | F9: =ORÇAMENTO!D906 -> ALVENARIA DE VEDAÇÃO DE BLOCOS VAZADOS DE CONCRETO DE 19X19X39 CM (ESPESSURA 19 CM) E ARGAMASSA DE ASSENTAMENTO COM PREPARO EM BETONEIRA. AF_12/2021 | G9: =ORÇAMENTO!E906 -> M² | H9: =ORÇAMENTO!F906 -> 51.3 | I9: =ORÇAMENTO!G906 -> 133.38 | J9: =ORÇAMENTO!H906 -> 0.2122 | ... M9: =ORÇAMENTO!K906 -> 0.00029322412 | N9: =IF(F9=F8,IF(G9=G8,"OK!","ERRADO"),"DIFERENTE") -> OK! | O9: =IF(F9=F8,IF(I9=I8,"OK!","ERRADO"),"DIFERENTE") -> OK! | P9: =IF(F9=F8,IF(D9=D8,"OK!","ERRADO"),"DIFERENTE") -> OK!
B10: =IF(EXACT(D9,D10),B9,B9+1) -> 3 | C10: =ORÇAMENTO!A244 -> 4.1.2.6.42 | D10: =ORÇAMENTO!B244 -> 0407819 | E10: =ORÇAMENTO!C244 -> SICRO3 | F10: =ORÇAMENTO!D244 -> ARMAÇÃO EM AÇO CA-50 - FORNECIMENTO, PREPARO E COLOCAÇÃO | G10: =ORÇAMENTO!E244 -> KG | H10: =ORÇAMENTO!F244 -> 1336 | I10: =ORÇAMENTO!G244 -> 12.15 | J10: =ORÇAMENTO!H244 -> 0.2122 | ... M10: =ORÇAMENTO!K244 -> 0.00069572153 | N10: =IF(F10=F9,IF(G10=G9,"OK!","ERRADO"),"DIFERENTE") -> DIFERENTE | O10: =IF(F10=F9,IF(I10=I9,"OK!","ERRADO"),"DIFERENTE") -> DIFERENTE | P10: =IF(F10=F9,IF(D10=D9,"OK!","ERRADO"),"DIFERENTE") -> DIFERENTE
B11: =IF(EXACT(D10,D11),B10,B10+1) -> 3 | C11: =ORÇAMENTO!A260 -> 4.1.2.7.8 | D11: =ORÇAMENTO!B260 -> 0407819 | E11: =ORÇAMENTO!C260 -> SICRO3 | F11: =ORÇAMENTO!D260 -> ARMAÇÃO EM AÇO CA-50 - FORNECIMENTO, PREPARO E COLOCAÇÃO | G11: =ORÇAMENTO!E260 -> KG | H11: =ORÇAMENTO!F260 -> 3790.03 | I11: =ORÇAMENTO!G260 -> 12.15 | J11: =ORÇAMENTO!H260 -> 0.2122 | ... M11: =ORÇAMENTO!K260 -> 0.0019736567 | N11: =IF(F11=F10,IF(G11=G10,"OK!","ERRADO"),"DIFERENTE") -> OK! | O11: =IF(F11=F10,IF(I11=I10,"OK!","ERRADO"),"DIFERENTE") -> OK! | P11: =IF(F11=F10,IF(D11=D10,"OK!","ERRADO"),"DIFERENTE") -> OK!
B12: =IF(EXACT(D11,D12),B11,B11+1) -> 3 | C12: =ORÇAMENTO!A487 -> 5.1.2.6.43 | D12: =ORÇAMENTO!B487 -> 0407819 | E12: =ORÇAMENTO!C487 -> SICRO3 | F12: =ORÇAMENTO!D487 -> ARMAÇÃO EM AÇO CA-50 - FORNECIMENTO, PREPARO E COLOCAÇÃO | G12: =ORÇAMENTO!E487 -> KG | H12: =ORÇAMENTO!F487 -> 1480 | I12: =ORÇAMENTO!G487 -> 12.15 | J12: =ORÇAMENTO!H487 -> 0.2122 | ... M12: =ORÇAMENTO!K487 -> 0.00077070948 | N12: =IF(F12=F11,IF(G12=G11,"OK!","ERRADO"),"DIFERENTE") -> OK! | O12: =IF(F12=F11,IF(I12=I11,"OK!","ERRADO"),"DIFERENTE") -> OK! | P12: =IF(F12=F11,IF(D12=D11,"OK!","ERRADO"),"DIFERENTE") -> OK!
B13: =IF(EXACT(D12,D13),B12,B12+1) -> 3 | C13: =ORÇAMENTO!A503 -> 5.1.2.7.8 | D13: =ORÇAMENTO!B503 -> 0407819 | E13: =ORÇAMENTO!C503 -> SICRO3 | F13: =ORÇAMENTO!D503 -> ARMAÇÃO EM AÇO CA-50 - FORNECIMENTO, PREPARO E COLOCAÇÃO | G13: =ORÇAMENTO!E503 -> KG | H13: =ORÇAMENTO!F503 -> 3969.37 | I13: =ORÇAMENTO!G503 -> 12.15 | J13: =ORÇAMENTO!H503 -> 0.2122 | ... M13: =ORÇAMENTO!K503 -> 0.002067048 | N13: =IF(F13=F12,IF(G13=G12,"OK!","ERRADO"),"DIFERENTE") -> OK! | O13: =IF(F13=F12,IF(I13=I12,"OK!","ERRADO"),"DIFERENTE") -> OK! | P13: =IF(F13=F12,IF(D13=D12,"OK!","ERRADO"),"DIFERENTE") -> OK!
B14: =IF(EXACT(D13,D14),B13,B13+1) -> 3 | C14: =ORÇAMENTO!A682 -> 6.1.2.6.35 | D14: =ORÇAMENTO!B682 -> 0407819 | E14: =ORÇAMENTO!C682 -> SICRO3 | F14: =ORÇAMENTO!D682 -> ARMAÇÃO EM AÇO CA-50 - FORNECIMENTO, PREPARO E COLOCAÇÃO | G14: =ORÇAMENTO!E682 -> KG | H14: =ORÇAMENTO!F682 -> 768 | I14: =ORÇAMENTO!G682 -> 12.15 | J14: =ORÇAMENTO!H682 -> 0.2122 | ... M14: =ORÇAMENTO!K682 -> 0.00039993573 | N14: =IF(F14=F13,IF(G14=G13,"OK!","ERRADO"),"DIFERENTE") -> OK! | O14: =IF(F14=F13,IF(I14=I13,"OK!","ERRADO"),"DIFERENTE") -> OK! | P14: =IF(F14=F13,IF(D14=D13,"OK!","ERRADO"),"DIFERENTE") -> OK!
B15: =IF(EXACT(D14,D15),B14,B14+1) -> 3 | C15: =ORÇAMENTO!A698 -> 6.1.2.7.8 | D15: =ORÇAMENTO!B698 -> 0407819 | E15: =ORÇAMENTO!C698 -> SICRO3 | F15: =ORÇAMENTO!D698 -> ARMAÇÃO EM AÇO CA-50 - FORNECIMENTO, PREPARO E COLOCAÇÃO | G15: =ORÇAMENTO!E698 -> KG | H15: =ORÇAMENTO!F698 -> 697.85 | I15: =ORÇAMENTO!G698 -> 12.15 | J15: =ORÇAMENTO!H698 -> 0.2122 | ... M15: =ORÇAMENTO!K698 -> 0.00036340512 | N15: =IF(F15=F14,IF(G15=G14,"OK!","ERRADO"),"DIFERENTE") -> OK! | O15: =IF(F15=F14,IF(I15=I14,"OK!","ERRADO"),"DIFERENTE") -> OK! | P15: =IF(F15=F14,IF(D15=D14,"OK!","ERRADO"),"DIFERENTE") -> OK!
B16: =IF(EXACT(D15,D16),B15,B15+1) -> 3 | C16: =ORÇAMENTO!A895 -> 7.1.2.6.42 | D16: =ORÇAMENTO!B895 -> 0407819 | E16: =ORÇAMENTO!C895 -> SICRO3 | F16: =ORÇAMENTO!D895 -> ARMAÇÃO EM AÇO CA-50 - FORNECIMENTO, PREPARO E COLOCAÇÃO | G16: =ORÇAMENTO!E895 -> KG | H16: =ORÇAMENTO!F895 -> 1256 | I16: =ORÇAMENTO!G895 -> 12.15 | J16: =ORÇAMENTO!H895 -> 0.2122 | ... M16: =ORÇAMENTO!K895 -> 0.00065406156 | N16: =IF(F16=F15,IF(G16=G15,"OK!","ERRADO"),"DIFERENTE") -> OK! | O16: =IF(F16=F15,IF(I16=I15,"OK!","ERRADO"),"DIFERENTE") -> OK! | P16: =IF(F16=F15,IF(D16=D15,"OK!","ERRADO"),"DIFERENTE") -> OK!
B17: =IF(EXACT(D16,D17),B16,B16+1) -> 3 | C17: =ORÇAMENTO!A911 -> 7.1.2.7.8 | D17: =ORÇAMENTO!B911 -> 0407819 | E17: =ORÇAMENTO!C911 -> SICRO3 | F17: =ORÇAMENTO!D911 -> ARMAÇÃO EM AÇO CA-50 - FORNECIMENTO, PREPARO E COLOCAÇÃO | G17: =ORÇAMENTO!E911 -> KG | H17: =ORÇAMENTO!F911 -> 5166.92 | I17: =ORÇAMENTO!G911 -> 12.15 | J17: =ORÇAMENTO!H911 -> 0.2122 | ... M17: =ORÇAMENTO!K911 -> 0.0026906717 | N17: =IF(F17=F16,IF(G17=G16,"OK!","ERRADO"),"DIFERENTE") -> OK! | O17: =IF(F17=F16,IF(I17=I16,"OK!","ERRADO"),"DIFERENTE") -> OK! | P17: =IF(F17=F16,IF(D17=D16,"OK!","ERRADO"),"DIFERENTE") -> OK!
B18: =IF(EXACT(D17,D18),B17,B17+1) -> 3 | C18: =ORÇAMENTO!A919 -> 7.1.2.8.5 | D18: =ORÇAMENTO!B919 -> 0407819 | E18: =ORÇAMENTO!C919 -> SICRO3 | F18: =ORÇAMENTO!D919 -> ARMAÇÃO EM AÇO CA-50 - FORNECIMENTO, PREPARO E COLOCAÇÃO | G18: =ORÇAMENTO!E919 -> KG | H18: =ORÇAMENTO!F919 -> 23646.02 | I18: =ORÇAMENTO!G919 -> 12.15 | J18: =ORÇAMENTO!H919 -> 0.2122 | ... M18: =ORÇAMENTO!K919 -> 0.012313656 | N18: =IF(F18=F17,IF(G18=G17,"OK!","ERRADO"),"DIFERENTE") -> OK! | O18: =IF(F18=F17,IF(I18=I17,"OK!","ERRADO"),"DIFERENTE") -> OK! | P18: =IF(F18=F17,IF(D18=D17,"OK!","ERRADO"),"DIFERENTE") -> OK!
B19: =IF(EXACT(D18,D19),B18,B18+1) -> 3 | C19: =ORÇAMENTO!A1016 -> 8.5.4 | D19: =ORÇAMENTO!B1016 -> 0407819 | E19: =ORÇAMENTO!C1016 -> SICRO3 | F19: =ORÇAMENTO!D1016 -> ARMAÇÃO EM AÇO CA-50 - FORNECIMENTO, PREPARO E COLOCAÇÃO | G19: =ORÇAMENTO!E1016 -> KG | H19: =ORÇAMENTO!F1016 -> 2057.72 | I19: =ORÇAMENTO!G1016 -> 12.15 | J19: =ORÇAMENTO!H1016 -> 0.2122 | ... M19: =ORÇAMENTO!K1016 -> 0.0010715568 | N19: =IF(F19=F18,IF(G19=G18,"OK!","ERRADO"),"DIFERENTE") -> OK! | O19: =IF(F19=F18,IF(I19=I18,"OK!","ERRADO"),"DIFERENTE") -> OK! | P19: =IF(F19=F18,IF(D19=D18,"OK!","ERRADO"),"DIFERENTE") -> OK!
B20: =IF(EXACT(D19,D20),B19,B19+1) -> 3 | C20: =ORÇAMENTO!A1022 -> 8.6.5 | D20: =ORÇAMENTO!B1022 -> 0407819 | E20: =ORÇAMENTO!C1022 -> SICRO3 | F20: =ORÇAMENTO!D1022 -> ARMAÇÃO EM AÇO CA-50 - FORNECIMENTO, PREPARO E COLOCAÇÃO | G20: =ORÇAMENTO!E1022 -> KG | H20: =ORÇAMENTO!F1022 -> 1656 | I20: =ORÇAMENTO!G1022 -> 12.15 | J20: =ORÇAMENTO!H1022 -> 0.2122 | ... M20: =ORÇAMENTO!K1022 -> 0.00086236142 | N20: =IF(F20=F19,IF(G20=G19,"OK!","ERRADO"),"DIFERENTE") -> OK! | O20: =IF(F20=F19,IF(I20=I19,"OK!","ERRADO"),"DIFERENTE") -> OK! | P20: =IF(F20=F19,IF(D20=D19,"OK!","ERRADO"),"DIFERENTE") -> OK!
B21: =IF(EXACT(D20,D21),B20,B20+1) -> 3 | C21: =ORÇAMENTO!A1035 -> 8.7.6 | D21: =ORÇAMENTO!B1035 -> 0407819 | E21: =ORÇAMENTO!C1035 -> SICRO3 | F21: =ORÇAMENTO!D1035 -> ARMAÇÃO EM AÇO CA-50 - FORNECIMENTO, PREPARO E COLOCAÇÃO | G21: =ORÇAMENTO!E1035 -> KG | H21: =ORÇAMENTO!F1035 -> 308.12 | I21: =ORÇAMENTO!G1035 -> 12.15 | J21: =ORÇAMENTO!H1035 -> 0.2122 | ... M21: =ORÇAMENTO!K1035 -> 0.00016045311 | N21: =IF(F21=F20,IF(G21=G20,"OK!","ERRADO"),"DIFERENTE") -> OK! | O21: =IF(F21=F20,IF(I21=I20,"OK!","ERRADO"),"DIFERENTE") -> OK! | P21: =IF(F21=F20,IF(D21=D20,"OK!","ERRADO"),"DIFERENTE") -> OK!
B22: =IF(EXACT(D21,D22),B21,B21+1) -> 4 | C22: =ORÇAMENTO!A293 -> 4.2.4.14 | D22: =ORÇAMENTO!B293 -> 94273 | E22: =ORÇAMENTO!C293 -> SINAPI | F22: =ORÇAMENTO!D293 -> ASSENTAMENTO DE GUIA (MEIO-FIO) EM TRECHO RETO, CONFECCIONADA EM CONCRETO PRÉ-FABRICADO, DIMENSÕES 100X15X13X30 CM (COMPRIMENTO X BASE INFERIOR X BASE SUPERIOR X ALTURA). AF_01/2024 | G22: =ORÇAMENTO!E293 -> M | H22: =ORÇAMENTO!F293 -> 1097.9 | I22: =ORÇAMENTO!G293 -> 48.36 | J22: =ORÇAMENTO!H293 -> 0.2122 | ... M22: =ORÇAMENTO!K293 -> 0.0022752797 | N22: =IF(F22=F21,IF(G22=G21,"OK!","ERRADO"),"DIFERENTE") -> DIFERENTE | O22: =IF(F22=F21,IF(I22=I21,"OK!","ERRADO"),"DIFERENTE") -> DIFERENTE | P22: =IF(F22=F21,IF(D22=D21,"OK!","ERRADO"),"DIFERENTE") -> DIFERENTE
B23: =IF(EXACT(D22,D23),B22,B22+1) -> 4 | C23: =ORÇAMENTO!A982 -> 7.5.4.14 | D23: =ORÇAMENTO!B982 -> 94273 | E23: =ORÇAMENTO!C982 -> SINAPI | F23: =ORÇAMENTO!D982 -> ASSENTAMENTO DE GUIA (MEIO-FIO) EM TRECHO RETO, CONFECCIONADA EM CONCRETO PRÉ-FABRICADO, DIMENSÕES 100X15X13X30 CM (COMPRIMENTO X BASE INFERIOR X BASE SUPERIOR X ALTURA). AF_01/2024 | G23: =ORÇAMENTO!E982 -> M | H23: =ORÇAMENTO!F982 -> 1552.82 | I23: =ORÇAMENTO!G982 -> 48.36 | J23: =ORÇAMENTO!H982 -> 0.2122 | ... M23: =ORÇAMENTO!K982 -> 0.0032180525 | N23: =IF(F23=F22,IF(G23=G22,"OK!","ERRADO"),"DIFERENTE") -> OK! | O23: =IF(F23=F22,IF(I23=I22,"OK!","ERRADO"),"DIFERENTE") -> OK! | P23: =IF(F23=F22,IF(D23=D22,"OK!","ERRADO"),"DIFERENTE") -> OK!
B24: =IF(EXACT(D23,D24),B23,B23+1) -> 5 | C24: =ORÇAMENTO!A186 -> 4.1.2.4.19 | D24: =ORÇAMENTO!B186 -> 92828 | E24: =ORÇAMENTO!C186 -> SINAPI | F24: =ORÇAMENTO!D186 -> ASSENTAMENTO DE TUBO DE CONCRETO PARA REDES COLETORAS DE ÁGUAS PLUVIAIS, DIÂMETRO DE 1000 MM, JUNTA RÍGIDA, INSTALADO EM LOCAL COM ALTO NÍVEL DE INTERFERÊNCIAS (NÃO INCLUI FORNECIMENTO). AF_03/2024 | G24: =ORÇAMENTO!E186 -> M | H24: =ORÇAMENTO!F186 -> 181.50284 | I24: =ORÇAMENTO!G186 -> 108 | J24: =ORÇAMENTO!H186 -> 0.2122 | ... M24: =ORÇAMENTO!K186 -> 0.00084007029 | N24: =IF(F24=F23,IF(G24=G23,"OK!","ERRADO"),"DIFERENTE") -> DIFERENTE | O24: =IF(F24=F23,IF(I24=I23,"OK!","ERRADO"),"DIFERENTE") -> DIFERENTE | P24: =IF(F24=F23,IF(D24=D23,"OK!","ERRADO"),"DIFERENTE") -> DIFERENTE
B25: =IF(EXACT(D24,D25),B24,B24+1) -> 5 | C25: =ORÇAMENTO!A425 -> 5.1.2.4.19 | D25: =ORÇAMENTO!B425 -> 92828 | E25: =ORÇAMENTO!C425 -> SINAPI | F25: =ORÇAMENTO!D425 -> ASSENTAMENTO DE TUBO DE CONCRETO PARA REDES COLETORAS DE ÁGUAS PLUVIAIS, DIÂMETRO DE 1000 MM, JUNTA RÍGIDA, INSTALADO EM LOCAL COM ALTO NÍVEL DE INTERFERÊNCIAS (NÃO INCLUI FORNECIMENTO). AF_03/2024 | G25: =ORÇAMENTO!E425 -> M | H25: =ORÇAMENTO!F425 -> 667.95 | I25: =ORÇAMENTO!G425 -> 108 | J25: =ORÇAMENTO!H425 -> 0.2122 | ... M25: =ORÇAMENTO!K425 -> 0.0030915493 | N25: =IF(F25=F24,IF(G25=G24,"OK!","ERRADO"),"DIFERENTE") -> OK! | O25: =IF(F25=F24,IF(I25=I24,"OK!","ERRADO"),"DIFERENTE") -> OK! | P25: =IF(F25=F24,IF(D25=D24,"OK!","ERRADO"),"DIFERENTE") -> OK!
B26: =IF(EXACT(D25,D26),B25,B25+1) -> 5 | C26: =ORÇAMENTO!A834 -> 7.1.2.4.19 | D26: =ORÇAMENTO!B834 -> 92828 | E26: =ORÇAMENTO!C834 -> SINAPI | F26: =ORÇAMENTO!D834 -> ASSENTAMENTO DE TUBO DE CONCRETO PARA REDES COLETORAS DE ÁGUAS PLUVIAIS, DIÂMETRO DE 1000 MM, JUNTA RÍGIDA, INSTALADO EM LOCAL COM ALTO NÍVEL DE INTERFERÊNCIAS (NÃO INCLUI FORNECIMENTO). AF_03/2024 | G26: =ORÇAMENTO!E834 -> M | H26: =ORÇAMENTO!F834 -> 476.45 | I26: =ORÇAMENTO!G834 -> 108 | J26: =ORÇAMENTO!H834 -> 0.2122 | ... M26: =ORÇAMENTO!K834 -> 0.0022052079 | N26: =IF(F26=F25,IF(G26=G25,"OK!","ERRADO"),"DIFERENTE") -> OK! | O26: =IF(F26=F25,IF(I26=I25,"OK!","ERRADO"),"DIFERENTE") -> OK! | P26: =IF(F26=F25,IF(D26=D25,"OK!","ERRADO"),"DIFERENTE") -> OK!
B27: =IF(EXACT(D26,D27),B26,B26+1) -> 6 | C27: =ORÇAMENTO!A187 -> 4.1.2.4.20 | D27: =ORÇAMENTO!B187 -> 92830 | E27: =ORÇAMENTO!C187 -> SINAPI | F27: =ORÇAMENTO!D187 -> ASSENTAMENTO DE TUBO DE CONCRETO PARA REDES COLETORAS DE ÁGUAS PLUVIAIS, DIÂMETRO DE 1200 MM, JUNTA RÍGIDA, INSTALADO EM LOCAL COM ALTO NÍVEL DE INTERFERÊNCIAS (NÃO INCLUI FORNECIMENTO). AF_03/2024 | G27: =ORÇAMENTO!E187 -> M | H27: =ORÇAMENTO!F187 -> 34.998887 | I27: =ORÇAMENTO!G187 -> 133.19 | J27: =ORÇAMENTO!H187 -> 0.2122 | ... M27: =ORÇAMENTO!K187 -> 0.00019976459 | N27: =IF(F27=F26,IF(G27=G26,"OK!","ERRADO"),"DIFERENTE") -> DIFERENTE | O27: =IF(F27=F26,IF(I27=I26,"OK!","ERRADO"),"DIFERENTE") -> DIFERENTE | P27: =IF(F27=F26,IF(D27=D26,"OK!","ERRADO"),"DIFERENTE") -> DIFERENTE
B28: =IF(EXACT(D27,D28),B27,B27+1) -> 6 | C28: =ORÇAMENTO!A426 -> 5.1.2.4.20 | D28: =ORÇAMENTO!B426 -> 92830 | E28: =ORÇAMENTO!C426 -> SINAPI | F28: =ORÇAMENTO!D426 -> ASSENTAMENTO DE TUBO DE CONCRETO PARA REDES COLETORAS DE ÁGUAS PLUVIAIS, DIÂMETRO DE 1200 MM, JUNTA RÍGIDA, INSTALADO EM LOCAL COM ALTO NÍVEL DE INTERFERÊNCIAS (NÃO INCLUI FORNECIMENTO). AF_03/2024 | G28: =ORÇAMENTO!E426 -> M | H28: =ORÇAMENTO!F426 -> 233.04 | I28: =ORÇAMENTO!G426 -> 133.19 | J28: =ORÇAMENTO!H426 -> 0.2122 | ... M28: =ORÇAMENTO!K426 -> 0.0013301318 | N28: =IF(F28=F27,IF(G28=G27,"OK!","ERRADO"),"DIFERENTE") -> OK! | O28: =IF(F28=F27,IF(I28=I27,"OK!","ERRADO"),"DIFERENTE") -> OK! | P28: =IF(F28=F27,IF(D28=D27,"OK!","ERRADO"),"DIFERENTE") -> OK!
B29: =IF(EXACT(D28,D29),B28,B28+1) -> 6 | C29: =ORÇAMENTO!A636 -> 6.1.2.4.18 | D29: =ORÇAMENTO!B636 -> 92830 | E29: =ORÇAMENTO!C636 -> SINAPI | F29: =ORÇAMENTO!D636 -> ASSENTAMENTO DE TUBO DE CONCRETO PARA REDES COLETORAS DE ÁGUAS PLUVIAIS, DIÂMETRO DE 1200 MM, JUNTA RÍGIDA, INSTALADO EM LOCAL COM ALTO NÍVEL DE INTERFERÊNCIAS (NÃO INCLUI FORNECIMENTO). AF_03/2024 | G29: =ORÇAMENTO!E636 -> M | H29: =ORÇAMENTO!F636 -> 35.107015 | I29: =ORÇAMENTO!G636 -> 133.19 | J29: =ORÇAMENTO!H636 -> 0.2122 | ... M29: =ORÇAMENTO!K636 -> 0.0002003815 | N29: =IF(F29=F28,IF(G29=G28,"OK!","ERRADO"),"DIFERENTE") -> OK! | O29: =IF(F29=F28,IF(I29=I28,"OK!","ERRADO"),"DIFERENTE") -> OK! | P29: =IF(F29=F28,IF(D29=D28,"OK!","ERRADO"),"DIFERENTE") -> OK!
B30: =IF(EXACT(D29,D30),B29,B29+1) -> 6 | C30: =ORÇAMENTO!A835 -> 7.1.2.4.20 | D30: =ORÇAMENTO!B835 -> 92830 | E30: =ORÇAMENTO!C835 -> SINAPI | F30: =ORÇAMENTO!D835 -> ASSENTAMENTO DE TUBO DE CONCRETO PARA REDES COLETORAS DE ÁGUAS PLUVIAIS, DIÂMETRO DE 1200 MM, JUNTA RÍGIDA, INSTALADO EM LOCAL COM ALTO NÍVEL DE INTERFERÊNCIAS (NÃO INCLUI FORNECIMENTO). AF_03/2024 | G30: =ORÇAMENTO!E835 -> M | H30: =ORÇAMENTO!F835 -> 309.31 | I30: =ORÇAMENTO!G835 -> 133.19 | J30: =ORÇAMENTO!H835 -> 0.2122 | ... M30: =ORÇAMENTO!K835 -> 0.0017654612 | N30: =IF(F30=F29,IF(G30=G29,"OK!","ERRADO"),"DIFERENTE") -> OK! | O30: =IF(F30=F29,IF(I30=I29,"OK!","ERRADO"),"DIFERENTE") -> OK! | P30: =IF(F30=F29,IF(D30=D29,"OK!","ERRADO"),"DIFERENTE") -> OK!
B31: =IF(EXACT(D30,D31),B30,B30+1) -> 7 | C31: =ORÇAMENTO!A1026 -> 8.6.9 | D31: =ORÇAMENTO!B1026 -> 92817 | E31: =ORÇAMENTO!C1026 -> SINAPI | F31: =ORÇAMENTO!D1026 -> ASSENTAMENTO DE TUBO DE CONCRETO PARA REDES COLETORAS DE ÁGUAS PLUVIAIS, DIÂMETRO DE 1200 MM, JUNTA RÍGIDA, INSTALADO EM LOCAL COM BAIXO NÍVEL DE INTERFERÊNCIAS (NÃO INCLUI FORNECIMENTO). AF_12/2015 | G31: =ORÇAMENTO!E1026 -> M | H31: =ORÇAMENTO!F1026 -> 11.2 | I31: =ORÇAMENTO!G1026 -> 121.12 | J31: =ORÇAMENTO!H1026 -> 0.2122 | ... M31: =ORÇAMENTO!K1026 -> 5.8133762e-05 | N31: =IF(F31=F30,IF(G31=G30,"OK!","ERRADO"),"DIFERENTE") -> DIFERENTE | O31: =IF(F31=F30,IF(I31=I30,"OK!","ERRADO"),"DIFERENTE") -> DIFERENTE | P31: =IF(F31=F30,IF(D31=D30,"OK!","ERRADO"),"DIFERENTE") -> DIFERENTE
B32: =IF(EXACT(D31,D32),B31,B31+1) -> 8 | C32: =ORÇAMENTO!A188 -> 4.1.2.4.21 | D32: =ORÇAMENTO!B188 -> 92832 | E32: =ORÇAMENTO!C188 -> SINAPI | F32: =ORÇAMENTO!D188 -> ASSENTAMENTO DE TUBO DE CONCRETO PARA REDES COLETORAS DE ÁGUAS PLUVIAIS, DIÂMETRO DE 1500 MM, JUNTA RÍGIDA, INSTALADO EM LOCAL COM ALTO NÍVEL DE INTERFERÊNCIAS (NÃO INCLUI FORNECIMENTO). AF_03/2024 | G32: =ORÇAMENTO!E188 -> M | H32: =ORÇAMENTO!F188 -> 488.31019 | I32: =ORÇAMENTO!G188 -> 172.74 | J32: =ORÇAMENTO!H188 -> 0.2122 | ... M32: =ORÇAMENTO!K188 -> 0.00361492 | N32: =IF(F32=F31,IF(G32=G31,"OK!","ERRADO"),"DIFERENTE") -> DIFERENTE | O32: =IF(F32=F31,IF(I32=I31,"OK!","ERRADO"),"DIFERENTE") -> DIFERENTE | P32: =IF(F32=F31,IF(D32=D31,"OK!","ERRADO"),"DIFERENTE") -> DIFERENTE
B33: =IF(EXACT(D32,D33),B32,B32+1) -> 8 | C33: =ORÇAMENTO!A427 -> 5.1.2.4.21 | D33: =ORÇAMENTO!B427 -> 92832 | E33: =ORÇAMENTO!C427 -> SINAPI | F33: =ORÇAMENTO!D427 -> ASSENTAMENTO DE TUBO DE CONCRETO PARA REDES COLETORAS DE ÁGUAS PLUVIAIS, DIÂMETRO DE 1500 MM, JUNTA RÍGIDA, INSTALADO EM LOCAL COM ALTO NÍVEL DE INTERFERÊNCIAS (NÃO INCLUI FORNECIMENTO). AF_03/2024 | G33: =ORÇAMENTO!E427 -> M | H33: =ORÇAMENTO!F427 -> 310.88 | I33: =ORÇAMENTO!G427 -> 172.74 | J33: =ORÇAMENTO!H427 -> 0.2122 | ... M33: =ORÇAMENTO!K427 -> 0.002301419 | N33: =IF(F33=F32,IF(G33=G32,"OK!","ERRADO"),"DIFERENTE") -> OK! | O33: =IF(F33=F32,IF(I33=I32,"OK!","ERRADO"),"DIFERENTE") -> OK! | P33: =IF(F33=F32,IF(D33=D32,"OK!","ERRADO"),"DIFERENTE") -> OK!
B34: =IF(EXACT(D33,D34),B33,B33+1) -> 8 | C34: =ORÇAMENTO!A637 -> 6.1.2.4.19 | D34: =ORÇAMENTO!B637 -> 92832 | E34: =ORÇAMENTO!C637 -> SINAPI | F34: =ORÇAMENTO!D637 -> ASSENTAMENTO DE TUBO DE CONCRETO PARA REDES COLETORAS DE ÁGUAS PLUVIAIS, DIÂMETRO DE 1500 MM, JUNTA RÍGIDA, INSTALADO EM LOCAL COM ALTO NÍVEL DE INTERFERÊNCIAS (NÃO INCLUI FORNECIMENTO). AF_03/2024 | G34: =ORÇAMENTO!E637 -> M | H34: =ORÇAMENTO!F637 -> 99.773216 | I34: =ORÇAMENTO!G637 -> 172.74 | J34: =ORÇAMENTO!H637 -> 0.2122 | ... M34: =ORÇAMENTO!K637 -> 0.00073861285 | N34: =IF(F34=F33,IF(G34=G33,"OK!","ERRADO"),"DIFERENTE") -> OK! | O34: =IF(F34=F33,IF(I34=I33,"OK!","ERRADO"),"DIFERENTE") -> OK! | P34: =IF(F34=F33,IF(D34=D33,"OK!","ERRADO"),"DIFERENTE") -> OK!
B35: =IF(EXACT(D34,D35),B34,B34+1) -> 8 | C35: =ORÇAMENTO!A836 -> 7.1.2.4.21 | D35: =ORÇAMENTO!B836 -> 92832 | E35: =ORÇAMENTO!C836 -> SINAPI | F35: =ORÇAMENTO!D836 -> ASSENTAMENTO DE TUBO DE CONCRETO PARA REDES COLETORAS DE ÁGUAS PLUVIAIS, DIÂMETRO DE 1500 MM, JUNTA RÍGIDA, INSTALADO EM LOCAL COM ALTO NÍVEL DE INTERFERÊNCIAS (NÃO INCLUI FORNECIMENTO). AF_03/2024 | G35: =ORÇAMENTO!E836 -> M | H35: =ORÇAMENTO!F836 -> 375.2 | I35: =ORÇAMENTO!G836 -> 172.74 | J35: =ORÇAMENTO!H836 -> 0.2122 | ... M35: =ORÇAMENTO!K836 -> 0.0027775747 | N35: =IF(F35=F34,IF(G35=G34,"OK!","ERRADO"),"DIFERENTE") -> OK! | O35: =IF(F35=F34,IF(I35=I34,"OK!","ERRADO"),"DIFERENTE") -> OK! | P35: =IF(F35=F34,IF(D35=D34,"OK!","ERRADO"),"DIFERENTE") -> OK!
B36: =IF(EXACT(D35,D36),B35,B35+1) -> 9 | C36: =ORÇAMENTO!A251 -> 4.1.2.6.49 | D36: =ORÇAMENTO!B251 -> 92821 | E36: =ORÇAMENTO!C251 -> SINAPI | F36: =ORÇAMENTO!D251 -> ASSENTAMENTO DE TUBO DE CONCRETO PARA REDES COLETORAS DE ÁGUAS PLUVIAIS, DIÂMETRO DE 400 MM, JUNTA RÍGIDA, INSTALADO EM LOCAL COM ALTO NÍVEL DE INTERFERÊNCIAS (NÃO INCLUI FORNECIMENTO). AF_03/2024 | G36: =ORÇAMENTO!E251 -> M | H36: =ORÇAMENTO!F251 -> 160.7 | I36: =ORÇAMENTO!G251 -> 38.11 | J36: =ORÇAMENTO!H251 -> 0.2122 | ... M36: =ORÇAMENTO!K251 -> 0.00026247267 | N36: =IF(F36=F35,IF(G36=G35,"OK!","ERRADO"),"DIFERENTE") -> DIFERENTE | O36: =IF(F36=F35,IF(I36=I35,"OK!","ERRADO"),"DIFERENTE") -> DIFERENTE | P36: =IF(F36=F35,IF(D36=D35,"OK!","ERRADO"),"DIFERENTE") -> DIFERENTE
B37: =IF(EXACT(D36,D37),B36,B36+1) -> 9 | C37: =ORÇAMENTO!A494 -> 5.1.2.6.50 | D37: =ORÇAMENTO!B494 -> 92821 | E37: =ORÇAMENTO!C494 -> SINAPI | F37: =ORÇAMENTO!D494 -> ASSENTAMENTO DE TUBO DE CONCRETO PARA REDES COLETORAS DE ÁGUAS PLUVIAIS, DIÂMETRO DE 400 MM, JUNTA RÍGIDA, INSTALADO EM LOCAL COM ALTO NÍVEL DE INTERFERÊNCIAS (NÃO INCLUI FORNECIMENTO). AF_03/2024 | G37: =ORÇAMENTO!E494 -> M | H37: =ORÇAMENTO!F494 -> 329.84 | I37: =ORÇAMENTO!G494 -> 38.11 | J37: =ORÇAMENTO!H494 -> 0.2122 | ... M37: =ORÇAMENTO!K494 -> 0.00053873018 | N37: =IF(F37=F36,IF(G37=G36,"OK!","ERRADO"),"DIFERENTE") -> OK! | O37: =IF(F37=F36,IF(I37=I36,"OK!","ERRADO"),"DIFERENTE") -> OK! | P37: =IF(F37=F36,IF(D37=D36,"OK!","ERRADO"),"DIFERENTE") -> OK!
B38: =IF(EXACT(D37,D38),B37,B37+1) -> 9 | C38: =ORÇAMENTO!A689 -> 6.1.2.6.42 | D38: =ORÇAMENTO!B689 -> 92821 | E38: =ORÇAMENTO!C689 -> SINAPI | F38: =ORÇAMENTO!D689 -> ASSENTAMENTO DE TUBO DE CONCRETO PARA REDES COLETORAS DE ÁGUAS PLUVIAIS, DIÂMETRO DE 400 MM, JUNTA RÍGIDA, INSTALADO EM LOCAL COM ALTO NÍVEL DE INTERFERÊNCIAS (NÃO INCLUI FORNECIMENTO). AF_03/2024 | G38: =ORÇAMENTO!E689 -> M | H38: =ORÇAMENTO!F689 -> 164.83 | I38: =ORÇAMENTO!G689 -> 38.11 | J38: =ORÇAMENTO!H689 -> 0.2122 | ... M38: =ORÇAMENTO!K689 -> 0.00026921802 | N38: =IF(F38=F37,IF(G38=G37,"OK!","ERRADO"),"DIFERENTE") -> OK! | O38: =IF(F38=F37,IF(I38=I37,"OK!","ERRADO"),"DIFERENTE") -> OK! | P38: =IF(F38=F37,IF(D38=D37,"OK!","ERRADO"),"DIFERENTE") -> OK!
B39: =IF(EXACT(D38,D39),B38,B38+1) -> 9 | C39: =ORÇAMENTO!A902 -> 7.1.2.6.49 | D39: =ORÇAMENTO!B902 -> 92821 | E39: =ORÇAMENTO!C902 -> SINAPI | F39: =ORÇAMENTO!D902 -> ASSENTAMENTO DE TUBO DE CONCRETO PARA REDES COLETORAS DE ÁGUAS PLUVIAIS, DIÂMETRO DE 400 MM, JUNTA RÍGIDA, INSTALADO EM LOCAL COM ALTO NÍVEL DE INTERFERÊNCIAS (NÃO INCLUI FORNECIMENTO). AF_03/2024 | G39: =ORÇAMENTO!E902 -> M | H39: =ORÇAMENTO!F902 -> 263.05 | I39: =ORÇAMENTO!G902 -> 38.11 | J39: =ORÇAMENTO!H902 -> 0.2122 | ... M39: =ORÇAMENTO!K902 -> 0.00042964179 | N39: =IF(F39=F38,IF(G39=G38,"OK!","ERRADO"),"DIFERENTE") -> OK! | O39: =IF(F39=F38,IF(I39=I38,"OK!","ERRADO"),"DIFERENTE") -> OK! | P39: =IF(F39=F38,IF(D39=D38,"OK!","ERRADO"),"DIFERENTE") -> OK!
B40: =IF(EXACT(D39,D40),B39,B39+1) -> 10 | C40: =ORÇAMENTO!A184 -> 4.1.2.4.17 | D40: =ORÇAMENTO!B184 -> 92824 | E40: =ORÇAMENTO!C184 -> SINAPI | F40: =ORÇAMENTO!D184 -> ASSENTAMENTO DE TUBO DE CONCRETO PARA REDES COLETORAS DE ÁGUAS PLUVIAIS, DIÂMETRO DE 600 MM, JUNTA RÍGIDA, INSTALADO EM LOCAL COM ALTO NÍVEL DE INTERFERÊNCIAS (NÃO INCLUI FORNECIMENTO). AF_03/2024 | G40: =ORÇAMENTO!E184 -> M | H40: =ORÇAMENTO!F184 -> 162.45238 | I40: =ORÇAMENTO!G184 -> 60.45 | J40: =ORÇAMENTO!H184 -> 0.2122 | ... M40: =ORÇAMENTO!K184 -> 0.00042086011 | N40: =IF(F40=F39,IF(G40=G39,"OK!","ERRADO"),"DIFERENTE") -> DIFERENTE | O40: =IF(F40=F39,IF(I40=I39,"OK!","ERRADO"),"DIFERENTE") -> DIFERENTE | P40: =IF(F40=F39,IF(D40=D39,"OK!","ERRADO"),"DIFERENTE") -> DIFERENTE
...

Sheet CPUs
C1: Composições Analíticas com Preço Unitário | E1: Bancos | G1: B.D.I. | I1: Encargos Sociais
C2: REVISÃO E READEQUAÇÃO DOS PROJETOS EXECUTIVOS DE DRENAGEM NO SETOR HABITACIONAL MESTRE D'ARMAS, REGIÃO ADMINISTRATIVA DE PLANATINA - RA-PLAN, PELA SODF, NO DISTRITO FEDERAL - BLOCO 1 - LOTE 1 (ÁREA 1, 2, 3 E 4) CONTRATO: 21/2021- SODF - SEM DESONERAÇÃO | E2: SINAPI - 12/2024 - Distrito Federal SBC - 01/2025 - Distrito Federal SICRO3 - 10/2024 - Distrito Federal ORSE - 11/2024 - Sergipe SEINFRA - 028 - Ceará SIURB INFRA - 07/2024 - São Paulo AGESUL - 06/2024 - Mato Grosso do Sul EMBASA - 05/2024 - Bahia COMPESA - 07/2024 - Pernambuco EMOP - 12/2024 - Rio de Janeiro | G2: Padrão - 21,22% Material - 11,10% | I2: Sem Desoneração: Horista: 110,14% Mensalista: 70,04%
A4: Composições Principais
B5: Código | C5: Banco | D5: Descrição | E5: Tipo | G5: Und | H5: Quant. | I5: Valor Unit | J5: Total
A6: Composição | B6: 93568 | C6: SINAPI | D6: ENGENHEIRO CIVIL DE OBRA SENIOR COM ENCARGOS COMPLEMENTARES | E6: SEDI - SERVIÇOS DIVERSOS | G6: MES | H6: 1 | I6: 34812.77 | J6: 34812.77
A7: Composição Auxiliar | B7: 95418 | C7: SINAPI | D7: CURSO DE CAPACITAÇÃO PARA ENGENHEIRO CIVIL DE OBRA SÊNIOR (ENCARGOS COMPLEMENTARES) - MENSALISTA | E7: SEDI - SERVIÇOS DIVERSOS | G7: MES | H7: 1 | I7: 431.87 | J7: 431.87
A8: Insumo | B8: 00040814 | C8: SINAPI | D8: ENGENHEIRO CIVIL DE OBRA SENIOR (MENSALISTA) | E8: Mão de Obra | G8: MES | H8: 1 | I8: 33978.99 | J8: 33978.99
A9: Insumo | B9: 00040863 | C9: SINAPI | D9: EXAMES - MENSALISTA (COLETADO CAIXA - ENCARGOS COMPLEMENTARES) | E9: Material | G9: MES | H9: 1 | I9: 252.08 | J9: 252.08
A10: Insumo | B10: 00040864 | C10: SINAPI | D10: SEGURO - MENSALISTA (COLETADO CAIXA - ENCARGOS COMPLEMENTARES) | E10: Material | G10: MES | H10: 1 | I10: 7.31 | J10: 7.31
A11: Insumo | B11: 00043474 | C11: SINAPI | D11: FERRAMENTAS - FAMILIA ENGENHEIRO CIVIL - MENSALISTA (ENCARGOS COMPLEMENTARES - COLETADO CAIXA) | E11: Equipamento | G11: MES | H11: 1 | I11: 2.29 | J11: 2.29
A12: Insumo | B12: 00043498 | C12: SINAPI | D12: EPI - FAMILIA ENGENHEIRO CIVIL - MENSALISTA (ENCARGOS COMPLEMENTARES - COLETADO CAIXA) | E12: Equipamento | G12: MES | H12: 1 | I12: 140.23 | J12: 140.23
B14: Código | C14: Banco | D14: Descrição | E14: Tipo | G14: Und | H14: Quant. | I14: Valor Unit | J14: Total
A15: Composição | B15: 93567 | C15: SINAPI | D15: ENGENHEIRO CIVIL DE OBRA PLENO COM ENCARGOS COMPLEMENTARES | E15: SEDI - SERVIÇOS DIVERSOS | G15: MES | H15: 1 | I15: 24859.48 | J15: 24859.48
A16: Composição Auxiliar | B16: 95417 | C16: SINAPI | D16: CURSO DE CAPACITAÇÃO PARA ENGENHEIRO CIVIL DE OBRA PLENO (ENCARGOS COMPLEMENTARES) - MENSALISTA | E16: SEDI - SERVIÇOS DIVERSOS | G16: MES | H16: 1 | I16: 306.95 | J16: 306.95
A17: Insumo | B17: 00040813 | C17: SINAPI | D17: ENGENHEIRO CIVIL DE OBRA PLENO (MENSALISTA) | E17: Mão de Obra | G17: MES | H17: 1 | I17: 24150.62 | J17: 24150.62
A18: Insumo | B18: 00040863 | C18: SINAPI | D18: EXAMES - MENSALISTA (COLETADO CAIXA - ENCARGOS COMPLEMENTARES) | E18: Material | G18: MES | H18: 1 | I18: 252.08 | J18: 252.08
A19: Insumo | B19: 00040864 | C19: SINAPI | D19: SEGURO - MENSALISTA (COLETADO CAIXA - ENCARGOS COMPLEMENTARES) | E19: Material | G19: MES | H19: 1 | I19: 7.31 | J19: 7.31
A20: Insumo | B20: 00043474 | C20: SINAPI | D20: FERRAMENTAS - FAMILIA ENGENHEIRO CIVIL - MENSALISTA (ENCARGOS COMPLEMENTARES - COLETADO CAIXA) | E20: Equipamento | G20: MES | H20: 1 | I20: 2.29 | J20: 2.29
A21: Insumo | B21: 00043498 | C21: SINAPI | D21: EPI - FAMILIA ENGENHEIRO CIVIL - MENSALISTA (ENCARGOS COMPLEMENTARES - COLETADO CAIXA) | E21: Equipamento | G21: MES | H21: 1 | I21: 140.23 | J21: 140.23
B23: Código | C23: Banco | D23: Descrição | E23: Tipo | G23: Und | H23: Quant. | I23: Valor Unit | J23: Total
A24: Composição | B24: 100534 | C24: SINAPI | D24: TECNICO DE EDIFICACOES COM ENCARGOS COMPLEMENTARES | E24: SEDI - SERVIÇOS DIVERSOS | G24: MES | H24: 1 | I24: 3536.93 | J24: 3536.93
A25: Composição Auxiliar | B25: 100536 | C25: SINAPI | D25: CURSO DE CAPACITAÇÃO PARA TECNICO DE EDIFICACOES (ENCARGOS COMPLEMENTARES) - MENSALISTA | E25: SEDI - SERVIÇOS DIVERSOS | G25: MES | H25: 1 | I25: 47.57 | J25: 47.57
A26: Insumo | B26: 00040863 | C26: SINAPI | D26: EXAMES - MENSALISTA (COLETADO CAIXA - ENCARGOS COMPLEMENTARES) | E26: Material | G26: MES | H26: 1 | I26: 252.08 | J26: 252.08
A27: Insumo | B27: 00040864 | C27: SINAPI | D27: SEGURO - MENSALISTA (COLETADO CAIXA - ENCARGOS COMPLEMENTARES) | E27: Material | G27: MES | H27: 1 | I27: 7.31 | J27: 7.31
A28: Insumo | B28: 00040946 | C28: SINAPI | D28: TECNICO DE EDIFICACOES (MENSALISTA) | E28: Mão de Obra | G28: MES | H28: 1 | I28: 3071.04 | J28: 3071.04
A29: Insumo | B29: 00043470 | C29: SINAPI | D29: FERRAMENTAS - FAMILIA ALMOXARIFE - MENSALISTA (ENCARGOS COMPLEMENTARES - COLETADO CAIXA) | E29: Equipamento | G29: MES | H29: 1 | I29: 10.89 | J29: 10.89
A30: Insumo | B30: 00043494 | C30: SINAPI | D30: EPI - FAMILIA ALMOXARIFE - MENSALISTA (ENCARGOS COMPLEMENTARES - COLETADO CAIXA) | E30: Equipamento | G30: MES | H30: 1 | I30: 148.04 | J30: 148.04
B32: Código | C32: Banco | D32: Descrição | E32: Tipo | G32: Und | H32: Quant. | I32: Valor Unit | J32: Total
A33: Composição | B33: COMP-TEC-020 | C33: Próprio | D33: TÉCNICO DE MEIO AMBIENTE COM ENCARGOS COMPLEMENTARES E ENCARGOS SOCIAIS E.S 70,04% | E33: SEDI - SERVIÇOS DIVERSOS | G33: MÊS | H33: 1 | I33: 6723.27 | J33: 6723.27
A34: Insumo | B34: 00043481 | C34: SINAPI | D34: FERRAMENTAS - FAMILIA TOPOGRAFO - MENSALISTA (ENCARGOS COMPLEMENTARES - COLETADO CAIXA) | E34: Equipamento | G34: MES | H34: 1 | I34: 12.77 | J34: 12.77
A35: Insumo | B35: 00043505 | C35: SINAPI | D35: EPI - FAMILIA TOPOGRAFO - MENSALISTA (ENCARGOS COMPLEMENTARES - COLETADO CAIXA) | E35: Equipamento | G35: MES | H35: 1 | I35: 132.94 | J35: 132.94
A36: Insumo | B36: 00040863 | C36: SINAPI | D36: EXAMES - MENSALISTA (COLETADO CAIXA - ENCARGOS COMPLEMENTARES) | E36: Material | G36: MES | H36: 1 | I36: 252.08 | J36: 252.08
A37: Insumo | B37: 00040864 | C37: SINAPI | D37: SEGURO - MENSALISTA (COLETADO CAIXA - ENCARGOS COMPLEMENTARES) | E37: Material | G37: MES | H37: 1 | I37: 7.31 | J37: 7.31
A38: Insumo | B38: P9897 OUT/24 | C38: Próprio | D38: TÉCNICO DE MEIO AMBIENTE SEM ENCARGOS | E38: Mão de Obra | G38: MÊS | H38: 1 | I38: 3682.16 | J38: 3682.16
A39: Insumo | B39: P9897 OUT/24 | C39: Próprio | D39: TÉCNICO DE MEIO AMBIENTE SEM ENCARGOS | E39: Mão de Obra | G39: MÊS | H39: 0.01549 | I39: 3682.16 | J39: 57.03
A40: Insumo | B40: P9897 OUT/24 | C40: Próprio | D40: TÉCNICO DE MEIO AMBIENTE SEM ENCARGOS | E40: Mão de Obra | G40: MÊS | H40: 0.7004 | I40: 3682.16 | J40: 2578.98
B42: Código | C42: Banco | D42: Descrição | E42: Tipo | G42: Und | H42: Quant. | I42: Valor Unit | J42: Total
A43: Composição | B43: E9093 MÊS | C43: Próprio | D43: VEICULO LEVE - 53 KW (SEM MOTORISTA) | E43: CHOR - CUSTOS HORÁRIOS DE MÁQUINAS E EQUIPAMENTOS | G43: MÊS | H43: 1 | I43: 2727.71 | J43: 2727.71
A44: A | B44: Código | C44: Banco | D44: Equipamentos | E44: Quantidade | F44: Utilização | H44: Custo Operacional | I44: Custo Horário
F45: Operativa | G45: Improdutiva | H45: Operativa
...

Sheet MEM. CÁLC
A1: GOVERNO DO DISTRITO FEDERAL Secretaria de Estado de Obras e Infraestrutura do Distrito Federal - SODF
A2: MEMÓRIA DE CÁLCULO
A3: SERVIÇO: | C3: REVISÃO E READEQUAÇÃO DOS PROJETOS EXECUTIVOS DE DRENAGEM NO SETOR HABITACIONAL MESTRE D'ARMAS, REGIÃO ADMINISTRATIVA DE PLANATINA - RA VI, PELA SODF, NO DISTRITO FEDERAL
A4: LOCALIDADE: | C4: BRASILIA-DF
A5: ITEM | B5: DISCRIMINAÇÃO | C5: UN.
A6: =ORÇAMENTO!A5 -> 1 | B6: =VLOOKUP(A6,ORÇAMENTO!A:K,4,0) -> ADMINISTRAÇÃO | D6: DURAÇÃO DA OBRA (MÊS): | E6: =COUNTA(CRONOGRAMA!H4:S4) -> 12
A7: =ORÇAMENTO!A6 -> 1.1 | B7: =VLOOKUP(A7,ORÇAMENTO!A:K,4,0) -> EQUIPE TÉCNICA GERENCIAL
A8: =ORÇAMENTO!A7 -> 1.1.1 | B8: =VLOOKUP(A8,ORÇAMENTO!A:K,4,0) -> MÃO DE OBRA EQUIPE TÉCNICA GERENCIAL
A9: =ORÇAMENTO!A8 -> 1.1.1.1 | B9: =VLOOKUP(A9,ORÇAMENTO!A:K,4,0) -> ENGENHEIRO CIVIL DE OBRA SENIOR COM ENCARGOS COMPLEMENTARES | C9: =VLOOKUP(A9,ORÇAMENTO!A:K,5,0) -> MES | D9: =SUM(E12:O12) -> 4 | E9: COMP. (M) | F9: LARG. (M) | G9: ALTURA (M) | H9: ESPES. (M) | I9: PERÍM. (M) | J9: DIÂM. (M) | K9: PESO (KG) | L9: % | M9: QUANT. | N9: ÁREA (M²) | O9: VOLUME (M³)
B10: Permanência 1 Profissional 1/3 PERIODO | M10: =E6/3 -> 4
B12: TOTAL | M12: =SUM(M10:M11) -> 4
A13: =ORÇAMENTO!A9 -> 1.1.1.2 | B13: =VLOOKUP(A13,ORÇAMENTO!A:K,4,0) -> ENGENHEIRO CIVIL DE OBRA PLENO COM ENCARGOS COMPLEMENTARES | C13: =VLOOKUP(A13,ORÇAMENTO!A:K,5,0) -> MES | D13: =SUM(E16:O16) -> 12 | E13: COMP. (M) | F13: LARG. (M) | G13: ALTURA (M) | H13: ESPES. (M) | I13: PERÍM. (M) | J13: DIÂM. (M) | K13: PESO (KG) | L13: % | M13: QUANT. | N13: ÁREA (M²) | O13: VOLUME (M³)
B14: Permanência 1 Profissional periodo integral | M14: =E6 -> 12
B16: TOTAL | M16: =SUM(M14:M15) -> 12
A17: =ORÇAMENTO!A10 -> 1.1.1.3 | B17: =VLOOKUP(A17,ORÇAMENTO!A:K,4,0) -> TECNICO DE EDIFICACOES COM ENCARGOS COMPLEMENTARES | C17: =VLOOKUP(A17,ORÇAMENTO!A:K,5,0) -> MES | D17: =SUM(E20:O20) -> 12 | E17: COMP. (M) | F17: LARG. (M) | G17: ALTURA (M) | H17: ESPES. (M) | I17: PERÍM. (M) | J17: DIÂM. (M) | K17: PESO (KG) | L17: % | M17: QUANT. | N17: ÁREA (M²) | O17: VOLUME (M³)
B18: Permanência 1 Profissional periodo integral | M18: =M14 -> 12
B20: TOTAL | M20: =SUM(M18:M19) -> 12
A21: =ORÇAMENTO!A11 -> 1.1.1.4 | B21: =VLOOKUP(A21,ORÇAMENTO!A:K,4,0) -> TÉCNICO DE MEIO AMBIENTE COM ENCARGOS COMPLEMENTARES E ENCARGOS SOCIAIS E.S 70,04% | C21: =VLOOKUP(A21,ORÇAMENTO!A:K,5,0) -> MÊS | D21: =SUM(E24:O24) -> 6 | E21: COMP. (M) | F21: LARG. (M) | G21: ALTURA (M) | H21: ESPES. (M) | I21: PERÍM. (M) | J21: DIÂM. (M) | K21: PESO (KG) | L21: % | M21: QUANT. | N21: ÁREA (M²) | O21: VOLUME (M³)
B22: Permanência 1 Profissional Meio Periodo | M22: =M18/2 -> 6
B24: TOTAL | M24: =SUM(M22:M23) -> 6
A25: =ORÇAMENTO!A12 -> 1.1.2 | B25: =VLOOKUP(A25,ORÇAMENTO!A:K,4,0) -> VEICULOS EQUIPE TÉCNICA
A26: =ORÇAMENTO!A13 -> 1.1.2.1 | B26: =VLOOKUP(A26,ORÇAMENTO!A:K,4,0) -> VEICULO LEVE - 53 KW (SEM MOTORISTA) | C26: =VLOOKUP(A26,ORÇAMENTO!A:K,5,0) -> MÊS | D26: =SUM(E29:O29) -> 12 | E26: COMP. (M) | F26: LARG. (M) | G26: ALTURA (M) | H26: ESPES. (M) | I26: PERÍM. (M) | J26: DIÂM. (M) | K26: PESO (KG) | L26: % | M26: QUANT. | N26: ÁREA (M²) | O26: VOLUME (M³)
B27: PERÍODO INTEGRAL | M27: =M18 -> 12
B29: TOTAL | M29: =SUM(M27:M28) -> 12
A30: =ORÇAMENTO!A14 -> 1.2 | B30: =VLOOKUP(A30,ORÇAMENTO!A:K,4,0) -> EQUIPE GERENCIAL ADMINISTRATIVA
A31: =ORÇAMENTO!A15 -> 1.2.1 | B31: =VLOOKUP(A31,ORÇAMENTO!A:K,4,0) -> AUXILIAR DE ESCRITORIO COM ENCARGOS COMPLEMENTARES | C31: =VLOOKUP(A31,ORÇAMENTO!A:K,5,0) -> MES | D31: =SUM(E34:O34) -> 12 | E31: COMP. (M) | F31: LARG. (M) | G31: ALTURA (M) | H31: ESPES. (M) | I31: PERÍM. (M) | J31: DIÂM. (M) | K31: PESO (KG) | L31: % | M31: QUANT. | N31: ÁREA (M²) | O31: VOLUME (M³)
B32: Consideramos 1 profissionais | M32: =M27 -> 12
B34: TOTAL | M34: =SUM(M32:M33) -> 12
