Workbook
Name __SM1: #REF!
Name __SM1: #REF!
Name __SM1: #REF!
Name __SM1: #REF!
Name __SM1: #REF!
Name __SM1: #REF!
Name __SM1: #REF!
Name __SM1: #REF!
Name __SM1: #REF!
Name __SM1: #REF!
Name __SM1: #REF!
Name __SM1: #REF!
Name __SM10: #REF!
Name __SM10: #REF!
Name __SM10: #REF!
Name __SM10: #REF!
Name __SM10: #REF!
Name __SM10: #REF!
Name __SM10: #REF!
Name __SM10: #REF!
Name __SM10: #REF!
Name __SM10: #REF!
Name __SM11: #REF!
Name __SM11: #REF!
Name __SM11: #REF!
Name __SM11: #REF!
Name __SM11: #REF!
Name __SM11: #REF!
Name __SM11: #REF!
Name __SM11: #REF!
Name __SM11: #REF!
Name __SM11: #REF!
Name __SM12: #REF!
Name __SM12: #REF!
Name __SM12: #REF!
Name __SM12: #REF!
Name __SM12: #REF!
Name __SM12: #REF!
Name __sm13: #REF!
Name __sm13: #REF!
Name __sm13: #REF!
Name __sm13: #REF!
Name __sm13: #REF!
Name __sm13: #REF!
Name __SM2: #REF!
Name __SM2: #REF!
Name __SM2: #REF!
Name __SM2: #REF!
Name __SM2: #REF!
Name __SM2: #REF!
Name __SM3: #REF!
Name __SM3: #REF!
Name __SM3: #REF!
Name __SM3: #REF!
Name __SM3: #REF!
Name __SM3: #REF!
Name __SM4: #REF!
Name __SM4: #REF!
Name __SM4: #REF!
Name __SM4: #REF!

Sheet SERVIÇOS
A1: PCI.817.01 - CUSTO DE COMPOSIÇÕES - SINTÉTICO DATA DE EMISSÃO: 13/06/2024 23:19:21 DATA DE RT: 13/06/2024
A2: ENCARGOS SOCIAIS SOBRE PREÇOS DA MÃO-DE-OBRA: 110,14%(HORA) 70,04%(MÊS)
A3: ABRANGÊNCIA : NACIONAL LOCALIDADE : BRASILIA DATA DE PREÇO : 05/2024 REFERÊNCIA COLETA : MEDIANO
A5: CODIGO DA COMPOSICAO | B5: DESCRICAO DA COMPOSICAO | C5: UNIDADE | D5: CUSTO TOTAL | E5: TIPO
A7: 97141 | B7: ASSENTAMENTO DE TUBO DE FERRO FUNDIDO PARA REDE DE ÁGUA, DN 80 MM, JUNTA ELÁSTICA, INSTALADO EM LOCAL COM NÍVEL ALTO DE INTERFERÊNCIAS (NÃO INCLUI FORNECIMENTO). AF_05/2024 | C7: M | D7: 4.78 | E7: SER.CG
A8: 97142 | B8: ASSENTAMENTO DE TUBO DE FERRO FUNDIDO PARA REDE DE ÁGUA, DN 100 MM, JUNTA ELÁSTICA, INSTALADO EM LOCAL COM NÍVEL ALTO DE INTERFERÊNCIAS (NÃO INCLUI FORNECIMENTO). AF_05/2024 | C8: M | D8: 5.55 | E8: SER.CG
A9: 97143 | B9: ASSENTAMENTO DE TUBO DE FERRO FUNDIDO PARA REDE DE ÁGUA, DN 150 MM, JUNTA ELÁSTICA, INSTALADO EM LOCAL COM NÍVEL ALTO DE INTERFERÊNCIAS (NÃO INCLUI FORNECIMENTO). AF_05/2024 | C9: M | D9: 7.43 | E9: SER.CG
A10: 97144 | B10: ASSENTAMENTO DE TUBO DE FERRO FUNDIDO PARA REDE DE ÁGUA, DN 200 MM, JUNTA ELÁSTICA, INSTALADO EM LOCAL COM NÍVEL ALTO DE INTERFERÊNCIAS (NÃO INCLUI FORNECIMENTO). AF_05/2024 | C10: M | D10: 9.33 | E10: SER.CG
A11: 97145 | B11: ASSENTAMENTO DE TUBO DE FERRO FUNDIDO PARA REDE DE ÁGUA, DN 250 MM, JUNTA ELÁSTICA, INSTALADO EM LOCAL COM NÍVEL ALTO DE INTERFERÊNCIAS (NÃO INCLUI FORNECIMENTO). AF_05/2024 | C11: M | D11: 11.25 | E11: SER.CG
A12: 97146 | B12: ASSENTAMENTO DE TUBO DE FERRO FUNDIDO PARA REDE DE ÁGUA, DN 300 MM, JUNTA ELÁSTICA, INSTALADO EM LOCAL COM NÍVEL ALTO DE INTERFERÊNCIAS (NÃO INCLUI FORNECIMENTO). AF_05/2024 | C12: M | D12: 13.16 | E12: SER.CG
A13: 97147 | B13: ASSENTAMENTO DE TUBO DE FERRO FUNDIDO PARA REDE DE ÁGUA, DN 350 MM, JUNTA ELÁSTICA, INSTALADO EM LOCAL COM NÍVEL ALTO DE INTERFERÊNCIAS (NÃO INCLUI FORNECIMENTO). AF_05/2024 | C13: M | D13: 15.07 | E13: SER.CG
A14: 97148 | B14: ASSENTAMENTO DE TUBO DE FERRO FUNDIDO PARA REDE DE ÁGUA, DN 400 MM, JUNTA ELÁSTICA, INSTALADO EM LOCAL COM NÍVEL ALTO DE INTERFERÊNCIAS (NÃO INCLUI FORNECIMENTO). AF_05/2024 | C14: M | D14: 16.97 | E14: SER.CG
A15: 97149 | B15: ASSENTAMENTO DE TUBO DE FERRO FUNDIDO PARA REDE DE ÁGUA, DN 450 MM, JUNTA ELÁSTICA, INSTALADO EM LOCAL COM NÍVEL ALTO DE INTERFERÊNCIAS (NÃO INCLUI FORNECIMENTO). AF_05/2024 | C15: M | D15: 18.93 | E15: SER.CG
A16: 97150 | B16: ASSENTAMENTO DE TUBO DE FERRO FUNDIDO PARA REDE DE ÁGUA, DN 500 MM, JUNTA ELÁSTICA, INSTALADO EM LOCAL COM NÍVEL ALTO DE INTERFERÊNCIAS (NÃO INCLUI FORNECIMENTO). AF_05/2024 | C16: M | D16: 24.19 | E16: SER.CG
A17: 97151 | B17: ASSENTAMENTO DE TUBO DE FERRO FUNDIDO PARA REDE DE ÁGUA, DN 600 MM, JUNTA ELÁSTICA, INSTALADO EM LOCAL COM NÍVEL ALTO DE INTERFERÊNCIAS (NÃO INCLUI FORNECIMENTO). AF_05/2024 | C17: M | D17: 28.58 | E17: SER.CG
A18: 97152 | B18: ASSENTAMENTO DE TUBO DE FERRO FUNDIDO PARA REDE DE ÁGUA, DN 700 MM, JUNTA ELÁSTICA, INSTALADO EM LOCAL COM NÍVEL ALTO DE INTERFERÊNCIAS (NÃO INCLUI FORNECIMENTO). AF_05/2024 | C18: M | D18: 32.66 | E18: SER.CG
... A7693: 101460 | B7693: VIGIA DIURNO COM ENCARGOS COMPLEMENTARES | C7693: MES | D7693: 4376.49 | E7693: M.O
A7695: SLU-1 | B7695: DISPOSIÇÃO FINAL DE RESÍDUOS SEGREGADOS DE CONSTRUÇÃO CIVIL | C7695: T | D7695: 15.25 | E7695: SER.CG
A7696: SLU-2 | B7696: DISPOSIÇÃO FINAL DE RESÍDUOS DE PODAS E GALHADAS | C7696: T | D7696: 23.8 | E7696: SER.CG

Sheet INSUMOS
A1: PRECOS DE INSUMOS - BANCO NACIONAL
A3: MES DE COLETA: 05/2024
A4: LOCALIDADE: 4495 - BRASILIA
A5: ENCARGOS SOCIAIS (%) HORISTA 110,14 MENSALISTA 70,04
A7: CODIGO | B7: DESCRICAO DO INSUMO | C7: UNIDADE DE MEDIDA | D7: PRECO MEDIANO R$ | E7: TIPO | F7: ORIGEM DO PRECO
A8: 38605 | B8: ABERTURA PARA ENCAIXE DE CUBA OU LAVATORIO EM BANCADA DE MARMORE/ GRANITO OU OUTRO TIPO DE PEDRA NATURAL | C8: UN | D8: 124.38 | E8: MAT. | F8: CR
A9: 11270 | B9: ABRACADEIRA DE LATAO PARA FIXACAO DE CABO PARA-RAIO, DIMENSOES 32 X 24 X 24 MM | C9: UN | D9: 2.86 | E9: MAT. | F9: AS
A10: 412 | B10: ABRACADEIRA DE NYLON PARA AMARRACAO DE CABOS, COMPRIMENTO DE *230* X *7,6* MM | C10: UN | D10: 1.02 | E10: MAT. | F10: CR
A11: 414 | B11: ABRACADEIRA DE NYLON PARA AMARRACAO DE CABOS, COMPRIMENTO DE 100 X 2,5 MM | C11: UN | D11: 0.06 | E11: MAT. | F11: CR
A12: 410 | B12: ABRACADEIRA DE NYLON PARA AMARRACAO DE CABOS, COMPRIMENTO DE 150 X *3,6* MM | C12: UN | D12: 0.15 | E12: MAT. | F12: CR
A13: 411 | B13: ABRACADEIRA DE NYLON PARA AMARRACAO DE CABOS, COMPRIMENTO DE 200 X *4,6* MM | C13: UN | D13: 0.2 | E13: MAT. | F13: C
A14: 408 | B14: ABRACADEIRA DE NYLON PARA AMARRACAO DE CABOS, COMPRIMENTO DE 390 X *4,6* MM | C14: UN | D14: 0.99 | E14: MAT. | F14: CR
A15: 39131 | B15: ABRACADEIRA EM ACO PARA AMARRACAO DE ELETRODUTOS, TIPO D, COM 1 1/2" E CUNHA DE FIXACAO | C15: UN | D15: 3.64 | E15: MAT. | F15: CR
A16: 394 | B16: ABRACADEIRA EM ACO PARA AMARRACAO DE ELETRODUTOS, TIPO D, COM 1 1/2" E PARAFUSO DE FIXACAO | C16: UN | D16: 3.68 | E16: MAT. | F16: CR
A17: 39130 | B17: ABRACADEIRA EM ACO PARA AMARRACAO DE ELETRODUTOS, TIPO D, COM 1 1/4" E CUNHA DE FIXACAO | C17: UN | D17: 3.32 | E17: MAT. | F17: CR
A18: 395 | B18: ABRACADEIRA EM ACO PARA AMARRACAO DE ELETRODUTOS, TIPO D, COM 1 1/4" E PARAFUSO DE FIXACAO | C18: UN | D18: 3.55 | E18: MAT. | F18: CR
A19: 39127 | B19: ABRACADEIRA EM ACO PARA AMARRACAO DE ELETRODUTOS, TIPO D, COM 1/2" E CUNHA DE FIXACAO | C19: UN | D19: 1.75 | E19: MAT. | F19: CR
... A562: 751 | B562: BOMBA SUBMERSIVEL, ELETRICA, TRIFASICA, POTENCIA 2,96 HP, DIAMETRO DO ROTOR 144 MM SEMIABERTO, BOCAL DE SAIDA DIAMETRO DE DUAS POLEGADAS, HM/Q = 2 M / 38,8 M3/H A 28 M / 5 M3/H | C562: UN | D562: 6355.12 | E562: EQUIP. | F562: CR
A563: 754 | B563: BOMBA SUBMERSIVEL, ELETRICA, TRIFASICA, POTENCIA 3,75 HP, DIAMETRO DO ROTOR 90 MM SEMIABERTO, BOCAL DE SAIDA DIAMETRO DE 2 POLEGADAS, HM/Q = 5 M / 61,2 M3/H A 25,5 M / 3,6 M3/H | C563: UN | D563: 10087.5 | E563: EQUIP. | F563: CR | J563: =400*8.2 -> 3280
A564: 757 | B564: BOMBA SUBMERSIVEL, ELETRICA, TRIFASICA, POTENCIA 6 HP, DIAMETRO DO ROTOR 127 MM, BOCAL DE SAIDA DIAMETRO DE 3 POLEGADAS, HM/Q = 7 M / 66,90 M3/H A 26 M / 2,88 M3/H | C564: UN | D564: 20175 | E564: EQUIP. | F564: CR
A565: 44489 | B565: BOMBA TRIPLEX COM MOTOR A DIESEL, NACIONAL, DIAMETRO DE SUCCAO DE 2 1/2" | C565: UN | D565: 288996.98 | E565: EQUIP. | F565: CR
A566: 39917 | B566: BOMBA TRIPLEX, PARA INJECAO DE CALDA DE CIMENTO, VAZAO MAXIMA DE *100* LITROS/MINUTO, PRESSAO MAXIMA DE *70* BAR, POTENCIA DE 15 CV | C566: UN | D566: 101312.44 | E566: EQUIP. | F566: CR
A567: 38167 | B567: BORBOLETA PARA JANELA TIPO GUILHOTINA, EM ZAMAC CROMADO | C567: PAR | D567: 25.2 | E567: MAT. | F567: CR
A568: 36145 | B568: BOTA DE PVC PRETA, CANO MEDIO, SEM FORRO | C568: PAR | D568: 44.64 | E568: MAT. | F568: CR
A569: 12893 | B569: BOTA DE SEGURANCA COM BIQUEIRA DE ACO E COLARINHO ACOLCHOADO | C569: PAR | D569: 74.4 | E569: MAT. | F569: CR
A570: 11685 | B570: BRACO / CANO PARA CHUVEIRO ELETRICO, EM ALUMINIO, 30 CM X 1/2" | C570: UN | D570: 26.43 | E570: MAT. | F570: CR
A571: 11680 | B571: BRACO OU HASTE COM CANOPLA PLASTICA, 1/2 ", PARA CHUVEIRO SIMPLES | C571: UN | D571: 23.22 | E571: MAT. | F571: CR
A572: 11679 | B572: BRACO OU HASTE RETA COM CANOPLA PLASTICA, 1/2 ", PARA CHUVEIRO ELETRICO | C572: UN | D572: 31.48 | E572: MAT. | F572: CR
A573: 2512 | B573: BRACO P/ LUMINARIA PUBLICA 1 X 1,50M ROMAGNOLE OU EQUIV | C573: UN | D573: 23.47 | E573: MAT. | F573: CR
A574: 4374 | B574: BUCHA DE NYLON SEM ABA S10 | C574: UN | D574: 0.7 | E574: MAT. | F574: CR
A575: 7568 | B575: BUCHA DE NYLON SEM ABA S10, COM PARAFUSO DE 6,10 X 65 MM EM ACO ZINCADO COM ROSCA SOBERBA, CABECA CHATA E FENDA PHILLIPS | C575: UN | D575: 1.16 | E575: MAT. | F575: CR
... A4834: 41096 | B4834: VIGIA DIURNO (MENSALISTA) | C4834: MES | D4834: 2741.53 | E4834: M.O | F4834: CR
A4836: TOTAL DE INSUMOS : 4827
A4839: SICRO - JANEIRO 2024
A4840: M0225 | B4840: ADUBO ORGÂNICO COMPOSTO | C4840: KG | D4840: 0.2549 | E4840: MAT.
A4841: E9028-P | B4841: BOMBA DE ALTA PRESSÃO PARA HIDROJATEAMENTO COM CAPACIDADE DE 18 MPA - 5,20 KW | C4841: CHP | D4841: 34.0362 | E4841: EQUIP.
A4842: E9605-P | B4842: CAMINHÃO TANQUE COM CAPACIDADE DE 6.000 L - 136 KW | C4842: CHP | D4842: 254.2848 | E4842: EQUIP.
A4843: E9605-I | B4843: CAMINHÃO TANQUE COM CAPACIDADE DE 6.000 L - 136 KW | C4843: Chi | D4843: 71.2636 | E4843: EQUIP.
F4941: =UPPER(B4941)
F4942: =UPPER(B4942)
...

Sheet 014-22-CAPA
C1: VER COMENTÁRIOS NAS CÉLULAS ANTES DE PREENCHER. FAVOR MANTER TODOS OS COMENTÁRIOS DAS CÉLULAS PARA FACILITAR A CONFERÊNCIA DO ARQUIVO Sempre consultar a Cooordenação de arquivos da DITEC para quaisquer dúvidas.
D8: GOVERNO DO DISTRITO FEDERAL
D9: SECRETARIA DE ESTADO DE INFRAESTRUTURA E SERVIÇOS PÚBLICOS
D10: COMPANHIA URBANIZADORA DA NOVA CAPITAL DO BRASIL
D11: CAPA DA PLANILHA ESTIMATIVA
D14: Nº ESTIMATIVA: | E14: 014/2022-SEORÇA-SDS-R02
D15: TÍTULO: | E15: ORÇ. REVITALIZAÇÃO DA PRAÇA 21 DE ABRIL
D16: Nº PROJETO: | E16: PROJ-DE-034-20
D17: NOME PROJETO: | E17: REVITALIZAÇÃO DA PRAÇA 21 DE ABRIL
D18: ENDEREÇO: | E18: ENTRE QUADRAS 707 / 708 SUL - ASA SUL - BRASILIA-DF
D19: PRAZO: | E19: 120 DIAS CORRIDOS
D20: DATA: | E20: 45478
D21: ORÇAMENTISTA(S): | E21: ENG. GILMAR DA MOTA FERNANDES - CREA: 23785/D-DF ART:0720220018938
E22: ENG. HERBERT MESQUITA LOIOLA - CREA: 25130/D-DF ART: 0720240055972
D23: PROCESSO: | E23: 00112-00007828/2021-91
D24: TABELA REFERÊNCIA: | E24: SINAPI - DATA DE PREÇO MAIO 2024
D25: SISOBRAS: | E25: ÁREA DE REVITALIZAÇÃO: 10.937,80 m²
D26: OBSERVAÇÕES: | E26: 1 - De acordo com o contido no Despacho - NOVACAP/DE/DETEC/DITEC/SEARQ (81859309), presente no processo SEI-04018-00000386/2020-37, informamos que os Quiosques, Bancos em concreto e lixeiras não fazem parte desta estimativa. 2 - Esta ART 0720240055972 contempla somente a atualização de custos desta estimativa.
D27: BDI ITILIZADOS: | E27: 18,56% (OBRAS DE MENOR COMPLEXIDADE)
D28: RESP. CAPA: | E28: ENG. HERBERT MESQUITA LOIOLA - CREA: 25130/D-DF
D30: ESTIMATIVAS DIRETORIA DE EDIFICAÇÕES:
D31: 014.01/2022-SEORÇA: Orçamento ......................................................................................................... | F31: ='014.01-22-ORÇAMENTO'!J236 -> 1900956.8
D32: VALOR TOTAL ESTIMADO COM BDI......................................................................................................................... | F32: =SUM(F31:F31) -> 1900956.8
D34: NOTAS: | E34: *Esta planilha é orientativa. Desta forma, é de inteira responsabilidade do contratado as quantidades e valores necessários a completa execução da obra. *Havendo irregularidades neste instrumento, entre em contato com a Ouvidoria de Combate a Corrupção, no telefone 0800-6449060
D37: ENG. GILMAR DA MOTA FERNANDES ART: 0720220018938 CREA: 23785/D-DF Matrícula: 973.113-X
D38: ENG. HERBERT MESQUITA LOIOLA ART: 0720240055972 CREA: 25130/D-DF Matrícula: 973.299-3
D40: OBRA C/BDI | E40: =F32 -> 1900956.8
D41: ADM LOCAL C/BDI | E41: ='014.01-22-ORÇAMENTO'!J227 -> 176473.83
D42: % ADM local | E42: =E41/E40 -> 0.092834216
D43: R$ / M2 | E43: =F32/10937.8 -> 173.797

Sheet 014.01-22-ORÇAMENTO
B2: GOVERNO DO DISTRITO FEDERAL
B3: SECRETARIA DE ESTADO DE INFRAESTRUTURA E SERVIÇOS PÚBLICOS
B4: COMPANHIA URBANIZADORA DA NOVA CAPITAL DO BRASIL
B5: PLANILHA ESTIMATIVA
B6: Nº ESTIMATIVA PARCIAL: | D6: 014.01/2022-SEORÇA-SDS-R02 | I6: DATA: | J6: 45478
B7: NOME ESTIMATIVA PARCIAL: | D7: ORÇ. REVITALIZAÇÃO DA PRAÇA 21 DE ABRIL - IMPLANTAÇÃO | I7: Nº PROJETO: | J7: PROJ-DE-034-20
B8: ENDEREÇO: | C8: EQNP 16/20 AE, Lotes E,F e G - CEILÂNDIA - DF | D8: ENTRE QUADRAS 707 / 708 SUL - ASA SUL - BRASILIA-DF | I8: ÁREA: | J8: 10.937,80 m²
B9: ENCARGOS TRABALHISTAS: | D9: horista=110,14% / mensalista=70,04% | E9: B.D.I. : | F9: 0.1856 | I9: TAB. REF.: | J9: SINAPI MAIO 2024
B11: ITEM | C11: CÓDIGO | D11: DESCRIÇÃO | E11: UNID. | F11: QUANT. | G11: CUSTO UNITÁRIO (R$) | H11: BDI | I11: PREÇO UNITÁRIO (R$) C/ BDI | J11: PREÇO TOTAL (R$) C/ BDI
B12: 01.00.000 | D12: SERVIÇOS TÉCNICO-PROFISSIONAIS
B13: 01.08.000 | D13: DESPESAS LEGAIS | L13: =I13*F13 -> 0
B14: 01.08.100 | D14: TAXAS | L14: =I14*F14 -> 0
B15: 01.08.100.1 | C15: CREA-DF | D15: ART DO CONTRATO | E15: UN | F15: 1 | G15: 254.59 | H15: =$F$9 -> 0.1856 | I15: =(G15*(1+H15)) -> 301.8419 | J15: =I15*F15 -> 301.8419 | L15: =I15*F15 -> 301.8419
L16: =I16*F16 -> 0
G17: SUBTOTAL (Divisão): | J17: =SUM(J15) -> 301.8419 | L17: =I17*F17 -> 0
L18: =I18*F18 -> 0
B19: 02.00.000 | D19: SERVIÇOS PRELIMINARES | L19: =I19*F19 -> 0 | M19: =L19-J19 -> 0
B20: 02.01.000 | D20: CANTEIRO DE OBRAS | L20: =I20*F20 -> 0 | M20: =L20-J20 -> 0
B21: 02.01.100 | D21: CONSTRUÇÕES PROVISÓRIAS | L21: =I21*F21 -> 0 | M21: =L21-J21 -> 0
A22: INSUMO | B22: 02.01.100.1 | C22: 10776 | D22: =IF(A22="SERVIÇO",VLOOKUP(C22,SERVIÇOS!$A$6:$D$7697,2,0),IF(A22="INSUMO",VLOOKUP(C22,INSUMOS!$A$6:$D$4845,2,0),IF(A22="COTAÇÃO",VLOOKUP(C22,'014-22-cotação'!$A$9:$I$138,2,0),IF(A22="CCU",VLOOKUP(C22,'014-22-CCU''s'!$B$10:$H$450,2,0))))) -> LOCACAO DE CONTAINER 2,30 X 6,00 M, ALT. 2,50 M, PARA ESCRITORIO, SEM DIVISORIAS INTERNAS E SEM SANITARIO (NAO INCLUI MOBILIZACAO/DESMOBILIZACAO) | E22: =IF(A22="SERVIÇO",VLOOKUP(C22,SERVIÇOS!$A$6:$D$7697,3,0),IF(A22="INSUMO",VLOOKUP(C22,INSUMOS!$A$6:$D$4845,3,0),IF(A22="COTAÇÃO",VLOOKUP(C22,'014-22-cotação'!$A$9:$I$138,4,0),IF(A22="CCU",VLOOKUP(C22,'014-22-CCU''s'!$B$10:$H$450,4,0))))) -> MES | F22: 4 | G22: =IF(A22="SERVIÇO",VLOOKUP(C22,SERVIÇOS!$A$6:$D$7697,4,0),IF(A22="INSUMO",VLOOKUP(C22,INSUMOS!$A$6:$D$4845,4,0),IF(A22="COTAÇÃO",VLOOKUP(C22,'014-22-cotação'!$A$9:$I$138,3,0),IF(A22="CCU",VLOOKUP(C22,'014-22-CCU''s'!$B$10:$H$450,7,0))))) -> 1093.75 | H22: =$F$9 -> 0.1856 | I22: =(G22*(1+H22)) -> 1296.75 | J22: =I22*F22 -> 5187 | L22: =I22*F22 -> 5187 | M22: =L22-J22 -> 0
A23: INSUMO | B23: 02.01.100.2 | C23: 10778 | D23: =IF(A23="SERVIÇO",VLOOKUP(C23,SERVIÇOS!$A$6:$D$7697,2,0),IF(A23="INSUMO",VLOOKUP(C23,INSUMOS!$A$6:$D$4845,2,0),IF(A23="COTAÇÃO",VLOOKUP(C23,'014-22-cotação'!$A$9:$I$138,2,0),IF(A23="CCU",VLOOKUP(C23,'014-22-CCU''s'!$B$10:$H$450,2,0))))) -> LOCACAO DE CONTAINER 2,30 X 6,00 M, ALT. 2,50 M, PARA SANITARIO, COM 4 BACIAS, 8 CHUVEIROS,1 LAVATORIO E 1 MICTORIO (NAO INCLUI MOBILIZACAO/DESMOBILIZACAO) | E23: =IF(A23="SERVIÇO",VLOOKUP(C23,SERVIÇOS!$A$6:$D$7697,3,0),IF(A23="INSUMO",VLOOKUP(C23,INSUMOS!$A$6:$D$4845,3,0),IF(A23="COTAÇÃO",VLOOKUP(C23,'014-22-cotação'!$A$9:$I$138,4,0),IF(A23="CCU",VLOOKUP(C23,'014-22-CCU''s'!$B$10:$H$450,4,0))))) -> MES | F23: 4 | G23: =IF(A23="SERVIÇO",VLOOKUP(C23,SERVIÇOS!$A$6:$D$7697,4,0),IF(A23="INSUMO",VLOOKUP(C23,INSUMOS!$A$6:$D$4845,4,0),IF(A23="COTAÇÃO",VLOOKUP(C23,'014-22-cotação'!$A$9:$I$138,3,0),IF(A23="CCU",VLOOKUP(C23,'014-22-CCU''s'!$B$10:$H$450,7,0))))) -> 1750 | H23: =$F$9 -> 0.1856 | I23: =(G23*(1+H23)) -> 2074.8 | J23: =I23*F23 -> 8299.2 | L23: =I23*F23 -> 8299.2 | M23: =L23-J23 -> 0
A24: CCU | B24: 02.01.100.3 | C24: CCU - 02.014 | D24: =IF(A24="SERVIÇO",VLOOKUP(C24,SERVIÇOS!$A$6:$D$7697,2,0),IF(A24="INSUMO",VLOOKUP(C24,INSUMOS!$A$6:$D$4845,2,0),IF(A24="COTAÇÃO",VLOOKUP(C24,'014-22-cotação'!$A$9:$I$138,2,0),IF(A24="CCU",VLOOKUP(C24,'014-22-CCU''s'!$B$10:$H$450,2,0))))) -> EXECUÇÃO DE DEPÓSITO EM CANTEIRO DE OBRA EM CHAPA DE MADEIRA COMPENSADA, NÃO INCLUSO MOBILIÁRIO. AF_04/2016 | E24: =IF(A24="SERVIÇO",VLOOKUP(C24,SERVIÇOS!$A$6:$D$7697,3,0),IF(A24="INSUMO",VLOOKUP(C24,INSUMOS!$A$6:$D$4845,3,0),IF(A24="COTAÇÃO",VLOOKUP(C24,'014-22-cotação'!$A$9:$I$138,4,0),IF(A24="CCU",VLOOKUP(C24,'014-22-CCU''s'!$B$10:$H$450,4,0))))) -> M2 | F24: 4 | G24: =IF(A24="SERVIÇO",VLOOKUP(C24,SERVIÇOS!$A$6:$D$7697,4,0),IF(A24="INSUMO",VLOOKUP(C24,INSUMOS!$A$6:$D$4845,4,0),IF(A24="COTAÇÃO",VLOOKUP(C24,'014-22-cotação'!$A$9:$I$138,3,0),IF(A24="CCU",VLOOKUP(C24,'014-22-CCU''s'!$B$10:$H$450,7,0))))) -> 735.49 | H24: =$F$9 -> 0.1856 | I24: =(G24*(1+H24)) -> 871.99694 | J24: =I24*F24 -> 3487.9878 | L24: =I24*F24 -> 3487.9878 | M24: =L24-J24 -> 0
A25: CCU | B25: 02.01.100.4 | C25: CCU - 02.015 | D25: =IF(A25="SERVIÇO",VLOOKUP(C25,SERVIÇOS!$A$6:$D$7697,2,0),IF(A25="INSUMO",VLOOKUP(C25,INSUMOS!$A$6:$D$4845,2,0),IF(A25="COTAÇÃO",VLOOKUP(C25,'014-22-cotação'!$A$9:$I$138,2,0),IF(A25="CCU",VLOOKUP(C25,'014-22-CCU''s'!$B$10:$H$450,2,0))))) -> EXECUÇÃO DE REFEITÓRIO EM CANTEIRO DE OBRA EM CHAPA DE MADEIRA COMPENSADA, NÃO INCLUSO MOBILIÁRIO E EQUIPAMENTOS. AF_02/2016 | E25: =IF(A25="SERVIÇO",VLOOKUP(C25,SERVIÇOS!$A$6:$D$7697,3,0),IF(A25="INSUMO",VLOOKUP(C25,INSUMOS!$A$6:$D$4845,3,0),IF(A25="COTAÇÃO",VLOOKUP(C25,'014-22-cotação'!$A$9:$I$138,4,0),IF(A25="CCU",VLOOKUP(C25,'014-22-CCU''s'!$B$10:$H$450,4,0))))) -> M2 | F25: 32 | G25: =IF(A25="SERVIÇO",VLOOKUP(C25,SERVIÇOS!$A$6:$D$7697,4,0),IF(A25="INSUMO",VLOOKUP(C25,INSUMOS!$A$6:$D$4845,4,0),IF(A25="COTAÇÃO",VLOOKUP(C25,'014-22-cotação'!$A$9:$I$138,3,0),IF(A25="CCU",VLOOKUP(C25,'014-22-CCU''s'!$B$10:$H$450,7,0))))) -> 577.2 | H25: =$F$9 -> 0.1856 | I25: =(G25*(1+H25)) -> 684.32832 | J25: =I25*F25 -> 21898.506 | L25: =I25*F25 -> 21898.506 | M25: =L25-J25 -> 0
A26: CCU | B26: 02.01.100.5 | C26: CCU - 02.001 | D26: =IF(A26="SERVIÇO",VLOOKUP(C26,SERVIÇOS!$A$6:$D$7697,2,0),IF(A26="INSUMO",VLOOKUP(C26,INSUMOS!$A$6:$D$4845,2,0),IF(A26="COTAÇÃO",VLOOKUP(C26,'014-22-cotação'!$A$9:$I$138,2,0),IF(A26="CCU",VLOOKUP(C26,'014-22-CCU''s'!$B$10:$H$450,2,0))))) -> LOCACAO DE CONTAINER 2,30 X 6,00 M, ALT. 2,50 M, PARA DEPÓSITO, SEM DIVISORIAS INTERNAS E SEM SANITARIO | E26: =IF(A26="SERVIÇO",VLOOKUP(C26,SERVIÇOS!$A$6:$D$7697,3,0),IF(A26="INSUMO",VLOOKUP(C26,INSUMOS!$A$6:$D$4845,3,0),IF(A26="COTAÇÃO",VLOOKUP(C26,'014-22-cotação'!$A$9:$I$138,4,0),IF(A26="CCU",VLOOKUP(C26,'014-22-CCU''s'!$B$10:$H$450,4,0))))) -> UN | F26: 4 | G26: =IF(A26="SERVIÇO",VLOOKUP(C26,SERVIÇOS!$A$6:$D$7697,4,0),IF(A26="INSUMO",VLOOKUP(C26,INSUMOS!$A$6:$D$4845,4,0),IF(A26="COTAÇÃO",VLOOKUP(C26,'014-22-cotação'!$A$9:$I$138,3,0),IF(A26="CCU",VLOOKUP(C26,'014-22-CCU''s'!$B$10:$H$450,7,0))))) -> 1093.75 | H26: =$F$9 -> 0.1856 | I26: =(G26*(1+H26)) -> 1296.75 | J26: =I26*F26 -> 5187 | L26: =I26*F26 -> 5187 | M26: =L26-J26 -> 0
A27: CCU | B27: 02.01.100.6 | C27: CCU - 02.002 | D27: =IF(A27="SERVIÇO",VLOOKUP(C27,SERVIÇOS!$A$6:$D$7697,2,0),IF(A27="INSUMO",VLOOKUP(C27,INSUMOS!$A$6:$D$4845,2,0),IF(A27="COTAÇÃO",VLOOKUP(C27,'014-22-cotação'!$A$9:$I$138,2,0),IF(A27="CCU",VLOOKUP(C27,'014-22-CCU''s'!$B$10:$H$450,2,0))))) -> BAIAS EM TÁBUAS DE MADEIRA, COM 03 MÓDULOS 4,00 X 4,00M CADA, DESTINADAS AO ARMAZENAMENTO DE AGREGADOS | E27: =IF(A27="SERVIÇO",VLOOKUP(C27,SERVIÇOS!$A$6:$D$7697,3,0),IF(A27="INSUMO",VLOOKUP(C27,INSUMOS!$A$6:$D$4845,3,0),IF(A27="COTAÇÃO",VLOOKUP(C27,'014-22-cotação'!$A$9:$I$138,4,0),IF(A27="CCU",VLOOKUP(C27,'014-22-CCU''s'!$B$10:$H$450,4,0))))) -> UN | F27: 1 | G27: =IF(A27="SERVIÇO",VLOOKUP(C27,SERVIÇOS!$A$6:$D$7697,4,0),IF(A27="INSUMO",VLOOKUP(C27,INSUMOS!$A$6:$D$4845,4,0),IF(A27="COTAÇÃO",VLOOKUP(C27,'014-22-cotação'!$A$9:$I$138,3,0),IF(A27="CCU",VLOOKUP(C27,'014-22-CCU''s'!$B$10:$H$450,7,0))))) -> 369.61 | H27: =$F$9 -> 0.1856 | I27: =(G27*(1+H27)) -> 438.20962 | J27: =I27*F27 -> 438.20962 | L27: =I27*F27 -> 438.20962 | M27: =L27-J27 -> 0
L28: =I28*F28 -> 0 | M28: =L28-J28 -> 0
B29: 02.01.200 | D29: LIGAÇÕES PROVISÓRIAS | L29: =I29*F29 -> 0 | M29: =L29-J29 -> 0
A30: CCU | B30: 02.01.200.1 | C30: CCU - 02.003 | D30: =IF(A30="SERVIÇO",VLOOKUP(C30,SERVIÇOS!$A$6:$D$7697,2,0),IF(A30="INSUMO",VLOOKUP(C30,INSUMOS!$A$6:$D$4845,2,0),IF(A30="COTAÇÃO",VLOOKUP(C30,'014-22-cotação'!$A$9:$I$138,2,0),IF(A30="CCU",VLOOKUP(C30,'014-22-CCU''s'!$B$10:$H$450,2,0))))) -> FORNECIMENTO DE ENERGIA ELETRICA ATRAVÉS DE GERADOR A GASOLINA 13CV | E30: =IF(A30="SERVIÇO",VLOOKUP(C30,SERVIÇOS!$A$6:$D$7697,3,0),IF(A30="INSUMO",VLOOKUP(C30,INSUMOS!$A$6:$D$4845,3,0),IF(A30="COTAÇÃO",VLOOKUP(C30,'014-22-cotação'!$A$9:$I$138,4,0),IF(A30="CCU",VLOOKUP(C30,'014-22-CCU''s'!$B$10:$H$450,4,0))))) -> MÊS | F30: 4 | G30: =IF(A30="SERVIÇO",VLOOKUP(C30,SERVIÇOS!$A$6:$D$7697,4,0),IF(A30="INSUMO",VLOOKUP(C30,INSUMOS!$A$6:$D$4845,4,0),IF(A30="COTAÇÃO",VLOOKUP(C30,'014-22-cotação'!$A$9:$I$138,3,0),IF(A30="CCU",VLOOKUP(C30,'014-22-CCU''s'!$B$10:$H$450,7,0))))) -> 8285.44 | H30: =$F$9 -> 0.1856 | I30: =(G30*(1+H30)) -> 9823.2177 | J30: =I30*F30 -> 39292.871 | L30: =I30*F30 -> 39292.871 | M30: =L30-J30 -> 0
A31: CCU | B31: 02.01.200.2 | C31: CCU - 02.004 | D31: =IF(A31="SERVIÇO",VLOOKUP(C31,SERVIÇOS!$A$6:$D$7697,2,0),IF(A31="INSUMO",VLOOKUP(C31,INSUMOS!$A$6:$D$4845,2,0),IF(A31="COTAÇÃO",VLOOKUP(C31,'014-22-cotação'!$A$9:$I$138,2,0),IF(A31="CCU",VLOOKUP(C31,'014-22-CCU''s'!$B$10:$H$450,2,0))))) -> FORNECIMENTO DE ÁGUA ATRAVÉS DE CAMINHÃO PIPA 10M3 | E31: =IF(A31="SERVIÇO",VLOOKUP(C31,SERVIÇOS!$A$6:$D$7697,3,0),IF(A31="INSUMO",VLOOKUP(C31,INSUMOS!$A$6:$D$4845,3,0),IF(A31="COTAÇÃO",VLOOKUP(C31,'014-22-cotação'!$A$9:$I$138,4,0),IF(A31="CCU",VLOOKUP(C31,'014-22-CCU''s'!$B$10:$H$450,4,0))))) -> M3 | F31: =111.32*4 -> 445.28 | G31: =IF(A31="SERVIÇO",VLOOKUP(C31,SERVIÇOS!$A$6:$D$7697,4,0),IF(A31="INSUMO",VLOOKUP(C31,INSUMOS!$A$6:$D$4845,4,0),IF(A31="COTAÇÃO",VLOOKUP(C31,'014-22-cotação'!$A$9:$I$138,3,0),IF(A31="CCU",VLOOKUP(C31,'014-22-CCU''s'!$B$10:$H$450,7,0))))) -> 22.9 | H31: =$F$9 -> 0.1856 | I31: =(G31*(1+H31)) -> 27.15024 | J31: =I31*F31 -> 12089.459 | L31: =I31*F31 -> 12089.459 | M31: =L31-J31 -> 0
A32: CCU | B32: 02.01.200.3 | C32: CCU - 02.016 | D32: =IF(A32="SERVIÇO",VLOOKUP(C32,SERVIÇOS!$A$6:$D$7697,2,0),IF(A32="INSUMO",VLOOKUP(C32,INSUMOS!$A$6:$D$4845,2,0),IF(A32="COTAÇÃO",VLOOKUP(C32,'014-22-cotação'!$A$9:$I$138,2,0),IF(A32="CCU",VLOOKUP(C32,'014-22-CCU''s'!$B$10:$H$450,2,0))))) -> EXECUÇÃO DE RESERVATÓRIO ELEVADO DE ÁGUA (1000 LITROS) EM CANTEIRO DE OBRA, APOIADO EM ESTRUTURA DE MADEIRA. AF_02/2016_PA | E32: =IF(A32="SERVIÇO",VLOOKUP(C32,SERVIÇOS!$A$6:$D$7697,3,0),IF(A32="INSUMO",VLOOKUP(C32,INSUMOS!$A$6:$D$4845,3,0),IF(A32="COTAÇÃO",VLOOKUP(C32,'014-22-cotação'!$A$9:$I$138,4,0),IF(A32="CCU",VLOOKUP(C32,'014-22-CCU''s'!$B$10:$H$450,4,0))))) -> UN | F32: 3 | G32: =IF(A32="SERVIÇO",VLOOKUP(C32,SERVIÇOS!$A$6:$D$7697,4,0),IF(A32="INSUMO",VLOOKUP(C32,INSUMOS!$A$6:$D$4845,4,0),IF(A32="COTAÇÃO",VLOOKUP(C32,'014-22-cotação'!$A$9:$I$138,3,0),IF(A32="CCU",VLOOKUP(C32,'014-22-CCU''s'!$B$10:$H$450,7,0))))) -> 6435.22 | H32: =$F$9 -> 0.1856 | I32: =(G32*(1+H32)) -> 7629.5968 | J32: =I32*F32 -> 22888.79 | L32: =I32*F32 -> 22888.79 | M32: =L32-J32 -> 0
L33: =I33*F33 -> 0 | M33: =L33-J33 -> 0
B34: 02.01.400 | D34: PROTEÇÃO E SINALIZAÇÃO | L34: =I34*F34 -> 0 | M34: =L34-J34 -> 0
A35: CCU | B35: 02.01.400.1 | C35: CCU - 02.007 | D35: =IF(A35="SERVIÇO",VLOOKUP(C35,SERVIÇOS!$A$6:$D$7697,2,0),IF(A35="INSUMO",VLOOKUP(C35,INSUMOS!$A$6:$D$4845,2,0),IF(A35="COTAÇÃO",VLOOKUP(C35,'014-22-cotação'!$A$9:$I$138,2,0),IF(A35="CCU",VLOOKUP(C35,'014-22-CCU''s'!$B$10:$H$450,2,0))))) -> PLACA DE OBRA EM CHAPA DE ACO GALVANIZADO ADESIVADA - FORNECIMENTO E INSTALAÇÃO | E35: =IF(A35="SERVIÇO",VLOOKUP(C35,SERVIÇOS!$A$6:$D$7697,3,0),IF(A35="INSUMO",VLOOKUP(C35,INSUMOS!$A$6:$D$4845,3,0),IF(A35="COTAÇÃO",VLOOKUP(C35,'014-22-cotação'!$A$9:$I$138,4,0),IF(A35="CCU",VLOOKUP(C35,'014-22-CCU''s'!$B$10:$H$450,4,0))))) -> M2 | F35: 14.4 | G35: =IF(A35="SERVIÇO",VLOOKUP(C35,SERVIÇOS!$A$6:$D$7697,4,0),IF(A35="INSUMO",VLOOKUP(C35,INSUMOS!$A$6:$D$4845,4,0),IF(A35="COTAÇÃO",VLOOKUP(C35,'014-22-cotação'!$A$9:$I$138,3,0),IF(A35="CCU",VLOOKUP(C35,'014-22-CCU''s'!$B$10:$H$450,7,0))))) -> 368.59 | H35: =$F$9 -> 0.1856 | I35: =(G35*(1+H35)) -> 437.0003 | J35: =I35*F35 -> 6292.8044 | L35: =I35*F35 -> 6292.8044 | M35: =L35-J35 -> 0
A36: SERVIÇO | B36: 02.01.400.2 | C36: 98459 | D36: =IF(A36="SERVIÇO",VLOOKUP(C36,SERVIÇOS!$A$6:$D$7697,2,0),IF(A36="INSUMO",VLOOKUP(C36,INSUMOS!$A$6:$D$4845,2,0),IF(A36="COTAÇÃO",VLOOKUP(C36,'014-22-cotação'!$A$9:$I$138,2,0),IF(A36="CCU",VLOOKUP(C36,'014-22-CCU''s'!$B$10:$H$450,2,0))))) -> TAPUME COM TELHA METÁLICA. AF_03/2024 | E36: =IF(A36="SERVIÇO",VLOOKUP(C36,SERVIÇOS!$A$6:$D$7697,3,0),IF(A36="INSUMO",VLOOKUP(C36,INSUMOS!$A$6:$D$4845,3,0),IF(A36="COTAÇÃO",VLOOKUP(C36,'014-22-cotação'!$A$9:$I$138,4,0),IF(A36="CCU",VLOOKUP(C36,'014-22-CCU''s'!$B$10:$H$450,4,0))))) -> M2 | F36: =1092.32+8.8 -> 1101.12 | G36: =IF(A36="SERVIÇO",VLOOKUP(C36,SERVIÇOS!$A$6:$D$7697,4,0),IF(A36="INSUMO",VLOOKUP(C36,INSUMOS!$A$6:$D$4845,4,0),IF(A36="COTAÇÃO",VLOOKUP(C36,'014-22-cotação'!$A$9:$I$138,3,0),IF(A36="CCU",VLOOKUP(C36,'014-22-CCU''s'!$B$10:$H$450,7,0))))) -> 86.12 | H36: =$F$9 -> 0.1856 | I36: =(G36*(1+H36)) -> 102.10387 | J36: =I36*F36 -> 112428.62 | L36: =I36*F36 -> 112428.62 | M36: =L36-J36 -> 0
L37: =I37*F37 -> 0 | M37: =L37-J37 -> 0
B38: 02.02.000 | D38: DEMOLIÇÃO | L38: =I38*F38 -> 0 | M38: =L38-J38 -> 0
B39: 02.02.100 | D39: DEMOLIÇÃO MECÂNIZADA/CONVENCIONAL | L39: =I39*F39 -> 0
B40: 02.02.110 | D40: FUNDAÇÕES E ESTRUTURAS DE CONCRETO | L40: =I40*F40 -> 0
A41: SERVIÇO | B41: 02.02.110.1 | C41: 97627 | D41: =IF(A41="SERVIÇO",VLOOKUP(C41,SERVIÇOS!$A$6:$D$7697,2,0),IF(A41="INSUMO",VLOOKUP(C41,INSUMOS!$A$6:$D$4845,2,0),IF(A41="COTAÇÃO",VLOOKUP(C41,'014-22-cotação'!$A$9:$I$138,2,0),IF(A41="CCU",VLOOKUP(C41,'014-22-CCU''s'!$B$10:$H$450,2,0))))) -> DEMOLIÇÃO DE PILARES E VIGAS EM CONCRETO ARMADO, DE FORMA MECANIZADA COM MARTELETE, SEM REAPROVEITAMENTO. AF_09/2023 | E41: =IF(A41="SERVIÇO",VLOOKUP(C41,SERVIÇOS!$A$6:$D$7697,3,0),IF(A41="INSUMO",VLOOKUP(C41,INSUMOS!$A$6:$D$4845,3,0),IF(A41="COTAÇÃO",VLOOKUP(C41,'014-22-cotação'!$A$9:$I$138,4,0),IF(A41="CCU",VLOOKUP(C41,'014-22-CCU''s'!$B$10:$H$450,4,0))))) -> M3 | F41: 3.46 | G41: =IF(A41="SERVIÇO",VLOOKUP(C41,SERVIÇOS!$A$6:$D$7697,4,0),IF(A41="INSUMO",VLOOKUP(C41,INSUMOS!$A$6:$D$4845,4,0),IF(A41="COTAÇÃO",VLOOKUP(C41,'014-22-cotação'!$A$9:$I$138,3,0),IF(A41="CCU",VLOOKUP(C41,'014-22-CCU''s'!$B$10:$H$450,7,0))))) -> 195.64 | H41: =$F$9 -> 0.1856 | I41: =(G41*(1+H41)) -> 231.95078 | J41: =I41*F41 -> 802.54971 | L41: =I41*F41 -> 802.54971
A42: SERVIÇO | B42: 02.02.110.2 | C42: 97629 | D42: =IF(A42="SERVIÇO",VLOOKUP(C42,SERVIÇOS!$A$6:$D$7697,2,0),IF(A42="INSUMO",VLOOKUP(C42,INSUMOS!$A$6:$D$4845,2,0),IF(A42="COTAÇÃO",VLOOKUP(C42,'014-22-cotação'!$A$9:$I$138,2,0),IF(A42="CCU",VLOOKUP(C42,'014-22-CCU''s'!$B$10:$H$450,2,0))))) -> DEMOLIÇÃO DE LAJES, EM CONCRETO ARMADO, DE FORMA MECANIZADA COM MARTELETE, SEM REAPROVEITAMENTO. AF_09/2023 | E42: =IF(A42="SERVIÇO",VLOOKUP(C42,SERVIÇOS!$A$6:$D$7697,3,0),IF(A42="INSUMO",VLOOKUP(C42,INSUMOS!$A$6:$D$4845,3,0),IF(A42="COTAÇÃO",VLOOKUP(C42,'014-22-cotação'!$A$9:$I$138,4,0),IF(A42="CCU",VLOOKUP(C42,'014-22-CCU''s'!$B$10:$H$450,4,0))))) -> M3 | F42: 6.96 | G42: =IF(A42="SERVIÇO",VLOOKUP(C42,SERVIÇOS!$A$6:$D$7697,4,0),IF(A42="INSUMO",VLOOKUP(C42,INSUMOS!$A$6:$D$4845,4,0),IF(A42="COTAÇÃO",VLOOKUP(C42,'014-22-cotação'!$A$9:$I$138,3,0),IF(A42="CCU",VLOOKUP(C42,'014-22-CCU''s'!$B$10:$H$450,7,0))))) -> 91.11 | H42: =$F$9 -> 0.1856 | I42: =(G42*(1+H42)) -> 108.02002 | J42: =I42*F42 -> 751.81931 | L42: =I42*F42 -> 751.81931
...

Sheet 014-22-CCU's
B2: GOVERNO DO DISTRITO FEDERAL
B3: SECRETARIA DE ESTADO DE INFRAESTRUTURA E SERVIÇOS PÚBLICOS
B4: COMPANHIA URBANIZADORA DA NOVA CAPITAL DO BRASIL
B5: PLANILHA DE COMPOSIÇÕES
B6: Nº ESTIMATIVA PRINCIPAL: | C6: 014/2022-SEORÇA-SDS-R02 | G6: DATA: | H6: ='014-22-CAPA'!E20 -> 45478
B7: TÍTULO: | C7: ORÇ. REVITALIZAÇÃO DA PRAÇA 21 DE ABRIL | G7: Nº PROJETO: | H7: ='014.01-22-ORÇAMENTO'!J7 -> PROJ-DE-034-20
B8: ENCARGOS TRABALHISTAS: | C8: ='014.01-22-ORÇAMENTO'!D9 -> horista=110,14% / mensalista=70,04% | D8: B.D.I. : | E8: 0,00% | G8: TAB. REF.: | H8: ='014.01-22-ORÇAMENTO'!J9 -> SINAPI MAIO 2024
B9: CÓDIGO | C9: DESCRIÇÃO | D9: TIPO | E9: UNID. | F9: COEFICIENTE | G9: CUSTO UNIT(R$) | H9: CUSTO TOTAL (R$)
B11: CCU - 02.001 | C11: LOCACAO DE CONTAINER 2,30 X 6,00 M, ALT. 2,50 M, PARA DEPÓSITO, SEM DIVISORIAS INTERNAS E SEM SANITARIO | D11: SER.CG | E11: UN | H11: =ROUND(SUM(H12:H12),2) -> 1093.75
A12: INSUMO | B12: 10776 | C12: =IF(A12="SERVIÇO",VLOOKUP(B12,SERVIÇOS!$A$6:$D$7697,2,0),IF(A12="INSUMO",VLOOKUP(B12,INSUMOS!$A$6:$D$4845,2,0),IF(A12="COTAÇÃO",VLOOKUP(B12,'014-22-cotação'!$A$9:$I$138,2,0),IF(A12="AUX",VLOOKUP('014-22-CCU''s'!B12,'014-22-CCU''s AUX'!$B$1:$H$130,2,0))))) -> LOCACAO DE CONTAINER 2,30 X 6,00 M, ALT. 2,50 M, PARA ESCRITORIO, SEM DIVISORIAS INTERNAS E SEM SANITARIO (NAO INCLUI MOBILIZACAO/DESMOBILIZACAO) | D12: =IF(A12="SERVIÇO",VLOOKUP(B12,SERVIÇOS!$A$6:$E$7697,5,0),IF(A12="INSUMO",VLOOKUP(B12,INSUMOS!$A$6:$E$4845,5,0),IF(A12="COTAÇÃO",VLOOKUP(B12,'014-22-cotação'!$A$9:$J$138,10,0),IF(A12="AUX",VLOOKUP('014-22-CCU''s'!B12,'014-22-CCU''s AUX'!$B$1:$H$130,3,0))))) -> EQUIP. | E12: =IF(A12="SERVIÇO",VLOOKUP(B12,SERVIÇOS!$A$6:$D$7697,3,0),IF(A12="INSUMO",VLOOKUP(B12,INSUMOS!$A$6:$D$4845,3,0),IF(A12="COTAÇÃO",VLOOKUP(B12,'014-22-cotação'!$A$9:$I$138,4,0),IF(A12="AUX",VLOOKUP('014-22-CCU''s'!B12,'014-22-CCU''s AUX'!$B$1:$H$130,4,0))))) -> MES | F12: 1 | G12: =IF(A12="SERVIÇO",VLOOKUP(B12,SERVIÇOS!$A$6:$D$7697,4,0),IF(A12="INSUMO",VLOOKUP(B12,INSUMOS!$A$6:$D$4845,4,0),IF(A12="COTAÇÃO",VLOOKUP(B12,'014-22-cotação'!$A$9:$I$138,3,0),IF(A12="AUX",VLOOKUP('014-22-CCU''s'!B12,'014-22-CCU''s AUX'!$B$1:$H$130,7,0))))) -> 1093.75 | H12: =TRUNC((F12*G12),2) -> 1093.75
B13: Observação: | C13: REF: 10776 SINAPI JANEIRO 2021
B15: CCU - 02.002 | C15: BAIAS EM TÁBUAS DE MADEIRA, COM 03 MÓDULOS 4,00 X 4,00M CADA, DESTINADAS AO ARMAZENAMENTO DE AGREGADOS | D15: SER.CG | E15: UN | H15: =ROUND(SUM(H16:H20),2) -> 369.61
A16: INSUMO | B16: 4491 | C16: =IF(A16="SERVIÇO",VLOOKUP(B16,SERVIÇOS!$A$6:$D$7697,2,0),IF(A16="INSUMO",VLOOKUP(B16,INSUMOS!$A$6:$D$4845,2,0),IF(A16="COTAÇÃO",VLOOKUP(B16,'014-22-cotação'!$A$9:$I$138,2,0),IF(A16="AUX",VLOOKUP('014-22-CCU''s'!B16,'014-22-CCU''s AUX'!$B$1:$H$130,2,0))))) -> PONTALETE *7,5 X 7,5* CM EM PINUS, MISTA OU EQUIVALENTE DA REGIAO - BRUTA | D16: =IF(A16="SERVIÇO",VLOOKUP(B16,SERVIÇOS!$A$6:$E$7697,5,0),IF(A16="INSUMO",VLOOKUP(B16,INSUMOS!$A$6:$E$4845,5,0),IF(A16="COTAÇÃO",VLOOKUP(B16,'014-22-cotação'!$A$9:$J$138,10,0),IF(A16="AUX",VLOOKUP('014-22-CCU''s'!B16,'014-22-CCU''s AUX'!$B$1:$H$130,3,0))))) -> MAT. | E16: =IF(A16="SERVIÇO",VLOOKUP(B16,SERVIÇOS!$A$6:$D$7697,3,0),IF(A16="INSUMO",VLOOKUP(B16,INSUMOS!$A$6:$D$4845,3,0),IF(A16="COTAÇÃO",VLOOKUP(B16,'014-22-cotação'!$A$9:$I$138,4,0),IF(A16="AUX",VLOOKUP('014-22-CCU''s'!B16,'014-22-CCU''s AUX'!$B$1:$H$130,4,0))))) -> M | F16: 21.45 | G16: =IF(A16="SERVIÇO",VLOOKUP(B16,SERVIÇOS!$A$6:$D$7697,4,0),IF(A16="INSUMO",VLOOKUP(B16,INSUMOS!$A$6:$D$4845,4,0),IF(A16="COTAÇÃO",VLOOKUP(B16,'014-22-cotação'!$A$9:$I$138,3,0),IF(A16="AUX",VLOOKUP('014-22-CCU''s'!B16,'014-22-CCU''s AUX'!$B$1:$H$130,7,0))))) -> 7.6 | H16: =TRUNC((F16*G16),2) -> 163.02
A17: SERVIÇO | B17: 88262 | C17: =IF(A17="SERVIÇO",VLOOKUP(B17,SERVIÇOS!$A$6:$D$7697,2,0),IF(A17="INSUMO",VLOOKUP(B17,INSUMOS!$A$6:$D$4845,2,0),IF(A17="COTAÇÃO",VLOOKUP(B17,'014-22-cotação'!$A$9:$I$138,2,0),IF(A17="AUX",VLOOKUP('014-22-CCU''s'!B17,'014-22-CCU''s AUX'!$B$1:$H$130,2,0))))) -> CARPINTEIRO DE FORMAS COM ENCARGOS COMPLEMENTARES | D17: =IF(A17="SERVIÇO",VLOOKUP(B17,SERVIÇOS!$A$6:$E$7697,5,0),IF(A17="INSUMO",VLOOKUP(B17,INSUMOS!$A$6:$E$4845,5,0),IF(A17="COTAÇÃO",VLOOKUP(B17,'014-22-cotação'!$A$9:$J$138,10,0),IF(A17="AUX",VLOOKUP('014-22-CCU''s'!B17,'014-22-CCU''s AUX'!$B$1:$H$130,3,0))))) -> M.O | E17: =IF(A17="SERVIÇO",VLOOKUP(B17,SERVIÇOS!$A$6:$D$7697,3,0),IF(A17="INSUMO",VLOOKUP(B17,INSUMOS!$A$6:$D$4845,3,0),IF(A17="COTAÇÃO",VLOOKUP(B17,'014-22-cotação'!$A$9:$I$138,4,0),IF(A17="AUX",VLOOKUP('014-22-CCU''s'!B17,'014-22-CCU''s AUX'!$B$1:$H$130,4,0))))) -> H | F17: 0.6 | G17: =IF(A17="SERVIÇO",VLOOKUP(B17,SERVIÇOS!$A$6:$D$7697,4,0),IF(A17="INSUMO",VLOOKUP(B17,INSUMOS!$A$6:$D$4845,4,0),IF(A17="COTAÇÃO",VLOOKUP(B17,'014-22-cotação'!$A$9:$I$138,3,0),IF(A17="AUX",VLOOKUP('014-22-CCU''s'!B17,'014-22-CCU''s AUX'!$B$1:$H$130,7,0))))) -> 30.71 | H17: =TRUNC((F17*G17),2) -> 18.42
A18: INSUMO | B18: 5067 | C18: =IF(A18="SERVIÇO",VLOOKUP(B18,SERVIÇOS!$A$6:$D$7697,2,0),IF(A18="INSUMO",VLOOKUP(B18,INSUMOS!$A$6:$D$4845,2,0),IF(A18="COTAÇÃO",VLOOKUP(B18,'014-22-cotação'!$A$9:$I$138,2,0),IF(A18="AUX",VLOOKUP('014-22-CCU''s'!B18,'014-22-CCU''s AUX'!$B$1:$H$130,2,0))))) -> PREGO DE ACO POLIDO COM CABECA 16 X 24 (2 1/4 X 12) | D18: =IF(A18="SERVIÇO",VLOOKUP(B18,SERVIÇOS!$A$6:$E$7697,5,0),IF(A18="INSUMO",VLOOKUP(B18,INSUMOS!$A$6:$E$4845,5,0),IF(A18="COTAÇÃO",VLOOKUP(B18,'014-22-cotação'!$A$9:$J$138,10,0),IF(A18="AUX",VLOOKUP('014-22-CCU''s'!B18,'014-22-CCU''s AUX'!$B$1:$H$130,3,0))))) -> MAT. | E18: =IF(A18="SERVIÇO",VLOOKUP(B18,SERVIÇOS!$A$6:$D$7697,3,0),IF(A18="INSUMO",VLOOKUP(B18,INSUMOS!$A$6:$D$4845,3,0),IF(A18="COTAÇÃO",VLOOKUP(B18,'014-22-cotação'!$A$9:$I$138,4,0),IF(A18="AUX",VLOOKUP('014-22-CCU''s'!B18,'014-22-CCU''s AUX'!$B$1:$H$130,4,0))))) -> KG | F18: 0.2 | G18: =IF(A18="SERVIÇO",VLOOKUP(B18,SERVIÇOS!$A$6:$D$7697,4,0),IF(A18="INSUMO",VLOOKUP(B18,INSUMOS!$A$6:$D$4845,4,0),IF(A18="COTAÇÃO",VLOOKUP(B18,'014-22-cotação'!$A$9:$I$138,3,0),IF(A18="AUX",VLOOKUP('014-22-CCU''s'!B18,'014-22-CCU''s AUX'!$B$1:$H$130,7,0))))) -> 20.16 | H18: =TRUNC((F18*G18),2) -> 4.03
A19: SERVIÇO | B19: 88316 | C19: =IF(A19="SERVIÇO",VLOOKUP(B19,SERVIÇOS!$A$6:$D$7697,2,0),IF(A19="INSUMO",VLOOKUP(B19,INSUMOS!$A$6:$D$4845,2,0),IF(A19="COTAÇÃO",VLOOKUP(B19,'014-22-cotação'!$A$9:$I$138,2,0),IF(A19="AUX",VLOOKUP('014-22-CCU''s'!B19,'014-22-CCU''s AUX'!$B$1:$H$130,2,0))))) -> SERVENTE COM ENCARGOS COMPLEMENTARES | D19: =IF(A19="SERVIÇO",VLOOKUP(B19,SERVIÇOS!$A$6:$E$7697,5,0),IF(A19="INSUMO",VLOOKUP(B19,INSUMOS!$A$6:$E$4845,5,0),IF(A19="COTAÇÃO",VLOOKUP(B19,'014-22-cotação'!$A$9:$J$138,10,0),IF(A19="AUX",VLOOKUP('014-22-CCU''s'!B19,'014-22-CCU''s AUX'!$B$1:$H$130,3,0))))) -> M.O | E19: =IF(A19="SERVIÇO",VLOOKUP(B19,SERVIÇOS!$A$6:$D$7697,3,0),IF(A19="INSUMO",VLOOKUP(B19,INSUMOS!$A$6:$D$4845,3,0),IF(A19="COTAÇÃO",VLOOKUP(B19,'014-22-cotação'!$A$9:$I$138,4,0),IF(A19="AUX",VLOOKUP('014-22-CCU''s'!B19,'014-22-CCU''s AUX'!$B$1:$H$130,4,0))))) -> H | F19: 0.6 | G19: =IF(A19="SERVIÇO",VLOOKUP(B19,SERVIÇOS!$A$6:$D$7697,4,0),IF(A19="INSUMO",VLOOKUP(B19,INSUMOS!$A$6:$D$4845,4,0),IF(A19="COTAÇÃO",VLOOKUP(B19,'014-22-cotação'!$A$9:$I$138,3,0),IF(A19="AUX",VLOOKUP('014-22-CCU''s'!B19,'014-22-CCU''s AUX'!$B$1:$H$130,7,0))))) -> 23.4 | H19: =TRUNC((F19*G19),2) -> 14.04
A20: INSUMO | B20: 6212 | C20: =IF(A20="SERVIÇO",VLOOKUP(B20,SERVIÇOS!$A$6:$D$7697,2,0),IF(A20="INSUMO",VLOOKUP(B20,INSUMOS!$A$6:$D$4845,2,0),IF(A20="COTAÇÃO",VLOOKUP(B20,'014-22-cotação'!$A$9:$I$138,2,0),IF(A20="AUX",VLOOKUP('014-22-CCU''s'!B20,'014-22-CCU''s AUX'!$B$1:$H$130,2,0))))) -> TABUA *2,5 X 30 CM EM PINUS, MISTA OU EQUIVALENTE DA REGIAO - BRUTA | D20: =IF(A20="SERVIÇO",VLOOKUP(B20,SERVIÇOS!$A$6:$E$7697,5,0),IF(A20="INSUMO",VLOOKUP(B20,INSUMOS!$A$6:$E$4845,5,0),IF(A20="COTAÇÃO",VLOOKUP(B20,'014-22-cotação'!$A$9:$J$138,10,0),IF(A20="AUX",VLOOKUP('014-22-CCU''s'!B20,'014-22-CCU''s AUX'!$B$1:$H$130,3,0))))) -> MAT. | E20: =IF(A20="SERVIÇO",VLOOKUP(B20,SERVIÇOS!$A$6:$D$7697,3,0),IF(A20="INSUMO",VLOOKUP(B20,INSUMOS!$A$6:$D$4845,3,0),IF(A20="COTAÇÃO",VLOOKUP(B20,'014-22-cotação'!$A$9:$I$138,4,0),IF(A20="AUX",VLOOKUP('014-22-CCU''s'!B20,'014-22-CCU''s AUX'!$B$1:$H$130,4,0))))) -> M | F20: 13.5 | G20: =IF(A20="SERVIÇO",VLOOKUP(B20,SERVIÇOS!$A$6:$D$7697,4,0),IF(A20="INSUMO",VLOOKUP(B20,INSUMOS!$A$6:$D$4845,4,0),IF(A20="COTAÇÃO",VLOOKUP(B20,'014-22-cotação'!$A$9:$I$138,3,0),IF(A20="AUX",VLOOKUP('014-22-CCU''s'!B20,'014-22-CCU''s AUX'!$B$1:$H$130,7,0))))) -> 12.6 | H20: =TRUNC((F20*G20),2) -> 170.1
B21: Observação: | C21: REF: 11033/ORSE JULHO 2021
B23: CCU - 02.003 | C23: FORNECIMENTO DE ENERGIA ELETRICA ATRAVÉS DE GERADOR A GASOLINA 13CV | D23: SER.CG | E23: MÊS | H23: =ROUND(SUM(H24:H25),2) -> 8285.44
A24: SERVIÇO | B24: 93415 | C24: =IF(A24="SERVIÇO",VLOOKUP(B24,SERVIÇOS!$A$6:$D$7697,2,0),IF(A24="INSUMO",VLOOKUP(B24,INSUMOS!$A$6:$D$4845,2,0),IF(A24="COTAÇÃO",VLOOKUP(B24,'014-22-cotação'!$A$9:$I$138,2,0),IF(A24="AUX",VLOOKUP('014-22-CCU''s'!B24,'014-22-CCU''s AUX'!$B$1:$H$130,2,0))))) -> GERADOR PORTÁTIL MONOFÁSICO, POTÊNCIA 5500 VA, MOTOR A GASOLINA, POTÊNCIA DO MOTOR 13 CV - CHP DIURNO. AF_03/2016 | D24: =IF(A24="SERVIÇO",VLOOKUP(B24,SERVIÇOS!$A$6:$E$7697,5,0),IF(A24="INSUMO",VLOOKUP(B24,INSUMOS!$A$6:$E$4845,5,0),IF(A24="COTAÇÃO",VLOOKUP(B24,'014-22-cotação'!$A$9:$J$138,10,0),IF(A24="AUX",VLOOKUP('014-22-CCU''s'!B24,'014-22-CCU''s AUX'!$B$1:$H$130,3,0))))) -> EQUIP. | E24: =IF(A24="SERVIÇO",VLOOKUP(B24,SERVIÇOS!$A$6:$D$7697,3,0),IF(A24="INSUMO",VLOOKUP(B24,INSUMOS!$A$6:$D$4845,3,0),IF(A24="COTAÇÃO",VLOOKUP(B24,'014-22-cotação'!$A$9:$I$138,4,0),IF(A24="AUX",VLOOKUP('014-22-CCU''s'!B24,'014-22-CCU''s AUX'!$B$1:$H$130,4,0))))) -> CHP | F24: =(22*20)+(8*12) -> 536 | G24: =IF(A24="SERVIÇO",VLOOKUP(B24,SERVIÇOS!$A$6:$D$7697,4,0),IF(A24="INSUMO",VLOOKUP(B24,INSUMOS!$A$6:$D$4845,4,0),IF(A24="COTAÇÃO",VLOOKUP(B24,'014-22-cotação'!$A$9:$I$138,3,0),IF(A24="AUX",VLOOKUP('014-22-CCU''s'!B24,'014-22-CCU''s AUX'!$B$1:$H$130,7,0))))) -> 15.3 | H24: =TRUNC((F24*G24),2) -> 8200.8 | J24: CONSIDEROU-SE O GERADOR EM ATIVIDADE DURANTE A JORNADA DE TRABALHO ENTRE 08:00 AS 12:00 HS E DAS 13;00 AS 17:,00 HS E DAS 18:00 AS 06:00:00 HS PARA VIGILÂNCIA EM DIAS ÚTEIS, OU SEJA, 20 HS POR DIA CONSIDEROU-SE O GERADOR EM ATIVIDADE DURANTE DAS 18:00 AS 06:00:00 HS PARA VIGILÂNCIA EM FINAIS DE SEMANA, 12 HS POR DIA
A25: SERVIÇO | B25: 93416 | C25: =IF(A25="SERVIÇO",VLOOKUP(B25,SERVIÇOS!$A$6:$D$7697,2,0),IF(A25="INSUMO",VLOOKUP(B25,INSUMOS!$A$6:$D$4845,2,0),IF(A25="COTAÇÃO",VLOOKUP(B25,'014-22-cotação'!$A$9:$I$138,2,0),IF(A25="AUX",VLOOKUP('014-22-CCU''s'!B25,'014-22-CCU''s AUX'!$B$1:$H$130,2,0))))) -> GERADOR PORTÁTIL MONOFÁSICO, POTÊNCIA 5500 VA, MOTOR A GASOLINA, POTÊNCIA DO MOTOR 13 CV - CHI DIURNO. AF_03/2016 | D25: =IF(A25="SERVIÇO",VLOOKUP(B25,SERVIÇOS!$A$6:$E$7697,5,0),IF(A25="INSUMO",VLOOKUP(B25,INSUMOS!$A$6:$E$4845,5,0),IF(A25="COTAÇÃO",VLOOKUP(B25,'014-22-cotação'!$A$9:$J$138,10,0),IF(A25="AUX",VLOOKUP('014-22-CCU''s'!B25,'014-22-CCU''s AUX'!$B$1:$H$130,3,0))))) -> EQUIP. | E25: =IF(A25="SERVIÇO",VLOOKUP(B25,SERVIÇOS!$A$6:$D$7697,3,0),IF(A25="INSUMO",VLOOKUP(B25,INSUMOS!$A$6:$D$4845,3,0),IF(A25="COTAÇÃO",VLOOKUP(B25,'014-22-cotação'!$A$9:$I$138,4,0),IF(A25="AUX",VLOOKUP('014-22-CCU''s'!B25,'014-22-CCU''s AUX'!$B$1:$H$130,4,0))))) -> CHI | F25: =(22*4)+(8*12) -> 184 | G25: =IF(A25="SERVIÇO",VLOOKUP(B25,SERVIÇOS!$A$6:$D$7697,4,0),IF(A25="INSUMO",VLOOKUP(B25,INSUMOS!$A$6:$D$4845,4,0),IF(A25="COTAÇÃO",VLOOKUP(B25,'014-22-cotação'!$A$9:$I$138,3,0),IF(A25="AUX",VLOOKUP('014-22-CCU''s'!B25,'014-22-CCU''s AUX'!$B$1:$H$130,7,0))))) -> 0.46 | H25: =TRUNC((F25*G25),2) -> 84.64
B26: Observação: | C26: REF: 41598 SINAPI DEZ 2019
B28: CCU - 02.004 | C28: FORNECIMENTO DE ÁGUA ATRAVÉS DE CAMINHÃO PIPA 10M3 | D28: SER.CG | E28: M3 | H28: =ROUND(SUM(H29:H30),2) -> 22.9
A29: INSUMO | B29: 44480 | C29: =IF(A29="SERVIÇO",VLOOKUP(B29,SERVIÇOS!$A$6:$D$7697,2,0),IF(A29="INSUMO",VLOOKUP(B29,INSUMOS!$A$6:$D$4845,2,0),IF(A29="COTAÇÃO",VLOOKUP(B29,'014-22-cotação'!$A$9:$I$138,2,0),IF(A29="AUX",VLOOKUP('014-22-CCU''s'!B29,'014-22-CCU''s AUX'!$B$1:$H$130,2,0))))) -> TARIFA "A" ENTRE 0 E 20M3 FORNECIMENTO D'AGUA | D29: =IF(A29="SERVIÇO",VLOOKUP(B29,SERVIÇOS!$A$6:$E$7697,5,0),IF(A29="INSUMO",VLOOKUP(B29,INSUMOS!$A$6:$E$4845,5,0),IF(A29="COTAÇÃO",VLOOKUP(B29,'014-22-cotação'!$A$9:$J$138,10,0),IF(A29="AUX",VLOOKUP('014-22-CCU''s'!B29,'014-22-CCU''s AUX'!$B$1:$H$130,3,0))))) -> MAT. | E29: =IF(A29="SERVIÇO",VLOOKUP(B29,SERVIÇOS!$A$6:$D$7697,3,0),IF(A29="INSUMO",VLOOKUP(B29,INSUMOS!$A$6:$D$4845,3,0),IF(A29="COTAÇÃO",VLOOKUP(B29,'014-22-cotação'!$A$9:$I$138,4,0),IF(A29="AUX",VLOOKUP('014-22-CCU''s'!B29,'014-22-CCU''s AUX'!$B$1:$H$130,4,0))))) -> M3 | F29: 1 | G29: =IF(A29="SERVIÇO",VLOOKUP(B29,SERVIÇOS!$A$6:$D$7697,4,0),IF(A29="INSUMO",VLOOKUP(B29,INSUMOS!$A$6:$D$4845,4,0),IF(A29="COTAÇÃO",VLOOKUP(B29,'014-22-cotação'!$A$9:$I$138,3,0),IF(A29="AUX",VLOOKUP('014-22-CCU''s'!B29,'014-22-CCU''s AUX'!$B$1:$H$130,7,0))))) -> 14.38 | H29: =TRUNC((F29*G29),2) -> 14.38
A30: SERVIÇO | B30: 100962 | C30: =IF(A30="SERVIÇO",VLOOKUP(B30,SERVIÇOS!$A$6:$D$7697,2,0),IF(A30="INSUMO",VLOOKUP(B30,INSUMOS!$A$6:$D$4845,2,0),IF(A30="COTAÇÃO",VLOOKUP(B30,'014-22-cotação'!$A$9:$I$138,2,0),IF(A30="AUX",VLOOKUP('014-22-CCU''s'!B30,'014-22-CCU''s AUX'!$B$1:$H$130,2,0))))) -> TRANSPORTE COM CAMINHÃO PIPA DE 10 M³, EM VIA URBANA PAVIMENTADA, DMT ATÉ 30KM (UNIDADE: M3XKM). AF_07/2020 | D30: =IF(A30="SERVIÇO",VLOOKUP(B30,SERVIÇOS!$A$6:$E$7697,5,0),IF(A30="INSUMO",VLOOKUP(B30,INSUMOS!$A$6:$E$4845,5,0),IF(A30="COTAÇÃO",VLOOKUP(B30,'014-22-cotação'!$A$9:$J$138,10,0),IF(A30="AUX",VLOOKUP('014-22-CCU''s'!B30,'014-22-CCU''s AUX'!$B$1:$H$130,3,0))))) -> SER.CG | E30: =IF(A30="SERVIÇO",VLOOKUP(B30,SERVIÇOS!$A$6:$D$7697,3,0),IF(A30="INSUMO",VLOOKUP(B30,INSUMOS!$A$6:$D$4845,3,0),IF(A30="COTAÇÃO",VLOOKUP(B30,'014-22-cotação'!$A$9:$I$138,4,0),IF(A30="AUX",VLOOKUP('014-22-CCU''s'!B30,'014-22-CCU''s AUX'!$B$1:$H$130,4,0))))) -> M3XKM | F30: =30/10 -> 3 | G30: =IF(A30="SERVIÇO",VLOOKUP(B30,SERVIÇOS!$A$6:$D$7697,4,0),IF(A30="INSUMO",VLOOKUP(B30,INSUMOS!$A$6:$D$4845,4,0),IF(A30="COTAÇÃO",VLOOKUP(B30,'014-22-cotação'!$A$9:$I$138,3,0),IF(A30="AUX",VLOOKUP('014-22-CCU''s'!B30,'014-22-CCU''s AUX'!$B$1:$H$130,7,0))))) -> 2.84 | H30: =TRUNC((F30*G30),2) -> 8.52
B32: CCU - 02.007 | C32: PLACA DE OBRA EM CHAPA DE ACO GALVANIZADO ADESIVADA - FORNECIMENTO E INSTALAÇÃO | D32: SER.CG | E32: M2 | H32: =ROUND(SUM(H33:H38),2) -> 368.59
A33: INSUMO | B33: 4491 | C33: =IF(A33="SERVIÇO",VLOOKUP(B33,SERVIÇOS!$A$6:$D$7697,2,0),IF(A33="INSUMO",VLOOKUP(B33,INSUMOS!$A$6:$D$4845,2,0),IF(A33="COTAÇÃO",VLOOKUP(B33,'014-22-cotação'!$A$9:$I$138,2,0),IF(A33="AUX",VLOOKUP('014-22-CCU''s'!B33,'014-22-CCU''s AUX'!$B$1:$H$130,2,0))))) -> PONTALETE *7,5 X 7,5* CM EM PINUS, MISTA OU EQUIVALENTE DA REGIAO - BRUTA | D33: =IF(A33="SERVIÇO",VLOOKUP(B33,SERVIÇOS!$A$6:$E$7697,5,0),IF(A33="INSUMO",VLOOKUP(B33,INSUMOS!$A$6:$E$4845,5,0),IF(A33="COTAÇÃO",VLOOKUP(B33,'014-22-cotação'!$A$9:$J$138,10,0),IF(A33="AUX",VLOOKUP('014-22-CCU''s'!B33,'014-22-CCU''s AUX'!$B$1:$H$130,3,0))))) -> MAT. | E33: =IF(A33="SERVIÇO",VLOOKUP(B33,SERVIÇOS!$A$6:$D$7697,3,0),IF(A33="INSUMO",VLOOKUP(B33,INSUMOS!$A$6:$D$4845,3,0),IF(A33="COTAÇÃO",VLOOKUP(B33,'014-22-cotação'!$A$9:$I$138,4,0),IF(A33="AUX",VLOOKUP('014-22-CCU''s'!B33,'014-22-CCU''s AUX'!$B$1:$H$130,4,0))))) -> M | F33: 4 | G33: =IF(A33="SERVIÇO",VLOOKUP(B33,SERVIÇOS!$A$6:$D$7697,4,0),IF(A33="INSUMO",VLOOKUP(B33,INSUMOS!$A$6:$D$4845,4,0),IF(A33="COTAÇÃO",VLOOKUP(B33,'014-22-cotação'!$A$9:$I$138,3,0),IF(A33="AUX",VLOOKUP('014-22-CCU''s'!B33,'014-22-CCU''s AUX'!$B$1:$H$130,7,0))))) -> 7.6 | H33: =TRUNC((F33*G33),2) -> 30.4
A34: INSUMO | B34: 4813 | C34: =IF(A34="SERVIÇO",VLOOKUP(B34,SERVIÇOS!$A$6:$D$7697,2,0),IF(A34="INSUMO",VLOOKUP(B34,INSUMOS!$A$6:$D$4845,2,0),IF(A34="COTAÇÃO",VLOOKUP(B34,'014-22-cotação'!$A$9:$I$138,2,0),IF(A34="AUX",VLOOKUP('014-22-CCU''s'!B34,'014-22-CCU''s AUX'!$B$1:$H$130,2,0))))) -> PLACA DE OBRA (PARA CONSTRUCAO CIVIL) EM CHAPA GALVANIZADA *N. 22*, ADESIVADA, DE *2,4 X 1,2* M (SEM POSTES PARA FIXACAO) | D34: =IF(A34="SERVIÇO",VLOOKUP(B34,SERVIÇOS!$A$6:$E$7697,5,0),IF(A34="INSUMO",VLOOKUP(B34,INSUMOS!$A$6:$E$4845,5,0),IF(A34="COTAÇÃO",VLOOKUP(B34,'014-22-cotação'!$A$9:$J$138,10,0),IF(A34="AUX",VLOOKUP('014-22-CCU''s'!B34,'014-22-CCU''s AUX'!$B$1:$H$130,3,0))))) -> MAT. | E34: =IF(A34="SERVIÇO",VLOOKUP(B34,SERVIÇOS!$A$6:$D$7697,3,0),IF(A34="INSUMO",VLOOKUP(B34,INSUMOS!$A$6:$D$4845,3,0),IF(A34="COTAÇÃO",VLOOKUP(B34,'014-22-cotação'!$A$9:$I$138,4,0),IF(A34="AUX",VLOOKUP('014-22-CCU''s'!B34,'014-22-CCU''s AUX'!$B$1:$H$130,4,0))))) -> M2 | F34: 1 | G34: =IF(A34="SERVIÇO",VLOOKUP(B34,SERVIÇOS!$A$6:$D$7697,4,0),IF(A34="INSUMO",VLOOKUP(B34,INSUMOS!$A$6:$D$4845,4,0),IF(A34="COTAÇÃO",VLOOKUP(B34,'014-22-cotação'!$A$9:$I$138,3,0),IF(A34="AUX",VLOOKUP('014-22-CCU''s'!B34,'014-22-CCU''s AUX'!$B$1:$H$130,7,0))))) -> 250 | H34: =TRUNC((F34*G34),2) -> 250
A35: INSUMO | B35: 4417 | C35: =IF(A35="SERVIÇO",VLOOKUP(B35,SERVIÇOS!$A$6:$D$7697,2,0),IF(A35="INSUMO",VLOOKUP(B35,INSUMOS!$A$6:$D$4845,2,0),IF(A35="COTAÇÃO",VLOOKUP(B35,'014-22-cotação'!$A$9:$I$138,2,0),IF(A35="AUX",VLOOKUP('014-22-CCU''s'!B35,'014-22-CCU''s AUX'!$B$1:$H$130,2,0))))) -> SARRAFO NAO APARELHADO *2,5 X 7* CM, EM MACARANDUBA/MASSARANDUBA, ANGELIM, PEROBA-ROSA OU EQUIVALENTE DA REGIAO - BRUTA | D35: =IF(A35="SERVIÇO",VLOOKUP(B35,SERVIÇOS!$A$6:$E$7697,5,0),IF(A35="INSUMO",VLOOKUP(B35,INSUMOS!$A$6:$E$4845,5,0),IF(A35="COTAÇÃO",VLOOKUP(B35,'014-22-cotação'!$A$9:$J$138,10,0),IF(A35="AUX",VLOOKUP('014-22-CCU''s'!B35,'014-22-CCU''s AUX'!$B$1:$H$130,3,0))))) -> MAT. | E35: =IF(A35="SERVIÇO",VLOOKUP(B35,SERVIÇOS!$A$6:$D$7697,3,0),IF(A35="INSUMO",VLOOKUP(B35,INSUMOS!$A$6:$D$4845,3,0),IF(A35="COTAÇÃO",VLOOKUP(B35,'014-22-cotação'!$A$9:$I$138,4,0),IF(A35="AUX",VLOOKUP('014-22-CCU''s'!B35,'014-22-CCU''s AUX'!$B$1:$H$130,4,0))))) -> M | F35: 1 | G35: =IF(A35="SERVIÇO",VLOOKUP(B35,SERVIÇOS!$A$6:$D$7697,4,0),IF(A35="INSUMO",VLOOKUP(B35,INSUMOS!$A$6:$D$4845,4,0),IF(A35="COTAÇÃO",VLOOKUP(B35,'014-22-cotação'!$A$9:$I$138,3,0),IF(A35="AUX",VLOOKUP('014-22-CCU''s'!B35,'014-22-CCU''s AUX'!$B$1:$H$130,7,0))))) -> 7.85 | H35: =TRUNC((F35*G35),2) -> 7.85
A36: SERVIÇO | B36: 88262 | C36: =IF(A36="SERVIÇO",VLOOKUP(B36,SERVIÇOS!$A$6:$D$7697,2,0),IF(A36="INSUMO",VLOOKUP(B36,INSUMOS!$A$6:$D$4845,2,0),IF(A36="COTAÇÃO",VLOOKUP(B36,'014-22-cotação'!$A$9:$I$138,2,0),IF(A36="AUX",VLOOKUP('014-22-CCU''s'!B36,'014-22-CCU''s AUX'!$B$1:$H$130,2,0))))) -> CARPINTEIRO DE FORMAS COM ENCARGOS COMPLEMENTARES | D36: =IF(A36="SERVIÇO",VLOOKUP(B36,SERVIÇOS!$A$6:$E$7697,5,0),IF(A36="INSUMO",VLOOKUP(B36,INSUMOS!$A$6:$E$4845,5,0),IF(A36="COTAÇÃO",VLOOKUP(B36,'014-22-cotação'!$A$9:$J$138,10,0),IF(A36="AUX",VLOOKUP('014-22-CCU''s'!B36,'014-22-CCU''s AUX'!$B$1:$H$130,3,0))))) -> M.O | E36: =IF(A36="SERVIÇO",VLOOKUP(B36,SERVIÇOS!$A$6:$D$7697,3,0),IF(A36="INSUMO",VLOOKUP(B36,INSUMOS!$A$6:$D$4845,3,0),IF(A36="COTAÇÃO",VLOOKUP(B36,'014-22-cotação'!$A$9:$I$138,4,0),IF(A36="AUX",VLOOKUP('014-22-CCU''s'!B36,'014-22-CCU''s AUX'!$B$1:$H$130,4,0))))) -> H | F36: 1 | G36: =IF(A36="SERVIÇO",VLOOKUP(B36,SERVIÇOS!$A$6:$D$7697,4,0),IF(A36="INSUMO",VLOOKUP(B36,INSUMOS!$A$6:$D$4845,4,0),IF(A36="COTAÇÃO",VLOOKUP(B36,'014-22-cotação'!$A$9:$I$138,3,0),IF(A36="AUX",VLOOKUP('014-22-CCU''s'!B36,'014-22-CCU''s AUX'!$B$1:$H$130,7,0))))) -> 30.71 | H36: =TRUNC((F36*G36),2) -> 30.71
A37: INSUMO | B37: 5075 | C37: =IF(A37="SERVIÇO",VLOOKUP(B37,SERVIÇOS!$A$6:$D$7697,2,0),IF(A37="INSUMO",VLOOKUP(B37,INSUMOS!$A$6:$D$4845,2,0),IF(A37="COTAÇÃO",VLOOKUP(B37,'014-22-cotação'!$A$9:$I$138,2,0),IF(A37="AUX",VLOOKUP('014-22-CCU''s'!B37,'014-22-CCU''s AUX'!$B$1:$H$130,2,0))))) -> PREGO DE ACO POLIDO COM CABECA 18 X 30 (2 3/4 X 10) | D37: =IF(A37="SERVIÇO",VLOOKUP(B37,SERVIÇOS!$A$6:$E$7697,5,0),IF(A37="INSUMO",VLOOKUP(B37,INSUMOS!$A$6:$E$4845,5,0),IF(A37="COTAÇÃO",VLOOKUP(B37,'014-22-cotação'!$A$9:$J$138,10,0),IF(A37="AUX",VLOOKUP('014-22-CCU''s'!B37,'014-22-CCU''s AUX'!$B$1:$H$130,3,0))))) -> MAT. | E37: =IF(A37="SERVIÇO",VLOOKUP(B37,SERVIÇOS!$A$6:$D$7697,3,0),IF(A37="INSUMO",VLOOKUP(B37,INSUMOS!$A$6:$D$4845,3,0),IF(A37="COTAÇÃO",VLOOKUP(B37,'014-22-cotação'!$A$9:$I$138,4,0),IF(A37="AUX",VLOOKUP('014-22-CCU''s'!B37,'014-22-CCU''s AUX'!$B$1:$H$130,4,0))))) -> KG | F37: 0.15 | G37: =IF(A37="SERVIÇO",VLOOKUP(B37,SERVIÇOS!$A$6:$D$7697,4,0),IF(A37="INSUMO",VLOOKUP(B37,INSUMOS!$A$6:$D$4845,4,0),IF(A37="COTAÇÃO",VLOOKUP(B37,'014-22-cotação'!$A$9:$I$138,3,0),IF(A37="AUX",VLOOKUP('014-22-CCU''s'!B37,'014-22-CCU''s AUX'!$B$1:$H$130,7,0))))) -> 18.92 | H37: =TRUNC((F37*G37),2) -> 2.83
A38: SERVIÇO | B38: 88316 | C38: =IF(A38="SERVIÇO",VLOOKUP(B38,SERVIÇOS!$A$6:$D$7697,2,0),IF(A38="INSUMO",VLOOKUP(B38,INSUMOS!$A$6:$D$4845,2,0),IF(A38="COTAÇÃO",VLOOKUP(B38,'014-22-cotação'!$A$9:$I$138,2,0),IF(A38="AUX",VLOOKUP('014-22-CCU''s'!B38,'014-22-CCU''s AUX'!$B$1:$H$130,2,0))))) -> SERVENTE COM ENCARGOS COMPLEMENTARES | D38: =IF(A38="SERVIÇO",VLOOKUP(B38,SERVIÇOS!$A$6:$E$7697,5,0),IF(A38="INSUMO",VLOOKUP(B38,INSUMOS!$A$6:$E$4845,5,0),IF(A38="COTAÇÃO",VLOOKUP(B38,'014-22-cotação'!$A$9:$J$138,10,0),IF(A38="AUX",VLOOKUP('014-22-CCU''s'!B38,'014-22-CCU''s AUX'!$B$1:$H$130,3,0))))) -> M.O | E38: =IF(A38="SERVIÇO",VLOOKUP(B38,SERVIÇOS!$A$6:$D$7697,3,0),IF(A38="INSUMO",VLOOKUP(B38,INSUMOS!$A$6:$D$4845,3,0),IF(A38="COTAÇÃO",VLOOKUP(B38,'014-22-cotação'!$A$9:$I$138,4,0),IF(A38="AUX",VLOOKUP('014-22-CCU''s'!B38,'014-22-CCU''s AUX'!$B$1:$H$130,4,0))))) -> H | F38: 2 | G38: =IF(A38="SERVIÇO",VLOOKUP(B38,SERVIÇOS!$A$6:$D$7697,4,0),IF(A38="INSUMO",VLOOKUP(B38,INSUMOS!$A$6:$D$4845,4,0),IF(A38="COTAÇÃO",VLOOKUP(B38,'014-22-cotação'!$A$9:$I$138,3,0),IF(A38="AUX",VLOOKUP('014-22-CCU''s'!B38,'014-22-CCU''s AUX'!$B$1:$H$130,7,0))))) -> 23.4 | H38: =TRUNC((F38*G38),2) -> 46.8
B39: Observação: | C39: REF: 00051/ORSE JULHO 2021
B41: CCU - 02.009 | C41: DEMOLIÇÃO DE PISOS/CALÇADAS, DE FORMA MECANIZADA COM MARTELETE, SEM REAPROVEITAMENTO | D41: SER.CG | E41: M3 | H41: =ROUND(SUM(H42:H45),2) -> 141.74
A42: SERVIÇO | B42: 5795 | C42: =IF(A42="SERVIÇO",VLOOKUP(B42,SERVIÇOS!$A$6:$D$7697,2,0),IF(A42="INSUMO",VLOOKUP(B42,INSUMOS!$A$6:$D$4845,2,0),IF(A42="COTAÇÃO",VLOOKUP(B42,'014-22-cotação'!$A$9:$I$138,2,0),IF(A42="AUX",VLOOKUP('014-22-CCU''s'!B42,'014-22-CCU''s AUX'!$B$1:$H$130,2,0))))) -> MARTELETE OU ROMPEDOR PNEUMÁTICO MANUAL, 28 KG, COM SILENCIADOR - CHP DIURNO. AF_07/2016 | D42: =IF(A42="SERVIÇO",VLOOKUP(B42,SERVIÇOS!$A$6:$E$7697,5,0),IF(A42="INSUMO",VLOOKUP(B42,INSUMOS!$A$6:$E$4845,5,0),IF(A42="COTAÇÃO",VLOOKUP(B42,'014-22-cotação'!$A$9:$J$138,10,0),IF(A42="AUX",VLOOKUP('014-22-CCU''s'!B42,'014-22-CCU''s AUX'!$B$1:$H$130,3,0))))) -> EQUIP. | E42: =IF(A42="SERVIÇO",VLOOKUP(B42,SERVIÇOS!$A$6:$D$7697,3,0),IF(A42="INSUMO",VLOOKUP(B42,INSUMOS!$A$6:$D$4845,3,0),IF(A42="COTAÇÃO",VLOOKUP(B42,'014-22-cotação'!$A$9:$I$138,4,0),IF(A42="AUX",VLOOKUP('014-22-CCU''s'!B42,'014-22-CCU''s AUX'!$B$1:$H$130,4,0))))) -> CHP | F42: 1.5562 | G42: =IF(A42="SERVIÇO",VLOOKUP(B42,SERVIÇOS!$A$6:$D$7697,4,0),IF(A42="INSUMO",VLOOKUP(B42,INSUMOS!$A$6:$D$4845,4,0),IF(A42="COTAÇÃO",VLOOKUP(B42,'014-22-cotação'!$A$9:$I$138,3,0),IF(A42="AUX",VLOOKUP('014-22-CCU''s'!B42,'014-22-CCU''s AUX'!$B$1:$H$130,7,0))))) -> 29.73 | H42: =TRUNC((F42*G42),2) -> 46.26
A43: SERVIÇO | B43: 5952 | C43: =IF(A43="SERVIÇO",VLOOKUP(B43,SERVIÇOS!$A$6:$D$7697,2,0),IF(A43="INSUMO",VLOOKUP(B43,INSUMOS!$A$6:$D$4845,2,0),IF(A43="COTAÇÃO",VLOOKUP(B43,'014-22-cotação'!$A$9:$I$138,2,0),IF(A43="AUX",VLOOKUP('014-22-CCU''s'!B43,'014-22-CCU''s AUX'!$B$1:$H$130,2,0))))) -> MARTELETE OU ROMPEDOR PNEUMÁTICO MANUAL, 28 KG, COM SILENCIADOR - CHI DIURNO. AF_07/2016 | D43: =IF(A43="SERVIÇO",VLOOKUP(B43,SERVIÇOS!$A$6:$E$7697,5,0),IF(A43="INSUMO",VLOOKUP(B43,INSUMOS!$A$6:$E$4845,5,0),IF(A43="COTAÇÃO",VLOOKUP(B43,'014-22-cotação'!$A$9:$J$138,10,0),IF(A43="AUX",VLOOKUP('014-22-CCU''s'!B43,'014-22-CCU''s AUX'!$B$1:$H$130,3,0))))) -> EQUIP. | E43: =IF(A43="SERVIÇO",VLOOKUP(B43,SERVIÇOS!$A$6:$D$7697,3,0),IF(A43="INSUMO",VLOOKUP(B43,INSUMOS!$A$6:$D$4845,3,0),IF(A43="COTAÇÃO",VLOOKUP(B43,'014-22-cotação'!$A$9:$I$138,4,0),IF(A43="AUX",VLOOKUP('014-22-CCU''s'!B43,'014-22-CCU''s AUX'!$B$1:$H$130,4,0))))) -> CHI | F43: 0.4411 | G43: =IF(A43="SERVIÇO",VLOOKUP(B43,SERVIÇOS!$A$6:$D$7697,4,0),IF(A43="INSUMO",VLOOKUP(B43,INSUMOS!$A$6:$D$4845,4,0),IF(A43="COTAÇÃO",VLOOKUP(B43,'014-22-cotação'!$A$9:$I$138,3,0),IF(A43="AUX",VLOOKUP('014-22-CCU''s'!B43,'014-22-CCU''s AUX'!$B$1:$H$130,7,0))))) -> 27.71 | H43: =TRUNC((F43*G43),2) -> 12.22
A44: SERVIÇO | B44: 88309 | C44: =IF(A44="SERVIÇO",VLOOKUP(B44,SERVIÇOS!$A$6:$D$7697,2,0),IF(A44="INSUMO",VLOOKUP(B44,INSUMOS!$A$6:$D$4845,2,0),IF(A44="COTAÇÃO",VLOOKUP(B44,'014-22-cotação'!$A$9:$I$138,2,0),IF(A44="AUX",VLOOKUP('014-22-CCU''s'!B44,'014-22-CCU''s AUX'!$B$1:$H$130,2,0))))) -> PEDREIRO COM ENCARGOS COMPLEMENTARES | D44: =IF(A44="SERVIÇO",VLOOKUP(B44,SERVIÇOS!$A$6:$E$7697,5,0),IF(A44="INSUMO",VLOOKUP(B44,INSUMOS!$A$6:$E$4845,5,0),IF(A44="COTAÇÃO",VLOOKUP(B44,'014-22-cotação'!$A$9:$J$138,10,0),IF(A44="AUX",VLOOKUP('014-22-CCU''s'!B44,'014-22-CCU''s AUX'!$B$1:$H$130,3,0))))) -> M.O | E44: =IF(A44="SERVIÇO",VLOOKUP(B44,SERVIÇOS!$A$6:$D$7697,3,0),IF(A44="INSUMO",VLOOKUP(B44,INSUMOS!$A$6:$D$4845,3,0),IF(A44="COTAÇÃO",VLOOKUP(B44,'014-22-cotação'!$A$9:$I$138,4,0),IF(A44="AUX",VLOOKUP('014-22-CCU''s'!B44,'014-22-CCU''s AUX'!$B$1:$H$130,4,0))))) -> H | F44: 0.3051 | G44: =IF(A44="SERVIÇO",VLOOKUP(B44,SERVIÇOS!$A$6:$D$7697,4,0),IF(A44="INSUMO",VLOOKUP(B44,INSUMOS!$A$6:$D$4845,4,0),IF(A44="COTAÇÃO",VLOOKUP(B44,'014-22-cotação'!$A$9:$I$138,3,0),IF(A44="AUX",VLOOKUP('014-22-CCU''s'!B44,'014-22-CCU''s AUX'!$B$1:$H$130,7,0))))) -> 31.1 | H44: =TRUNC((F44*G44),2) -> 9.48
A45: SERVIÇO | B45: 88316 | C45: =IF(A45="SERVIÇO",VLOOKUP(B45,SERVIÇOS!$A$6:$D$7697,2,0),IF(A45="INSUMO",VLOOKUP(B45,INSUMOS!$A$6:$D$4845,2,0),IF(A45="COTAÇÃO",VLOOKUP(B45,'014-22-cotação'!$A$9:$I$138,2,0),IF(A45="AUX",VLOOKUP('014-22-CCU''s'!B45,'014-22-CCU''s AUX'!$B$1:$H$130,2,0))))) -> SERVENTE COM ENCARGOS COMPLEMENTARES | D45: =IF(A45="SERVIÇO",VLOOKUP(B45,SERVIÇOS!$A$6:$E$7697,5,0),IF(A45="INSUMO",VLOOKUP(B45,INSUMOS!$A$6:$E$4845,5,0),IF(A45="COTAÇÃO",VLOOKUP(B45,'014-22-cotação'!$A$9:$J$138,10,0),IF(A45="AUX",VLOOKUP('014-22-CCU''s'!B45,'014-22-CCU''s AUX'!$B$1:$H$130,3,0))))) -> M.O | E45: =IF(A45="SERVIÇO",VLOOKUP(B45,SERVIÇOS!$A$6:$D$7697,3,0),IF(A45="INSUMO",VLOOKUP(B45,INSUMOS!$A$6:$D$4845,3,0),IF(A45="COTAÇÃO",VLOOKUP(B45,'014-22-cotação'!$A$9:$I$138,4,0),IF(A45="AUX",VLOOKUP('014-22-CCU''s'!B45,'014-22-CCU''s AUX'!$B$1:$H$130,4,0))))) -> H | F45: 3.153 | G45: =IF(A45="SERVIÇO",VLOOKUP(B45,SERVIÇOS!$A$6:$D$7697,4,0),IF(A45="INSUMO",VLOOKUP(B45,INSUMOS!$A$6:$D$4845,4,0),IF(A45="COTAÇÃO",VLOOKUP(B45,'014-22-cotação'!$A$9:$I$138,3,0),IF(A45="AUX",VLOOKUP('014-22-CCU''s'!B45,'014-22-CCU''s AUX'!$B$1:$H$130,7,0))))) -> 23.4 | H45: =TRUNC((F45*G45),2) -> 73.78
B46: Observação: | C46: REF: 97629 SINAPI JAN 2022
B48: CCU - 02.010 | C48: DEMOLIÇÃO DE BANCOS E CONCRETO, DE FORMA MECANIZADA COM MARTELETE, SEM REAPROVEITAMENTO | D48: SER.CG | E48: M3 | H48: =ROUND(SUM(H49:H52),2) -> 141.74
...

Sheet 014-22-CCU's AUX
B2: GOVERNO DO DISTRITO FEDERAL
B3: SECRETARIA DE ESTADO DE INFRAESTRUTURA E SERVIÇOS PÚBLICOS
B4: COMPANHIA URBANIZADORA DA NOVA CAPITAL DO BRASIL
B5: PLANILHA DE COMPOSIÇÕES AUXILIARES
B6: Nº ESTIMATIVA PRINCIPAL: | C6: 014/2022-SEORÇA-SDS-R02 | G6: DATA: | H6: ='014-22-CAPA'!E20 -> 45478
B7: TÍTULO: | C7: ORÇ. REVITALIZAÇÃO DA PRAÇA 21 DE ABRIL | G7: Nº PROJETO: | H7: ='014.01-22-ORÇAMENTO'!J7 -> PROJ-DE-034-20
B8: ENCARGOS TRABALHISTAS: | C8: ='014-22-CCU''s'!C8 -> horista=110,14% / mensalista=70,04% | D8: B.D.I. : | E8: 0,00% | G8: TAB. REF.: | H8: ='014.01-22-ORÇAMENTO'!J9 -> SINAPI MAIO 2024
B9: CÓDIGO | C9: DESCRIÇÃO | D9: TIPO | E9: UNID. | F9: COEFICIENTE | G9: CUSTO UNIT(R$) | H9: CUSTO TOTAL (R$)
B11: CCU - 04.001 AUX | C11: CONCRETO PIGMENTADO NA COR GRAFITE FCK = 20MPA, TRAÇO 1:2,7:3 (EM MASSA SECA DE CIMENTO/ AREIA MÉDIA/ BRITA 1) - PREPARO MECÂNICO COM BETONEIRA 600 L | D11: SER.CG | E11: M3 | H11: =SUM(H12:H19) -> 1069.98
A12: INSUMO | B12: 370 | C12: =IF(A12="SERVIÇO",VLOOKUP(B12,SERVIÇOS!$A$6:$D$7697,2,0),IF(A12="INSUMO",VLOOKUP(B12,INSUMOS!$A$6:$D$4845,2,0),IF(A12="COTAÇÃO",VLOOKUP(B12,'014-22-cotação'!$A$9:$I$138,2,0)))) -> AREIA MEDIA - POSTO JAZIDA/FORNECEDOR (RETIRADO NA JAZIDA, SEM TRANSPORTE) | D12: =IF(A12="SERVIÇO",VLOOKUP(B12,SERVIÇOS!$A$6:$E$7697,5,0),IF(A12="INSUMO",VLOOKUP(B12,INSUMOS!$A$6:$E$4845,5,0),IF(A12="COTAÇÃO",VLOOKUP(B12,'014-22-cotação'!$A$9:$J$138,10,0)))) -> MAT. | E12: =IF(A12="SERVIÇO",VLOOKUP(B12,SERVIÇOS!$A$6:$D$7697,3,0),IF(A12="INSUMO",VLOOKUP(B12,INSUMOS!$A$6:$D$4845,3,0),IF(A12="COTAÇÃO",VLOOKUP(B12,'014-22-cotação'!$A$9:$I$138,4,0)))) -> M3 | F12: 0.7609 | G12: =IF(A12="SERVIÇO",VLOOKUP(B12,SERVIÇOS!$A$6:$D$7697,4,0),IF(A12="INSUMO",VLOOKUP(B12,INSUMOS!$A$6:$D$4845,4,0),IF(A12="COTAÇÃO",VLOOKUP(B12,'014-22-cotação'!$A$9:$I$138,3,0)))) -> 200 | H12: =TRUNC((F12*G12),2) -> 152.18
A13: INSUMO | B13: 1379 | C13: =IF(A13="SERVIÇO",VLOOKUP(B13,SERVIÇOS!$A$6:$D$7697,2,0),IF(A13="INSUMO",VLOOKUP(B13,INSUMOS!$A$6:$D$4845,2,0),IF(A13="COTAÇÃO",VLOOKUP(B13,'014-22-cotação'!$A$9:$I$138,2,0)))) -> CIMENTO PORTLAND COMPOSTO CP II-32 | D13: =IF(A13="SERVIÇO",VLOOKUP(B13,SERVIÇOS!$A$6:$E$7697,5,0),IF(A13="INSUMO",VLOOKUP(B13,INSUMOS!$A$6:$E$4845,5,0),IF(A13="COTAÇÃO",VLOOKUP(B13,'014-22-cotação'!$A$9:$J$138,10,0)))) -> MAT. | E13: =IF(A13="SERVIÇO",VLOOKUP(B13,SERVIÇOS!$A$6:$D$7697,3,0),IF(A13="INSUMO",VLOOKUP(B13,INSUMOS!$A$6:$D$4845,3,0),IF(A13="COTAÇÃO",VLOOKUP(B13,'014-22-cotação'!$A$9:$I$138,4,0)))) -> KG | F13: 325.1589 | G13: =IF(A13="SERVIÇO",VLOOKUP(B13,SERVIÇOS!$A$6:$D$7697,4,0),IF(A13="INSUMO",VLOOKUP(B13,INSUMOS!$A$6:$D$4845,4,0),IF(A13="COTAÇÃO",VLOOKUP(B13,'014-22-cotação'!$A$9:$I$138,3,0)))) -> 0.64 | H13: =TRUNC((F13*G13),2) -> 208.1
A14: INSUMO | B14: 4721 | C14: =IF(A14="SERVIÇO",VLOOKUP(B14,SERVIÇOS!$A$6:$D$7697,2,0),IF(A14="INSUMO",VLOOKUP(B14,INSUMOS!$A$6:$D$4845,2,0),IF(A14="COTAÇÃO",VLOOKUP(B14,'014-22-cotação'!$A$9:$I$138,2,0)))) -> PEDRA BRITADA N. 1 (9,5 A 19 MM) POSTO PEDREIRA/FORNECEDOR, SEM FRETE | D14: =IF(A14="SERVIÇO",VLOOKUP(B14,SERVIÇOS!$A$6:$E$7697,5,0),IF(A14="INSUMO",VLOOKUP(B14,INSUMOS!$A$6:$E$4845,5,0),IF(A14="COTAÇÃO",VLOOKUP(B14,'014-22-cotação'!$A$9:$J$138,10,0)))) -> MAT. | E14: =IF(A14="SERVIÇO",VLOOKUP(B14,SERVIÇOS!$A$6:$D$7697,3,0),IF(A14="INSUMO",VLOOKUP(B14,INSUMOS!$A$6:$D$4845,3,0),IF(A14="COTAÇÃO",VLOOKUP(B14,'014-22-cotação'!$A$9:$I$138,4,0)))) -> M3 | F14: 0.5912 | G14: =IF(A14="SERVIÇO",VLOOKUP(B14,SERVIÇOS!$A$6:$D$7697,4,0),IF(A14="INSUMO",VLOOKUP(B14,INSUMOS!$A$6:$D$4845,4,0),IF(A14="COTAÇÃO",VLOOKUP(B14,'014-22-cotação'!$A$9:$I$138,3,0)))) -> 177.42 | H14: =TRUNC((F14*G14),2) -> 104.89
A15: SERVIÇO | B15: 88316 | C15: =IF(A15="SERVIÇO",VLOOKUP(B15,SERVIÇOS!$A$6:$D$7697,2,0),IF(A15="INSUMO",VLOOKUP(B15,INSUMOS!$A$6:$D$4845,2,0),IF(A15="COTAÇÃO",VLOOKUP(B15,'014-22-cotação'!$A$9:$I$138,2,0)))) -> SERVENTE COM ENCARGOS COMPLEMENTARES | D15: =IF(A15="SERVIÇO",VLOOKUP(B15,SERVIÇOS!$A$6:$E$7697,5,0),IF(A15="INSUMO",VLOOKUP(B15,INSUMOS!$A$6:$E$4845,5,0),IF(A15="COTAÇÃO",VLOOKUP(B15,'014-22-cotação'!$A$9:$J$138,10,0)))) -> M.O | E15: =IF(A15="SERVIÇO",VLOOKUP(B15,SERVIÇOS!$A$6:$D$7697,3,0),IF(A15="INSUMO",VLOOKUP(B15,INSUMOS!$A$6:$D$4845,3,0),IF(A15="COTAÇÃO",VLOOKUP(B15,'014-22-cotação'!$A$9:$I$138,4,0)))) -> H | F15: 2.0267 | G15: =IF(A15="SERVIÇO",VLOOKUP(B15,SERVIÇOS!$A$6:$D$7697,4,0),IF(A15="INSUMO",VLOOKUP(B15,INSUMOS!$A$6:$D$4845,4,0),IF(A15="COTAÇÃO",VLOOKUP(B15,'014-22-cotação'!$A$9:$I$138,3,0)))) -> 23.4 | H15: =TRUNC((F15*G15),2) -> 47.42
